Workbook

Sheet Total
B1: APRIL - 2023 MONTH REPORT ABSTRACT
B2: DISTRICT | C2: NO.OF HCFs | D2: NO.OF BEDS | E2: YELLOW | F2: RED | G2: BLUE | H2: WHITE | I2: TOTAL
E3: Values are in Kilograms
B4: NIZAMABAD | C4: ='Area Wise Total'!D13 -> 383 | D4: ='Area Wise Total'!E13 -> 5486 | E4: ='Area Wise Total'!F13 -> 13983 | F4: ='Area Wise Total'!G13 -> 6864 | G4: ='Area Wise Total'!H13 -> 114 | H4: ='Area Wise Total'!I13 -> 107 | I4: =SUM(E4:H4) -> 21068
B5: KAMAREDDY | C5: ='Area Wise Total'!D19 -> 176 | D5: ='Area Wise Total'!E19 -> 1930 | E5: ='Area Wise Total'!F19 -> 7166 | F5: ='Area Wise Total'!G19 -> 1908 | G5: ='Area Wise Total'!H19 -> 49 | H5: ='Area Wise Total'!I19 -> 39 | I5: =SUM(E5:H5) -> 9162
B6: NIRMAL | C6: ='Area Wise Total'!D25 -> 107 | D6: ='Area Wise Total'!E25 -> 1638 | E6: ='Area Wise Total'!F25 -> 3641 | F6: ='Area Wise Total'!G25 -> 1572 | G6: ='Area Wise Total'!H25 -> 136 | H6: ='Area Wise Total'!I25 -> 130 | I6: =SUM(E6:H6) -> 5479
B7: ADILABAD | C7: ='Area Wise Total'!D29 -> 121 | D7: ='Area Wise Total'!E29 -> 1604 | E7: =Adilabad!DZ127 -> 3974 | F7: =Adilabad!EA127 -> 1796 | G7: =Adilabad!EB127 -> 200 | H7: =Adilabad!EC127 -> 153 | I7: =SUM(E7:H7) -> 6123
B8: ASIFABAD | C8: ='Area Wise Total'!D33 -> 49 | D8: ='Area Wise Total'!E33 -> 713 | E8: =Asifabad!DZ56 -> 2159 | F8: =Asifabad!EA56 -> 958 | G8: =Asifabad!EB56 -> 39 | H8: =Asifabad!EC56 -> 29 | I8: =SUM(E8:H8) -> 3185
B9: CLOSED HCFS | C9: ='Area Wise Total'!D35 -> 0 | D9: ='Area Wise Total'!E35 -> 0 | E9: ='Area Wise Total'!F35 -> 0 | F9: ='Area Wise Total'!G35 -> 0 | G9: ='Area Wise Total'!H35 -> 0 | H9: ='Area Wise Total'!I35 -> 0 | I9: =SUM(E9:H9) -> 0
B10: TOTAL | C10: =SUM(C4:C9) -> 836 | D10: =SUM(D4:D9) -> 11371 | E10: =SUM(E4:E9) -> 30923 | F10: =SUM(F4:F9) -> 13098 | G10: =SUM(G4:G9) -> 538 | H10: =SUM(H4:H9) -> 458 | I10: =SUM(I4:I9) -> 45017
B12: DETAILS OF COLOURS
B13: YELLOW | C13: INCENERABLE WASTE
B14: RED | C14: AUTOCLAVE WASTE
B15: BLUE | C15: SHREDDING, BROKEN GLASS, METALIC BODY IMPLANTS
B16: WHITE | C16: SHARPENS, NEEDLES, BLADES, SCALPELS, NAILS, LANCETS

Sheet Area Wise Total
B2: STATEMENT SHOWING AREA WISE RECEIVED BIO - MEDICAL WASTE
B3: APRIL - 2023
B4: District | C4: Areas | D4: HCF's | E4: Beds | F4: Yellow | G4: Red | H4: Blue | I4: White
B6: Nizamabad | C6: Nizamabad | D6: =COUNTIF(Nizamabad!A4:A7,">0")+COUNTIF(Nizamabad!A11:A256,">0") -> 246 | E6: =SUM(Nizamabad!E4:E7)+SUM(Nizamabad!E11:E256) -> 3920 | F6: =SUM(Nizamabad!DZ4:DZ7)+SUM(Nizamabad!DZ11:DZ256) -> 8662 | G6: =SUM(Nizamabad!EA4:EA7)+SUM(Nizamabad!EA11:EA256) -> 4489 | H6: =SUM(Nizamabad!EB4:EB7)+SUM(Nizamabad!EB11:EB256) -> 65 | I6: =SUM(Nizamabad!EC4:EC7)+SUM(Nizamabad!EC11:EC256) -> 68
C7: Armoor | D7: =COUNTIF(Nizamabad!A258:A317,">0") -> 60 | E7: =SUM(Nizamabad!E258:E317) -> 669 | F7: =SUM(Nizamabad!DZ258:DZ317) -> 2094 | G7: =SUM(Nizamabad!EA258:EA317) -> 1016 | H7: =SUM(Nizamabad!EB258:EB317) -> 10 | I7: =SUM(Nizamabad!EC258:EC317) -> 0
C8: Bodhan | D8: =COUNTIF(Nizamabad!A319:A360, ">0")+COUNTIF(Nizamabad!A8,">0") -> 43 | E8: =Nizamabad!E8+SUM(Nizamabad!E319:E360) -> 463 | F8: =Nizamabad!DZ8+SUM(Nizamabad!DZ319:DZ360) -> 1578 | G8: =Nizamabad!EA8+SUM(Nizamabad!EA319:EA360) -> 209 | H8: =Nizamabad!EB8+SUM(Nizamabad!EB319:EB360) -> 0 | I8: =Nizamabad!EC8+SUM(Nizamabad!EC319:EC360) -> 0
C9: Dichpally | D9: =COUNTIF(Nizamabad!A362:A364, ">0") -> 3 | E9: =SUM(Nizamabad!E362:E364) -> 36 | F9: =SUM(Nizamabad!DZ362:DZ364) -> 216 | G9: =SUM(Nizamabad!EA362:EA364) -> 40 | H9: =SUM(Nizamabad!EB362:EB364) -> 2 | I9: =SUM(Nizamabad!EC362:EC364) -> 0
C10: Varni | D10: =COUNTIF(Nizamabad!A366:A367, ">0") -> 2 | E10: =SUM(Nizamabad!E366:E367) -> 31 | F10: =SUM(Nizamabad!DZ366:DZ367) -> 141 | G10: =SUM(Nizamabad!EA366:EA367) -> 38 | H10: =SUM(Nizamabad!EB366:EB367) -> 0 | I10: =SUM(Nizamabad!EC366:EC367) -> 2
C11: Navipet | D11: =COUNTIF(Nizamabad!A369:A370,">0") -> 2 | E11: =SUM(Nizamabad!E369:E370) -> 37 | F11: =SUM(Nizamabad!DZ369:DZ370) -> 21 | G11: =SUM(Nizamabad!EA369:EA370) -> 18 | H11: =SUM(Nizamabad!EB369:EB370) -> 2 | I11: =SUM(Nizamabad!EC369:EC370) -> 2
C12: Govt.HCFs. | D12: =COUNTIF(Nizamabad!A372:A398,">0") -> 27 | E12: =SUM(Nizamabad!E372:E398) -> 330 | F12: =SUM(Nizamabad!DZ372:DZ398) -> 1271 | G12: =SUM(Nizamabad!EA372:EA398) -> 1054 | H12: =SUM(Nizamabad!EB372:EB398) -> 35 | I12: =SUM(Nizamabad!EC372:EC398) -> 35
C13: Total: | D13: =SUM(D6:D12) -> 383 | E13: =SUM(E6:E12) -> 5486 | F13: =SUM(F6:F12) -> 13983 | G13: =SUM(G6:G12) -> 6864 | H13: =SUM(H6:H12) -> 114 | I13: =SUM(I6:I12) -> 107
B15: Kamareddy | C15: Kamareddy | D15: =COUNTIF(Kamareddy!A4:A5, ">0")+COUNTIF(Kamareddy!A9:A124, ">0") -> 117 | E15: =SUM(Kamareddy!E4:E5)+SUM(Kamareddy!E9:E124) -> 1163 | F15: =SUM(Kamareddy!DZ4:DZ5)+SUM(Kamareddy!DZ9:DZ124) -> 4505 | G15: =SUM(Kamareddy!EA4:EA5)+SUM(Kamareddy!EA9:EA124) -> 543 | H15: =SUM(Kamareddy!EB4:EB5)+SUM(Kamareddy!EB9:EB124) -> 15 | I15: =SUM(Kamareddy!EC4:EC5)+SUM(Kamareddy!EC9:EC124) -> 10
C16: Banswada | D16: =COUNTIF(Kamareddy!A6,">0")+COUNTIF(Kamareddy!A126:A149, ">0") -> 24 | E16: =Kamareddy!E6+SUM(Kamareddy!E126:E149) -> 278 | F16: =Kamareddy!DZ6+SUM(Kamareddy!DZ126:DZ149) -> 1024 | G16: =Kamareddy!EA6+SUM(Kamareddy!EA126:EA149) -> 280 | H16: =Kamareddy!EB6+SUM(Kamareddy!EB126:EB149) -> 5 | I16: =Kamareddy!EC6+SUM(Kamareddy!EC126:EC149) -> 2
C17: Yellareddy | D17: =COUNTIF(Kamareddy!A151:A159,">0") -> 9 | E17: =SUM(Kamareddy!E151:E159) -> 213 | F17: =SUM(Kamareddy!DZ151:DZ159) -> 521 | G17: =SUM(Kamareddy!EA151:EA159) -> 124 | H17: =SUM(Kamareddy!EB151:EB159) -> 4 | I17: =SUM(Kamareddy!EC151:EC159) -> 2
C18: Govt.HCFs. | D18: =COUNTIF(Kamareddy!A161:A186,">0") -> 26 | E18: =SUM(Kamareddy!E161:E186) -> 276 | F18: =SUM(Kamareddy!DZ161:DZ186) -> 1116 | G18: =SUM(Kamareddy!EA161:EA186) -> 961 | H18: =SUM(Kamareddy!EB161:EB186) -> 25 | I18: =SUM(Kamareddy!EC161:EC186) -> 25
C19: Total: | D19: =SUM(D15:D18) -> 176 | E19: =SUM(E15:E18) -> 1930 | F19: =SUM(F15:F18) -> 7166 | G19: =SUM(G15:G18) -> 1908 | H19: =SUM(H15:H18) -> 49 | I19: =SUM(I15:I18) -> 39
B21: Nirmal | C21: Nirmal | D21: =COUNTIF(Nirmal!A4:A5,">0")+COUNTIF(Nirmal!A9:A77,">0") -> 71 | E21: =SUM(Nirmal!E4:E5)+SUM(Nirmal!E9:E77) -> 1122 | F21: =SUM(Nirmal!DZ4:DZ5)+SUM(Nirmal!DZ9:DZ77) -> 2354 | G21: =SUM(Nirmal!EA4:EA5)+SUM(Nirmal!EA9:EA77) -> 817 | H21: =SUM(Nirmal!EB4:EB5)+SUM(Nirmal!EB9:EB77) -> 109 | I21: =SUM(Nirmal!EC4:EC5)+SUM(Nirmal!EC9:EC77) -> 98
C22: Bhainsa | D22: =COUNTIF(Nirmal!A6,">0")+COUNTIF(Nirmal!A79:A95,">0") -> 18 | E22: =Nirmal!E6+SUM(Nirmal!E79:E95) -> 357 | F22: =Nirmal!DZ6+SUM(Nirmal!DZ79:DZ95) -> 740 | G22: =Nirmal!EA6+SUM(Nirmal!EA79:EA95) -> 269 | H22: =Nirmal!EB6+SUM(Nirmal!EB79:EB95) -> 21 | I22: =Nirmal!EC6+SUM(Nirmal!EC79:EC95) -> 27
C23: Mudhole | D23: =COUNTIF(Nirmal!A97:A99, ">0") -> 3 | E23: =SUM(Nirmal!E97:E99) -> 45 | F23: =SUM(Nirmal!DZ97:DZ99) -> 37 | G23: =SUM(Nirmal!EA97:EA99) -> 6 | H23: =SUM(Nirmal!EB97:EB99) -> 2 | I23: =SUM(Nirmal!EC97:EC99) -> 1
C24: Govt.HCFs. | D24: =COUNTIF(Nirmal!A101:A115, ">0") -> 15 | E24: =SUM(Nirmal!E101:E115) -> 114 | F24: =SUM(Nirmal!DZ101:DZ115) -> 510 | G24: =SUM(Nirmal!EA101:EA115) -> 480 | H24: =SUM(Nirmal!EB101:EB115) -> 4 | I24: =SUM(Nirmal!EC101:EC115) -> 4
C25: Total: | D25: =SUM(D21:D24) -> 107 | E25: =SUM(E21:E24) -> 1638 | F25: =SUM(F21:F24) -> 3641 | G25: =SUM(G21:G24) -> 1572 | H25: =SUM(H21:H24) -> 136 | I25: =SUM(I21:I24) -> 130
B27: Adilabad | C27: Adilabad | D27: =COUNTIF(Adilabad!A3:A78,">0") -> 74 | E27: =SUM(Adilabad!E4:E78) -> 1373 | F27: =SUM(Adilabad!DZ4:DZ78) -> 2269 | G27: =SUM(Adilabad!EA4:EA78) -> 928 | H27: =SUM(Adilabad!EB4:EB78) -> 197 | I27: =SUM(Adilabad!EC4:EC78) -> 150
C28: Govt.HCFs. | D28: =COUNTIF(Adilabad!A80:A126,">0") -> 47 | E28: =SUM(Adilabad!E80:E126) -> 231 | F28: =SUM(Adilabad!DZ80:DZ126) -> 1705 | G28: =SUM(Adilabad!EA80:EA126) -> 868 | H28: =SUM(Adilabad!EB80:EB126) -> 3 | I28: =SUM(Adilabad!EC80:EC126) -> 3
C29: Total | D29: =SUM(D27:D28) -> 121 | E29: =SUM(Adilabad!E4:E126) -> 1604 | F29: =SUM(Adilabad!DZ4:DZ126) -> 3974 | G29: =SUM(Adilabad!EA4:EA126) -> 1796 | H29: =SUM(Adilabad!EB4:EB126) -> 200 | I29: =SUM(Adilabad!EC4:EC126) -> 153
B31: Asifabad | C31: Asifabad | D31: =COUNTIF(Asifabad!A2:A30, ">0") -> 27 | E31: =SUM(Asifabad!E2:E30) -> 537 | F31: =SUM(Asifabad!DZ2:DZ32) -> 1379 | G31: =SUM(Asifabad!EA4:EA32) -> 208 | H31: =SUM(Asifabad!EB4:EB32) -> 34 | I31: =SUM(Asifabad!EC4:EC32) -> 24
C32: Govt.HCFs. | D32: =COUNTIF(Asifabad!A34:A55, ">0") -> 22 | E32: =SUM(Asifabad!E34:E55) -> 156 | F32: =SUM(Asifabad!DZ34:DZ55) -> 780 | G32: =SUM(Asifabad!EA34:EA55) -> 750 | H32: =SUM(Asifabad!EB34:EB55) -> 5 | I32: =SUM(Asifabad!EC34:EC55) -> 5
B33: Asifabad | C33: Total | D33: =SUM(D31:D32) -> 49 | E33: =SUM(Asifabad!E4:E55) -> 713 | F33: =SUM(Asifabad!DZ4:DZ55) -> 2159 | G33: =SUM(Asifabad!EA4:EA55) -> 958 | H33: =SUM(Asifabad!EB4:EB55) -> 39 | I33: =SUM(Asifabad!EC4:EC55) -> 29
B35: Closed HCFs | D35: =COUNTIF(Nizamabad!A400:A401, ">0") -> 0 | E35: =SUM(Nizamabad!E400:E401) -> 0 | F35: =SUM(Nizamabad!DZ400:DZ401) -> 0 | G35: =SUM(Nizamabad!EA400:EA401) -> 0 | H35: =SUM(Nizamabad!EB400:EB401) -> 0 | I35: =SUM(Nizamabad!EC400:EC401) -> 0
B37: Grand Total | D37: =D13+D19+D25+D29+D33+D35 -> 836 | E37: =E13+E19+E25+E29+E33+E35 -> 11371 | F37: =F13+F19+F25+F29+F33+F35 -> 30923 | G37: =G13+G19+G25+G29+G33+G35 -> 13098 | H37: =H13+H19+H25+H29+H33+H35 -> 538 | I37: =I13+I19+I25+I29+I33+I35 -> 458

Sheet Nizamabad
A1: APRIL - 2023 MONTH REPORT | F1: 45017 | J1: 45018 | N1: 45019 | R1: 45020 | V1: 45021 | Z1: 45022 | AD1: 45023 | AH1: 45024 | AL1: 45025 | AP1: 45026 | AT1: 45027 | AX1: 45028 | BB1: 45029 | BF1: 45030 | BJ1: 45031 | BN1: 45032 | BR1: 45033 | BV1: 45034 | BZ1: 45035 | CD1: 45036 | CH1: 45037 | CL1: 45038 | CP1: 45039 | CT1: 45040 | CX1: 45041 | DB1: 45042 | DF1: 45043 | DJ1: 45044 | DN1: 45045 | DR1: 45046 | DZ1: TOTAL
A2: SNO | B2: HCF ID | C2: NAME OF THE HCF | D2: ADDRESS OF THE HCFS | E2: NO.OF BEDS | F2: Yellow | G2: Red | H2: Blue | I2: White | J2: Yellow | K2: Red | L2: Blue | M2: White | N2: Yellow | O2: Red | P2: Blue | Q2: White | R2: Yellow | S2: Red | T2: Blue | U2: White | V2: Yellow | W2: Red | X2: Blue | Y2: White | Z2: Yellow | AA2: Red | AB2: Blue | AC2: White | AD2: Yellow | AE2: Red | AF2: Blue | AG2: White | AH2: Yellow | AI2: Red | AJ2: Blue | AK2: White | AL2: Yellow | AM2: Red | AN2: Blue | AO2: White | AP2: Yellow | AQ2: Red | AR2: Blue | AS2: White | AT2: Yellow | AU2: Red | AV2: Blue | AW2: White | AX2: Yellow | AY2: Red | AZ2: Blue | BA2: White | BB2: Yellow | BC2: Red | BD2: Blue | BE2: White | BF2: Yellow | BG2: Red | BH2: Blue | BI2: White | BJ2: Yellow | BK2: Red | BL2: Blue | BM2: White | BN2: Yellow | BO2: Red | BP2: Blue | BQ2: White | BR2: Yellow | BS2: Red | BT2: Blue | BU2: White | BV2: Yellow | BW2: Red | BX2: Blue | BY2: White | BZ2: Yellow | CA2: Red | CB2: Blue | CC2: White | CD2: Yellow | CE2: Red | CF2: Blue | CG2: White | CH2: Yellow | CI2: Red | CJ2: Blue | CK2: White | CL2: Yellow | CM2: Red | CN2: Blue | CO2: White | CP2: Yellow | CQ2: Red | CR2: Blue | CS2: White | CT2: Yellow | CU2: Red | CV2: Blue | CW2: White | CX2: Yellow | CY2: Red | CZ2: Blue | DA2: White | DB2: Yellow | DC2: Red | DD2: Blue | DE2: White | DF2: Yellow | DG2: Red | DH2: Blue | DI2: White | DJ2: Yellow | DK2: Red | DL2: Blue | DM2: White | DN2: Yellow | DO2: Red | DP2: Blue | DQ2: White | DR2: Yellow | DS2: Red | DT2: Blue | DU2: White | DV2: Yellow | DW2: Red | DX2: Blue | DY2: White | DZ2: Yellow | EA2: Red | EB2: Blue | EC2: White
A3: NIZAMABAD 100 AND ABOVE BEDS HCFs
A4: 1 | B4: GOVER503001TSBH00988 | C4: GOVT. DIST. HOSPITAL | D4: BESIDE NIZAMABAD BUS STATION, NIZAMABAD - 503001 | E4: 750 | F4: 21 | G4: 21 | J4: 2 | K4: 2 | L4: 1 | M4: 1 | N4: 10 | O4: 10 | R4: 10 | S4: 10 | V4: 5 | W4: 3 | Z4: 20 | AA4: 20 | AD4: 20 | AE4: 20 | AH4: 25 | AI4: 3 | AL4: 21 | AM4: 21 | AP4: =8*4 -> 32 | AQ4: 16 | AR4: 8 | AT4: =8*4 -> 32 | AU4: 16 | AV4: 8 | AX4: 32 | AY4: 24 | BB4: =8*4 -> 32 | BC4: =8*2 -> 16 | BD4: 8 | BF4: =8*4 -> 32 | BG4: =8*3 -> 24 | BJ4: =4*8 -> 32 | BK4: =2*8 -> 16 | BM4: 8 | BN4: 7 | BO4: 8 | BR4: 15 | BS4: 10 | BU4: 5 | BV4: 10 | BW4: 20 | BZ4: 20 | CA4: 5 | CD4: 16 | CE4: 16 | CF4: 5 | CG4: 8 | CH4: 20 | CI4: 20 | CJ4: 10 | CK4: 10 | CL4: 20 | CM4: 30 | CP4: =8*4 -> 32 | CQ4: =8*2 -> 16 | CS4: 8 | CT4: =8*4 -> 32 | CU4: =8*3 -> 24 | CX4: =8*4 -> 32 | CY4: =8*2 -> 16 | DB4: =8*4 -> 32 | DC4: 16 | DE4: 8 | DF4: =7*8 -> 56 | DG4: =2*8 -> 16 | DJ4: =6*8 -> 48 | DK4: =2*8 -> 16 | DN4: =6*8 -> 48 | DO4: =8*2 -> 16 | DR4: 10 | DS4: 5 | DZ4: =F4+J4+N4+R4+V4+Z4+AD4+AH4+AL4+AP4+AT4+AX4+BB4+BF4+BJ4+BN4+BR4+BV4+BZ4+CD4+CH4+CL4+CP4+CT4+CX4+DB4+DF4+DJ4+DN4+DR4+DV4 -> 724 | EA4: =G4+K4+O4+S4+W4+AA4+AE4+AI4+AM4+AQ4+AU4+AY4+BC4+BG4+BK4+BO4+BS4+BW4+CA4+CE4+CI4+CM4+CQ4+CU4+CY4+DC4+DG4+DK4+DO4+DS4+DW4 -> 456 | EB4: =H4+L4+P4+T4+X4+AB4+AF4+AJ4+AN4+AR4+AV4+AZ4+BD4+BH4+BL4+BP4+BT4+BX4+CB4+CF4+CJ4+CN4+CR4+CV4+CZ4+DD4+DH4+DL4+DP4+DT4+DX4 -> 40 | EC4: =I4+M4+Q4+U4+Y4+AC4+AG4+AK4+AO4+AS4+AW4+BA4+BE4+BI4+BM4+BQ4+BU4+BY4+CC4+CG4+CK4+CO4+CS4+CW4+DA4+DE4+DI4+DM4+DQ4+DU4+DY4 -> 48
A5: 2 | B5: MEGHN503003TSBH00905 | C5: MEGHANA INSTITUTE OF DENTAL SCIENCE | D5: VARNI ROAD, MALLARAM VILLAGE, NIZAMABAD - 503001 | E5: 200 | G5: 5 | J5: 5 | K5: 5 | N5: 10 | O5: 10 | R5: 5 | S5: 5 | V5: 3 | Z5: 10 | AA5: 10 | AD5: 5 | AH5: 3 | AM5: 5 | AN5: 5 | AP5: 5 | AT5: 5 | BB5: 5 | BF5: 4 | BJ5: 5 | BN5: 5 | BO5: 5 | BR5: 5 | BS5: 5 | BV5: 5 | BW5: 5 | BZ5: 5 | CA5: 5 | CD5: 5 | CE5: 5 | CH5: 5 | CI5: 5 | CL5: 5 | CM5: 5 | CP5: 5 | CT5: 5 | CX5: 5 | DB5: 5 | DF5: 5 | DG5: 5 | DJ5: 5 | DK5: 5 | DN5: 5 | DR5: 5 | DS5: 5 | DZ5: =F5+J5+N5+R5+V5+Z5+AD5+AH5+AL5+AP5+AT5+AX5+BB5+BF5+BJ5+BN5+BR5+BV5+BZ5+CD5+CH5+CL5+CP5+CT5+CX5+DB5+DF5+DJ5+DN5+DR5+DV5 -> 140 | EA5: =G5+K5+O5+S5+W5+AA5+AE5+AI5+AM5+AQ5+AU5+AY5+BC5+BG5+BK5+BO5+BS5+BW5+CA5+CE5+CI5+CM5+CQ5+CU5+CY5+DC5+DG5+DK5+DO5+DS5+DW5 -> 90 | EB5: =H5+L5+P5+T5+X5+AB5+AF5+AJ5+AN5+AR5+AV5+AZ5+BD5+BH5+BL5+BP5+BT5+BX5+CB5+CF5+CJ5+CN5+CR5+CV5+CZ5+DD5+DH5+DL5+DP5+DT5+DX5 -> 5 | EC5: =I5+M5+Q5+U5+Y5+AC5+AG5+AK5+AO5+AS5+AW5+BA5+BE5+BI5+BM5+BQ5+BU5+BY5+CC5+CG5+CK5+CO5+CS5+CW5+DA5+DE5+DI5+DM5+DQ5+DU5+DY5 -> 0
A6: 3 | B6: PRAGA503001TSBH06142 | C6: PRAGATHI HOSPITAL | D6: HYDERABAD ROAD, PRAGATHI NAGAR, NIZAMABAD - 503001 | E6: 150 | G6: 5 | I6: 5 | J6: 5 | N6: 10 | R6: 5 | S6: 5 | V6: 5 | W6: 5 | Z6: 10 | AD6: 10 | AL6: 5 | AM6: 5 | AP6: 5 | AT6: 5 | AX6: 5 | BB6: 5 | BC6: 5 | BF6: 5 | BG6: 5 | BJ6: 5 | BN6: 5 | BO6: 5 | BR6: 5 | BS6: 5 | BV6: 5 | BW6: 5 | BZ6: 5 | CA6: 5 | CD6: 5 | CE6: 5 | CH6: 5 | CI6: 5 | CL6: 5 | CM6: 5 | CP6: 5 | CT6: 5 | CX6: 5 | DB6: 5 | DC6: 5 | DF6: 5 | DG6: 5 | DJ6: 5 | DN6: 5 | DO6: 5 | DR6: 5 | DS6: 5 | DZ6: =F6+J6+N6+R6+V6+Z6+AD6+AH6+AL6+AP6+AT6+AX6+BB6+BF6+BJ6+BN6+BR6+BV6+BZ6+CD6+CH6+CL6+CP6+CT6+CX6+DB6+DF6+DJ6+DN6+DR6+DV6 -> 155 | EA6: =G6+K6+O6+S6+W6+AA6+AE6+AI6+AM6+AQ6+AU6+AY6+BC6+BG6+BK6+BO6+BS6+BW6+CA6+CE6+CI6+CM6+CQ6+CU6+CY6+DC6+DG6+DK6+DO6+DS6+DW6 -> 85 | EB6: =H6+L6+P6+T6+X6+AB6+AF6+AJ6+AN6+AR6+AV6+AZ6+BD6+BH6+BL6+BP6+BT6+BX6+CB6+CF6+CJ6+CN6+CR6+CV6+CZ6+DD6+DH6+DL6+DP6+DT6+DX6 -> 0 | EC6: =I6+M6+Q6+U6+Y6+AC6+AG6+AK6+AO6+AS6+AW6+BA6+BE6+BI6+BM6+BQ6+BU6+BY6+CC6+CG6+CK6+CO6+CS6+CW6+DA6+DE6+DI6+DM6+DQ6+DU6+DY6 -> 5
A7: 4 | B7: MEDIC503001TSBH09849 | C7: MEDICOVER HOSPITAL | D7: H.No. 5-11-744, BESIDE LIC OF INDIA, YELLAMMA GUTTA X ROAD, HYDERABAD ROAD, NIZAMABAD - 503001 | E7: 100 | F7: 5 | G7: 5 | J7: 2 | K7: 5 | N7: 10 | R7: 5 | S7: 5 | V7: 5 | W7: 5 | Z7: 10 | AA7: 10 | AD7: 10 | AE7: 10 | AH7: 10 | AI7: 10 | AL7: 5 | AM7: 5 | AP7: 5 | AT7: 5 | BB7: 5 | BC7: 5 | BF7: 5 | BG7: 5 | BJ7: 5 | BN7: 5 | BO7: 5 | BR7: 5 | BS7: 5 | BV7: 5 | BW7: 5 | BZ7: 5 | CA7: 5 | CD7: 5 | CE7: 5 | CH7: 5 | CI7: 5 | CL7: 5 | CM7: 5 | CP7: 5 | CT7: 5 | CU7: 5 | DB7: 5 | DC7: 5 | DF7: 5 | DJ7: 5 | DK7: 5 | DN7: 5 | DR7: 5 | DS7: 5 | DZ7: =F7+J7+N7+R7+V7+Z7+AD7+AH7+AL7+AP7+AT7+AX7+BB7+BF7+BJ7+BN7+BR7+BV7+BZ7+CD7+CH7+CL7+CP7+CT7+CX7+DB7+DF7+DJ7+DN7+DR7+DV7 -> 157 | EA7: =G7+K7+O7+S7+W7+AA7+AE7+AI7+AM7+AQ7+AU7+AY7+BC7+BG7+BK7+BO7+BS7+BW7+CA7+CE7+CI7+CM7+CQ7+CU7+CY7+DC7+DG7+DK7+DO7+DS7+DW7 -> 120 | EB7: =H7+L7+P7+T7+X7+AB7+AF7+AJ7+AN7+AR7+AV7+AZ7+BD7+BH7+BL7+BP7+BT7+BX7+CB7+CF7+CJ7+CN7+CR7+CV7+CZ7+DD7+DH7+DL7+DP7+DT7+DX7 -> 0 | EC7: =I7+M7+Q7+U7+Y7+AC7+AG7+AK7+AO7+AS7+AW7+BA7+BE7+BI7+BM7+BQ7+BU7+BY7+CC7+CG7+CK7+CO7+CS7+CW7+DA7+DE7+DI7+DM7+DQ7+DU7+DY7 -> 0
A8: 5 | B8: DISTR503185TSBH08531 | C8: AREA HOSPITAL, BODHAN | D8: NEAR AMBEDKAR CHOWRASTA, BODHAN - 503185 | E8: 100 | F8: 5 | G8: 2 | J8: 3 | K8: 2 | N8: 5 | O8: 3 | R8: 5 | S8: 3 | V8: 5 | W8: 5 | Z8: 5 | AA8: 5 | AD8: 5 | AE8: 5 | AH8: 5 | AI8: 5 | AL8: 5 | AM8: 4 | AT8: 5 | AU8: 4 | BB8: 5 | BC8: 4 | BF8: 5 | BG8: 3 | BJ8: 5 | BK8: 4 | BN8: 5 | BO8: 5 | BR8: 5 | BS8: 5 | BV8: 5 | BW8: 5 | BZ8: 5 | CA8: 5 | CD8: 5 | CE8: 5 | CH8: 5 | CI8: 5 | CL8: 5 | CM8: 5 | CP8: 5 | CT8: 5 | CU8: 3 | CX8: 5 | CY8: 4 | DB8: 5 | DC8: 5 | DF8: 5 | DG8: 5 | DJ8: 5 | DK8: 3 | DN8: 5 | DO8: 5 | DR8: 5 | DS8: 5 | DZ8: =F8+J8+N8+R8+V8+Z8+AD8+AH8+AL8+AP8+AT8+AX8+BB8+BF8+BJ8+BN8+BR8+BV8+BZ8+CD8+CH8+CL8+CP8+CT8+CX8+DB8+DF8+DJ8+DN8+DR8+DV8 -> 138 | EA8: =G8+K8+O8+S8+W8+AA8+AE8+AI8+AM8+AQ8+AU8+AY8+BC8+BG8+BK8+BO8+BS8+BW8+CA8+CE8+CI8+CM8+CQ8+CU8+CY8+DC8+DG8+DK8+DO8+DS8+DW8 -> 114 | EB8: =H8+L8+P8+T8+X8+AB8+AF8+AJ8+AN8+AR8+AV8+AZ8+BD8+BH8+BL8+BP8+BT8+BX8+CB8+CF8+CJ8+CN8+CR8+CV8+CZ8+DD8+DH8+DL8+DP8+DT8+DX8 -> 0 | EC8: =I8+M8+Q8+U8+Y8+AC8+AG8+AK8+AO8+AS8+AW8+BA8+BE8+BI8+BM8+BQ8+BU8+BY8+CC8+CG8+CK8+CO8+CS8+CW8+DA8+DE8+DI8+DM8+DQ8+DU8+DY8 -> 0
B9: 80 TO 50 BEDS HCFs
B10: NIZAMABAD
A11: 1 | B11: PRATI503001TSBH00889 | C11: PRATHIBHA SUPER SPECIALITY HOSPITAL | D11: BESIDE LANE OF JOYALLUKKAS JEWELLERS, HYDERABAD ROAD, KAKATIYA STREET, NIZAMABAD - 503001. | E11: 80 | F11: 5 | G11: 5 | J11: 5 | N11: 10 | R11: 5 | V11: 3 | Z11: 5 | AD11: 5 | AH11: 10 | AL11: 5 | AM11: 5 | AP11: 5 | AT11: 5 | AX11: 5 | BB11: 5 | BF11: 5 | BG11: 4 | BJ11: 5 | BN11: 5 | BO11: 5 | BR11: 2 | BS11: 5 | BV11: 5 | BW11: 5 | BZ11: 5 | CA11: 5 | CD11: 5 | CE11: 5 | CH11: 5 | CI11: 5 | CL11: 5 | CM11: 5 | CP11: 5 | CT11: 5 | CU11: 2 | CX11: 5 | DB11: 5 | DF11: 5 | DG11: 5 | DJ11: 5 | DN11: 5 | DO11: 5 | DR11: 5 | DS11: 5 | DZ11: =F11+J11+N11+R11+V11+Z11+AD11+AH11+AL11+AP11+AT11+AX11+BB11+BF11+BJ11+BN11+BR11+BV11+BZ11+CD11+CH11+CL11+CP11+CT11+CX11+DB11+DF11+DJ11+DN11+DR11+DV11 -> 155 | EA11: =G11+K11+O11+S11+W11+AA11+AE11+AI11+AM11+AQ11+AU11+AY11+BC11+BG11+BK11+BO11+BS11+BW11+CA11+CE11+CI11+CM11+CQ11+CU11+CY11+DC11+DG11+DK11+DO11+DS11+DW11 -> 66 | EB11: =H11+L11+P11+T11+X11+AB11+AF11+AJ11+AN11+AR11+AV11+AZ11+BD11+BH11+BL11+BP11+BT11+BX11+CB11+CF11+CJ11+CN11+CR11+CV11+CZ11+DD11+DH11+DL11+DP11+DT11+DX11 -> 0 | EC11: =I11+M11+Q11+U11+Y11+AC11+AG11+AK11+AO11+AS11+AW11+BA11+BE11+BI11+BM11+BQ11+BU11+BY11+CC11+CG11+CK11+CO11+CS11+CW11+DA11+DE11+DI11+DM11+DQ11+DU11+DY11 -> 0
A12: 2 | B12: HEERA503001TSBH00919 | C12: HEERA ORTHOPAEDIC NURSING HOME | D12: NEAR DISTRICT COURT, HYDRABAD ROAD, NIZAMABAD - 503001. | E12: 60 | G12: 5 | J12: 5 | R12: 5 | V12: 5 | Z12: 5 | AD12: 5 | AH12: 5 | AM12: 5 | AQ12: 5 | AU12: 5 | AY12: 5 | BB12: 5 | BF12: 5 | BJ12: 5 | BN12: 5 | BR12: 5 | BV12: 5 | BZ12: 5 | CD12: 5 | CH12: 5 | CL12: 5 | CP12: 5 | CT12: 5 | CY12: 5 | DB12: 5 | DG12: 5 | DJ12: 5 | DN12: 5 | DR12: 5 | DZ12: =F12+J12+N12+R12+V12+Z12+AD12+AH12+AL12+AP12+AT12+AX12+BB12+BF12+BJ12+BN12+BR12+BV12+BZ12+CD12+CH12+CL12+CP12+CT12+CX12+DB12+DF12+DJ12+DN12+DR12+DV12 -> 110 | EA12: =G12+K12+O12+S12+W12+AA12+AE12+AI12+AM12+AQ12+AU12+AY12+BC12+BG12+BK12+BO12+BS12+BW12+CA12+CE12+CI12+CM12+CQ12+CU12+CY12+DC12+DG12+DK12+DO12+DS12+DW12 -> 35 | EB12: =H12+L12+P12+T12+X12+AB12+AF12+AJ12+AN12+AR12+AV12+AZ12+BD12+BH12+BL12+BP12+BT12+BX12+CB12+CF12+CJ12+CN12+CR12+CV12+CZ12+DD12+DH12+DL12+DP12+DT12+DX12 -> 0 | EC12: =I12+M12+Q12+U12+Y12+AC12+AG12+AK12+AO12+AS12+AW12+BA12+BE12+BI12+BM12+BQ12+BU12+BY12+CC12+CG12+CK12+CO12+CS12+CW12+DA12+DE12+DI12+DM12+DQ12+DU12+DY12 -> 0
A13: 3 | B13: SHIVA503001TSBH00427 | C13: SHIVA SAI EMERGENCY AND MULTI SPECIALITY HOSPITAL | D13: OPP: TELANGANA GRAMEENA BANK, KHALEEL WADI, NIZAMABAD - 503001 | E13: 53 | F13: 5 | G13: 3 | J13: 5 | N13: 5 | R13: 5 | S13: 5 | V13: 5 | Z13: 5 | AD13: 5 | AH13: 5 | AL13: 5 | AM13: 5 | AP13: 5 | AT13: 5 | AX13: 5 | BF13: 5 | BK13: 5 | BN13: 5 | BR13: 5 | BV13: 5 | BZ13: 5 | CD13: 5 | CH13: 5 | CL13: 5 | CS13: 5 | CT13: 5 | CX13: 5 | DB13: 5 | DF13: 5 | DJ13: 5 | DO13: 5 | DR13: 5 | DZ13: =F13+J13+N13+R13+V13+Z13+AD13+AH13+AL13+AP13+AT13+AX13+BB13+BF13+BJ13+BN13+BR13+BV13+BZ13+CD13+CH13+CL13+CP13+CT13+CX13+DB13+DF13+DJ13+DN13+DR13+DV13 -> 130 | EA13: =G13+K13+O13+S13+W13+AA13+AE13+AI13+AM13+AQ13+AU13+AY13+BC13+BG13+BK13+BO13+BS13+BW13+CA13+CE13+CI13+CM13+CQ13+CU13+CY13+DC13+DG13+DK13+DO13+DS13+DW13 -> 23 | EB13: =H13+L13+P13+T13+X13+AB13+AF13+AJ13+AN13+AR13+AV13+AZ13+BD13+BH13+BL13+BP13+BT13+BX13+CB13+CF13+CJ13+CN13+CR13+CV13+CZ13+DD13+DH13+DL13+DP13+DT13+DX13 -> 0 | EC13: =I13+M13+Q13+U13+Y13+AC13+AG13+AK13+AO13+AS13+AW13+BA13+BE13+BI13+BM13+BQ13+BU13+BY13+CC13+CG13+CK13+CO13+CS13+CW13+DA13+DE13+DI13+DM13+DQ13+DU13+DY13 -> 5
A14: 4 | B14: BOMBA503001TSBH00885 | C14: BOMBAY NURSING HOME | D14: YELLAMMA GUTTA X ROAD, HYDERABAD ROAD, NIZAMABAD - 503001 | E14: 50 | F14: 5 | J14: 5 | N14: 5 | R14: 5 | S14: 5 | V14: 5 | Z14: 5 | AD14: 5 | AH14: 5 | AL14: 5 | AP14: 5 | AU14: 5 | BB14: 5 | BG14: 5 | BJ14: 5 | BN14: 5 | BR14: 5 | BV14: 5 | BZ14: 5 | CD14: 5 | CH14: 5 | CL14: 5 | CP14: 5 | CX14: 5 | DC14: 5 | DG14: 5 | DJ14: 5 | DN14: 5 | DR14: 5 | DZ14: =F14+J14+N14+R14+V14+Z14+AD14+AH14+AL14+AP14+AT14+AX14+BB14+BF14+BJ14+BN14+BR14+BV14+BZ14+CD14+CH14+CL14+CP14+CT14+CX14+DB14+DF14+DJ14+DN14+DR14+DV14 -> 120 | EA14: =G14+K14+O14+S14+W14+AA14+AE14+AI14+AM14+AQ14+AU14+AY14+BC14+BG14+BK14+BO14+BS14+BW14+CA14+CE14+CI14+CM14+CQ14+CU14+CY14+DC14+DG14+DK14+DO14+DS14+DW14 -> 25 | EB14: =H14+L14+P14+T14+X14+AB14+AF14+AJ14+AN14+AR14+AV14+AZ14+BD14+BH14+BL14+BP14+BT14+BX14+CB14+CF14+CJ14+CN14+CR14+CV14+CZ14+DD14+DH14+DL14+DP14+DT14+DX14 -> 0 | EC14: =I14+M14+Q14+U14+Y14+AC14+AG14+AK14+AO14+AS14+AW14+BA14+BE14+BI14+BM14+BQ14+BU14+BY14+CC14+CG14+CK14+CO14+CS14+CW14+DA14+DE14+DI14+DM14+DQ14+DU14+DY14 -> 0
A15: 5 | B15: BRIND503001TSBH00922 | C15: BRINDAVAN HOSPITAL | D15: OPP: RED CROSS BOLLD BANK, BEHIND DR. PRABHAKAR CHILDREN HOSPITAL, KHALEELWADI, NIZAMABAD - 503001. | E15: 50 | F15: 5 | G15: 3 | N15: 10 | R15: 5 | V15: 5 | Z15: 5 | AD15: 5 | AH15: 5 | AL15: 5 | AM15: 5 | AP15: 5 | AT15: 5 | AX15: 5 | BB15: 5 | BF15: 5 | BJ15: 5 | BN15: 5 | BO15: 5 | BR15: 5 | BS15: 5 | BV15: 5 | BW15: 5 | BZ15: 5 | CA15: 5 | CD15: 5 | CE15: 5 | CH15: 5 | CI15: 5 | CL15: 5 | CM15: 5 | CP15: 5 | CR15: 5 | CT15: 5 | CX15: 5 | DB15: 5 | DE15: 5 | DF15: 5 | DJ15: 5 | DO15: 5 | DR15: 5 | DS15: 5 | DZ15: =F15+J15+N15+R15+V15+Z15+AD15+AH15+AL15+AP15+AT15+AX15+BB15+BF15+BJ15+BN15+BR15+BV15+BZ15+CD15+CH15+CL15+CP15+CT15+CX15+DB15+DF15+DJ15+DN15+DR15+DV15 -> 145 | EA15: =G15+K15+O15+S15+W15+AA15+AE15+AI15+AM15+AQ15+AU15+AY15+BC15+BG15+BK15+BO15+BS15+BW15+CA15+CE15+CI15+CM15+CQ15+CU15+CY15+DC15+DG15+DK15+DO15+DS15+DW15 -> 53 | EB15: =H15+L15+P15+T15+X15+AB15+AF15+AJ15+AN15+AR15+AV15+AZ15+BD15+BH15+BL15+BP15+BT15+BX15+CB15+CF15+CJ15+CN15+CR15+CV15+CZ15+DD15+DH15+DL15+DP15+DT15+DX15 -> 5 | EC15: =I15+M15+Q15+U15+Y15+AC15+AG15+AK15+AO15+AS15+AW15+BA15+BE15+BI15+BM15+BQ15+BU15+BY15+CC15+CG15+CK15+CO15+CS15+CW15+DA15+DE15+DI15+DM15+DQ15+DU15+DY15 -> 5
A16: 6 | B16: CITYM503001TSBH16522 | C16: CITY MULTISPECIALITY HOSPITAL | D16: H.No.7-11-723/3, KHOJA COLONY, BODHAN ROAD, NIZAMABAD | E16: 50 | F16: 5 | AP16: 5 | AT16: 5 | BF16: 5 | BJ16: 5 | BN16: 3 | BR16: 5 | BV16: 5 | CD16: 5 | CH16: 5 | CL16: 5 | CT16: 4 | CX16: 4 | DB16: 4 | DF16: 5 | DJ16: 5 | DN16: 4 | DZ16: =F16+J16+N16+R16+V16+Z16+AD16+AH16+AL16+AP16+AT16+AX16+BB16+BF16+BJ16+BN16+BR16+BV16+BZ16+CD16+CH16+CL16+CP16+CT16+CX16+DB16+DF16+DJ16+DN16+DR16+DV16 -> 79 | EA16: =G16+K16+O16+S16+W16+AA16+AE16+AI16+AM16+AQ16+AU16+AY16+BC16+BG16+BK16+BO16+BS16+BW16+CA16+CE16+CI16+CM16+CQ16+CU16+CY16+DC16+DG16+DK16+DO16+DS16+DW16 -> 0 | EB16: =H16+L16+P16+T16+X16+AB16+AF16+AJ16+AN16+AR16+AV16+AZ16+BD16+BH16+BL16+BP16+BT16+BX16+CB16+CF16+CJ16+CN16+CR16+CV16+CZ16+DD16+DH16+DL16+DP16+DT16+DX16 -> 0 | EC16: =I16+M16+Q16+U16+Y16+AC16+AG16+AK16+AO16+AS16+AW16+BA16+BE16+BI16+BM16+BQ16+BU16+BY16+CC16+CG16+CK16+CO16+CS16+CW16+DA16+DE16+DI16+DM16+DQ16+DU16+DY16 -> 0
A17: 7 | B17: DREAM503001TSBH06107 | C17: DREAMLAND HOPE HOSPITAL | D17: H.No. 5-4-387/3, OPP.OLD JJ HOSPITAL, POCHAMMA GALLY, NIZAMABAD - 503001. | E17: 50 | F17: 5 | J17: 5 | K17: 5 | N17: 5 | O17: 5 | R17: 5 | S17: 5 | V17: 5 | W17: 3 | Z17: 5 | AA17: 5 | AD17: 5 | AE17: 5 | AH17: 10 | AI17: 5 | AL17: 5 | AR17: 5 | AT17: 5 | AX17: 5 | BB17: 5 | BF17: 5 | BJ17: 5 | BN17: 5 | BO17: 5 | BR17: 5 | BS17: 5 | BV17: 5 | BW17: 5 | BZ17: 5 | CA17: 5 | CD17: 5 | CE17: 5 | CH17: 5 | CL17: 5 | CM17: 5 | CP17: 5 | CT17: 5 | CX17: 5 | DB17: 5 | DG17: 5 | DJ17: 5 | DN17: 5 | DR17: 5 | DS17: 5 | DZ17: =F17+J17+N17+R17+V17+Z17+AD17+AH17+AL17+AP17+AT17+AX17+BB17+BF17+BJ17+BN17+BR17+BV17+BZ17+CD17+CH17+CL17+CP17+CT17+CX17+DB17+DF17+DJ17+DN17+DR17+DV17 -> 145 | EA17: =G17+K17+O17+S17+W17+AA17+AE17+AI17+AM17+AQ17+AU17+AY17+BC17+BG17+BK17+BO17+BS17+BW17+CA17+CE17+CI17+CM17+CQ17+CU17+CY17+DC17+DG17+DK17+DO17+DS17+DW17 -> 73 | EB17: =H17+L17+P17+T17+X17+AB17+AF17+AJ17+AN17+AR17+AV17+AZ17+BD17+BH17+BL17+BP17+BT17+BX17+CB17+CF17+CJ17+CN17+CR17+CV17+CZ17+DD17+DH17+DL17+DP17+DT17+DX17 -> 5 | EC17: =I17+M17+Q17+U17+Y17+AC17+AG17+AK17+AO17+AS17+AW17+BA17+BE17+BI17+BM17+BQ17+BU17+BY17+CC17+CG17+CK17+CO17+CS17+CW17+DA17+DE17+DI17+DM17+DQ17+DU17+DY17 -> 0
A18: 8 | B18: GSBVM503001TSBH07045 | C18: GSBV MEMORIAL MULTI SPECIALTY HOSPITAL | D18: OPP. RAJEEV GANDHI AUDITORUM, KHALEELWADI, NIZAMABAD - 503001. | E18: 50 | F18: 5 | J18: 5 | K18: 5 | N18: 5 | O18: 5 | R18: 5 | S18: 5 | V18: 5 | W18: 5 | Z18: 5 | AA18: 5 | AD18: 5 | AE18: 5 | AH18: 5 | AL18: 5 | AP18: 5 | AT18: 5 | AX18: 5 | BB18: 5 | BF18: 5 | BJ18: 5 | BN18: 5 | BO18: 5 | BR18: 5 | BS18: 5 | BV18: 5 | BW18: 5 | BZ18: 5 | CA18: 5 | CD18: 5 | CE18: 5 | CH18: 5 | CI18: 5 | CL18: 5 | CM18: 5 | CP18: 5 | CV18: 5 | CX18: 5 | DB18: 5 | DF18: 5 | DJ18: 5 | DO18: 5 | DR18: 5 | DS18: 5 | DZ18: =F18+J18+N18+R18+V18+Z18+AD18+AH18+AL18+AP18+AT18+AX18+BB18+BF18+BJ18+BN18+BR18+BV18+BZ18+CD18+CH18+CL18+CP18+CT18+CX18+DB18+DF18+DJ18+DN18+DR18+DV18 -> 140 | EA18: =G18+K18+O18+S18+W18+AA18+AE18+AI18+AM18+AQ18+AU18+AY18+BC18+BG18+BK18+BO18+BS18+BW18+CA18+CE18+CI18+CM18+CQ18+CU18+CY18+DC18+DG18+DK18+DO18+DS18+DW18 -> 75 | EB18: =H18+L18+P18+T18+X18+AB18+AF18+AJ18+AN18+AR18+AV18+AZ18+BD18+BH18+BL18+BP18+BT18+BX18+CB18+CF18+CJ18+CN18+CR18+CV18+CZ18+DD18+DH18+DL18+DP18+DT18+DX18 -> 5 | EC18: =I18+M18+Q18+U18+Y18+AC18+AG18+AK18+AO18+AS18+AW18+BA18+BE18+BI18+BM18+BQ18+BU18+BY18+CC18+CG18+CK18+CO18+CS18+CW18+DA18+DE18+DI18+DM18+DQ18+DU18+DY18 -> 0
A19: 9 | B19: INDUR503001TSBH09851 | C19: INDUR CANCER HOSPITAL | D19: PANGRA, MADHAVA NAGAR, HYDERABAD ROAD, NIZAMABAD - 503001. | E19: 50 | F19: 4 | J19: 3 | Z19: 5 | AD19: 5 | AH19: 5 | AL19: 5 | AP19: 5 | AT19: 5 | BB19: 5 | BF19: 4 | BJ19: 5 | BN19: 2 | BR19: 5 | BV19: 5 | CD19: 5 | CH19: 5 | CL19: 5 | CT19: 3 | CX19: 4 | DB19: 3 | DF19: 5 | DJ19: 4 | DN19: 5 | DZ19: =F19+J19+N19+R19+V19+Z19+AD19+AH19+AL19+AP19+AT19+AX19+BB19+BF19+BJ19+BN19+BR19+BV19+BZ19+CD19+CH19+CL19+CP19+CT19+CX19+DB19+DF19+DJ19+DN19+DR19+DV19 -> 102 | EA19: =G19+K19+O19+S19+W19+AA19+AE19+AI19+AM19+AQ19+AU19+AY19+BC19+BG19+BK19+BO19+BS19+BW19+CA19+CE19+CI19+CM19+CQ19+CU19+CY19+DC19+DG19+DK19+DO19+DS19+DW19 -> 0 | EB19: =H19+L19+P19+T19+X19+AB19+AF19+AJ19+AN19+AR19+AV19+AZ19+BD19+BH19+BL19+BP19+BT19+BX19+CB19+CF19+CJ19+CN19+CR19+CV19+CZ19+DD19+DH19+DL19+DP19+DT19+DX19 -> 0 | EC19: =I19+M19+Q19+U19+Y19+AC19+AG19+AK19+AO19+AS19+AW19+BA19+BE19+BI19+BM19+BQ19+BU19+BY19+CC19+CG19+CK19+CO19+CS19+CW19+DA19+DE19+DI19+DM19+DQ19+DU19+DY19 -> 0
A20: 10 | B20: INDUS503001TSBH08523 | C20: INDUS SUPER SPECIALITY HOSPITAL | D20: H.No. 5-6-192/194, SARASWATHI NAGAR, HYDERABAD ROAD, NIZAMABAD - 503001. | E20: 50 | F20: 5 | J20: 5 | N20: 5 | R20: 5 | V20: 5 | Z20: 5 | AD20: 5 | AH20: 5 | AL20: 5 | AQ20: 5 | AT20: 5 | AY20: 5 | BB20: 5 | BG20: 5 | BJ20: 5 | BN20: 5 | BR20: 5 | BV20: 5 | BZ20: 5 | CA20: 5 | CD20: 5 | CE20: 5 | CH20: 5 | CI20: 5 | CL20: 5 | CP20: 5 | CU20: 5 | CX20: 5 | DB20: 5 | DF20: 5 | DK20: 5 | DN20: 5 | DR20: 5 | DS20: 5 | DZ20: =F20+J20+N20+R20+V20+Z20+AD20+AH20+AL20+AP20+AT20+AX20+BB20+BF20+BJ20+BN20+BR20+BV20+BZ20+CD20+CH20+CL20+CP20+CT20+CX20+DB20+DF20+DJ20+DN20+DR20+DV20 -> 125 | EA20: =G20+K20+O20+S20+W20+AA20+AE20+AI20+AM20+AQ20+AU20+AY20+BC20+BG20+BK20+BO20+BS20+BW20+CA20+CE20+CI20+CM20+CQ20+CU20+CY20+DC20+DG20+DK20+DO20+DS20+DW20 -> 45 | EB20: =H20+L20+P20+T20+X20+AB20+AF20+AJ20+AN20+AR20+AV20+AZ20+BD20+BH20+BL20+BP20+BT20+BX20+CB20+CF20+CJ20+CN20+CR20+CV20+CZ20+DD20+DH20+DL20+DP20+DT20+DX20 -> 0 | EC20: =I20+M20+Q20+U20+Y20+AC20+AG20+AK20+AO20+AS20+AW20+BA20+BE20+BI20+BM20+BQ20+BU20+BY20+CC20+CG20+CK20+CO20+CS20+CW20+DA20+DE20+DI20+DM20+DQ20+DU20+DY20 -> 0
A21: 11 | B21: MANOR503001TSBH01042 | C21: MANORAMA SUPER SPECIALITY HOSPITAL | D21: SARASWATHI NAGAR, KHALEELWADI, HYDERABAD ROAD, NIZAMABAD - 503001. | E21: 50 | G21: 3 | J21: 5 | K21: 5 | N21: 5 | O21: 5 | R21: 5 | S21: 5 | V21: 5 | W21: 5 | Z21: 5 | AA21: 5 | AD21: 5 | AE21: 5 | AH21: 5 | AI21: 5 | AL21: 5 | AP21: 5 | AT21: 5 | AX21: 5 | BB21: 5 | BF21: 5 | BJ21: 5 | BN21: 5 | BO21: 5 | BR21: 5 | BS21: 5 | BV21: 5 | BW21: 5 | BZ21: 5 | CA21: 5 | CD21: 5 | CE21: 5 | CH21: 5 | CI21: 5 | CL21: 5 | CM21: 5 | CP21: 5 | CT21: 5 | CX21: 5 | DB21: 5 | DG21: 5 | DJ21: 5 | DN21: 5 | DR21: 5 | DS21: 5 | DZ21: =F21+J21+N21+R21+V21+Z21+AD21+AH21+AL21+AP21+AT21+AX21+BB21+BF21+BJ21+BN21+BR21+BV21+BZ21+CD21+CH21+CL21+CP21+CT21+CX21+DB21+DF21+DJ21+DN21+DR21+DV21 -> 140 | EA21: =G21+K21+O21+S21+W21+AA21+AE21+AI21+AM21+AQ21+AU21+AY21+BC21+BG21+BK21+BO21+BS21+BW21+CA21+CE21+CI21+CM21+CQ21+CU21+CY21+DC21+DG21+DK21+DO21+DS21+DW21 -> 83 | EB21: =H21+L21+P21+T21+X21+AB21+AF21+AJ21+AN21+AR21+AV21+AZ21+BD21+BH21+BL21+BP21+BT21+BX21+CB21+CF21+CJ21+CN21+CR21+CV21+CZ21+DD21+DH21+DL21+DP21+DT21+DX21 -> 0 | EC21: =I21+M21+Q21+U21+Y21+AC21+AG21+AK21+AO21+AS21+AW21+BA21+BE21+BI21+BM21+BQ21+BU21+BY21+CC21+CG21+CK21+CO21+CS21+CW21+DA21+DE21+DI21+DM21+DQ21+DU21+DY21 -> 0
A22: 12 | B22: NOVAL503001TSBH08513 | C22: NOVALIFE HOSPITAL | D22: H.No.5-6-293, SARASWATHI NAGAR, NIZAMABAD - 503001. | E22: 50 | F22: 5 | G22: 3 | K22: 5 | N22: 5 | V22: 5 | W22: 5 | Z22: 5 | AA22: 5 | AD22: 5 | AE22: 5 | AI22: 5 | AL22: 5 | AM22: 3 | AP22: 5 | AT22: 5 | AX22: 5 | BB22: 5 | BG22: 5 | BJ22: 5 | BN22: 5 | BO22: 5 | BR22: 5 | BS22: 5 | BV22: 5 | BW22: 5 | BZ22: 5 | CD22: 5 | CH22: 5 | CL22: 5 | CM22: 5 | CP22: 5 | CU22: 5 | CX22: 5 | DB22: 5 | DF22: 5 | DJ22: 5 | DO22: 5 | DR22: 5 | DZ22: =F22+J22+N22+R22+V22+Z22+AD22+AH22+AL22+AP22+AT22+AX22+BB22+BF22+BJ22+BN22+BR22+BV22+BZ22+CD22+CH22+CL22+CP22+CT22+CX22+DB22+DF22+DJ22+DN22+DR22+DV22 -> 120 | EA22: =G22+K22+O22+S22+W22+AA22+AE22+AI22+AM22+AQ22+AU22+AY22+BC22+BG22+BK22+BO22+BS22+BW22+CA22+CE22+CI22+CM22+CQ22+CU22+CY22+DC22+DG22+DK22+DO22+DS22+DW22 -> 66 | EB22: =H22+L22+P22+T22+X22+AB22+AF22+AJ22+AN22+AR22+AV22+AZ22+BD22+BH22+BL22+BP22+BT22+BX22+CB22+CF22+CJ22+CN22+CR22+CV22+CZ22+DD22+DH22+DL22+DP22+DT22+DX22 -> 0 | EC22: =I22+M22+Q22+U22+Y22+AC22+AG22+AK22+AO22+AS22+AW22+BA22+BE22+BI22+BM22+BQ22+BU22+BY22+CC22+CG22+CK22+CO22+CS22+CW22+DA22+DE22+DI22+DM22+DQ22+DU22+DY22 -> 0
A23: 13 | B23: RRLIF503001TSBH00887 | C23: R R LIFE LINE HOSPITAL NIZAMABAD | D23: H.No. 5-6-766/1, OPP. RED CROSS BLOOD BANK, KHALEEL WADI, NIZAMABAD - 503001. | E23: 50 | G23: 4 | J23: 5 | N23: 5 | R23: 5 | S23: 5 | V23: 5 | Z23: 5 | AD23: 5 | AH23: 5 | AM23: 5 | AP23: 5 | AT23: 5 | AX23: 5 | BC23: 5 | BF23: 5 | BK23: 5 | BN23: 5 | BR23: 5 | BV23: 5 | CA23: 5 | CE23: 5 | CL23: 5 | CP23: 5 | CT23: 5 | CX23: 5 | CY23: 5 | DB23: 5 | DG23: 5 | DJ23: 5 | DS23: 5 | DZ23: =F23+J23+N23+R23+V23+Z23+AD23+AH23+AL23+AP23+AT23+AX23+BB23+BF23+BJ23+BN23+BR23+BV23+BZ23+CD23+CH23+CL23+CP23+CT23+CX23+DB23+DF23+DJ23+DN23+DR23+DV23 -> 100 | EA23: =G23+K23+O23+S23+W23+AA23+AE23+AI23+AM23+AQ23+AU23+AY23+BC23+BG23+BK23+BO23+BS23+BW23+CA23+CE23+CI23+CM23+CQ23+CU23+CY23+DC23+DG23+DK23+DO23+DS23+DW23 -> 49 | EB23: =H23+L23+P23+T23+X23+AB23+AF23+AJ23+AN23+AR23+AV23+AZ23+BD23+BH23+BL23+BP23+BT23+BX23+CB23+CF23+CJ23+CN23+CR23+CV23+CZ23+DD23+DH23+DL23+DP23+DT23+DX23 -> 0 | EC23: =I23+M23+Q23+U23+Y23+AC23+AG23+AK23+AO23+AS23+AW23+BA23+BE23+BI23+BM23+BQ23+BU23+BY23+CC23+CG23+CK23+CO23+CS23+CW23+DA23+DE23+DI23+DM23+DQ23+DU23+DY23 -> 0
A24: 14 | B24: SVRMU503001TSBH08033 | C24: SVR MULTI SPECIALITY HOSPITAL | D24: KHALEELWADI, NIZAMABAD - 503001. | E24: 50 | F24: 5 | J24: 5 | N24: 5 | R24: 5 | S24: 5 | V24: 3 | AD24: 5 | AH24: 5 | AL24: 5 | AP24: 5 | AX24: 5 | BB24: 5 | BG24: 5 | BJ24: 5 | BN24: 5 | BO24: 5 | BR24: 5 | BS24: 5 | BV24: 5 | BW24: 5 | CA24: 5 | CE24: 5 | CI24: 5 | CL24: 5 | CM24: 5 | CP24: 5 | CT24: 10 | CX24: 5 | DB24: 5 | DF24: 5 | DJ24: 5 | DO24: 5 | DS24: 5 | DZ24: =F24+J24+N24+R24+V24+Z24+AD24+AH24+AL24+AP24+AT24+AX24+BB24+BF24+BJ24+BN24+BR24+BV24+BZ24+CD24+CH24+CL24+CP24+CT24+CX24+DB24+DF24+DJ24+DN24+DR24+DV24 -> 113 | EA24: =G24+K24+O24+S24+W24+AA24+AE24+AI24+AM24+AQ24+AU24+AY24+BC24+BG24+BK24+BO24+BS24+BW24+CA24+CE24+CI24+CM24+CQ24+CU24+CY24+DC24+DG24+DK24+DO24+DS24+DW24 -> 55 | EB24: =H24+L24+P24+T24+X24+AB24+AF24+AJ24+AN24+AR24+AV24+AZ24+BD24+BH24+BL24+BP24+BT24+BX24+CB24+CF24+CJ24+CN24+CR24+CV24+CZ24+DD24+DH24+DL24+DP24+DT24+DX24 -> 0 | EC24: =I24+M24+Q24+U24+Y24+AC24+AG24+AK24+AO24+AS24+AW24+BA24+BE24+BI24+BM24+BQ24+BU24+BY24+CC24+CG24+CK24+CO24+CS24+CW24+DA24+DE24+DI24+DM24+DQ24+DU24+DY24 -> 0
A25: 15 | B25: SRIGU503001TSBH06796 | C25: SRI GURU RAGHAVENDRA SUNRISE HOSPITAL | D25: H.No.5-7-93 & 5-7-94, OPP: MUNCIPAL COMPLEX, NIZAMABAD - 503001. | E25: 50 | G25: 5 | J25: 5 | N25: 5 | R25: 5 | S25: 5 | V25: 5 | Z25: 5 | AD25: 5 | AH25: 5 | AM25: 5 | AP25: 5 | AT25: 5 | AU25: 5 | AX25: 5 | BB25: 5 | BF25: 5 | BJ25: 5 | BO25: 5 | BS25: 5 | BW25: 5 | BZ25: 5 | CA25: 5 | CD25: 5 | CE25: 5 | CH25: 5 | CI25: 5 | CM25: 5 | CP25: 5 | CT25: 5 | CX25: 5 | DB25: 5 | DG25: 5 | DJ25: 5 | DN25: 5 | DR25: 5 | DS25: 5 | DZ25: =F25+J25+N25+R25+V25+Z25+AD25+AH25+AL25+AP25+AT25+AX25+BB25+BF25+BJ25+BN25+BR25+BV25+BZ25+CD25+CH25+CL25+CP25+CT25+CX25+DB25+DF25+DJ25+DN25+DR25+DV25 -> 115 | EA25: =G25+K25+O25+S25+W25+AA25+AE25+AI25+AM25+AQ25+AU25+AY25+BC25+BG25+BK25+BO25+BS25+BW25+CA25+CE25+CI25+CM25+CQ25+CU25+CY25+DC25+DG25+DK25+DO25+DS25+DW25 -> 65 | EB25: =H25+L25+P25+T25+X25+AB25+AF25+AJ25+AN25+AR25+AV25+AZ25+BD25+BH25+BL25+BP25+BT25+BX25+CB25+CF25+CJ25+CN25+CR25+CV25+CZ25+DD25+DH25+DL25+DP25+DT25+DX25 -> 0 | EC25: =I25+M25+Q25+U25+Y25+AC25+AG25+AK25+AO25+AS25+AW25+BA25+BE25+BI25+BM25+BQ25+BU25+BY25+CC25+CG25+CK25+CO25+CS25+CW25+DA25+DE25+DI25+DM25+DQ25+DU25+DY25 -> 0
A26: 16 | B26: SRIKR503001TSBH09853 | C26: SRI KRISHNA NEURO & SUPER SPECIALITY HOSPITAL | D26: H.No. 5-6-385 & 386, C/o. BOMBAY NURSING HOME, YELLAMMA GUTTA X ROAD, HYDERABAD ROAD, NIZAMABAD - 503001. | E26: 50 | F26: 5 | G26: 2 | J26: 5 | N26: 5 | R26: 5 | S26: 5 | V26: 5 | Z26: 5 | AD26: 5 | AH26: 5 | AL26: 5 | AM26: 5 | AP26: 5 | AT26: 5 | AX26: 5 | BB26: 5 | BF26: 5 | BJ26: 5 | BN26: 5 | BR26: 5 | BV26: 5 | BZ26: 5 | CD26: 5 | CH26: 5 | CL26: 5 | CS26: 5 | CT26: 5 | CX26: 5 | DD26: 5 | DF26: 5 | DJ26: 5 | DO26: 5 | DR26: 5 | DZ26: =F26+J26+N26+R26+V26+Z26+AD26+AH26+AL26+AP26+AT26+AX26+BB26+BF26+BJ26+BN26+BR26+BV26+BZ26+CD26+CH26+CL26+CP26+CT26+CX26+DB26+DF26+DJ26+DN26+DR26+DV26 -> 135 | EA26: =G26+K26+O26+S26+W26+AA26+AE26+AI26+AM26+AQ26+AU26+AY26+BC26+BG26+BK26+BO26+BS26+BW26+CA26+CE26+CI26+CM26+CQ26+CU26+CY26+DC26+DG26+DK26+DO26+DS26+DW26 -> 17 | EB26: =H26+L26+P26+T26+X26+AB26+AF26+AJ26+AN26+AR26+AV26+AZ26+BD26+BH26+BL26+BP26+BT26+BX26+CB26+CF26+CJ26+CN26+CR26+CV26+CZ26+DD26+DH26+DL26+DP26+DT26+DX26 -> 5 | EC26: =I26+M26+Q26+U26+Y26+AC26+AG26+AK26+AO26+AS26+AW26+BA26+BE26+BI26+BM26+BQ26+BU26+BY26+CC26+CG26+CK26+CO26+CS26+CW26+DA26+DE26+DI26+DM26+DQ26+DU26+DY26 -> 5
A27: 17 | B27: SRIMA503001TSBH00974 | C27: SRI MAHALAXMI CHILDRENS HOSPITAL | D27: H.No. 5-7-7/1 , BESIDE NALANDA WOMENS DEGREE COLLEGE, KHALEELWADI, NIZAMABAD - 503001. | E27: 50 | G27: 5 | J27: 5 | N27: 5 | R27: 5 | V27: 5 | Z27: 5 | AD27: 5 | AH27: 5 | AM27: 5 | AP27: 5 | AT27: 5 | AX27: 5 | BC27: 5 | BF27: 5 | BJ27: 5 | BO27: 5 | BS27: 5 | BW27: 5 | BZ27: 5 | CA27: 5 | CD27: 5 | CE27: 5 | CI27: 5 | CM27: 5 | CP27: 5 | CT27: 5 | CY27: 5 | DB27: 5 | DF27: 5 | DG27: 5 | DJ27: 5 | DN27: 5 | DO27: 5 | DR27: 5 | DS27: 5 | DZ27: =F27+J27+N27+R27+V27+Z27+AD27+AH27+AL27+AP27+AT27+AX27+BB27+BF27+BJ27+BN27+BR27+BV27+BZ27+CD27+CH27+CL27+CP27+CT27+CX27+DB27+DF27+DJ27+DN27+DR27+DV27 -> 105 | EA27: =G27+K27+O27+S27+W27+AA27+AE27+AI27+AM27+AQ27+AU27+AY27+BC27+BG27+BK27+BO27+BS27+BW27+CA27+CE27+CI27+CM27+CQ27+CU27+CY27+DC27+DG27+DK27+DO27+DS27+DW27 -> 70 | EB27: =H27+L27+P27+T27+X27+AB27+AF27+AJ27+AN27+AR27+AV27+AZ27+BD27+BH27+BL27+BP27+BT27+BX27+CB27+CF27+CJ27+CN27+CR27+CV27+CZ27+DD27+DH27+DL27+DP27+DT27+DX27 -> 0 | EC27: =I27+M27+Q27+U27+Y27+AC27+AG27+AK27+AO27+AS27+AW27+BA27+BE27+BI27+BM27+BQ27+BU27+BY27+CC27+CG27+CK27+CO27+CS27+CW27+DA27+DE27+DI27+DM27+DQ27+DU27+DY27 -> 0
A28: 18 | B28: SRIVI503001TSBH06146 | C28: SRI VISHNU HOSPITAL | D28: ABOVE KOTAK MAHINDRA BANK, OPP: CENTRAL LIBRARY, KHALEELWADI, NIZAMABAD - 503001. | E28: 50 | F28: 5 | G28: 4 | J28: 5 | N28: 5 | R28: 5 | S28: 5 | V28: 5 | AD28: 5 | AH28: 5 | AL28: 5 | AM28: 5 | AP28: 5 | AT28: 5 | AX28: 5 | BB28: 5 | BF28: 5 | BJ28: 5 | BN28: 5 | BR28: 5 | BV28: 5 | BZ28: 5 | CA28: 5 | CD28: 5 | CE28: 2 | CH28: 5 | CI28: 5 | CL28: 5 | CP28: 5 | CT28: 5 | CX28: 5 | DB28: 5 | DF28: 5 | DJ28: 5 | DO28: 5 | DR28: 5 | DS28: 5 | DZ28: =F28+J28+N28+R28+V28+Z28+AD28+AH28+AL28+AP28+AT28+AX28+BB28+BF28+BJ28+BN28+BR28+BV28+BZ28+CD28+CH28+CL28+CP28+CT28+CX28+DB28+DF28+DJ28+DN28+DR28+DV28 -> 140 | EA28: =G28+K28+O28+S28+W28+AA28+AE28+AI28+AM28+AQ28+AU28+AY28+BC28+BG28+BK28+BO28+BS28+BW28+CA28+CE28+CI28+CM28+CQ28+CU28+CY28+DC28+DG28+DK28+DO28+DS28+DW28 -> 36 | EB28: =H28+L28+P28+T28+X28+AB28+AF28+AJ28+AN28+AR28+AV28+AZ28+BD28+BH28+BL28+BP28+BT28+BX28+CB28+CF28+CJ28+CN28+CR28+CV28+CZ28+DD28+DH28+DL28+DP28+DT28+DX28 -> 0 | EC28: =I28+M28+Q28+U28+Y28+AC28+AG28+AK28+AO28+AS28+AW28+BA28+BE28+BI28+BM28+BQ28+BU28+BY28+CC28+CG28+CK28+CO28+CS28+CW28+DA28+DE28+DI28+DM28+DQ28+DU28+DY28 -> 0
A29: 19 | B29: SRINI503001TSBH06147 | C29: SRINIVAS GASTRO & LIVER CARE HOSPITAL | D29: H.No.5-6-742/743, BESIDE MRO OFFICE, OPP: DEO OFFICE AND CENTRAL LIBRARY, KHALEELWADI, NIZAMABAD - 503001. | E29: 50 | F29: 5 | J29: 5 | N29: 5 | R29: 5 | S29: 5 | V29: 5 | AD29: 5 | AL29: 5 | AP29: 5 | AT29: 5 | AX29: 5 | BB29: 5 | BF29: 5 | BJ29: 5 | BN29: 5 | BR29: 5 | BV29: 5 | BZ29: 5 | CA29: 5 | CD29: 5 | CE29: 5 | CH29: 5 | CI29: 5 | CL29: 5 | CP29: 5 | CT29: 5 | CX29: 5 | DB29: 5 | DF29: 5 | DJ29: 5 | DN29: 5 | DR29: 5 | DS29: 5 | DZ29: =F29+J29+N29+R29+V29+Z29+AD29+AH29+AL29+AP29+AT29+AX29+BB29+BF29+BJ29+BN29+BR29+BV29+BZ29+CD29+CH29+CL29+CP29+CT29+CX29+DB29+DF29+DJ29+DN29+DR29+DV29 -> 140 | EA29: =G29+K29+O29+S29+W29+AA29+AE29+AI29+AM29+AQ29+AU29+AY29+BC29+BG29+BK29+BO29+BS29+BW29+CA29+CE29+CI29+CM29+CQ29+CU29+CY29+DC29+DG29+DK29+DO29+DS29+DW29 -> 25 | EB29: =H29+L29+P29+T29+X29+AB29+AF29+AJ29+AN29+AR29+AV29+AZ29+BD29+BH29+BL29+BP29+BT29+BX29+CB29+CF29+CJ29+CN29+CR29+CV29+CZ29+DD29+DH29+DL29+DP29+DT29+DX29 -> 0 | EC29: =I29+M29+Q29+U29+Y29+AC29+AG29+AK29+AO29+AS29+AW29+BA29+BE29+BI29+BM29+BQ29+BU29+BY29+CC29+CG29+CK29+CO29+CS29+CW29+DA29+DE29+DI29+DM29+DQ29+DU29+DY29 -> 0
A30: 20 | B30: VIJAY503001TSBH00903 | C30: VIJAYALAKSHMI HOSPITAL | D30: H.No. 5-6-767, NEAR RAJIV GANDHI AUDITORIUM, OPP: RED CROSS BLOOD BANK, KHALEELWADI, NIZAMABAD - 503001. | E30: 50 | G30: 5 | J30: 5 | N30: 5 | R30: 5 | S30: 5 | V30: 5 | AD30: 5 | AH30: 5 | AM30: 4 | AP30: 5 | AU30: 5 | AY30: 5 | BB30: 5 | BG30: 5 | BJ30: 5 | BN30: 5 | BR30: 5 | BV30: 2 | BZ30: 5 | CA30: 5 | CD30: 5 | CE30: 5 | CH30: 5 | CI30: 5 | CL30: 5 | CP30: 5 | CU30: 5 | CX30: 5 | DB30: 5 | DF30: 5 | DJ30: 5 | DN30: 5 | DR30: 3 | DS30: 5 | DZ30: =F30+J30+N30+R30+V30+Z30+AD30+AH30+AL30+AP30+AT30+AX30+BB30+BF30+BJ30+BN30+BR30+BV30+BZ30+CD30+CH30+CL30+CP30+CT30+CX30+DB30+DF30+DJ30+DN30+DR30+DV30 -> 110 | EA30: =G30+K30+O30+S30+W30+AA30+AE30+AI30+AM30+AQ30+AU30+AY30+BC30+BG30+BK30+BO30+BS30+BW30+CA30+CE30+CI30+CM30+CQ30+CU30+CY30+DC30+DG30+DK30+DO30+DS30+DW30 -> 54 | EB30: =H30+L30+P30+T30+X30+AB30+AF30+AJ30+AN30+AR30+AV30+AZ30+BD30+BH30+BL30+BP30+BT30+BX30+CB30+CF30+CJ30+CN30+CR30+CV30+CZ30+DD30+DH30+DL30+DP30+DT30+DX30 -> 0 | EC30: =I30+M30+Q30+U30+Y30+AC30+AG30+AK30+AO30+AS30+AW30+BA30+BE30+BI30+BM30+BQ30+BU30+BY30+CC30+CG30+CK30+CO30+CS30+CW30+DA30+DE30+DI30+DM30+DQ30+DU30+DY30 -> 0
B31: 49 TO 20 BEDS HCFs
A32: 21 | B32: VAISH503001TSBH06135 | C32: VAISHNAVI HOSPITAL | D32: H.No. 5-6-180/B, SARASWATINAGAR, BEHIND PRAGATHI HOSPITAL, NIZAMABAD - 503001. | E32: 35 | G32: 3 | K32: 2 | N32: 3 | W32: 3 | Z32: 2 | AE32: 2 | AI32: 3 | AM32: 2 | AP32: 3 | AT32: 3 | AX32: 4 | BB32: 3 | BF32: 3 | BK32: 2 | BO32: 3 | BS32: 2 | BW32: 3 | BZ32: 3 | CD32: 2 | CH32: 3 | CM32: 2 | CQ32: 2 | CT32: 3 | CX32: 3 | DC32: 2 | DF32: 4 | DJ32: 4 | DN32: 3 | DR32: 3 | DZ32: =F32+J32+N32+R32+V32+Z32+AD32+AH32+AL32+AP32+AT32+AX32+BB32+BF32+BJ32+BN32+BR32+BV32+BZ32+CD32+CH32+CL32+CP32+CT32+CX32+DB32+DF32+DJ32+DN32+DR32+DV32 -> 49 | EA32: =G32+K32+O32+S32+W32+AA32+AE32+AI32+AM32+AQ32+AU32+AY32+BC32+BG32+BK32+BO32+BS32+BW32+CA32+CE32+CI32+CM32+CQ32+CU32+CY32+DC32+DG32+DK32+DO32+DS32+DW32 -> 31 | EB32: =H32+L32+P32+T32+X32+AB32+AF32+AJ32+AN32+AR32+AV32+AZ32+BD32+BH32+BL32+BP32+BT32+BX32+CB32+CF32+CJ32+CN32+CR32+CV32+CZ32+DD32+DH32+DL32+DP32+DT32+DX32 -> 0 | EC32: =I32+M32+Q32+U32+Y32+AC32+AG32+AK32+AO32+AS32+AW32+BA32+BE32+BI32+BM32+BQ32+BU32+BY32+CC32+CG32+CK32+CO32+CS32+CW32+DA32+DE32+DI32+DM32+DQ32+DU32+DY32 -> 0
A33: 22 | B33: SRIRA503001TSBH00950 | C33: SRI RAKSHA HOSPITAL | D33: PRAGATHI HOSPITAL BACKSIDE LANE, DWARAKA NAGAR, NIZAMABAD - 503001. | E33: 30 | G33: 2 | J33: 3 | K33: 2 | N33: 3 | W33: 3 | Z33: 2 | AE33: 2 | AI33: 3 | AM33: 2 | AP33: 3 | AT33: 3 | AY33: 3 | BG33: 2 | BJ33: 3 | BO33: 3 | BS33: 2 | BW33: 3 | BZ33: 3 | CD33: 2 | CH33: 3 | CM33: 2 | CP33: 3 | CU33: 2 | CX33: 3 | DB33: 3 | DF33: 4 | DK33: 3 | DO33: 2 | DR33: 3 | DZ33: =F33+J33+N33+R33+V33+Z33+AD33+AH33+AL33+AP33+AT33+AX33+BB33+BF33+BJ33+BN33+BR33+BV33+BZ33+CD33+CH33+CL33+CP33+CT33+CX33+DB33+DF33+DJ33+DN33+DR33+DV33 -> 41 | EA33: =G33+K33+O33+S33+W33+AA33+AE33+AI33+AM33+AQ33+AU33+AY33+BC33+BG33+BK33+BO33+BS33+BW33+CA33+CE33+CI33+CM33+CQ33+CU33+CY33+DC33+DG33+DK33+DO33+DS33+DW33 -> 36 | EB33: =H33+L33+P33+T33+X33+AB33+AF33+AJ33+AN33+AR33+AV33+AZ33+BD33+BH33+BL33+BP33+BT33+BX33+CB33+CF33+CJ33+CN33+CR33+CV33+CZ33+DD33+DH33+DL33+DP33+DT33+DX33 -> 0 | EC33: =I33+M33+Q33+U33+Y33+AC33+AG33+AK33+AO33+AS33+AW33+BA33+BE33+BI33+BM33+BQ33+BU33+BY33+CC33+CG33+CK33+CO33+CS33+CW33+DA33+DE33+DI33+DM33+DQ33+DU33+DY33 -> 0
A34: 23 | B34: LIONS503001TSBH01124 | C34: LIONS EYE HOSPITAL | D34: OPP: RAJEEV GANDHI AUDITORIUM, KHALEEL WADI, NIZAMABAD - 503001. | E34: 25 | F34: 3 | K34: 2 | N34: 3 | W34: 3 | Z34: 2 | AE34: 2 | AI34: 3 | AL34: 3 | AP34: 3 | AT34: 3 | AX34: 3 | BB34: 3 | BK34: 2 | BO34: 3 | BS34: 2 | BW34: 3 | BZ34: 3 | CD34: 2 | CH34: 3 | CM34: 2 | CQ34: 2 | CX34: 3 | DC34: 2 | DF34: 3 | DK34: 3 | DN34: 3 | DR34: 3 | DZ34: =F34+J34+N34+R34+V34+Z34+AD34+AH34+AL34+AP34+AT34+AX34+BB34+BF34+BJ34+BN34+BR34+BV34+BZ34+CD34+CH34+CL34+CP34+CT34+CX34+DB34+DF34+DJ34+DN34+DR34+DV34 -> 43 | EA34: =G34+K34+O34+S34+W34+AA34+AE34+AI34+AM34+AQ34+AU34+AY34+BC34+BG34+BK34+BO34+BS34+BW34+CA34+CE34+CI34+CM34+CQ34+CU34+CY34+DC34+DG34+DK34+DO34+DS34+DW34 -> 29 | EB34: =H34+L34+P34+T34+X34+AB34+AF34+AJ34+AN34+AR34+AV34+AZ34+BD34+BH34+BL34+BP34+BT34+BX34+CB34+CF34+CJ34+CN34+CR34+CV34+CZ34+DD34+DH34+DL34+DP34+DT34+DX34 -> 0 | EC34: =I34+M34+Q34+U34+Y34+AC34+AG34+AK34+AO34+AS34+AW34+BA34+BE34+BI34+BM34+BQ34+BU34+BY34+CC34+CG34+CK34+CO34+CS34+CW34+DA34+DE34+DI34+DM34+DQ34+DU34+DY34 -> 0
A35: 24 | B35: RITVI503002TSBH09855 | C35: RITVIK HOSPITAL | D35: OPP: SHESHANK HOSPITAL, OPP: BUS STAND ROAD, KHALEELWADI, NIZAMABAD - 503001. | E35: 25 | G35: 2 | K35: 2 | N35: 3 | W35: 3 | Z35: 2 | AE35: 2 | AI35: 3 | AM35: 2 | AP35: 3 | AU35: 2 | AX35: 3 | BC35: 2 | BF35: 3 | BK35: 2 | BO35: 3 | BS35: 2 | BW35: 3 | BZ35: 3 | CD35: 2 | CH35: 3 | CM35: 2 | CT35: 3 | CX35: 3 | DF35: 3 | DK35: 5 | DO35: 2 | DR35: 3 | DZ35: =F35+J35+N35+R35+V35+Z35+AD35+AH35+AL35+AP35+AT35+AX35+BB35+BF35+BJ35+BN35+BR35+BV35+BZ35+CD35+CH35+CL35+CP35+CT35+CX35+DB35+DF35+DJ35+DN35+DR35+DV35 -> 34 | EA35: =G35+K35+O35+S35+W35+AA35+AE35+AI35+AM35+AQ35+AU35+AY35+BC35+BG35+BK35+BO35+BS35+BW35+CA35+CE35+CI35+CM35+CQ35+CU35+CY35+DC35+DG35+DK35+DO35+DS35+DW35 -> 37 | EB35: =H35+L35+P35+T35+X35+AB35+AF35+AJ35+AN35+AR35+AV35+AZ35+BD35+BH35+BL35+BP35+BT35+BX35+CB35+CF35+CJ35+CN35+CR35+CV35+CZ35+DD35+DH35+DL35+DP35+DT35+DX35 -> 0 | EC35: =I35+M35+Q35+U35+Y35+AC35+AG35+AK35+AO35+AS35+AW35+BA35+BE35+BI35+BM35+BQ35+BU35+BY35+CC35+CG35+CK35+CO35+CS35+CW35+DA35+DE35+DI35+DM35+DQ35+DU35+DY35 -> 0
A36: 25 | B36: SAIAS503001TSBH09856 | C36: SAI ASHWINI HOSPITAL | D36: KHALEELWADI, NIZAMABAD - 503001. | E36: 25 | F36: 3 | K36: 2 | N36: 3 | W36: 3 | Z36: 2 | AE36: 2 | AI36: 3 | AQ36: 3 | AT36: 3 | AY36: 3 | BB36: 3 | BG36: 2 | BJ36: 3 | BO36: 3 | BS36: 2 | BW36: 3 | BZ36: 3 | CD36: 2 | CH36: 3 | CM36: 2 | CP36: 3 | CT36: 3 | CY36: 2 | DB36: 3 | DG36: 2 | DJ36: 4 | DN36: 3 | DR36: 3 | DZ36: =F36+J36+N36+R36+V36+Z36+AD36+AH36+AL36+AP36+AT36+AX36+BB36+BF36+BJ36+BN36+BR36+BV36+BZ36+CD36+CH36+CL36+CP36+CT36+CX36+DB36+DF36+DJ36+DN36+DR36+DV36 -> 44 | EA36: =G36+K36+O36+S36+W36+AA36+AE36+AI36+AM36+AQ36+AU36+AY36+BC36+BG36+BK36+BO36+BS36+BW36+CA36+CE36+CI36+CM36+CQ36+CU36+CY36+DC36+DG36+DK36+DO36+DS36+DW36 -> 32 | EB36: =H36+L36+P36+T36+X36+AB36+AF36+AJ36+AN36+AR36+AV36+AZ36+BD36+BH36+BL36+BP36+BT36+BX36+CB36+CF36+CJ36+CN36+CR36+CV36+CZ36+DD36+DH36+DL36+DP36+DT36+DX36 -> 0 | EC36: =I36+M36+Q36+U36+Y36+AC36+AG36+AK36+AO36+AS36+AW36+BA36+BE36+BI36+BM36+BQ36+BU36+BY36+CC36+CG36+CK36+CO36+CS36+CW36+DA36+DE36+DI36+DM36+DQ36+DU36+DY36 -> 0
A37: 26 | B37: VIKRA503001TSBH09857 | C37: VIKRAM HOSPITAL | D37: D.No. 5-6-164, BESIDE Dr. LAXMA REDDY HOSPITAL, MEENAKSHI HOSPITAL LANE, DWARAKANAGAR, NIZAMABAD - 503001. | E37: 25 | F37: 3 | K37: 2 | N37: 3 | Z37: 2 | AE37: 2 | AI37: 3 | AL37: 3 | AP37: 3 | AY37: 2 | BG37: 2 | BO37: 3 | BS37: 2 | BW37: 3 | BZ37: 3 | CD37: 2 | CH37: 3 | CM37: 2 | CQ37: 3 | CT37: 3 | CY37: 2 | DC37: 2 | DF37: 3 | DJ37: 3 | DR37: 3 | DZ37: =F37+J37+N37+R37+V37+Z37+AD37+AH37+AL37+AP37+AT37+AX37+BB37+BF37+BJ37+BN37+BR37+BV37+BZ37+CD37+CH37+CL37+CP37+CT37+CX37+DB37+DF37+DJ37+DN37+DR37+DV37 -> 34 | EA37: =G37+K37+O37+S37+W37+AA37+AE37+AI37+AM37+AQ37+AU37+AY37+BC37+BG37+BK37+BO37+BS37+BW37+CA37+CE37+CI37+CM37+CQ37+CU37+CY37+DC37+DG37+DK37+DO37+DS37+DW37 -> 28 | EB37: =H37+L37+P37+T37+X37+AB37+AF37+AJ37+AN37+AR37+AV37+AZ37+BD37+BH37+BL37+BP37+BT37+BX37+CB37+CF37+CJ37+CN37+CR37+CV37+CZ37+DD37+DH37+DL37+DP37+DT37+DX37 -> 0 | EC37: =I37+M37+Q37+U37+Y37+AC37+AG37+AK37+AO37+AS37+AW37+BA37+BE37+BI37+BM37+BQ37+BU37+BY37+CC37+CG37+CK37+CO37+CS37+CW37+DA37+DE37+DI37+DM37+DQ37+DU37+DY37 -> 0
A38: 27 | B38: GANGA503001TSBH06109 | C38: GANGA SARASWATHI CHILDRENS HOSPITAL | D38: DWARAKA NAGAR, NIZAMABAD - 503001. | E38: 25 | N38: 3 | W38: 3 | Z38: 2 | AE38: 2 | AI38: 3 | AP38: 3 | AT38: 3 | AY38: 2 | BB38: 3 | BG38: 2 | BJ38: 3 | BO38: 3 | BS38: 2 | BW38: 3 | BZ38: 3 | CD38: 2 | CH38: 3 | CM38: 2 | CU38: 2 | CX38: 3 | DG38: 2 | DJ38: 3 | DN38: 3 | DR38: 3 | DZ38: =F38+J38+N38+R38+V38+Z38+AD38+AH38+AL38+AP38+AT38+AX38+BB38+BF38+BJ38+BN38+BR38+BV38+BZ38+CD38+CH38+CL38+CP38+CT38+CX38+DB38+DF38+DJ38+DN38+DR38+DV38 -> 37 | EA38: =G38+K38+O38+S38+W38+AA38+AE38+AI38+AM38+AQ38+AU38+AY38+BC38+BG38+BK38+BO38+BS38+BW38+CA38+CE38+CI38+CM38+CQ38+CU38+CY38+DC38+DG38+DK38+DO38+DS38+DW38 -> 26 | EB38: =H38+L38+P38+T38+X38+AB38+AF38+AJ38+AN38+AR38+AV38+AZ38+BD38+BH38+BL38+BP38+BT38+BX38+CB38+CF38+CJ38+CN38+CR38+CV38+CZ38+DD38+DH38+DL38+DP38+DT38+DX38 -> 0 | EC38: =I38+M38+Q38+U38+Y38+AC38+AG38+AK38+AO38+AS38+AW38+BA38+BE38+BI38+BM38+BQ38+BU38+BY38+CC38+CG38+CK38+CO38+CS38+CW38+DA38+DE38+DI38+DM38+DQ38+DU38+DY38 -> 0
A39: 28 | B39: ADARS503001TSBH09854 | C39: ADARSH MATERNITY NURSING HOME | D39: Dr. ANNAPURNA HOSPITAL, H.NO.5-7-624/12, KHALEELWADI, NIZAMABAD - 503001. | E39: 24 | F39: 3 | K39: 2 | W39: 3 | Z39: 2 | AE39: 2 | AI39: 3 | AP39: 3 | AT39: 3 | AX39: 3 | BB39: 3 | BF39: 3 | BJ39: 3 | BO39: 3 | BS39: 2 | BW39: 3 | BZ39: 3 | CD39: 2 | CH39: 3 | CM39: 2 | CQ39: 3 | CX39: 3 | DC39: 2 | DG39: 3 | DJ39: 3 | DN39: 3 | DR39: 3 | DZ39: =F39+J39+N39+R39+V39+Z39+AD39+AH39+AL39+AP39+AT39+AX39+BB39+BF39+BJ39+BN39+BR39+BV39+BZ39+CD39+CH39+CL39+CP39+CT39+CX39+DB39+DF39+DJ39+DN39+DR39+DV39 -> 43 | EA39: =G39+K39+O39+S39+W39+AA39+AE39+AI39+AM39+AQ39+AU39+AY39+BC39+BG39+BK39+BO39+BS39+BW39+CA39+CE39+CI39+CM39+CQ39+CU39+CY39+DC39+DG39+DK39+DO39+DS39+DW39 -> 28 | EB39: =H39+L39+P39+T39+X39+AB39+AF39+AJ39+AN39+AR39+AV39+AZ39+BD39+BH39+BL39+BP39+BT39+BX39+CB39+CF39+CJ39+CN39+CR39+CV39+CZ39+DD39+DH39+DL39+DP39+DT39+DX39 -> 0 | EC39: =I39+M39+Q39+U39+Y39+AC39+AG39+AK39+AO39+AS39+AW39+BA39+BE39+BI39+BM39+BQ39+BU39+BY39+CC39+CG39+CK39+CO39+CS39+CW39+DA39+DE39+DI39+DM39+DQ39+DU39+DY39 -> 0
A40: 29 | B40: ANKAM503001TSBH01037 | C40: ANKAM HOSPITAL | D40: H.No. 5-7-132, KHALEELWADI, NIZAMABAD - 503001. | E40: 24 | G40: 2 | K40: 2 | N40: 3 | W40: 3 | Z40: 2 | AE40: 2 | AI40: 3 | AM40: 2 | AQ40: 2 | AT40: 3 | AY40: 3 | BB40: 3 | BG40: 2 | BJ40: 3 | BO40: 3 | BS40: 2 | BW40: 3 | BZ40: 3 | CD40: 2 | CH40: 3 | CM40: 2 | CT40: 3 | CX40: 3 | DF40: 4 | DJ40: 3 | DR40: 3 | DZ40: =F40+J40+N40+R40+V40+Z40+AD40+AH40+AL40+AP40+AT40+AX40+BB40+BF40+BJ40+BN40+BR40+BV40+BZ40+CD40+CH40+CL40+CP40+CT40+CX40+DB40+DF40+DJ40+DN40+DR40+DV40 -> 38 | EA40: =G40+K40+O40+S40+W40+AA40+AE40+AI40+AM40+AQ40+AU40+AY40+BC40+BG40+BK40+BO40+BS40+BW40+CA40+CE40+CI40+CM40+CQ40+CU40+CY40+DC40+DG40+DK40+DO40+DS40+DW40 -> 31 | EB40: =H40+L40+P40+T40+X40+AB40+AF40+AJ40+AN40+AR40+AV40+AZ40+BD40+BH40+BL40+BP40+BT40+BX40+CB40+CF40+CJ40+CN40+CR40+CV40+CZ40+DD40+DH40+DL40+DP40+DT40+DX40 -> 0 | EC40: =I40+M40+Q40+U40+Y40+AC40+AG40+AK40+AO40+AS40+AW40+BA40+BE40+BI40+BM40+BQ40+BU40+BY40+CC40+CG40+CK40+CO40+CS40+CW40+DA40+DE40+DI40+DM40+DQ40+DU40+DY40 -> 0
...

Sheet Kamareddy
A1: =Nizamabad!A1 -> APRIL - 2023 MONTH REPORT | F1: =Nizamabad!F1 -> 45017 | J1: =Nizamabad!J1 -> 45018 | N1: =Nizamabad!N1 -> 45019 | R1: =Nizamabad!R1 -> 45020 | V1: =Nizamabad!V1 -> 45021 | Z1: =Nizamabad!Z1 -> 45022 | AD1: =Nizamabad!AD1 -> 45023 | AH1: =Nizamabad!AH1 -> 45024 | AL1: =Nizamabad!AL1 -> 45025 | AP1: =Nizamabad!AP1 -> 45026 | AT1: =Nizamabad!AT1 -> 45027 | AX1: =Nizamabad!AX1 -> 45028 | BB1: =Nizamabad!BB1 -> 45029 | BF1: =Nizamabad!BF1 -> 45030 | BJ1: =Nizamabad!BJ1 -> 45031 | BN1: =Nizamabad!BN1 -> 45032 | BR1: =Nizamabad!BR1 -> 45033 | BV1: =Nizamabad!BV1 -> 45034 | BZ1: =Nizamabad!BZ1 -> 45035 | CD1: =Nizamabad!CD1 -> 45036 | CH1: =Nizamabad!CH1 -> 45037 | CL1: =Nizamabad!CL1 -> 45038 | CP1: =Nizamabad!CP1 -> 45039 | CT1: =Nizamabad!CT1 -> 45040 | CX1: =Nizamabad!CX1 -> 45041 | DB1: =Nizamabad!DB1 -> 45042 | DF1: =Nizamabad!DF1 -> 45043 | DJ1: =Nizamabad!DJ1 -> 45044 | DZ1: TOTAL
A2: SNO | B2: HCF ID | C2: NAME OF THE HCF | D2: ADDRESS OF THE HCFS | E2: NO.OF BEDS | F2: Yellow | G2: Red | H2: Blue | I2: White | J2: Yellow | K2: Red | L2: Blue | M2: White | N2: Yellow | O2: Red | P2: Blue | Q2: White | R2: Yellow | S2: Red | T2: Blue | U2: White | V2: Yellow | W2: Red | X2: Blue | Y2: White | Z2: Yellow | AA2: Red | AB2: Blue | AC2: White | AD2: Yellow | AE2: Red | AF2: Blue | AG2: White | AH2: Yellow | AI2: Red | AJ2: Blue | AK2: White | AL2: Yellow | AM2: Red | AN2: Blue | AO2: White | AP2: Yellow | AQ2: Red | AR2: Blue | AS2: White | AT2: Yellow | AU2: Red | AV2: Blue | AW2: White | AX2: Yellow | AY2: Red | AZ2: Blue | BA2: White | BB2: Yellow | BC2: Red | BD2: Blue | BE2: White | BF2: Yellow | BG2: Red | BH2: Blue | BI2: White | BJ2: Yellow | BK2: Red | BL2: Blue | BM2: White | BN2: Yellow | BO2: Red | BP2: Blue | BQ2: White | BR2: Yellow | BS2: Red | BT2: Blue | BU2: White | BV2: Yellow | BW2: Red | BX2: Blue | BY2: White | BZ2: Yellow | CA2: Red | CB2: Blue | CC2: White | CD2: Yellow | CE2: Red | CF2: Blue | CG2: White | CH2: Yellow | CI2: Red | CJ2: Blue | CK2: White | CL2: Yellow | CM2: Red | CN2: Blue | CO2: White | CP2: Yellow | CQ2: Red | CR2: Blue | CS2: White | CT2: Yellow | CU2: Red | CV2: Blue | CW2: White | CX2: Yellow | CY2: Red | CZ2: Blue | DA2: White | DB2: Yellow | DC2: Red | DD2: Blue | DE2: White | DF2: Yellow | DG2: Red | DH2: Blue | DI2: White | DJ2: Yellow | DK2: Red | DL2: Blue | DM2: White | DN2: Yellow | DO2: Red | DP2: Blue | DQ2: White | DR2: Yellow | DS2: Red | DT2: Blue | DU2: White | DV2: Yellow | DW2: Red | DX2: Blue | DY2: White | DZ2: Yellow | EA2: Red | EB2: Blue | EC2: White
A3: KAMAREDDY 100 AND ABOVE BEDS HCFs
A4: 1 | B4: AREAH503111TSBH06149 | C4: AREA HOSPITAL, KAMAREDDY | D4: STATION ROAD, KAMAREDDY - 503111. | E4: 100 | F4: 5 | G4: 2 | J4: 5 | K4: 3 | L4: 2 | M4: 1 | N4: 5 | O4: 2 | R4: 5 | S4: 1 | V4: 6 | W4: 2 | Z4: 5 | AA4: 3 | AD4: 5 | AE4: 5 | AH4: 7 | AI4: 6 | AL4: 5 | AM4: 4 | AP4: 7 | AQ4: 5 | AT4: 8 | AU4: 3 | AX4: 7 | AY4: 3 | BB4: 7 | BC4: 3 | BD4: 1 | BE4: 1 | BF4: 6 | BG4: 2 | BJ4: 8 | BK4: 3 | BN4: 6 | BO4: 2 | BR4: 5 | BS4: 4 | BV4: 5 | BW4: 5 | BZ4: 5 | CA4: 5 | CD4: 8 | CE4: 6 | CF4: 1 | CG4: 1 | CH4: 7 | CI4: 5 | CL4: 7 | CM4: 5 | CP4: 5 | CQ4: 5 | CT4: 7 | CU4: 2 | CX4: 6 | CY4: 3 | DB4: 5 | DC4: 5 | DF4: 7 | DG4: 6 | DJ4: 6 | DK4: 4 | DN4: 5 | DO4: 5 | DR4: 8 | DS4: 6 | DZ4: =F4+J4+N4+R4+V4+Z4+AD4+AH4+AL4+AP4+AT4+AX4+BB4+BF4+BJ4+BN4+BR4+BV4+BZ4+CD4+CH4+CL4+CP4+CT4+CX4+DB4+DF4+DJ4+DN4+DR4+DV4 -> 183 | EA4: =G4+K4+O4+S4+W4+AA4+AE4+AI4+AM4+AQ4+AU4+AY4+BC4+BG4+BK4+BO4+BS4+BW4+CA4+CE4+CI4+CM4+CQ4+CU4+CY4+DC4+DG4+DK4+DO4+DS4+DW4 -> 115 | EB4: =H4+L4+P4+T4+X4+AB4+AF4+AJ4+AN4+AR4+AV4+AZ4+BD4+BH4+BL4+BP4+BT4+BX4+CB4+CF4+CJ4+CN4+CR4+CV4+CZ4+DD4+DH4+DL4+DP4+DT4+DX4 -> 4 | EC4: =I4+M4+Q4+U4+Y4+AC4+AG4+AK4+AO4+AS4+AW4+BA4+BE4+BI4+BM4+BQ4+BU4+BY4+CC4+CG4+CK4+CO4+CS4+CW4+DA4+DE4+DI4+DM4+DQ4+DU4+DY4 -> 3
A5: 2 | B5: JEEVA503111TSBH06112 | C5: JEEVADAN HOSPITAL | D5: NIZAM SAGAR ROAD, KAMAREDDY - 503111. | E5: 100 | F5: 4 | G5: 2 | J5: 4 | K5: 2 | L5: 1 | M5: 1 | N5: 4 | O5: 2 | R5: 5 | S5: 1 | V5: 4 | W5: 3 | Z5: 4 | AA5: 4 | AD5: 4 | AE5: 4 | AH5: 5 | AI5: 4 | AL5: 5 | AM5: 4 | AP5: 5 | AQ5: 5 | AT5: 5 | AU5: 4 | AX5: 5 | AY5: 5 | BB5: 5 | BC5: 5 | BF5: 5 | BG5: 5 | BJ5: 5 | BK5: 5 | BN5: 4 | BO5: 4 | BR5: 5 | BS5: 4 | BV5: 4 | BW5: 4 | BZ5: 5 | CA5: 5 | CD5: 4 | CE5: 4 | CF5: 1 | CG5: 1 | CH5: 4 | CI5: 4 | CL5: 4 | CM5: 4 | CP5: 4 | CQ5: 4 | CT5: 4 | CU5: 4 | CX5: 4 | CY5: 3 | DB5: 4 | DC5: 4 | DF5: 4 | DG5: 4 | DJ5: 5 | DK5: 4 | DN5: 5 | DO5: 4 | DR5: 5 | DS5: 5 | DZ5: =F5+J5+N5+R5+V5+Z5+AD5+AH5+AL5+AP5+AT5+AX5+BB5+BF5+BJ5+BN5+BR5+BV5+BZ5+CD5+CH5+CL5+CP5+CT5+CX5+DB5+DF5+DJ5+DN5+DR5+DV5 -> 134 | EA5: =G5+K5+O5+S5+W5+AA5+AE5+AI5+AM5+AQ5+AU5+AY5+BC5+BG5+BK5+BO5+BS5+BW5+CA5+CE5+CI5+CM5+CQ5+CU5+CY5+DC5+DG5+DK5+DO5+DS5+DW5 -> 116 | EB5: =H5+L5+P5+T5+X5+AB5+AF5+AJ5+AN5+AR5+AV5+AZ5+BD5+BH5+BL5+BP5+BT5+BX5+CB5+CF5+CJ5+CN5+CR5+CV5+CZ5+DD5+DH5+DL5+DP5+DT5+DX5 -> 2 | EC5: =I5+M5+Q5+U5+Y5+AC5+AG5+AK5+AO5+AS5+AW5+BA5+BE5+BI5+BM5+BQ5+BU5+BY5+CC5+CG5+CK5+CO5+CS5+CW5+DA5+DE5+DI5+DM5+DQ5+DU5+DY5 -> 2
A6: 3 | B6: AREAH503187TSBH08193 | C6: AREA HOSPITAL, BANSWADA | D6: BESIDE POST OFFFICE, BANSWADA - 503187 | E6: 100 | F6: 5 | G6: 2 | J6: 5 | K6: 2 | L6: 1 | M6: 1 | N6: 5 | O6: 1 | P6: 1 | R6: 5 | S6: 3 | V6: 5 | W6: 4 | Z6: 5 | AA6: 5 | AD6: 5 | AE6: 5 | AH6: 5 | AI6: 5 | AL6: 5 | AM6: 4 | AP6: 5 | AQ6: 5 | AT6: 5 | AU6: 5 | AX6: 5 | AY6: 4 | BB6: 5 | BC6: 4 | BD6: 1 | BE6: 1 | BF6: 5 | BG6: 5 | BJ6: 5 | BK6: 5 | BN6: 5 | BO6: 3 | BR6: 5 | BS6: 5 | BV6: 5 | BW6: 5 | BZ6: 5 | CA6: 5 | CD6: 5 | CE6: 5 | CF6: 1 | CH6: 5 | CI6: 5 | CL6: 5 | CM6: 5 | CP6: 5 | CQ6: 5 | CT6: 4 | CU6: 3 | CX6: 4 | CY6: 4 | DB6: 5 | DC6: 5 | DF6: 5 | DG6: 5 | DJ6: 5 | DK6: 5 | DN6: 5 | DO6: 5 | DR6: 5 | DS6: 5 | DZ6: =F6+J6+N6+R6+V6+Z6+AD6+AH6+AL6+AP6+AT6+AX6+BB6+BF6+BJ6+BN6+BR6+BV6+BZ6+CD6+CH6+CL6+CP6+CT6+CX6+DB6+DF6+DJ6+DN6+DR6+DV6 -> 148 | EA6: =G6+K6+O6+S6+W6+AA6+AE6+AI6+AM6+AQ6+AU6+AY6+BC6+BG6+BK6+BO6+BS6+BW6+CA6+CE6+CI6+CM6+CQ6+CU6+CY6+DC6+DG6+DK6+DO6+DS6+DW6 -> 129 | EB6: =H6+L6+P6+T6+X6+AB6+AF6+AJ6+AN6+AR6+AV6+AZ6+BD6+BH6+BL6+BP6+BT6+BX6+CB6+CF6+CJ6+CN6+CR6+CV6+CZ6+DD6+DH6+DL6+DP6+DT6+DX6 -> 4 | EC6: =I6+M6+Q6+U6+Y6+AC6+AG6+AK6+AO6+AS6+AW6+BA6+BE6+BI6+BM6+BQ6+BU6+BY6+CC6+CG6+CK6+CO6+CS6+CW6+DA6+DE6+DI6+DM6+DQ6+DU6+DY6 -> 2
A7: BELOW 100 BEDS HCFs
A8: KAMAREDDY
A9: 1 | B9: LIFEH503111TSBH10120 | C9: LIFE HOSPITAL | D9: H.NO.1-5-518/7, OPP: RAJEEV PARK, SIRICILLA ROAD, KAMAREDDY - 503111. | E9: 50 | F9: 4 | G9: 1 | J9: 4 | K9: 1 | L9: 1 | M9: 1 | N9: 4 | O9: 1 | R9: 5 | V9: 5 | W9: 1 | Z9: 5 | AA9: 1 | AD9: 5 | AE9: 2 | AH9: 5 | AI9: 1 | AL9: 4 | AP9: 4 | AQ9: 2 | AT9: 5 | AU9: 2 | AX9: 5 | AY9: 1 | BB9: 5 | BC9: 1 | BD9: 1 | BF9: 5 | BG9: 1 | BJ9: 5 | BK9: 2 | BN9: 4 | BO9: 1 | BR9: 5 | BS9: 1 | BU9: 1 | BV9: 4 | BW9: 1 | BZ9: 3 | CA9: 2 | CD9: 4 | CE9: 2 | CF9: 1 | CH9: 3 | CI9: 2 | CL9: 3 | CM9: 2 | CP9: 3 | CQ9: 2 | CT9: 4 | CU9: 1 | CV9: 1 | CX9: 4 | CY9: 1 | DB9: 4 | DC9: 1 | DF9: 4 | DG9: 2 | DJ9: 3 | DK9: 2 | DN9: 4 | DO9: 2 | DR9: 5 | DS9: 3 | DZ9: =F9+J9+N9+R9+V9+Z9+AD9+AH9+AL9+AP9+AT9+AX9+BB9+BF9+BJ9+BN9+BR9+BV9+BZ9+CD9+CH9+CL9+CP9+CT9+CX9+DB9+DF9+DJ9+DN9+DR9+DV9 -> 127 | EA9: =G9+K9+O9+S9+W9+AA9+AE9+AI9+AM9+AQ9+AU9+AY9+BC9+BG9+BK9+BO9+BS9+BW9+CA9+CE9+CI9+CM9+CQ9+CU9+CY9+DC9+DG9+DK9+DO9+DS9+DW9 -> 42 | EB9: =H9+L9+P9+T9+X9+AB9+AF9+AJ9+AN9+AR9+AV9+AZ9+BD9+BH9+BL9+BP9+BT9+BX9+CB9+CF9+CJ9+CN9+CR9+CV9+CZ9+DD9+DH9+DL9+DP9+DT9+DX9 -> 4 | EC9: =I9+M9+Q9+U9+Y9+AC9+AG9+AK9+AO9+AS9+AW9+BA9+BE9+BI9+BM9+BQ9+BU9+BY9+CC9+CG9+CK9+CO9+CS9+CW9+DA9+DE9+DI9+DM9+DQ9+DU9+DY9 -> 2
A10: 2 | B10: SHISH503111TSBH11233 | C10: SHISHURAKSHA THIRUMALA CHILDREN'S HOSPITAL | D10: H.No. 1-7-68, SIRICILLA ROAD, KAMAREDDY - 503111 | E10: 50 | F10: 5 | J10: 5 | L10: 2 | N10: 5 | O10: 1 | R10: 5 | V10: 5 | W10: 1 | Z10: 5 | AA10: 1 | AD10: 5 | AH10: 5 | AI10: 2 | AL10: 4 | AP10: 4 | AQ10: 1 | AT10: 5 | AU10: 2 | AX10: 4 | AY10: 1 | BB10: 5 | BC10: 1 | BD10: 1 | BF10: 5 | BG10: 1 | BJ10: 5 | BK10: 2 | BN10: 4 | BO10: 1 | BR10: 5 | BS10: 1 | BT10: 1 | BV10: 3 | BW10: 2 | BZ10: 3 | CA10: 2 | CD10: 4 | CE10: 3 | CF10: 1 | CH10: 3 | CI10: 2 | CL10: 3 | CM10: 2 | CP10: 3 | CQ10: 2 | CT10: 2 | CU10: 1 | CX10: 3 | CY10: 2 | DB10: 3 | DC10: 2 | DF10: 4 | DG10: 3 | DJ10: 3 | DK10: 2 | DN10: 4 | DO10: 2 | DR10: 3 | DS10: 2 | DZ10: =F10+J10+N10+R10+V10+Z10+AD10+AH10+AL10+AP10+AT10+AX10+BB10+BF10+BJ10+BN10+BR10+BV10+BZ10+CD10+CH10+CL10+CP10+CT10+CX10+DB10+DF10+DJ10+DN10+DR10+DV10 -> 122 | EA10: =G10+K10+O10+S10+W10+AA10+AE10+AI10+AM10+AQ10+AU10+AY10+BC10+BG10+BK10+BO10+BS10+BW10+CA10+CE10+CI10+CM10+CQ10+CU10+CY10+DC10+DG10+DK10+DO10+DS10+DW10 -> 42 | EB10: =H10+L10+P10+T10+X10+AB10+AF10+AJ10+AN10+AR10+AV10+AZ10+BD10+BH10+BL10+BP10+BT10+BX10+CB10+CF10+CJ10+CN10+CR10+CV10+CZ10+DD10+DH10+DL10+DP10+DT10+DX10 -> 5 | EC10: =I10+M10+Q10+U10+Y10+AC10+AG10+AK10+AO10+AS10+AW10+BA10+BE10+BI10+BM10+BQ10+BU10+BY10+CC10+CG10+CK10+CO10+CS10+CW10+DA10+DE10+DI10+DM10+DQ10+DU10+DY10 -> 0
