Workbook

Sheet Total
B1: APRIL - 2023 MONTH REPORT ABSTRACT
B2: DISTRICT | C2: NO.OF HCFs | D2: NO.OF BEDS | E2: YELLOW | F2: RED | G2: BLUE | H2: WHITE | I2: TOTAL
E3: Values are in Kilograms
B4: NIZAMABAD | C4: ='Area Wise Total'!D13 -> 383 | D4: ='Area Wise Total'!E13 -> 5486 | E4: ='Area Wise Total'!F13 -> 13983 | F4: ='Area Wise Total'!G13 -> 6864 | G4: ='Area Wise Total'!H13 -> 114 | H4: ='Area Wise Total'!I13 -> 107 | I4: =SUM(E4:H4) -> 21068
B5: KAMAREDDY | C5: ='Area Wise Total'!D19 -> 176 | D5: ='Area Wise Total'!E19 -> 1930 | E5: ='Area Wise Total'!F19 -> 7166 | F5: ='Area Wise Total'!G19 -> 1908 | G5: ='Area Wise Total'!H19 -> 49 | H5: ='Area Wise Total'!I19 -> 39 | I5: =SUM(E5:H5) -> 9162
B6: NIRMAL | C6: ='Area Wise Total'!D25 -> 107 | D6: ='Area Wise Total'!E25 -> 1638 | E6: ='Area Wise Total'!F25 -> 3641 | F6: ='Area Wise Total'!G25 -> 1572 | G6: ='Area Wise Total'!H25 -> 136 | H6: ='Area Wise Total'!I25 -> 130 | I6: =SUM(E6:H6) -> 5479
B7: ADILABAD | C7: ='Area Wise Total'!D29 -> 121 | D7: ='Area Wise Total'!E29 -> 1604 | E7: =Adilabad!DZ127 -> 3974 | F7: =Adilabad!EA127 -> 1796 | G7: =Adilabad!EB127 -> 200 | H7: =Adilabad!EC127 -> 153 | I7: =SUM(E7:H7) -> 6123
B8: ASIFABAD | C8: ='Area Wise Total'!D33 -> 49 | D8: ='Area Wise Total'!E33 -> 713 | E8: =Asifabad!DZ56 -> 2159 | F8: =Asifabad!EA56 -> 958 | G8: =Asifabad!EB56 -> 39 | H8: =Asifabad!EC56 -> 29 | I8: =SUM(E8:H8) -> 3185
B9: CLOSED HCFS | C9: ='Area Wise Total'!D35 -> 0 | D9: ='Area Wise Total'!E35 -> 0 | E9: ='Area Wise Total'!F35 -> 0 | F9: ='Area Wise Total'!G35 -> 0 | G9: ='Area Wise Total'!H35 -> 0 | H9: ='Area Wise Total'!I35 -> 0 | I9: =SUM(E9:H9) -> 0
B10: TOTAL | C10: =SUM(C4:C9) -> 836 | D10: =SUM(D4:D9) -> 11371 | E10: =SUM(E4:E9) -> 30923 | F10: =SUM(F4:F9) -> 13098 | G10: =SUM(G4:G9) -> 538 | H10: =SUM(H4:H9) -> 458 | I10: =SUM(I4:I9) -> 45017
B12: DETAILS OF COLOURS
B13: YELLOW | C13: INCENERABLE WASTE
B14: RED | C14: AUTOCLAVE WASTE
B15: BLUE | C15: SHREDDING, BROKEN GLASS, METALIC BODY IMPLANTS
B16: WHITE | C16: SHARPENS, NEEDLES, BLADES, SCALPELS, NAILS, LANCETS

Sheet Area Wise Total
B2: STATEMENT SHOWING AREA WISE RECEIVED BIO - MEDICAL WASTE
B3: APRIL - 2023
B4: District | C4: Areas | D4: HCF's | E4: Beds | F4: Yellow | G4: Red | H4: Blue | I4: White
B6: Nizamabad | C6: Nizamabad | D6: =COUNTIF(Nizamabad!A4:A7,">0")+COUNTIF(Nizamabad!A11:A256,">0") -> 246 | E6: =SUM(Nizamabad!E4:E7)+SUM(Nizamabad!E11:E256) -> 3920 | F6: =SUM(Nizamabad!DZ4:DZ7)+SUM(Nizamabad!DZ11:DZ256) -> 8662 | G6: =SUM(Nizamabad!EA4:EA7)+SUM(Nizamabad!EA11:EA256) -> 4489 | H6: =SUM(Nizamabad!EB4:EB7)+SUM(Nizamabad!EB11:EB256) -> 65 | I6: =SUM(Nizamabad!EC4:EC7)+SUM(Nizamabad!EC11:EC256) -> 68
C7: Armoor | D7: =COUNTIF(Nizamabad!A258:A317,">0") -> 60 | E7: =SUM(Nizamabad!E258:E317) -> 669 | F7: =SUM(Nizamabad!DZ258:DZ317) -> 2094 | G7: =SUM(Nizamabad!EA258:EA317) -> 1016 | H7: =SUM(Nizamabad!EB258:EB317) -> 10 | I7: =SUM(Nizamabad!EC258:EC317) -> 0
C8: Bodhan | D8: =COUNTIF(Nizamabad!A319:A360, ">0")+COUNTIF(Nizamabad!A8,">0") -> 43 | E8: =Nizamabad!E8+SUM(Nizamabad!E319:E360) -> 463 | F8: =Nizamabad!DZ8+SUM(Nizamabad!DZ319:DZ360) -> 1578 | G8: =Nizamabad!EA8+SUM(Nizamabad!EA319:EA360) -> 209 | H8: =Nizamabad!EB8+SUM(Nizamabad!EB319:EB360) -> 0 | I8: =Nizamabad!EC8+SUM(Nizamabad!EC319:EC360) -> 0
C9: Dichpally | D9: =COUNTIF(Nizamabad!A362:A364, ">0") -> 3 | E9: =SUM(Nizamabad!E362:E364) -> 36 | F9: =SUM(Nizamabad!DZ362:DZ364) -> 216 | G9: =SUM(Nizamabad!EA362:EA364) -> 40 | H9: =SUM(Nizamabad!EB362:EB364) -> 2 | I9: =SUM(Nizamabad!EC362:EC364) -> 0
C10: Varni | D10: =COUNTIF(Nizamabad!A366:A367, ">0") -> 2 | E10: =SUM(Nizamabad!E366:E367) -> 31 | F10: =SUM(Nizamabad!DZ366:DZ367) -> 141 | G10: =SUM(Nizamabad!EA366:EA367) -> 38 | H10: =SUM(Nizamabad!EB366:EB367) -> 0 | I10: =SUM(Nizamabad!EC366:EC367) -> 2
C11: Navipet | D11: =COUNTIF(Nizamabad!A369:A370,">0") -> 2 | E11: =SUM(Nizamabad!E369:E370) -> 37 | F11: =SUM(Nizamabad!DZ369:DZ370) -> 21 | G11: =SUM(Nizamabad!EA369:EA370) -> 18 | H11: =SUM(Nizamabad!EB369:EB370) -> 2 | I11: =SUM(Nizamabad!EC369:EC370) -> 2
C12: Govt.HCFs. | D12: =COUNTIF(Nizamabad!A372:A398,">0") -> 27 | E12: =SUM(Nizamabad!E372:E398) -> 330 | F12: =SUM(Nizamabad!DZ372:DZ398) -> 1271 | G12: =SUM(Nizamabad!EA372:EA398) -> 1054 | H12: =SUM(Nizamabad!EB372:EB398) -> 35 | I12: =SUM(Nizamabad!EC372:EC398) -> 35
C13: Total: | D13: =SUM(D6:D12) -> 383 | E13: =SUM(E6:E12) -> 5486 | F13: =SUM(F6:F12) -> 13983 | G13: =SUM(G6:G12) -> 6864 | H13: =SUM(H6:H12) -> 114 | I13: =SUM(I6:I12) -> 107
B15: Kamareddy | C15: Kamareddy | D15: =COUNTIF(Kamareddy!A4:A5, ">0")+COUNTIF(Kamareddy!A9:A124, ">0") -> 117 | E15: =SUM(Kamareddy!E4:E5)+SUM(Kamareddy!E9:E124) -> 1163 | F15: =SUM(Kamareddy!DZ4:DZ5)+SUM(Kamareddy!DZ9:DZ124) -> 4505 | G15: =SUM(Kamareddy!EA4:EA5)+SUM(Kamareddy!EA9:EA124) -> 543 | H15: =SUM(Kamareddy!EB4:EB5)+SUM(Kamareddy!EB9:EB124) -> 15 | I15: =SUM(Kamareddy!EC4:EC5)+SUM(Kamareddy!EC9:EC124) -> 10
C16: Banswada | D16: =COUNTIF(Kamareddy!A6,">0")+COUNTIF(Kamareddy!A126:A149, ">0") -> 24 | E16: =Kamareddy!E6+SUM(Kamareddy!E126:E149) -> 278 | F16: =Kamareddy!DZ6+SUM(Kamareddy!DZ126:DZ149) -> 1024 | G16: =Kamareddy!EA6+SUM(Kamareddy!EA126:EA149) -> 280 | H16: =Kamareddy!EB6+SUM(Kamareddy!EB126:EB149) -> 5 | I16: =Kamareddy!EC6+SUM(Kamareddy!EC126:EC149) -> 2
C17: Yellareddy | D17: =COUNTIF(Kamareddy!A151:A159,">0") -> 9 | E17: =SUM(Kamareddy!E151:E159) -> 213 | F17: =SUM(Kamareddy!DZ151:DZ159) -> 521 | G17: =SUM(Kamareddy!EA151:EA159) -> 124 | H17: =SUM(Kamareddy!EB151:EB159) -> 4 | I17: =SUM(Kamareddy!EC151:EC159) -> 2
C18: Govt.HCFs. | D18: =COUNTIF(Kamareddy!A161:A186,">0") -> 26 | E18: =SUM(Kamareddy!E161:E186) -> 276 | F18: =SUM(Kamareddy!DZ161:DZ186) -> 1116 | G18: =SUM(Kamareddy!EA161:EA186) -> 961 | H18: =SUM(Kamareddy!EB161:EB186) -> 25 | I18: =SUM(Kamareddy!EC161:EC186) -> 25
C19: Total: | D19: =SUM(D15:D18) -> 176 | E19: =SUM(E15:E18) -> 1930 | F19: =SUM(F15:F18) -> 7166 | G19: =SUM(G15:G18) -> 1908 | H19: =SUM(H15:H18) -> 49 | I19: =SUM(I15:I18) -> 39
B21: Nirmal | C21: Nirmal | D21: =COUNTIF(Nirmal!A4:A5,">0")+COUNTIF(Nirmal!A9:A77,">0") -> 71 | E21: =SUM(Nirmal!E4:E5)+SUM(Nirmal!E9:E77) -> 1122 | F21: =SUM(Nirmal!DZ4:DZ5)+SUM(Nirmal!DZ9:DZ77) -> 2354 | G21: =SUM(Nirmal!EA4:EA5)+SUM(Nirmal!EA9:EA77) -> 817 | H21: =SUM(Nirmal!EB4:EB5)+SUM(Nirmal!EB9:EB77) -> 109 | I21: =SUM(Nirmal!EC4:EC5)+SUM(Nirmal!EC9:EC77) -> 98
C22: Bhainsa | D22: =COUNTIF(Nirmal!A6,">0")+COUNTIF(Nirmal!A79:A95,">0") -> 18 | E22: =Nirmal!E6+SUM(Nirmal!E79:E95) -> 357 | F22: =Nirmal!DZ6+SUM(Nirmal!DZ79:DZ95) -> 740 | G22: =Nirmal!EA6+SUM(Nirmal!EA79:EA95) -> 269 | H22: =Nirmal!EB6+SUM(Nirmal!EB79:EB95) -> 21 | I22: =Nirmal!EC6+SUM(Nirmal!EC79:EC95) -> 27
C23: Mudhole | D23: =COUNTIF(Nirmal!A97:A99, ">0") -> 3 | E23: =SUM(Nirmal!E97:E99) -> 45 | F23: =SUM(Nirmal!DZ97:DZ99) -> 37 | G23: =SUM(Nirmal!EA97:EA99) -> 6 | H23: =SUM(Nirmal!EB97:EB99) -> 2 | I23: =SUM(Nirmal!EC97:EC99) -> 1
C24: Govt.HCFs. | D24: =COUNTIF(Nirmal!A101:A115, ">0") -> 15 | E24: =SUM(Nirmal!E101:E115) -> 114 | F24: =SUM(Nirmal!DZ101:DZ115) -> 510 | G24: =SUM(Nirmal!EA101:EA115) -> 480 | H24: =SUM(Nirmal!EB101:EB115) -> 4 | I24: =SUM(Nirmal!EC101:EC115) -> 4
C25: Total: | D25: =SUM(D21:D24) -> 107 | E25: =SUM(E21:E24) -> 1638 | F25: =SUM(F21:F24) -> 3641 | G25: =SUM(G21:G24) -> 1572 | H25: =SUM(H21:H24) -> 136 | I25: =SUM(I21:I24) -> 130
B27: Adilabad | C27: Adilabad | D27: =COUNTIF(Adilabad!A3:A78,">0") -> 74 | E27: =SUM(Adilabad!E4:E78) -> 1373 | F27: =SUM(Adilabad!DZ4:DZ78) -> 2269 | G27: =SUM(Adilabad!EA4:EA78) -> 928 | H27: =SUM(Adilabad!EB4:EB78) -> 197 | I27: =SUM(Adilabad!EC4:EC78) -> 150
C28: Govt.HCFs. | D28: =COUNTIF(Adilabad!A80:A126,">0") -> 47 | E28: =SUM(Adilabad!E80:E126) -> 231 | F28: =SUM(Adilabad!DZ80:DZ126) -> 1705 | G28: =SUM(Adilabad!EA80:EA126) -> 868 | H28: =SUM(Adilabad!EB80:EB126) -> 3 | I28: =SUM(Adilabad!EC80:EC126) -> 3
C29: Total | D29: =SUM(D27:D28) -> 121 | E29: =SUM(Adilabad!E4:E126) -> 1604 | F29: =SUM(Adilabad!DZ4:DZ126) -> 3974 | G29: =SUM(Adilabad!EA4:EA126) -> 1796 | H29: =SUM(Adilabad!EB4:EB126) -> 200 | I29: =SUM(Adilabad!EC4:EC126) -> 153
B31: Asifabad | C31: Asifabad | D31: =COUNTIF(Asifabad!A2:A30, ">0") -> 27 | E31: =SUM(Asifabad!E2:E30) -> 537 | F31: =SUM(Asifabad!DZ2:DZ32) -> 1379 | G31: =SUM(Asifabad!EA4:EA32) -> 208 | H31: =SUM(Asifabad!EB4:EB32) -> 34 | I31: =SUM(Asifabad!EC4:EC32) -> 24
C32: Govt.HCFs. | D32: =COUNTIF(Asifabad!A34:A55, ">0") -> 22 | E32: =SUM(Asifabad!E34:E55) -> 156 | F32: =SUM(Asifabad!DZ34:DZ55) -> 780 | G32: =SUM(Asifabad!EA34:EA55) -> 750 | H32: =SUM(Asifabad!EB34:EB55) -> 5 | I32: =SUM(Asifabad!EC34:EC55) -> 5
B33: Asifabad | C33: Total | D33: =SUM(D31:D32) -> 49 | E33: =SUM(Asifabad!E4:E55) -> 713 | F33: =SUM(Asifabad!DZ4:DZ55) -> 2159 | G33: =SUM(Asifabad!EA4:EA55) -> 958 | H33: =SUM(Asifabad!EB4:EB55) -> 39 | I33: =SUM(Asifabad!EC4:EC55) -> 29
B35: Closed HCFs | D35: =COUNTIF(Nizamabad!A400:A401, ">0") -> 0 | E35: =SUM(Nizamabad!E400:E401) -> 0 | F35: =SUM(Nizamabad!DZ400:DZ401) -> 0 | G35: =SUM(Nizamabad!EA400:EA401) -> 0 | H35: =SUM(Nizamabad!EB400:EB401) -> 0 | I35: =SUM(Nizamabad!EC400:EC401) -> 0
B37: Grand Total | D37: =D13+D19+D25+D29+D33+D35 -> 836 | E37: =E13+E19+E25+E29+E33+E35 -> 11371 | F37: =F13+F19+F25+F29+F33+F35 -> 30923 | G37: =G13+G19+G25+G29+G33+G35 -> 13098 | H37: =H13+H19+H25+H29+H33+H35 -> 538 | I37: =I13+I19+I25+I29+I33+I35 -> 458

Sheet Nizamabad
A1: APRIL - 2023 MONTH REPORT | F1: 45017 | J1: 45018 | N1: 45019 | R1: 45020 | V1: 45021 | Z1: 45022 | AD1: 45023 | AH1: 45024 | AL1: 45025 | AP1: 45026 | AT1: 45027 | AX1: 45028 | BB1: 45029 | BF1: 45030 | BJ1: 45031 | BN1: 45032 | BR1: 45033 | BV1: 45034 | BZ1: 45035 | CD1: 45036 | CH1: 45037 | CL1: 45038 | CP1: 45039 | CT1: 45040 | CX1: 45041 | DB1: 45042 | DF1: 45043 | DJ1: 45044 | DN1: 45045 | DR1: 45046 | DZ1: TOTAL
A2: SNO | B2: HCF ID | C2: NAME OF THE HCF | D2: ADDRESS OF THE HCFS | E2: NO.OF BEDS | F2: Yellow | G2: Red | H2: Blue | I2: White | J2: Yellow | K2: Red | L2: Blue | M2: White | N2: Yellow | O2: Red | P2: Blue | Q2: White | R2: Yellow | S2: Red | T2: Blue | U2: White | V2: Yellow | W2: Red | X2: Blue | Y2: White | Z2: Yellow | AA2: Red | AB2: Blue | AC2: White | AD2: Yellow | AE2: Red | AF2: Blue | AG2: White | AH2: Yellow | AI2: Red | AJ2: Blue | AK2: White | AL2: Yellow | AM2: Red | AN2: Blue | AO2: White | AP2: Yellow | AQ2: Red | AR2: Blue | AS2: White | AT2: Yellow | AU2: Red | AV2: Blue | AW2: White | AX2: Yellow | AY2: Red | AZ2: Blue | BA2: White | BB2: Yellow | BC2: Red | BD2: Blue | BE2: White | BF2: Yellow | BG2: Red | BH2: Blue | BI2: White | BJ2: Yellow | BK2: Red | BL2: Blue | BM2: White | BN2: Yellow | BO2: Red | BP2: Blue | BQ2: White | BR2: Yellow | BS2: Red | BT2: Blue | BU2: White | BV2: Yellow | BW2: Red | BX2: Blue | BY2: White | BZ2: Yellow | CA2: Red | CB2: Blue | CC2: White | CD2: Yellow | CE2: Red | CF2: Blue | CG2: White | CH2: Yellow | CI2: Red | CJ2: Blue | CK2: White | CL2: Yellow | CM2: Red | CN2: Blue | CO2: White | CP2: Yellow | CQ2: Red | CR2: Blue | CS2: White | CT2: Yellow | CU2: Red | CV2: Blue | CW2: White | CX2: Yellow | CY2: Red | CZ2: Blue | DA2: White | DB2: Yellow | DC2: Red | DD2: Blue | DE2: White | DF2: Yellow | DG2: Red | DH2: Blue | DI2: White | DJ2: Yellow | DK2: Red | DL2: Blue | DM2: White | DN2: Yellow | DO2: Red | DP2: Blue | DQ2: White | DR2: Yellow | DS2: Red | DT2: Blue | DU2: White | DV2: Yellow | DW2: Red | DX2: Blue | DY2: White | DZ2: Yellow | EA2: Red | EB2: Blue | EC2: White
A3: NIZAMABAD 100 AND ABOVE BEDS HCFs
A4: 1 | B4: GOVER503001TSBH00988 | C4: GOVT. DIST. HOSPITAL | D4: BESIDE NIZAMABAD BUS STATION, NIZAMABAD - 503001 | E4: 750 | F4: 21 | G4: 21 | J4: 2 | K4: 2 | L4: 1 | M4: 1 | N4: 10 | O4: 10 | R4: 10 | S4: 10 | V4: 5 | W4: 3 | Z4: 20 | AA4: 20 | AD4: 20 | AE4: 20 | AH4: 25 | AI4: 3 | AL4: 21 | AM4: 21 | AP4: =8*4 -> 32 | AQ4: 16 | AR4: 8 | AT4: =8*4 -> 32 | AU4: 16 | AV4: 8 | AX4: 32 | AY4: 24 | BB4: =8*4 -> 32 | BC4: =8*2 -> 16 | BD4: 8 | BF4: =8*4 -> 32 | BG4: =8*3 -> 24 | BJ4: =4*8 -> 32 | BK4: =2*8 -> 16 | BM4: 8 | BN4: 7 | BO4: 8 | BR4: 15 | BS4: 10 | BU4: 5 | BV4: 10 | BW4: 20 | BZ4: 20 | CA4: 5 | CD4: 16 | CE4: 16 | CF4: 5 | CG4: 8 | CH4: 20 | CI4: 20 | CJ4: 10 | CK4: 10 | CL4: 20 | CM4: 30 | CP4: =8*4 -> 32 | CQ4: =8*2 -> 16 | CS4: 8 | CT4: =8*4 -> 32 | CU4: =8*3 -> 24 | CX4: =8*4 -> 32 | CY4: =8*2 -> 16 | DB4: =8*4 -> 32 | DC4: 16 | DE4: 8 | DF4: =7*8 -> 56 | DG4: =2*8 -> 16 | DJ4: =6*8 -> 48 | DK4: =2*8 -> 16 | DN4: =6*8 -> 48 | DO4: =8*2 -> 16 | DR4: 10 | DS4: 5 | DZ4: =F4+J4+N4+R4+V4+Z4+AD4+AH4+AL4+AP4+AT4+AX4+BB4+BF4+BJ4+BN4+BR4+BV4+BZ4+CD4+CH4+CL4+CP4+CT4+CX4+DB4+DF4+DJ4+DN4+DR4+DV4 -> 724 | EA4: =G4+K4+O4+S4+W4+AA4+AE4+AI4+AM4+AQ4+AU4+AY4+BC4+BG4+BK4+BO4+BS4+BW4+CA4+CE4+CI4+CM4+CQ4+CU4+CY4+DC4+DG4+DK4+DO4+DS4+DW4 -> 456 | EB4: =H4+L4+P4+T4+X4+AB4+AF4+AJ4+AN4+AR4+AV4+AZ4+BD4+BH4+BL4+BP4+BT4+BX4+CB4+CF4+CJ4+CN4+CR4+CV4+CZ4+DD4+DH4+DL4+DP4+DT4+DX4 -> 40 | EC4: =I4+M4+Q4+U4+Y4+AC4+AG4+AK4+AO4+AS4+AW4+BA4+BE4+BI4+BM4+BQ4+BU4+BY4+CC4+CG4+CK4+CO4+CS4+CW4+DA4+DE4+DI4+DM4+DQ4+DU4+DY4 -> 48
A5: 2 | B5: MEGHN503003TSBH00905 | C5: MEGHANA INSTITUTE OF DENTAL SCIENCE | D5: VARNI ROAD, MALLARAM VILLAGE, NIZAMABAD - 503001 | E5: 200 | G5: 5 | J5: 5 | K5: 5 | N5: 10 | O5: 10 | R5: 5 | S5: 5 | V5: 3 | Z5: 10 | AA5: 10 | AD5: 5 | AH5: 3 | AM5: 5 | AN5: 5 | AP5: 5 | AT5: 5 | BB5: 5 | BF5: 4 | BJ5: 5 | BN5: 5 | BO5: 5 | BR5: 5 | BS5: 5 | BV5: 5 | BW5: 5 | BZ5: 5 | CA5: 5 | CD5: 5 | CE5: 5 | CH5: 5 | CI5: 5 | CL5: 5 | CM5: 5 | CP5: 5 | CT5: 5 | CX5: 5 | DB5: 5 | DF5: 5 | DG5: 5 | DJ5: 5 | DK5: 5 | DN5: 5 | DR5: 5 | DS5: 5 | DZ5: =F5+J5+N5+R5+V5+Z5+AD5+AH5+AL5+AP5+AT5+AX5+BB5+BF5+BJ5+BN5+BR5+BV5+BZ5+CD5+CH5+CL5+CP5+CT5+CX5+DB5+DF5+DJ5+DN5+DR5+DV5 -> 140 | EA5: =G5+K5+O5+S5+W5+AA5+AE5+AI5+AM5+AQ5+AU5+AY5+BC5+BG5+BK5+BO5+BS5+BW5+CA5+CE5+CI5+CM5+CQ5+CU5+CY5+DC5+DG5+DK5+DO5+DS5+DW5 -> 90 | EB5: =H5+L5+P5+T5+X5+AB5+AF5+AJ5+AN5+AR5+AV5+AZ5+BD5+BH5+BL5+BP5+BT5+BX5+CB5+CF5+CJ5+CN5+CR5+CV5+CZ5+DD5+DH5+DL5+DP5+DT5+DX5 -> 5 | EC5: =I5+M5+Q5+U5+Y5+AC5+AG5+AK5+AO5+AS5+AW5+BA5+BE5+BI5+BM5+BQ5+BU5+BY5+CC5+CG5+CK5+CO5+CS5+CW5+DA5+DE5+DI5+DM5+DQ5+DU5+DY5 -> 0
A6: 3 | B6: PRAGA503001TSBH06142 | C6: PRAGATHI HOSPITAL | D6: HYDERABAD ROAD, PRAGATHI NAGAR, NIZAMABAD - 503001 | E6: 150 | G6: 5 | I6: 5 | J6: 5 | N6: 10 | R6: 5 | S6: 5 | V6: 5 | W6: 5 | Z6: 10 | AD6: 10 | AL6: 5 | AM6: 5 | AP6: 5 | AT6: 5 | AX6: 5 | BB6: 5 | BC6: 5 | BF6: 5 | BG6: 5 | BJ6: 5 | BN6: 5 | BO6: 5 | BR6: 5 | BS6: 5 | BV6: 5 | BW6: 5 | BZ6: 5 | CA6: 5 | CD6: 5 | CE6: 5 | CH6: 5 | CI6: 5 | CL6: 5 | CM6: 5 | CP6: 5 | CT6: 5 | CX6: 5 | DB6: 5 | DC6: 5 | DF6: 5 | DG6: 5 | DJ6: 5 | DN6: 5 | DO6: 5 | DR6: 5 | DS6: 5 | DZ6: =F6+J6+N6+R6+V6+Z6+AD6+AH6+AL6+AP6+AT6+AX6+BB6+BF6+BJ6+BN6+BR6+BV6+BZ6+CD6+CH6+CL6+CP6+CT6+CX6+DB6+DF6+DJ6+DN6+DR6+DV6 -> 155 | EA6: =G6+K6+O6+S6+W6+AA6+AE6+AI6+AM6+AQ6+AU6+AY6+BC6+BG6+BK6+BO6+BS6+BW6+CA6+CE6+CI6+CM6+CQ6+CU6+CY6+DC6+DG6+DK6+DO6+DS6+DW6 -> 85 | EB6: =H6+L6+P6+T6+X6+AB6+AF6+AJ6+AN6+AR6+AV6+AZ6+BD6+BH6+BL6+BP6+BT6+BX6+CB6+CF6+CJ6+CN6+CR6+CV6+CZ6+DD6+DH6+DL6+DP6+DT6+DX6 -> 0 | EC6: =I6+M6+Q6+U6+Y6+AC6+AG6+AK6+AO6+AS6+AW6+BA6+BE6+BI6+BM6+BQ6+BU6+BY6+CC6+CG6+CK6+CO6+CS6+CW6+DA6+DE6+DI6+DM6+DQ6+DU6+DY6 -> 5
A7: 4 | B7: MEDIC503001TSBH09849 | C7: MEDICOVER HOSPITAL | D7: H.No. 5-11-744, BESIDE LIC OF INDIA, YELLAMMA GUTTA X ROAD, HYDERABAD ROAD, NIZAMABAD - 503001 | E7: 100 | F7: 5 | G7: 5 | J7: 2 | K7: 5 | N7: 10 | R7: 5 | S7: 5 | V7: 5 | W7: 5 | Z7: 10 | AA7: 10 | AD7: 10 | AE7: 10 | AH7: 10 | AI7: 10 | AL7: 5 | AM7: 5 | AP7: 5 | AT7: 5 | BB7: 5 | BC7: 5 | BF7: 5 | BG7: 5 | BJ7: 5 | BN7: 5 | BO7: 5 | BR7: 5 | BS7: 5 | BV7: 5 | BW7: 5 | BZ7: 5 | CA7: 5 | CD7: 5 | CE7: 5 | CH7: 5 | CI7: 5 | CL7: 5 | CM7: 5 | CP7: 5 | CT7: 5 | CU7: 5 | DB7: 5 | DC7: 5 | DF7: 5 | DJ7: 5 | DK7: 5 | DN7: 5 | DR7: 5 | DS7: 5 | DZ7: =F7+J7+N7+R7+V7+Z7+AD7+AH7+AL7+AP7+AT7+AX7+BB7+BF7+BJ7+BN7+BR7+BV7+BZ7+CD7+CH7+CL7+CP7+CT7+CX7+DB7+DF7+DJ7+DN7+DR7+DV7 -> 157 | EA7: =G7+K7+O7+S7+W7+AA7+AE7+AI7+AM7+AQ7+AU7+AY7+BC7+BG7+BK7+BO7+BS7+BW7+CA7+CE7+CI7+CM7+CQ7+CU7+CY7+DC7+DG7+DK7+DO7+DS7+DW7 -> 120 | EB7: =H7+L7+P7+T7+X7+AB7+AF7+AJ7+AN7+AR7+AV7+AZ7+BD7+BH7+BL7+BP7+BT7+BX7+CB7+CF7+CJ7+CN7+CR7+CV7+CZ7+DD7+DH7+DL7+DP7+DT7+DX7 -> 0 | EC7: =I7+M7+Q7+U7+Y7+AC7+AG7+AK7+AO7+AS7+AW7+BA7+BE7+BI7+BM7+BQ7+BU7+BY7+CC7+CG7+CK7+CO7+CS7+CW7+DA7+DE7+DI7+DM7+DQ7+DU7+DY7 -> 0
A8: 5 | B8: DISTR503185TSBH08531 | C8: AREA HOSPITAL, BODHAN | D8: NEAR AMBEDKAR CHOWRASTA, BODHAN - 503185 | E8: 100 | F8: 5 | G8: 2 | J8: 3 | K8: 2 | N8: 5 | O8: 3 | R8: 5 | S8: 3 | V8: 5 | W8: 5 | Z8: 5 | AA8: 5 | AD8: 5 | AE8: 5 | AH8: 5 | AI8: 5 | AL8: 5 | AM8: 4 | AT8: 5 | AU8: 4 | BB8: 5 | BC8: 4 | BF8: 5 | BG8: 3 | BJ8: 5 | BK8: 4 | BN8: 5 | BO8: 5 | BR8: 5 | BS8: 5 | BV8: 5 | BW8: 5 | BZ8: 5 | CA8: 5 | CD8: 5 | CE8: 5 | CH8: 5 | CI8: 5 | CL8: 5 | CM8: 5 | CP8: 5 | CT8: 5 | CU8: 3 | CX8: 5 | CY8: 4 | DB8: 5 | DC8: 5 | DF8: 5 | DG8: 5 | DJ8: 5 | DK8: 3 | DN8: 5 | DO8: 5 | DR8: 5 | DS8: 5 | DZ8: =F8+J8+N8+R8+V8+Z8+AD8+AH8+AL8+AP8+AT8+AX8+BB8+BF8+BJ8+BN8+BR8+BV8+BZ8+CD8+CH8+CL8+CP8+CT8+CX8+DB8+DF8+DJ8+DN8+DR8+DV8 -> 138 | EA8: =G8+K8+O8+S8+W8+AA8+AE8+AI8+AM8+AQ8+AU8+AY8+BC8+BG8+BK8+BO8+BS8+BW8+CA8+CE8+CI8+CM8+CQ8+CU8+CY8+DC8+DG8+DK8+DO8+DS8+DW8 -> 114 | EB8: =H8+L8+P8+T8+X8+AB8+AF8+AJ8+AN8+AR8+AV8+AZ8+BD8+BH8+BL8+BP8+BT8+BX8+CB8+CF8+CJ8+CN8+CR8+CV8+CZ8+DD8+DH8+DL8+DP8+DT8+DX8 -> 0 | EC8: =I8+M8+Q8+U8+Y8+AC8+AG8+AK8+AO8+AS8+AW8+BA8+BE8+BI8+BM8+BQ8+BU8+BY8+CC8+CG8+CK8+CO8+CS8+CW8+DA8+DE8+DI8+DM8+DQ8+DU8+DY8 -> 0
B9: 80 TO 50 BEDS HCFs
B10: NIZAMABAD
A11: 1 | B11: PRATI503001TSBH00889 | C11: PRATHIBHA SUPER SPECIALITY HOSPITAL | D11: BESIDE LANE OF JOYALLUKKAS JEWELLERS, HYDERABAD ROAD, KAKATIYA STREET, NIZAMABAD - 503001. | E11: 80 | F11: 5 | G11: 5 | J11: 5 | N11: 10 | R11: 5 | V11: 3 | Z11: 5 | AD11: 5 | AH11: 10 | AL11: 5 | AM11: 5 | AP11: 5 | AT11: 5 | AX11: 5 | BB11: 5 | BF11: 5 | BG11: 4 | BJ11: 5 | BN11: 5 | BO11: 5 | BR11: 2 | BS11: 5 | BV11: 5 | BW11: 5 | BZ11: 5 | CA11: 5 | CD11: 5 | CE11: 5 | CH11: 5 | CI11: 5 | CL11: 5 | CM11: 5 | CP11: 5 | CT11: 5 | CU11: 2 | CX11: 5 | DB11: 5 | DF11: 5 | DG11: 5 | DJ11: 5 | DN11: 5 | DO11: 5 | DR11: 5 | DS11: 5 | DZ11: =F11+J11+N11+R11+V11+Z11+AD11+AH11+AL11+AP11+AT11+AX11+BB11+BF11+BJ11+BN11+BR11+BV11+BZ11+CD11+CH11+CL11+CP11+CT11+CX11+DB11+DF11+DJ11+DN11+DR11+DV11 -> 155 | EA11: =G11+K11+O11+S11+W11+AA11+AE11+AI11+AM11+AQ11+AU11+AY11+BC11+BG11+BK11+BO11+BS11+BW11+CA11+CE11+CI11+CM11+CQ11+CU11+CY11+DC11+DG11+DK11+DO11+DS11+DW11 -> 66 | EB11: =H11+L11+P11+T11+X11+AB11+AF11+AJ11+AN11+AR11+AV11+AZ11+BD11+BH11+BL11+BP11+BT11+BX11+CB11+CF11+CJ11+CN11+CR11+CV11+CZ11+DD11+DH11+DL11+DP11+DT11+DX11 -> 0 | EC11: =I11+M11+Q11+U11+Y11+AC11+AG11+AK11+AO11+AS11+AW11+BA11+BE11+BI11+BM11+BQ11+BU11+BY11+CC11+CG11+CK11+CO11+CS11+CW11+DA11+DE11+DI11+DM11+DQ11+DU11+DY11 -> 0
A12: 2 | B12: HEERA503001TSBH00919 | C12: HEERA ORTHOPAEDIC NURSING HOME | D12: NEAR DISTRICT COURT, HYDRABAD ROAD, NIZAMABAD - 503001. | E12: 60 | G12: 5 | J12: 5 | R12: 5 | V12: 5 | Z12: 5 | AD12: 5 | AH12: 5 | AM12: 5 | AQ12: 5 | AU12: 5 | AY12: 5 | BB12: 5 | BF12: 5 | BJ12: 5 | BN12: 5 | BR12: 5 | BV12: 5 | BZ12: 5 | CD12: 5 | CH12: 5 | CL12: 5 | CP12: 5 | CT12: 5 | CY12: 5 | DB12: 5 | DG12: 5 | DJ12: 5 | DN12: 5 | DR12: 5 | DZ12: =F12+J12+N12+R12+V12+Z12+AD12+AH12+AL12+AP12+AT12+AX12+BB12+BF12+BJ12+BN12+BR12+BV12+BZ12+CD12+CH12+CL12+CP12+CT12+CX12+DB12+DF12+DJ12+DN12+DR12+DV12 -> 110 | EA12: =G12+K12+O12+S12+W12+AA12+AE12+AI12+AM12+AQ12+AU12+AY12+BC12+BG12+BK12+BO12+BS12+BW12+CA12+CE12+CI12+CM12+CQ12+CU12+CY12+DC12+DG12+DK12+DO12+DS12+DW12 -> 35 | EB12: =H12+L12+P12+T12+X12+AB12+AF12+AJ12+AN12+AR12+AV12+AZ12+BD12+BH12+BL12+BP12+BT12+BX12+CB12+CF12+CJ12+CN12+CR12+CV12+CZ12+DD12+DH12+DL12+DP12+DT12+DX12 -> 0 | EC12: =I12+M12+Q12+U12+Y12+AC12+AG12+AK12+AO12+AS12+AW12+BA12+BE12+BI12+BM12+BQ12+BU12+BY12+CC12+CG12+CK12+CO12+CS12+CW12+DA12+DE12+DI12+DM12+DQ12+DU12+DY12 -> 0
A13: 3 | B13: SHIVA503001TSBH00427 | C13: SHIVA SAI EMERGENCY AND MULTI SPECIALITY HOSPITAL | D13: OPP: TELANGANA GRAMEENA BANK, KHALEEL WADI, NIZAMABAD - 503001 | E13: 53 | F13: 5 | G13: 3 | J13: 5 | N13: 5 | R13: 5 | S13: 5 | V13: 5 | Z13: 5 | AD13: 5 | AH13: 5 | AL13: 5 | AM13: 5 | AP13: 5 | AT13: 5 | AX13: 5 | BF13: 5 | BK13: 5 | BN13: 5 | BR13: 5 | BV13: 5 | BZ13: 5 | CD13: 5 | CH13: 5 | CL13: 5 | CS13: 5 | CT13: 5 | CX13: 5 | DB13: 5 | DF13: 5 | DJ13: 5 | DO13: 5 | DR13: 5 | DZ13: =F13+J13+N13+R13+V13+Z13+AD13+AH13+AL13+AP13+AT13+AX13+BB13+BF13+BJ13+BN13+BR13+BV13+BZ13+CD13+CH13+CL13+CP13+CT13+CX13+DB13+DF13+DJ13+DN13+DR13+DV13 -> 130 | EA13: =G13+K13+O13+S13+W13+AA13+AE13+AI13+AM13+AQ13+AU13+AY13+BC13+BG13+BK13+BO13+BS13+BW13+CA13+CE13+CI13+CM13+CQ13+CU13+CY13+DC13+DG13+DK13+DO13+DS13+DW13 -> 23 | EB13: =H13+L13+P13+T13+X13+AB13+AF13+AJ13+AN13+AR13+AV13+AZ13+BD13+BH13+BL13+BP13+BT13+BX13+CB13+CF13+CJ13+CN13+CR13+CV13+CZ13+DD13+DH13+DL13+DP13+DT13+DX13 -> 0 | EC13: =I13+M13+Q13+U13+Y13+AC13+AG13+AK13+AO13+AS13+AW13+BA13+BE13+BI13+BM13+BQ13+BU13+BY13+CC13+CG13+CK13+CO13+CS13+CW13+DA13+DE13+DI13+DM13+DQ13+DU13+DY13 -> 5
A14: 4 | B14: BOMBA503001TSBH00885 | C14: BOMBAY NURSING HOME | D14: YELLAMMA GUTTA X ROAD, HYDERABAD ROAD, NIZAMABAD - 503001 | E14: 50 | F14: 5 | J14: 5 | N14: 5 | R14: 5 | S14: 5 | V14: 5 | Z14: 5 | AD14: 5 | AH14: 5 | AL14: 5 | AP14: 5 | AU14: 5 | BB14: 5 | BG14: 5 | BJ14: 5 | BN14: 5 | BR14: 5 | BV14: 5 | BZ14: 5 | CD14: 5 | CH14: 5 | CL14: 5 | CP14: 5 | CX14: 5 | DC14: 5 | DG14: 5 | DJ14: 5 | DN14: 5 | DR14: 5 | DZ14: =F14+J14+N14+R14+V14+Z14+AD14+AH14+AL14+AP14+AT14+AX14+BB14+BF14+BJ14+BN14+BR14+BV14+BZ14+CD14+CH14+CL14+CP14+CT14+CX14+DB14+DF14+DJ14+DN14+DR14+DV14 -> 120 | EA14: =G14+K14+O14+S14+W14+AA14+AE14+AI14+AM14+AQ14+AU14+AY14+BC14+BG14+BK14+BO14+BS14+BW14+CA14+CE14+CI14+CM14+CQ14+CU14+CY14+DC14+DG14+DK14+DO14+DS14+DW14 -> 25 | EB14: =H14+L14+P14+T14+X14+AB14+AF14+AJ14+AN14+AR14+AV14+AZ14+BD14+BH14+BL14+BP14+BT14+BX14+CB14+CF14+CJ14+CN14+CR14+CV14+CZ14+DD14+DH14+DL14+DP14+DT14+DX14 -> 0 | EC14: =I14+M14+Q14+U14+Y14+AC14+AG14+AK14+AO14+AS14+AW14+BA14+BE14+BI14+BM14+BQ14+BU14+BY14+CC14+CG14+CK14+CO14+CS14+CW14+DA14+DE14+DI14+DM14+DQ14+DU14+DY14 -> 0
A15: 5 | B15: BRIND503001TSBH00922 | C15: BRINDAVAN HOSPITAL | D15: OPP: RED CROSS BOLLD BANK, BEHIND DR. PRABHAKAR CHILDREN HOSPITAL, KHALEELWADI, NIZAMABAD - 503001. | E15: 50 | F15: 5 | G15: 3 | N15: 10 | R15: 5 | V15: 5 | Z15: 5 | AD15: 5 | AH15: 5 | AL15: 5 | AM15: 5 | AP15: 5 | AT15: 5 | AX15: 5 | BB15: 5 | BF15: 5 | BJ15: 5 | BN15: 5 | BO15: 5 | BR15: 5 | BS15: 5 | BV15: 5 | BW15: 5 | BZ15: 5 | CA15: 5 | CD15: 5 | CE15: 5 | CH15: 5 | CI15: 5 | CL15: 5 | CM15: 5 | CP15: 5 | CR15: 5 | CT15: 5 | CX15: 5 | DB15: 5 | DE15: 5 | DF15: 5 | DJ15: 5 | DO15: 5 | DR15: 5 | DS15: 5 | DZ15: =F15+J15+N15+R15+V15+Z15+AD15+AH15+AL15+AP15+AT15+AX15+BB15+BF15+BJ15+BN15+BR15+BV15+BZ15+CD15+CH15+CL15+CP15+CT15+CX15+DB15+DF15+DJ15+DN15+DR15+DV15 -> 145 | EA15: =G15+K15+O15+S15+W15+AA15+AE15+AI15+AM15+AQ15+AU15+AY15+BC15+BG15+BK15+BO15+BS15+BW15+CA15+CE15+CI15+CM15+CQ15+CU15+CY15+DC15+DG15+DK15+DO15+DS15+DW15 -> 53 | EB15: =H15+L15+P15+T15+X15+AB15+AF15+AJ15+AN15+AR15+AV15+AZ15+BD15+BH15+BL15+BP15+BT15+BX15+CB15+CF15+CJ15+CN15+CR15+CV15+CZ15+DD15+DH15+DL15+DP15+DT15+DX15 -> 5 | EC15: =I15+M15+Q15+U15+Y15+AC15+AG15+AK15+AO15+AS15+AW15+BA15+BE15+BI15+BM15+BQ15+BU15+BY15+CC15+CG15+CK15+CO15+CS15+CW15+DA15+DE15+DI15+DM15+DQ15+DU15+DY15 -> 5
A16: 6 | B16: CITYM503001TSBH16522 | C16: CITY MULTISPECIALITY HOSPITAL | D16: H.No.7-11-723/3, KHOJA COLONY, BODHAN ROAD, NIZAMABAD | E16: 50 | F16: 5 | AP16: 5 | AT16: 5 | BF16: 5 | BJ16: 5 | BN16: 3 | BR16: 5 | BV16: 5 | CD16: 5 | CH16: 5 | CL16: 5 | CT16: 4 | CX16: 4 | DB16: 4 | DF16: 5 | DJ16: 5 | DN16: 4 | DZ16: =F16+J16+N16+R16+V16+Z16+AD16+AH16+AL16+AP16+AT16+AX16+BB16+BF16+BJ16+BN16+BR16+BV16+BZ16+CD16+CH16+CL16+CP16+CT16+CX16+DB16+DF16+DJ16+DN16+DR16+DV16 -> 79 | EA16: =G16+K16+O16+S16+W16+AA16+AE16+AI16+AM16+AQ16+AU16+AY16+BC16+BG16+BK16+BO16+BS16+BW16+CA16+CE16+CI16+CM16+CQ16+CU16+CY16+DC16+DG16+DK16+DO16+DS16+DW16 -> 0 | EB16: =H16+L16+P16+T16+X16+AB16+AF16+AJ16+AN16+AR16+AV16+AZ16+BD16+BH16+BL16+BP16+BT16+BX16+CB16+CF16+CJ16+CN16+CR16+CV16+CZ16+DD16+DH16+DL16+DP16+DT16+DX16 -> 0 | EC16: =I16+M16+Q16+U16+Y16+AC16+AG16+AK16+AO16+AS16+AW16+BA16+BE16+BI16+BM16+BQ16+BU16+BY16+CC16+CG16+CK16+CO16+CS16+CW16+DA16+DE16+DI16+DM16+DQ16+DU16+DY16 -> 0
A17: 7 | B17: DREAM503001TSBH06107 | C17: DREAMLAND HOPE HOSPITAL | D17: H.No. 5-4-387/3, OPP.OLD JJ HOSPITAL, POCHAMMA GALLY, NIZAMABAD - 503001. | E17: 50 | F17: 5 | J17: 5 | K17: 5 | N17: 5 | O17: 5 | R17: 5 | S17: 5 | V17: 5 | W17: 3 | Z17: 5 | AA17: 5 | AD17: 5 | AE17: 5 | AH17: 10 | AI17: 5 | AL17: 5 | AR17: 5 | AT17: 5 | AX17: 5 | BB17: 5 | BF17: 5 | BJ17: 5 | BN17: 5 | BO17: 5 | BR17: 5 | BS17: 5 | BV17: 5 | BW17: 5 | BZ17: 5 | CA17: 5 | CD17: 5 | CE17: 5 | CH17: 5 | CL17: 5 | CM17: 5 | CP17: 5 | CT17: 5 | CX17: 5 | DB17: 5 | DG17: 5 | DJ17: 5 | DN17: 5 | DR17: 5 | DS17: 5 | DZ17: =F17+J17+N17+R17+V17+Z17+AD17+AH17+AL17+AP17+AT17+AX17+BB17+BF17+BJ17+BN17+BR17+BV17+BZ17+CD17+CH17+CL17+CP17+CT17+CX17+DB17+DF17+DJ17+DN17+DR17+DV17 -> 145 | EA17: =G17+K17+O17+S17+W17+AA17+AE17+AI17+AM17+AQ17+AU17+AY17+BC17+BG17+BK17+BO17+BS17+BW17+CA17+CE17+CI17+CM17+CQ17+CU17+CY17+DC17+DG17+DK17+DO17+DS17+DW17 -> 73 | EB17: =H17+L17+P17+T17+X17+AB17+AF17+AJ17+AN17+AR17+AV17+AZ17+BD17+BH17+BL17+BP17+BT17+BX17+CB17+CF17+CJ17+CN17+CR17+CV17+CZ17+DD17+DH17+DL17+DP17+DT17+DX17 -> 5 | EC17: =I17+M17+Q17+U17+Y17+AC17+AG17+AK17+AO17+AS17+AW17+BA17+BE17+BI17+BM17+BQ17+BU17+BY17+CC17+CG17+CK17+CO17+CS17+CW17+DA17+DE17+DI17+DM17+DQ17+DU17+DY17 -> 0
A18: 8 | B18: GSBVM503001TSBH07045 | C18: GSBV MEMORIAL MULTI SPECIALTY HOSPITAL | D18: OPP. RAJEEV GANDHI AUDITORUM, KHALEELWADI, NIZAMABAD - 503001. | E18: 50 | F18: 5 | J18: 5 | K18: 5 | N18: 5 | O18: 5 | R18: 5 | S18: 5 | V18: 5 | W18: 5 | Z18: 5 | AA18: 5 | AD18: 5 | AE18: 5 | AH18: 5 | AL18: 5 | AP18: 5 | AT18: 5 | AX18: 5 | BB18: 5 | BF18: 5 | BJ18: 5 | BN18: 5 | BO18: 5 | BR18: 5 | BS18: 5 | BV18: 5 | BW18: 5 | BZ18: 5 | CA18: 5 | CD18: 5 | CE18: 5 | CH18: 5 | CI18: 5 | CL18: 5 | CM18: 5 | CP18: 5 | CV18: 5 | CX18: 5 | DB18: 5 | DF18: 5 | DJ18: 5 | DO18: 5 | DR18: 5 | DS18: 5 | DZ18: =F18+J18+N18+R18+V18+Z18+AD18+AH18+AL18+AP18+AT18+AX18+BB18+BF18+BJ18+BN18+BR18+BV18+BZ18+CD18+CH18+CL18+CP18+CT18+CX18+DB18+DF18+DJ18+DN18+DR18+DV18 -> 140 | EA18: =G18+K18+O18+S18+W18+AA18+AE18+AI18+AM18+AQ18+AU18+AY18+BC18+BG18+BK18+BO18+BS18+BW18+CA18+CE18+CI18+CM18+CQ18+CU18+CY18+DC18+DG18+DK18+DO18+DS18+DW18 -> 75 | EB18: =H18+L18+P18+T18+X18+AB18+AF18+AJ18+AN18+AR18+AV18+AZ18+BD18+BH18+BL18+BP18+BT18+BX18+CB18+CF18+CJ18+CN18+CR18+CV18+CZ18+DD18+DH18+DL18+DP18+DT18+DX18 -> 5 | EC18: =I18+M18+Q18+U18+Y18+AC18+AG18+AK18+AO18+AS18+AW18+BA18+BE18+BI18+BM18+BQ18+BU18+BY18+CC18+CG18+CK18+CO18+CS18+CW18+DA18+DE18+DI18+DM18+DQ18+DU18+DY18 -> 0
A19: 9 | B19: INDUR503001TSBH09851 | C19: INDUR CANCER HOSPITAL | D19: PANGRA, MADHAVA NAGAR, HYDERABAD ROAD, NIZAMABAD - 503001. | E19: 50 | F19: 4 | J19: 3 | Z19: 5 | AD19: 5 | AH19: 5 | AL19: 5 | AP19: 5 | AT19: 5 | BB19: 5 | BF19: 4 | BJ19: 5 | BN19: 2 | BR19: 5 | BV19: 5 | CD19: 5 | CH19: 5 | CL19: 5 | CT19: 3 | CX19: 4 | DB19: 3 | DF19: 5 | DJ19: 4 | DN19: 5 | DZ19: =F19+J19+N19+R19+V19+Z19+AD19+AH19+AL19+AP19+AT19+AX19+BB19+BF19+BJ19+BN19+BR19+BV19+BZ19+CD19+CH19+CL19+CP19+CT19+CX19+DB19+DF19+DJ19+DN19+DR19+DV19 -> 102 | EA19: =G19+K19+O19+S19+W19+AA19+AE19+AI19+AM19+AQ19+AU19+AY19+BC19+BG19+BK19+BO19+BS19+BW19+CA19+CE19+CI19+CM19+CQ19+CU19+CY19+DC19+DG19+DK19+DO19+DS19+DW19 -> 0 | EB19: =H19+L19+P19+T19+X19+AB19+AF19+AJ19+AN19+AR19+AV19+AZ19+BD19+BH19+BL19+BP19+BT19+BX19+CB19+CF19+CJ19+CN19+CR19+CV19+CZ19+DD19+DH19+DL19+DP19+DT19+DX19 -> 0 | EC19: =I19+M19+Q19+U19+Y19+AC19+AG19+AK19+AO19+AS19+AW19+BA19+BE19+BI19+BM19+BQ19+BU19+BY19+CC19+CG19+CK19+CO19+CS19+CW19+DA19+DE19+DI19+DM19+DQ19+DU19+DY19 -> 0
A20: 10 | B20: INDUS503001TSBH08523 | C20: INDUS SUPER SPECIALITY HOSPITAL | D20: H.No. 5-6-192/194, SARASWATHI NAGAR, HYDERABAD ROAD, NIZAMABAD - 503001. | E20: 50 | F20: 5 | J20: 5 | N20: 5 | R20: 5 | V20: 5 | Z20: 5 | AD20: 5 | AH20: 5 | AL20: 5 | AQ20: 5 | AT20: 5 | AY20: 5 | BB20: 5 | BG20: 5 | BJ20: 5 | BN20: 5 | BR20: 5 | BV20: 5 | BZ20: 5 | CA20: 5 | CD20: 5 | CE20: 5 | CH20: 5 | CI20: 5 | CL20: 5 | CP20: 5 | CU20: 5 | CX20: 5 | DB20: 5 | DF20: 5 | DK20: 5 | DN20: 5 | DR20: 5 | DS20: 5 | DZ20: =F20+J20+N20+R20+V20+Z20+AD20+AH20+AL20+AP20+AT20+AX20+BB20+BF20+BJ20+BN20+BR20+BV20+BZ20+CD20+CH20+CL20+CP20+CT20+CX20+DB20+DF20+DJ20+DN20+DR20+DV20 -> 125 | EA20: =G20+K20+O20+S20+W20+AA20+AE20+AI20+AM20+AQ20+AU20+AY20+BC20+BG20+BK20+BO20+BS20+BW20+CA20+CE20+CI20+CM20+CQ20+CU20+CY20+DC20+DG20+DK20+DO20+DS20+DW20 -> 45 | EB20: =H20+L20+P20+T20+X20+AB20+AF20+AJ20+AN20+AR20+AV20+AZ20+BD20+BH20+BL20+BP20+BT20+BX20+CB20+CF20+CJ20+CN20+CR20+CV20+CZ20+DD20+DH20+DL20+DP20+DT20+DX20 -> 0 | EC20: =I20+M20+Q20+U20+Y20+AC20+AG20+AK20+AO20+AS20+AW20+BA20+BE20+BI20+BM20+BQ20+BU20+BY20+CC20+CG20+CK20+CO20+CS20+CW20+DA20+DE20+DI20+DM20+DQ20+DU20+DY20 -> 0
A21: 11 | B21: MANOR503001TSBH01042 | C21: MANORAMA SUPER SPECIALITY HOSPITAL | D21: SARASWATHI NAGAR, KHALEELWADI, HYDERABAD ROAD, NIZAMABAD - 503001. | E21: 50 | G21: 3 | J21: 5 | K21: 5 | N21: 5 | O21: 5 | R21: 5 | S21: 5 | V21: 5 | W21: 5 | Z21: 5 | AA21: 5 | AD21: 5 | AE21: 5 | AH21: 5 | AI21: 5 | AL21: 5 | AP21: 5 | AT21: 5 | AX21: 5 | BB21: 5 | BF21: 5 | BJ21: 5 | BN21: 5 | BO21: 5 | BR21: 5 | BS21: 5 | BV21: 5 | BW21: 5 | BZ21: 5 | CA21: 5 | CD21: 5 | CE21: 5 | CH21: 5 | CI21: 5 | CL21: 5 | CM21: 5 | CP21: 5 | CT21: 5 | CX21: 5 | DB21: 5 | DG21: 5 | DJ21: 5 | DN21: 5 | DR21: 5 | DS21: 5 | DZ21: =F21+J21+N21+R21+V21+Z21+AD21+AH21+AL21+AP21+AT21+AX21+BB21+BF21+BJ21+BN21+BR21+BV21+BZ21+CD21+CH21+CL21+CP21+CT21+CX21+DB21+DF21+DJ21+DN21+DR21+DV21 -> 140 | EA21: =G21+K21+O21+S21+W21+AA21+AE21+AI21+AM21+AQ21+AU21+AY21+BC21+BG21+BK21+BO21+BS21+BW21+CA21+CE21+CI21+CM21+CQ21+CU21+CY21+DC21+DG21+DK21+DO21+DS21+DW21 -> 83 | EB21: =H21+L21+P21+T21+X21+AB21+AF21+AJ21+AN21+AR21+AV21+AZ21+BD21+BH21+BL21+BP21+BT21+BX21+CB21+CF21+CJ21+CN21+CR21+CV21+CZ21+DD21+DH21+DL21+DP21+DT21+DX21 -> 0 | EC21: =I21+M21+Q21+U21+Y21+AC21+AG21+AK21+AO21+AS21+AW21+BA21+BE21+BI21+BM21+BQ21+BU21+BY21+CC21+CG21+CK21+CO21+CS21+CW21+DA21+DE21+DI21+DM21+DQ21+DU21+DY21 -> 0
A22: 12 | B22: NOVAL503001TSBH08513 | C22: NOVALIFE HOSPITAL | D22: H.No.5-6-293, SARASWATHI NAGAR, NIZAMABAD - 503001. | E22: 50 | F22: 5 | G22: 3 | K22: 5 | N22: 5 | V22: 5 | W22: 5 | Z22: 5 | AA22: 5 | AD22: 5 | AE22: 5 | AI22: 5 | AL22: 5 | AM22: 3 | AP22: 5 | AT22: 5 | AX22: 5 | BB22: 5 | BG22: 5 | BJ22: 5 | BN22: 5 | BO22: 5 | BR22: 5 | BS22: 5 | BV22: 5 | BW22: 5 | BZ22: 5 | CD22: 5 | CH22: 5 | CL22: 5 | CM22: 5 | CP22: 5 | CU22: 5 | CX22: 5 | DB22: 5 | DF22: 5 | DJ22: 5 | DO22: 5 | DR22: 5 | DZ22: =F22+J22+N22+R22+V22+Z22+AD22+AH22+AL22+AP22+AT22+AX22+BB22+BF22+BJ22+BN22+BR22+BV22+BZ22+CD22+CH22+CL22+CP22+CT22+CX22+DB22+DF22+DJ22+DN22+DR22+DV22 -> 120 | EA22: =G22+K22+O22+S22+W22+AA22+AE22+AI22+AM22+AQ22+AU22+AY22+BC22+BG22+BK22+BO22+BS22+BW22+CA22+CE22+CI22+CM22+CQ22+CU22+CY22+DC22+DG22+DK22+DO22+DS22+DW22 -> 66 | EB22: =H22+L22+P22+T22+X22+AB22+AF22+AJ22+AN22+AR22+AV22+AZ22+BD22+BH22+BL22+BP22+BT22+BX22+CB22+CF22+CJ22+CN22+CR22+CV22+CZ22+DD22+DH22+DL22+DP22+DT22+DX22 -> 0 | EC22: =I22+M22+Q22+U22+Y22+AC22+AG22+AK22+AO22+AS22+AW22+BA22+BE22+BI22+BM22+BQ22+BU22+BY22+CC22+CG22+CK22+CO22+CS22+CW22+DA22+DE22+DI22+DM22+DQ22+DU22+DY22 -> 0
A23: 13 | B23: RRLIF503001TSBH00887 | C23: R R LIFE LINE HOSPITAL NIZAMABAD | D23: H.No. 5-6-766/1, OPP. RED CROSS BLOOD BANK, KHALEEL WADI, NIZAMABAD - 503001. | E23: 50 | G23: 4 | J23: 5 | N23: 5 | R23: 5 | S23: 5 | V23: 5 | Z23: 5 | AD23: 5 | AH23: 5 | AM23: 5 | AP23: 5 | AT23: 5 | AX23: 5 | BC23: 5 | BF23: 5 | BK23: 5 | BN23: 5 | BR23: 5 | BV23: 5 | CA23: 5 | CE23: 5 | CL23: 5 | CP23: 5 | CT23: 5 | CX23: 5 | CY23: 5 | DB23: 5 | DG23: 5 | DJ23: 5 | DS23: 5 | DZ23: =F23+J23+N23+R23+V23+Z23+AD23+AH23+AL23+AP23+AT23+AX23+BB23+BF23+BJ23+BN23+BR23+BV23+BZ23+CD23+CH23+CL23+CP23+CT23+CX23+DB23+DF23+DJ23+DN23+DR23+DV23 -> 100 | EA23: =G23+K23+O23+S23+W23+AA23+AE23+AI23+AM23+AQ23+AU23+AY23+BC23+BG23+BK23+BO23+BS23+BW23+CA23+CE23+CI23+CM23+CQ23+CU23+CY23+DC23+DG23+DK23+DO23+DS23+DW23 -> 49 | EB23: =H23+L23+P23+T23+X23+AB23+AF23+AJ23+AN23+AR23+AV23+AZ23+BD23+BH23+BL23+BP23+BT23+BX23+CB23+CF23+CJ23+CN23+CR23+CV23+CZ23+DD23+DH23+DL23+DP23+DT23+DX23 -> 0 | EC23: =I23+M23+Q23+U23+Y23+AC23+AG23+AK23+AO23+AS23+AW23+BA23+BE23+BI23+BM23+BQ23+BU23+BY23+CC23+CG23+CK23+CO23+CS23+CW23+DA23+DE23+DI23+DM23+DQ23+DU23+DY23 -> 0
A24: 14 | B24: SVRMU503001TSBH08033 | C24: SVR MULTI SPECIALITY HOSPITAL | D24: KHALEELWADI, NIZAMABAD - 503001. | E24: 50 | F24: 5 | J24: 5 | N24: 5 | R24: 5 | S24: 5 | V24: 3 | AD24: 5 | AH24: 5 | AL24: 5 | AP24: 5 | AX24: 5 | BB24: 5 | BG24: 5 | BJ24: 5 | BN24: 5 | BO24: 5 | BR24: 5 | BS24: 5 | BV24: 5 | BW24: 5 | CA24: 5 | CE24: 5 | CI24: 5 | CL24: 5 | CM24: 5 | CP24: 5 | CT24: 10 | CX24: 5 | DB24: 5 | DF24: 5 | DJ24: 5 | DO24: 5 | DS24: 5 | DZ24: =F24+J24+N24+R24+V24+Z24+AD24+AH24+AL24+AP24+AT24+AX24+BB24+BF24+BJ24+BN24+BR24+BV24+BZ24+CD24+CH24+CL24+CP24+CT24+CX24+DB24+DF24+DJ24+DN24+DR24+DV24 -> 113 | EA24: =G24+K24+O24+S24+W24+AA24+AE24+AI24+AM24+AQ24+AU24+AY24+BC24+BG24+BK24+BO24+BS24+BW24+CA24+CE24+CI24+CM24+CQ24+CU24+CY24+DC24+DG24+DK24+DO24+DS24+DW24 -> 55 | EB24: =H24+L24+P24+T24+X24+AB24+AF24+AJ24+AN24+AR24+AV24+AZ24+BD24+BH24+BL24+BP24+BT24+BX24+CB24+CF24+CJ24+CN24+CR24+CV24+CZ24+DD24+DH24+DL24+DP24+DT24+DX24 -> 0 | EC24: =I24+M24+Q24+U24+Y24+AC24+AG24+AK24+AO24+AS24+AW24+BA24+BE24+BI24+BM24+BQ24+BU24+BY24+CC24+CG24+CK24+CO24+CS24+CW24+DA24+DE24+DI24+DM24+DQ24+DU24+DY24 -> 0
A25: 15 | B25: SRIGU503001TSBH06796 | C25: SRI GURU RAGHAVENDRA SUNRISE HOSPITAL | D25: H.No.5-7-93 & 5-7-94, OPP: MUNCIPAL COMPLEX, NIZAMABAD - 503001. | E25: 50 | G25: 5 | J25: 5 | N25: 5 | R25: 5 | S25: 5 | V25: 5 | Z25: 5 | AD25: 5 | AH25: 5 | AM25: 5 | AP25: 5 | AT25: 5 | AU25: 5 | AX25: 5 | BB25: 5 | BF25: 5 | BJ25: 5 | BO25: 5 | BS25: 5 | BW25: 5 | BZ25: 5 | CA25: 5 | CD25: 5 | CE25: 5 | CH25: 5 | CI25: 5 | CM25: 5 | CP25: 5 | CT25: 5 | CX25: 5 | DB25: 5 | DG25: 5 | DJ25: 5 | DN25: 5 | DR25: 5 | DS25: 5 | DZ25: =F25+J25+N25+R25+V25+Z25+AD25+AH25+AL25+AP25+AT25+AX25+BB25+BF25+BJ25+BN25+BR25+BV25+BZ25+CD25+CH25+CL25+CP25+CT25+CX25+DB25+DF25+DJ25+DN25+DR25+DV25 -> 115 | EA25: =G25+K25+O25+S25+W25+AA25+AE25+AI25+AM25+AQ25+AU25+AY25+BC25+BG25+BK25+BO25+BS25+BW25+CA25+CE25+CI25+CM25+CQ25+CU25+CY25+DC25+DG25+DK25+DO25+DS25+DW25 -> 65 | EB25: =H25+L25+P25+T25+X25+AB25+AF25+AJ25+AN25+AR25+AV25+AZ25+BD25+BH25+BL25+BP25+BT25+BX25+CB25+CF25+CJ25+CN25+CR25+CV25+CZ25+DD25+DH25+DL25+DP25+DT25+DX25 -> 0 | EC25: =I25+M25+Q25+U25+Y25+AC25+AG25+AK25+AO25+AS25+AW25+BA25+BE25+BI25+BM25+BQ25+BU25+BY25+CC25+CG25+CK25+CO25+CS25+CW25+DA25+DE25+DI25+DM25+DQ25+DU25+DY25 -> 0
A26: 16 | B26: SRIKR503001TSBH09853 | C26: SRI KRISHNA NEURO & SUPER SPECIALITY HOSPITAL | D26: H.No. 5-6-385 & 386, C/o. BOMBAY NURSING HOME, YELLAMMA GUTTA X ROAD, HYDERABAD ROAD, NIZAMABAD - 503001. | E26: 50 | F26: 5 | G26: 2 | J26: 5 | N26: 5 | R26: 5 | S26: 5 | V26: 5 | Z26: 5 | AD26: 5 | AH26: 5 | AL26: 5 | AM26: 5 | AP26: 5 | AT26: 5 | AX26: 5 | BB26: 5 | BF26: 5 | BJ26: 5 | BN26: 5 | BR26: 5 | BV26: 5 | BZ26: 5 | CD26: 5 | CH26: 5 | CL26: 5 | CS26: 5 | CT26: 5 | CX26: 5 | DD26: 5 | DF26: 5 | DJ26: 5 | DO26: 5 | DR26: 5 | DZ26: =F26+J26+N26+R26+V26+Z26+AD26+AH26+AL26+AP26+AT26+AX26+BB26+BF26+BJ26+BN26+BR26+BV26+BZ26+CD26+CH26+CL26+CP26+CT26+CX26+DB26+DF26+DJ26+DN26+DR26+DV26 -> 135 | EA26: =G26+K26+O26+S26+W26+AA26+AE26+AI26+AM26+AQ26+AU26+AY26+BC26+BG26+BK26+BO26+BS26+BW26+CA26+CE26+CI26+CM26+CQ26+CU26+CY26+DC26+DG26+DK26+DO26+DS26+DW26 -> 17 | EB26: =H26+L26+P26+T26+X26+AB26+AF26+AJ26+AN26+AR26+AV26+AZ26+BD26+BH26+BL26+BP26+BT26+BX26+CB26+CF26+CJ26+CN26+CR26+CV26+CZ26+DD26+DH26+DL26+DP26+DT26+DX26 -> 5 | EC26: =I26+M26+Q26+U26+Y26+AC26+AG26+AK26+AO26+AS26+AW26+BA26+BE26+BI26+BM26+BQ26+BU26+BY26+CC26+CG26+CK26+CO26+CS26+CW26+DA26+DE26+DI26+DM26+DQ26+DU26+DY26 -> 5
A27: 17 | B27: SRIMA503001TSBH00974 | C27: SRI MAHALAXMI CHILDRENS HOSPITAL | D27: H.No. 5-7-7/1 , BESIDE NALANDA WOMENS DEGREE COLLEGE, KHALEELWADI, NIZAMABAD - 503001. | E27: 50 | G27: 5 | J27: 5 | N27: 5 | R27: 5 | V27: 5 | Z27: 5 | AD27: 5 | AH27: 5 | AM27: 5 | AP27: 5 | AT27: 5 | AX27: 5 | BC27: 5 | BF27: 5 | BJ27: 5 | BO27: 5 | BS27: 5 | BW27: 5 | BZ27: 5 | CA27: 5 | CD27: 5 | CE27: 5 | CI27: 5 | CM27: 5 | CP27: 5 | CT27: 5 | CY27: 5 | DB27: 5 | DF27: 5 | DG27: 5 | DJ27: 5 | DN27: 5 | DO27: 5 | DR27: 5 | DS27: 5 | DZ27: =F27+J27+N27+R27+V27+Z27+AD27+AH27+AL27+AP27+AT27+AX27+BB27+BF27+BJ27+BN27+BR27+BV27+BZ27+CD27+CH27+CL27+CP27+CT27+CX27+DB27+DF27+DJ27+DN27+DR27+DV27 -> 105 | EA27: =G27+K27+O27+S27+W27+AA27+AE27+AI27+AM27+AQ27+AU27+AY27+BC27+BG27+BK27+BO27+BS27+BW27+CA27+CE27+CI27+CM27+CQ27+CU27+CY27+DC27+DG27+DK27+DO27+DS27+DW27 -> 70 | EB27: =H27+L27+P27+T27+X27+AB27+AF27+AJ27+AN27+AR27+AV27+AZ27+BD27+BH27+BL27+BP27+BT27+BX27+CB27+CF27+CJ27+CN27+CR27+CV27+CZ27+DD27+DH27+DL27+DP27+DT27+DX27 -> 0 | EC27: =I27+M27+Q27+U27+Y27+AC27+AG27+AK27+AO27+AS27+AW27+BA27+BE27+BI27+BM27+BQ27+BU27+BY27+CC27+CG27+CK27+CO27+CS27+CW27+DA27+DE27+DI27+DM27+DQ27+DU27+DY27 -> 0
A28: 18 | B28: SRIVI503001TSBH06146 | C28: SRI VISHNU HOSPITAL | D28: ABOVE KOTAK MAHINDRA BANK, OPP: CENTRAL LIBRARY, KHALEELWADI, NIZAMABAD - 503001. | E28: 50 | F28: 5 | G28: 4 | J28: 5 | N28: 5 | R28: 5 | S28: 5 | V28: 5 | AD28: 5 | AH28: 5 | AL28: 5 | AM28: 5 | AP28: 5 | AT28: 5 | AX28: 5 | BB28: 5 | BF28: 5 | BJ28: 5 | BN28: 5 | BR28: 5 | BV28: 5 | BZ28: 5 | CA28: 5 | CD28: 5 | CE28: 2 | CH28: 5 | CI28: 5 | CL28: 5 | CP28: 5 | CT28: 5 | CX28: 5 | DB28: 5 | DF28: 5 | DJ28: 5 | DO28: 5 | DR28: 5 | DS28: 5 | DZ28: =F28+J28+N28+R28+V28+Z28+AD28+AH28+AL28+AP28+AT28+AX28+BB28+BF28+BJ28+BN28+BR28+BV28+BZ28+CD28+CH28+CL28+CP28+CT28+CX28+DB28+DF28+DJ28+DN28+DR28+DV28 -> 140 | EA28: =G28+K28+O28+S28+W28+AA28+AE28+AI28+AM28+AQ28+AU28+AY28+BC28+BG28+BK28+BO28+BS28+BW28+CA28+CE28+CI28+CM28+CQ28+CU28+CY28+DC28+DG28+DK28+DO28+DS28+DW28 -> 36 | EB28: =H28+L28+P28+T28+X28+AB28+AF28+AJ28+AN28+AR28+AV28+AZ28+BD28+BH28+BL28+BP28+BT28+BX28+CB28+CF28+CJ28+CN28+CR28+CV28+CZ28+DD28+DH28+DL28+DP28+DT28+DX28 -> 0 | EC28: =I28+M28+Q28+U28+Y28+AC28+AG28+AK28+AO28+AS28+AW28+BA28+BE28+BI28+BM28+BQ28+BU28+BY28+CC28+CG28+CK28+CO28+CS28+CW28+DA28+DE28+DI28+DM28+DQ28+DU28+DY28 -> 0
A29: 19 | B29: SRINI503001TSBH06147 | C29: SRINIVAS GASTRO & LIVER CARE HOSPITAL | D29: H.No.5-6-742/743, BESIDE MRO OFFICE, OPP: DEO OFFICE AND CENTRAL LIBRARY, KHALEELWADI, NIZAMABAD - 503001. | E29: 50 | F29: 5 | J29: 5 | N29: 5 | R29: 5 | S29: 5 | V29: 5 | AD29: 5 | AL29: 5 | AP29: 5 | AT29: 5 | AX29: 5 | BB29: 5 | BF29: 5 | BJ29: 5 | BN29: 5 | BR29: 5 | BV29: 5 | BZ29: 5 | CA29: 5 | CD29: 5 | CE29: 5 | CH29: 5 | CI29: 5 | CL29: 5 | CP29: 5 | CT29: 5 | CX29: 5 | DB29: 5 | DF29: 5 | DJ29: 5 | DN29: 5 | DR29: 5 | DS29: 5 | DZ29: =F29+J29+N29+R29+V29+Z29+AD29+AH29+AL29+AP29+AT29+AX29+BB29+BF29+BJ29+BN29+BR29+BV29+BZ29+CD29+CH29+CL29+CP29+CT29+CX29+DB29+DF29+DJ29+DN29+DR29+DV29 -> 140 | EA29: =G29+K29+O29+S29+W29+AA29+AE29+AI29+AM29+AQ29+AU29+AY29+BC29+BG29+BK29+BO29+BS29+BW29+CA29+CE29+CI29+CM29+CQ29+CU29+CY29+DC29+DG29+DK29+DO29+DS29+DW29 -> 25 | EB29: =H29+L29+P29+T29+X29+AB29+AF29+AJ29+AN29+AR29+AV29+AZ29+BD29+BH29+BL29+BP29+BT29+BX29+CB29+CF29+CJ29+CN29+CR29+CV29+CZ29+DD29+DH29+DL29+DP29+DT29+DX29 -> 0 | EC29: =I29+M29+Q29+U29+Y29+AC29+AG29+AK29+AO29+AS29+AW29+BA29+BE29+BI29+BM29+BQ29+BU29+BY29+CC29+CG29+CK29+CO29+CS29+CW29+DA29+DE29+DI29+DM29+DQ29+DU29+DY29 -> 0
A30: 20 | B30: VIJAY503001TSBH00903 | C30: VIJAYALAKSHMI HOSPITAL | D30: H.No. 5-6-767, NEAR RAJIV GANDHI AUDITORIUM, OPP: RED CROSS BLOOD BANK, KHALEELWADI, NIZAMABAD - 503001. | E30: 50 | G30: 5 | J30: 5 | N30: 5 | R30: 5 | S30: 5 | V30: 5 | AD30: 5 | AH30: 5 | AM30: 4 | AP30: 5 | AU30: 5 | AY30: 5 | BB30: 5 | BG30: 5 | BJ30: 5 | BN30: 5 | BR30: 5 | BV30: 2 | BZ30: 5 | CA30: 5 | CD30: 5 | CE30: 5 | CH30: 5 | CI30: 5 | CL30: 5 | CP30: 5 | CU30: 5 | CX30: 5 | DB30: 5 | DF30: 5 | DJ30: 5 | DN30: 5 | DR30: 3 | DS30: 5 | DZ30: =F30+J30+N30+R30+V30+Z30+AD30+AH30+AL30+AP30+AT30+AX30+BB30+BF30+BJ30+BN30+BR30+BV30+BZ30+CD30+CH30+CL30+CP30+CT30+CX30+DB30+DF30+DJ30+DN30+DR30+DV30 -> 110 | EA30: =G30+K30+O30+S30+W30+AA30+AE30+AI30+AM30+AQ30+AU30+AY30+BC30+BG30+BK30+BO30+BS30+BW30+CA30+CE30+CI30+CM30+CQ30+CU30+CY30+DC30+DG30+DK30+DO30+DS30+DW30 -> 54 | EB30: =H30+L30+P30+T30+X30+AB30+AF30+AJ30+AN30+AR30+AV30+AZ30+BD30+BH30+BL30+BP30+BT30+BX30+CB30+CF30+CJ30+CN30+CR30+CV30+CZ30+DD30+DH30+DL30+DP30+DT30+DX30 -> 0 | EC30: =I30+M30+Q30+U30+Y30+AC30+AG30+AK30+AO30+AS30+AW30+BA30+BE30+BI30+BM30+BQ30+BU30+BY30+CC30+CG30+CK30+CO30+CS30+CW30+DA30+DE30+DI30+DM30+DQ30+DU30+DY30 -> 0
B31: 49 TO 20 BEDS HCFs
A32: 21 | B32: VAISH503001TSBH06135 | C32: VAISHNAVI HOSPITAL | D32: H.No. 5-6-180/B, SARASWATINAGAR, BEHIND PRAGATHI HOSPITAL, NIZAMABAD - 503001. | E32: 35 | G32: 3 | K32: 2 | N32: 3 | W32: 3 | Z32: 2 | AE32: 2 | AI32: 3 | AM32: 2 | AP32: 3 | AT32: 3 | AX32: 4 | BB32: 3 | BF32: 3 | BK32: 2 | BO32: 3 | BS32: 2 | BW32: 3 | BZ32: 3 | CD32: 2 | CH32: 3 | CM32: 2 | CQ32: 2 | CT32: 3 | CX32: 3 | DC32: 2 | DF32: 4 | DJ32: 4 | DN32: 3 | DR32: 3 | DZ32: =F32+J32+N32+R32+V32+Z32+AD32+AH32+AL32+AP32+AT32+AX32+BB32+BF32+BJ32+BN32+BR32+BV32+BZ32+CD32+CH32+CL32+CP32+CT32+CX32+DB32+DF32+DJ32+DN32+DR32+DV32 -> 49 | EA32: =G32+K32+O32+S32+W32+AA32+AE32+AI32+AM32+AQ32+AU32+AY32+BC32+BG32+BK32+BO32+BS32+BW32+CA32+CE32+CI32+CM32+CQ32+CU32+CY32+DC32+DG32+DK32+DO32+DS32+DW32 -> 31 | EB32: =H32+L32+P32+T32+X32+AB32+AF32+AJ32+AN32+AR32+AV32+AZ32+BD32+BH32+BL32+BP32+BT32+BX32+CB32+CF32+CJ32+CN32+CR32+CV32+CZ32+DD32+DH32+DL32+DP32+DT32+DX32 -> 0 | EC32: =I32+M32+Q32+U32+Y32+AC32+AG32+AK32+AO32+AS32+AW32+BA32+BE32+BI32+BM32+BQ32+BU32+BY32+CC32+CG32+CK32+CO32+CS32+CW32+DA32+DE32+DI32+DM32+DQ32+DU32+DY32 -> 0
A33: 22 | B33: SRIRA503001TSBH00950 | C33: SRI RAKSHA HOSPITAL | D33: PRAGATHI HOSPITAL BACKSIDE LANE, DWARAKA NAGAR, NIZAMABAD - 503001. | E33: 30 | G33: 2 | J33: 3 | K33: 2 | N33: 3 | W33: 3 | Z33: 2 | AE33: 2 | AI33: 3 | AM33: 2 | AP33: 3 | AT33: 3 | AY33: 3 | BG33: 2 | BJ33: 3 | BO33: 3 | BS33: 2 | BW33: 3 | BZ33: 3 | CD33: 2 | CH33: 3 | CM33: 2 | CP33: 3 | CU33: 2 | CX33: 3 | DB33: 3 | DF33: 4 | DK33: 3 | DO33: 2 | DR33: 3 | DZ33: =F33+J33+N33+R33+V33+Z33+AD33+AH33+AL33+AP33+AT33+AX33+BB33+BF33+BJ33+BN33+BR33+BV33+BZ33+CD33+CH33+CL33+CP33+CT33+CX33+DB33+DF33+DJ33+DN33+DR33+DV33 -> 41 | EA33: =G33+K33+O33+S33+W33+AA33+AE33+AI33+AM33+AQ33+AU33+AY33+BC33+BG33+BK33+BO33+BS33+BW33+CA33+CE33+CI33+CM33+CQ33+CU33+CY33+DC33+DG33+DK33+DO33+DS33+DW33 -> 36 | EB33: =H33+L33+P33+T33+X33+AB33+AF33+AJ33+AN33+AR33+AV33+AZ33+BD33+BH33+BL33+BP33+BT33+BX33+CB33+CF33+CJ33+CN33+CR33+CV33+CZ33+DD33+DH33+DL33+DP33+DT33+DX33 -> 0 | EC33: =I33+M33+Q33+U33+Y33+AC33+AG33+AK33+AO33+AS33+AW33+BA33+BE33+BI33+BM33+BQ33+BU33+BY33+CC33+CG33+CK33+CO33+CS33+CW33+DA33+DE33+DI33+DM33+DQ33+DU33+DY33 -> 0
A34: 23 | B34: LIONS503001TSBH01124 | C34: LIONS EYE HOSPITAL | D34: OPP: RAJEEV GANDHI AUDITORIUM, KHALEEL WADI, NIZAMABAD - 503001. | E34: 25 | F34: 3 | K34: 2 | N34: 3 | W34: 3 | Z34: 2 | AE34: 2 | AI34: 3 | AL34: 3 | AP34: 3 | AT34: 3 | AX34: 3 | BB34: 3 | BK34: 2 | BO34: 3 | BS34: 2 | BW34: 3 | BZ34: 3 | CD34: 2 | CH34: 3 | CM34: 2 | CQ34: 2 | CX34: 3 | DC34: 2 | DF34: 3 | DK34: 3 | DN34: 3 | DR34: 3 | DZ34: =F34+J34+N34+R34+V34+Z34+AD34+AH34+AL34+AP34+AT34+AX34+BB34+BF34+BJ34+BN34+BR34+BV34+BZ34+CD34+CH34+CL34+CP34+CT34+CX34+DB34+DF34+DJ34+DN34+DR34+DV34 -> 43 | EA34: =G34+K34+O34+S34+W34+AA34+AE34+AI34+AM34+AQ34+AU34+AY34+BC34+BG34+BK34+BO34+BS34+BW34+CA34+CE34+CI34+CM34+CQ34+CU34+CY34+DC34+DG34+DK34+DO34+DS34+DW34 -> 29 | EB34: =H34+L34+P34+T34+X34+AB34+AF34+AJ34+AN34+AR34+AV34+AZ34+BD34+BH34+BL34+BP34+BT34+BX34+CB34+CF34+CJ34+CN34+CR34+CV34+CZ34+DD34+DH34+DL34+DP34+DT34+DX34 -> 0 | EC34: =I34+M34+Q34+U34+Y34+AC34+AG34+AK34+AO34+AS34+AW34+BA34+BE34+BI34+BM34+BQ34+BU34+BY34+CC34+CG34+CK34+CO34+CS34+CW34+DA34+DE34+DI34+DM34+DQ34+DU34+DY34 -> 0
A35: 24 | B35: RITVI503002TSBH09855 | C35: RITVIK HOSPITAL | D35: OPP: SHESHANK HOSPITAL, OPP: BUS STAND ROAD, KHALEELWADI, NIZAMABAD - 503001. | E35: 25 | G35: 2 | K35: 2 | N35: 3 | W35: 3 | Z35: 2 | AE35: 2 | AI35: 3 | AM35: 2 | AP35: 3 | AU35: 2 | AX35: 3 | BC35: 2 | BF35: 3 | BK35: 2 | BO35: 3 | BS35: 2 | BW35: 3 | BZ35: 3 | CD35: 2 | CH35: 3 | CM35: 2 | CT35: 3 | CX35: 3 | DF35: 3 | DK35: 5 | DO35: 2 | DR35: 3 | DZ35: =F35+J35+N35+R35+V35+Z35+AD35+AH35+AL35+AP35+AT35+AX35+BB35+BF35+BJ35+BN35+BR35+BV35+BZ35+CD35+CH35+CL35+CP35+CT35+CX35+DB35+DF35+DJ35+DN35+DR35+DV35 -> 34 | EA35: =G35+K35+O35+S35+W35+AA35+AE35+AI35+AM35+AQ35+AU35+AY35+BC35+BG35+BK35+BO35+BS35+BW35+CA35+CE35+CI35+CM35+CQ35+CU35+CY35+DC35+DG35+DK35+DO35+DS35+DW35 -> 37 | EB35: =H35+L35+P35+T35+X35+AB35+AF35+AJ35+AN35+AR35+AV35+AZ35+BD35+BH35+BL35+BP35+BT35+BX35+CB35+CF35+CJ35+CN35+CR35+CV35+CZ35+DD35+DH35+DL35+DP35+DT35+DX35 -> 0 | EC35: =I35+M35+Q35+U35+Y35+AC35+AG35+AK35+AO35+AS35+AW35+BA35+BE35+BI35+BM35+BQ35+BU35+BY35+CC35+CG35+CK35+CO35+CS35+CW35+DA35+DE35+DI35+DM35+DQ35+DU35+DY35 -> 0
A36: 25 | B36: SAIAS503001TSBH09856 | C36: SAI ASHWINI HOSPITAL | D36: KHALEELWADI, NIZAMABAD - 503001. | E36: 25 | F36: 3 | K36: 2 | N36: 3 | W36: 3 | Z36: 2 | AE36: 2 | AI36: 3 | AQ36: 3 | AT36: 3 | AY36: 3 | BB36: 3 | BG36: 2 | BJ36: 3 | BO36: 3 | BS36: 2 | BW36: 3 | BZ36: 3 | CD36: 2 | CH36: 3 | CM36: 2 | CP36: 3 | CT36: 3 | CY36: 2 | DB36: 3 | DG36: 2 | DJ36: 4 | DN36: 3 | DR36: 3 | DZ36: =F36+J36+N36+R36+V36+Z36+AD36+AH36+AL36+AP36+AT36+AX36+BB36+BF36+BJ36+BN36+BR36+BV36+BZ36+CD36+CH36+CL36+CP36+CT36+CX36+DB36+DF36+DJ36+DN36+DR36+DV36 -> 44 | EA36: =G36+K36+O36+S36+W36+AA36+AE36+AI36+AM36+AQ36+AU36+AY36+BC36+BG36+BK36+BO36+BS36+BW36+CA36+CE36+CI36+CM36+CQ36+CU36+CY36+DC36+DG36+DK36+DO36+DS36+DW36 -> 32 | EB36: =H36+L36+P36+T36+X36+AB36+AF36+AJ36+AN36+AR36+AV36+AZ36+BD36+BH36+BL36+BP36+BT36+BX36+CB36+CF36+CJ36+CN36+CR36+CV36+CZ36+DD36+DH36+DL36+DP36+DT36+DX36 -> 0 | EC36: =I36+M36+Q36+U36+Y36+AC36+AG36+AK36+AO36+AS36+AW36+BA36+BE36+BI36+BM36+BQ36+BU36+BY36+CC36+CG36+CK36+CO36+CS36+CW36+DA36+DE36+DI36+DM36+DQ36+DU36+DY36 -> 0
A37: 26 | B37: VIKRA503001TSBH09857 | C37: VIKRAM HOSPITAL | D37: D.No. 5-6-164, BESIDE Dr. LAXMA REDDY HOSPITAL, MEENAKSHI HOSPITAL LANE, DWARAKANAGAR, NIZAMABAD - 503001. | E37: 25 | F37: 3 | K37: 2 | N37: 3 | Z37: 2 | AE37: 2 | AI37: 3 | AL37: 3 | AP37: 3 | AY37: 2 | BG37: 2 | BO37: 3 | BS37: 2 | BW37: 3 | BZ37: 3 | CD37: 2 | CH37: 3 | CM37: 2 | CQ37: 3 | CT37: 3 | CY37: 2 | DC37: 2 | DF37: 3 | DJ37: 3 | DR37: 3 | DZ37: =F37+J37+N37+R37+V37+Z37+AD37+AH37+AL37+AP37+AT37+AX37+BB37+BF37+BJ37+BN37+BR37+BV37+BZ37+CD37+CH37+CL37+CP37+CT37+CX37+DB37+DF37+DJ37+DN37+DR37+DV37 -> 34 | EA37: =G37+K37+O37+S37+W37+AA37+AE37+AI37+AM37+AQ37+AU37+AY37+BC37+BG37+BK37+BO37+BS37+BW37+CA37+CE37+CI37+CM37+CQ37+CU37+CY37+DC37+DG37+DK37+DO37+DS37+DW37 -> 28 | EB37: =H37+L37+P37+T37+X37+AB37+AF37+AJ37+AN37+AR37+AV37+AZ37+BD37+BH37+BL37+BP37+BT37+BX37+CB37+CF37+CJ37+CN37+CR37+CV37+CZ37+DD37+DH37+DL37+DP37+DT37+DX37 -> 0 | EC37: =I37+M37+Q37+U37+Y37+AC37+AG37+AK37+AO37+AS37+AW37+BA37+BE37+BI37+BM37+BQ37+BU37+BY37+CC37+CG37+CK37+CO37+CS37+CW37+DA37+DE37+DI37+DM37+DQ37+DU37+DY37 -> 0
A38: 27 | B38: GANGA503001TSBH06109 | C38: GANGA SARASWATHI CHILDRENS HOSPITAL | D38: DWARAKA NAGAR, NIZAMABAD - 503001. | E38: 25 | N38: 3 | W38: 3 | Z38: 2 | AE38: 2 | AI38: 3 | AP38: 3 | AT38: 3 | AY38: 2 | BB38: 3 | BG38: 2 | BJ38: 3 | BO38: 3 | BS38: 2 | BW38: 3 | BZ38: 3 | CD38: 2 | CH38: 3 | CM38: 2 | CU38: 2 | CX38: 3 | DG38: 2 | DJ38: 3 | DN38: 3 | DR38: 3 | DZ38: =F38+J38+N38+R38+V38+Z38+AD38+AH38+AL38+AP38+AT38+AX38+BB38+BF38+BJ38+BN38+BR38+BV38+BZ38+CD38+CH38+CL38+CP38+CT38+CX38+DB38+DF38+DJ38+DN38+DR38+DV38 -> 37 | EA38: =G38+K38+O38+S38+W38+AA38+AE38+AI38+AM38+AQ38+AU38+AY38+BC38+BG38+BK38+BO38+BS38+BW38+CA38+CE38+CI38+CM38+CQ38+CU38+CY38+DC38+DG38+DK38+DO38+DS38+DW38 -> 26 | EB38: =H38+L38+P38+T38+X38+AB38+AF38+AJ38+AN38+AR38+AV38+AZ38+BD38+BH38+BL38+BP38+BT38+BX38+CB38+CF38+CJ38+CN38+CR38+CV38+CZ38+DD38+DH38+DL38+DP38+DT38+DX38 -> 0 | EC38: =I38+M38+Q38+U38+Y38+AC38+AG38+AK38+AO38+AS38+AW38+BA38+BE38+BI38+BM38+BQ38+BU38+BY38+CC38+CG38+CK38+CO38+CS38+CW38+DA38+DE38+DI38+DM38+DQ38+DU38+DY38 -> 0
A39: 28 | B39: ADARS503001TSBH09854 | C39: ADARSH MATERNITY NURSING HOME | D39: Dr. ANNAPURNA HOSPITAL, H.NO.5-7-624/12, KHALEELWADI, NIZAMABAD - 503001. | E39: 24 | F39: 3 | K39: 2 | W39: 3 | Z39: 2 | AE39: 2 | AI39: 3 | AP39: 3 | AT39: 3 | AX39: 3 | BB39: 3 | BF39: 3 | BJ39: 3 | BO39: 3 | BS39: 2 | BW39: 3 | BZ39: 3 | CD39: 2 | CH39: 3 | CM39: 2 | CQ39: 3 | CX39: 3 | DC39: 2 | DG39: 3 | DJ39: 3 | DN39: 3 | DR39: 3 | DZ39: =F39+J39+N39+R39+V39+Z39+AD39+AH39+AL39+AP39+AT39+AX39+BB39+BF39+BJ39+BN39+BR39+BV39+BZ39+CD39+CH39+CL39+CP39+CT39+CX39+DB39+DF39+DJ39+DN39+DR39+DV39 -> 43 | EA39: =G39+K39+O39+S39+W39+AA39+AE39+AI39+AM39+AQ39+AU39+AY39+BC39+BG39+BK39+BO39+BS39+BW39+CA39+CE39+CI39+CM39+CQ39+CU39+CY39+DC39+DG39+DK39+DO39+DS39+DW39 -> 28 | EB39: =H39+L39+P39+T39+X39+AB39+AF39+AJ39+AN39+AR39+AV39+AZ39+BD39+BH39+BL39+BP39+BT39+BX39+CB39+CF39+CJ39+CN39+CR39+CV39+CZ39+DD39+DH39+DL39+DP39+DT39+DX39 -> 0 | EC39: =I39+M39+Q39+U39+Y39+AC39+AG39+AK39+AO39+AS39+AW39+BA39+BE39+BI39+BM39+BQ39+BU39+BY39+CC39+CG39+CK39+CO39+CS39+CW39+DA39+DE39+DI39+DM39+DQ39+DU39+DY39 -> 0
A40: 29 | B40: ANKAM503001TSBH01037 | C40: ANKAM HOSPITAL | D40: H.No. 5-7-132, KHALEELWADI, NIZAMABAD - 503001. | E40: 24 | G40: 2 | K40: 2 | N40: 3 | W40: 3 | Z40: 2 | AE40: 2 | AI40: 3 | AM40: 2 | AQ40: 2 | AT40: 3 | AY40: 3 | BB40: 3 | BG40: 2 | BJ40: 3 | BO40: 3 | BS40: 2 | BW40: 3 | BZ40: 3 | CD40: 2 | CH40: 3 | CM40: 2 | CT40: 3 | CX40: 3 | DF40: 4 | DJ40: 3 | DR40: 3 | DZ40: =F40+J40+N40+R40+V40+Z40+AD40+AH40+AL40+AP40+AT40+AX40+BB40+BF40+BJ40+BN40+BR40+BV40+BZ40+CD40+CH40+CL40+CP40+CT40+CX40+DB40+DF40+DJ40+DN40+DR40+DV40 -> 38 | EA40: =G40+K40+O40+S40+W40+AA40+AE40+AI40+AM40+AQ40+AU40+AY40+BC40+BG40+BK40+BO40+BS40+BW40+CA40+CE40+CI40+CM40+CQ40+CU40+CY40+DC40+DG40+DK40+DO40+DS40+DW40 -> 31 | EB40: =H40+L40+P40+T40+X40+AB40+AF40+AJ40+AN40+AR40+AV40+AZ40+BD40+BH40+BL40+BP40+BT40+BX40+CB40+CF40+CJ40+CN40+CR40+CV40+CZ40+DD40+DH40+DL40+DP40+DT40+DX40 -> 0 | EC40: =I40+M40+Q40+U40+Y40+AC40+AG40+AK40+AO40+AS40+AW40+BA40+BE40+BI40+BM40+BQ40+BU40+BY40+CC40+CG40+CK40+CO40+CS40+CW40+DA40+DE40+DI40+DM40+DQ40+DU40+DY40 -> 0
A41: 30 | B41: CHAND503001TSBH08472 | C41: CHANDRASHILA CHILD CARE HOME | D41: OPP. DECCAN GRAMEENA BANK, KHALEEL WADI, NIZAMABAD - 503001. | E41: 24 | F41: 3 | K41: 2 | N41: 3 | W41: 3 | Z41: 2 | AE41: 2 | AI41: 3 | AT41: 3 | AX41: 4 | BB41: 3 | BF41: 3 | BK41: 2 | BO41: 3 | BS41: 2 | BZ41: 6 | CD41: 2 | CH41: 3 | CM41: 2 | CQ41: 2 | CT41: 3 | CX41: 3 | DC41: 2 | DF41: 4 | DJ41: 3 | DO41: 2 | DZ41: =F41+J41+N41+R41+V41+Z41+AD41+AH41+AL41+AP41+AT41+AX41+BB41+BF41+BJ41+BN41+BR41+BV41+BZ41+CD41+CH41+CL41+CP41+CT41+CX41+DB41+DF41+DJ41+DN41+DR41+DV41 -> 45 | EA41: =G41+K41+O41+S41+W41+AA41+AE41+AI41+AM41+AQ41+AU41+AY41+BC41+BG41+BK41+BO41+BS41+BW41+CA41+CE41+CI41+CM41+CQ41+CU41+CY41+DC41+DG41+DK41+DO41+DS41+DW41 -> 25 | EB41: =H41+L41+P41+T41+X41+AB41+AF41+AJ41+AN41+AR41+AV41+AZ41+BD41+BH41+BL41+BP41+BT41+BX41+CB41+CF41+CJ41+CN41+CR41+CV41+CZ41+DD41+DH41+DL41+DP41+DT41+DX41 -> 0 | EC41: =I41+M41+Q41+U41+Y41+AC41+AG41+AK41+AO41+AS41+AW41+BA41+BE41+BI41+BM41+BQ41+BU41+BY41+CC41+CG41+CK41+CO41+CS41+CW41+DA41+DE41+DI41+DM41+DQ41+DU41+DY41 -> 0
A42: 31 | B42: MEENA503001TSBH02590 | C42: MEENAKSHI NURSING HOME | D42: BACKSIDE PRAGATHI HOSPITAL, SARASWATHI NAGAR, NIZAMABAD - 503001. | E42: 24 | K42: 2 | N42: 3 | W42: 3 | Z42: 2 | AE42: 2 | AI42: 3 | AP42: 3 | AT42: 3 | AY42: 3 | BB42: 3 | BG42: 2 | BJ42: 3 | BO42: 3 | BS42: 2 | BZ42: 3 | CD42: 2 | CH42: 3 | CM42: 2 | CU42: 2 | CX42: 3 | DF42: 4 | DK42: 2 | DN42: 3 | DR42: 3 | DZ42: =F42+J42+N42+R42+V42+Z42+AD42+AH42+AL42+AP42+AT42+AX42+BB42+BF42+BJ42+BN42+BR42+BV42+BZ42+CD42+CH42+CL42+CP42+CT42+CX42+DB42+DF42+DJ42+DN42+DR42+DV42 -> 38 | EA42: =G42+K42+O42+S42+W42+AA42+AE42+AI42+AM42+AQ42+AU42+AY42+BC42+BG42+BK42+BO42+BS42+BW42+CA42+CE42+CI42+CM42+CQ42+CU42+CY42+DC42+DG42+DK42+DO42+DS42+DW42 -> 26 | EB42: =H42+L42+P42+T42+X42+AB42+AF42+AJ42+AN42+AR42+AV42+AZ42+BD42+BH42+BL42+BP42+BT42+BX42+CB42+CF42+CJ42+CN42+CR42+CV42+CZ42+DD42+DH42+DL42+DP42+DT42+DX42 -> 0 | EC42: =I42+M42+Q42+U42+Y42+AC42+AG42+AK42+AO42+AS42+AW42+BA42+BE42+BI42+BM42+BQ42+BU42+BY42+CC42+CG42+CK42+CO42+CS42+CW42+DA42+DE42+DI42+DM42+DQ42+DU42+DY42 -> 0
A43: 32 | B43: SAIAY503001TSBH06137 | C43: SAI AYUSH CHILDRENS HOSPITAL | D43: BHARATHI RANI HOSPITAL LANE, BESIDE PRAGATHI HOSPITAL, SARASWATHI NAGAR, NIZAMABAD - 503001. | E43: 22 | F43: 3 | K43: 2 | N43: 3 | W43: 3 | Z43: 2 | AE43: 2 | AI43: 3 | AM43: 2 | AQ43: 2 | AT43: 3 | AY43: 3 | BB43: 3 | BJ43: 3 | BO43: 3 | BS43: 2 | BW43: 3 | BZ43: 3 | CD43: 2 | CH43: 3 | CM43: 2 | CP43: 3 | CY43: 2 | DB43: 3 | DJ43: 3 | DO43: 2 | DR43: 3 | DZ43: =F43+J43+N43+R43+V43+Z43+AD43+AH43+AL43+AP43+AT43+AX43+BB43+BF43+BJ43+BN43+BR43+BV43+BZ43+CD43+CH43+CL43+CP43+CT43+CX43+DB43+DF43+DJ43+DN43+DR43+DV43 -> 37 | EA43: =G43+K43+O43+S43+W43+AA43+AE43+AI43+AM43+AQ43+AU43+AY43+BC43+BG43+BK43+BO43+BS43+BW43+CA43+CE43+CI43+CM43+CQ43+CU43+CY43+DC43+DG43+DK43+DO43+DS43+DW43 -> 31 | EB43: =H43+L43+P43+T43+X43+AB43+AF43+AJ43+AN43+AR43+AV43+AZ43+BD43+BH43+BL43+BP43+BT43+BX43+CB43+CF43+CJ43+CN43+CR43+CV43+CZ43+DD43+DH43+DL43+DP43+DT43+DX43 -> 0 | EC43: =I43+M43+Q43+U43+Y43+AC43+AG43+AK43+AO43+AS43+AW43+BA43+BE43+BI43+BM43+BQ43+BU43+BY43+CC43+CG43+CK43+CO43+CS43+CW43+DA43+DE43+DI43+DM43+DQ43+DU43+DY43 -> 0
A44: 33 | B44: NARAS503001TSBH06161 | C44: NARASIMHA MATERNITY CHILDRENS HOSPITAL | D44: OLD J J BUILDING, KHALEEL WADI, NIZAMABAD - 503001. | E44: 21 | K44: 2 | N44: 3 | W44: 3 | Z44: 2 | AE44: 2 | AI44: 3 | AP44: 3 | AU44: 2 | AX44: 4 | BC44: 2 | BG44: 2 | BJ44: 3 | BO44: 3 | BS44: 2 | BW44: 3 | BZ44: 3 | CD44: 2 | CM44: 2 | CT44: 3 | CX44: 3 | DG44: 3 | DJ44: 3 | DR44: 3 | DZ44: =F44+J44+N44+R44+V44+Z44+AD44+AH44+AL44+AP44+AT44+AX44+BB44+BF44+BJ44+BN44+BR44+BV44+BZ44+CD44+CH44+CL44+CP44+CT44+CX44+DB44+DF44+DJ44+DN44+DR44+DV44 -> 32 | EA44: =G44+K44+O44+S44+W44+AA44+AE44+AI44+AM44+AQ44+AU44+AY44+BC44+BG44+BK44+BO44+BS44+BW44+CA44+CE44+CI44+CM44+CQ44+CU44+CY44+DC44+DG44+DK44+DO44+DS44+DW44 -> 29 | EB44: =H44+L44+P44+T44+X44+AB44+AF44+AJ44+AN44+AR44+AV44+AZ44+BD44+BH44+BL44+BP44+BT44+BX44+CB44+CF44+CJ44+CN44+CR44+CV44+CZ44+DD44+DH44+DL44+DP44+DT44+DX44 -> 0 | EC44: =I44+M44+Q44+U44+Y44+AC44+AG44+AK44+AO44+AS44+AW44+BA44+BE44+BI44+BM44+BQ44+BU44+BY44+CC44+CG44+CK44+CO44+CS44+CW44+DA44+DE44+DI44+DM44+DQ44+DU44+DY44 -> 0
A45: 34 | B45: ANSHU503001TSBH08519 | C45: ANSHUL HOSPITAL | D45: OPP. INDIAN BANK, KHALEELWADI, NIZAMABAD - 503001. | E45: 20 | K45: 2 | N45: 3 | W45: 3 | Z45: 2 | AE45: 2 | AI45: 3 | AQ45: 3 | AT45: 3 | AX45: 3 | BC45: 3 | BK45: 3 | BO45: 3 | BS45: 2 | BW45: 3 | CD45: 2 | CH45: 3 | CM45: 2 | CP45: 3 | CX45: 3 | DB45: 3 | DK45: 2 | DN45: 3 | DR45: 3 | DZ45: =F45+J45+N45+R45+V45+Z45+AD45+AH45+AL45+AP45+AT45+AX45+BB45+BF45+BJ45+BN45+BR45+BV45+BZ45+CD45+CH45+CL45+CP45+CT45+CX45+DB45+DF45+DJ45+DN45+DR45+DV45 -> 31 | EA45: =G45+K45+O45+S45+W45+AA45+AE45+AI45+AM45+AQ45+AU45+AY45+BC45+BG45+BK45+BO45+BS45+BW45+CA45+CE45+CI45+CM45+CQ45+CU45+CY45+DC45+DG45+DK45+DO45+DS45+DW45 -> 31 | EB45: =H45+L45+P45+T45+X45+AB45+AF45+AJ45+AN45+AR45+AV45+AZ45+BD45+BH45+BL45+BP45+BT45+BX45+CB45+CF45+CJ45+CN45+CR45+CV45+CZ45+DD45+DH45+DL45+DP45+DT45+DX45 -> 0 | EC45: =I45+M45+Q45+U45+Y45+AC45+AG45+AK45+AO45+AS45+AW45+BA45+BE45+BI45+BM45+BQ45+BU45+BY45+CC45+CG45+CK45+CO45+CS45+CW45+DA45+DE45+DI45+DM45+DQ45+DU45+DY45 -> 0
A46: 35 | B46: AROGY503001TSBH08471 | C46: AROGYA HOSPITAL NIZAMABAD | D46: BESIDE S.V.R. HOSPITAL, OPP: MODERN PUBLIC SCHOOL, KHALEELWADI, NIZAMABAD | E46: 20 | F46: 3 | K46: 2 | N46: 3 | W46: 3 | Z46: 2 | AE46: 2 | AI46: 3 | AL46: 4 | AQ46: 2 | AT46: 3 | AY46: 3 | BB46: 3 | BG46: 2 | BJ46: 3 | BO46: 3 | BS46: 2 | BZ46: 3 | CD46: 2 | CH46: 3 | CM46: 2 | CP46: 3 | CU46: 2 | CX46: 3 | DB46: 3 | DF46: 4 | DJ46: 3 | DR46: 3 | DZ46: =F46+J46+N46+R46+V46+Z46+AD46+AH46+AL46+AP46+AT46+AX46+BB46+BF46+BJ46+BN46+BR46+BV46+BZ46+CD46+CH46+CL46+CP46+CT46+CX46+DB46+DF46+DJ46+DN46+DR46+DV46 -> 48 | EA46: =G46+K46+O46+S46+W46+AA46+AE46+AI46+AM46+AQ46+AU46+AY46+BC46+BG46+BK46+BO46+BS46+BW46+CA46+CE46+CI46+CM46+CQ46+CU46+CY46+DC46+DG46+DK46+DO46+DS46+DW46 -> 26 | EB46: =H46+L46+P46+T46+X46+AB46+AF46+AJ46+AN46+AR46+AV46+AZ46+BD46+BH46+BL46+BP46+BT46+BX46+CB46+CF46+CJ46+CN46+CR46+CV46+CZ46+DD46+DH46+DL46+DP46+DT46+DX46 -> 0 | EC46: =I46+M46+Q46+U46+Y46+AC46+AG46+AK46+AO46+AS46+AW46+BA46+BE46+BI46+BM46+BQ46+BU46+BY46+CC46+CG46+CK46+CO46+CS46+CW46+DA46+DE46+DI46+DM46+DQ46+DU46+DY46 -> 0
A47: 36 | B47: ESIHO503001TSBH09860 | C47: ESI HOSPITAL | D47: NEAR P F OFFICE, SEETHARAM NAGAR COLONY, ANAND NAGAR, NIZAMABAD - 503001. | E47: 20 | G47: 2 | K47: 2 | N47: 3 | W47: 3 | Z47: 2 | AE47: 2 | AI47: 3 | AM47: 2 | AT47: 3 | BB47: 3 | BJ47: 3 | BO47: 3 | BS47: 2 | BW47: 3 | BZ47: 3 | CD47: 2 | CH47: 3 | CM47: 2 | CQ47: 3 | CT47: 3 | DC47: 2 | DK47: 2 | DN47: 3 | DR47: 3 | DZ47: =F47+J47+N47+R47+V47+Z47+AD47+AH47+AL47+AP47+AT47+AX47+BB47+BF47+BJ47+BN47+BR47+BV47+BZ47+CD47+CH47+CL47+CP47+CT47+CX47+DB47+DF47+DJ47+DN47+DR47+DV47 -> 31 | EA47: =G47+K47+O47+S47+W47+AA47+AE47+AI47+AM47+AQ47+AU47+AY47+BC47+BG47+BK47+BO47+BS47+BW47+CA47+CE47+CI47+CM47+CQ47+CU47+CY47+DC47+DG47+DK47+DO47+DS47+DW47 -> 31 | EB47: =H47+L47+P47+T47+X47+AB47+AF47+AJ47+AN47+AR47+AV47+AZ47+BD47+BH47+BL47+BP47+BT47+BX47+CB47+CF47+CJ47+CN47+CR47+CV47+CZ47+DD47+DH47+DL47+DP47+DT47+DX47 -> 0 | EC47: =I47+M47+Q47+U47+Y47+AC47+AG47+AK47+AO47+AS47+AW47+BA47+BE47+BI47+BM47+BQ47+BU47+BY47+CC47+CG47+CK47+CO47+CS47+CW47+DA47+DE47+DI47+DM47+DQ47+DU47+DY47 -> 0
A48: 37 | B48: FLOWE503001TSBH10083 | C48: FLOWER HOSPITAL | D48: NEAR LIMRA GARDEN FUNCTION HALL, QUILLA ROAD, BODHAN ROAD, NIZAMABAD - 503001. | E48: 20 | J48: 2 | N48: 3 | V48: 2 | Z48: 2 | AE48: 2 | AH48: 2 | AL48: 2 | AP48: 2 | BB48: 2 | BJ48: 2 | BN48: 2 | BR48: 2 | CH48: 2 | CL48: 2 | CT48: 2 | DB48: 2 | DJ48: 2 | DZ48: =F48+J48+N48+R48+V48+Z48+AD48+AH48+AL48+AP48+AT48+AX48+BB48+BF48+BJ48+BN48+BR48+BV48+BZ48+CD48+CH48+CL48+CP48+CT48+CX48+DB48+DF48+DJ48+DN48+DR48+DV48 -> 33 | EA48: =G48+K48+O48+S48+W48+AA48+AE48+AI48+AM48+AQ48+AU48+AY48+BC48+BG48+BK48+BO48+BS48+BW48+CA48+CE48+CI48+CM48+CQ48+CU48+CY48+DC48+DG48+DK48+DO48+DS48+DW48 -> 2 | EB48: =H48+L48+P48+T48+X48+AB48+AF48+AJ48+AN48+AR48+AV48+AZ48+BD48+BH48+BL48+BP48+BT48+BX48+CB48+CF48+CJ48+CN48+CR48+CV48+CZ48+DD48+DH48+DL48+DP48+DT48+DX48 -> 0 | EC48: =I48+M48+Q48+U48+Y48+AC48+AG48+AK48+AO48+AS48+AW48+BA48+BE48+BI48+BM48+BQ48+BU48+BY48+CC48+CG48+CK48+CO48+CS48+CW48+DA48+DE48+DI48+DM48+DQ48+DU48+DY48 -> 0
A49: 38 | B49: HARIK503001TSBH00963 | C49: HARIKA HOSPITAL | D49: BESIDE BALAJI LAB, KHALEEL WADI, NIZAMABAD - 503001. | E49: 20 | K49: 2 | N49: 3 | W49: 3 | Z49: 2 | AE49: 2 | AI49: 3 | AP49: 3 | AY49: 3 | BG49: 2 | BJ49: 3 | BO49: 3 | BS49: 2 | BW49: 3 | BZ49: 3 | CD49: 2 | CH49: 3 | CM49: 2 | CP49: 3 | CU49: 2 | CX49: 3 | DB49: 3 | DF49: 4 | DK49: 2 | DR49: 3 | DZ49: =F49+J49+N49+R49+V49+Z49+AD49+AH49+AL49+AP49+AT49+AX49+BB49+BF49+BJ49+BN49+BR49+BV49+BZ49+CD49+CH49+CL49+CP49+CT49+CX49+DB49+DF49+DJ49+DN49+DR49+DV49 -> 35 | EA49: =G49+K49+O49+S49+W49+AA49+AE49+AI49+AM49+AQ49+AU49+AY49+BC49+BG49+BK49+BO49+BS49+BW49+CA49+CE49+CI49+CM49+CQ49+CU49+CY49+DC49+DG49+DK49+DO49+DS49+DW49 -> 29 | EB49: =H49+L49+P49+T49+X49+AB49+AF49+AJ49+AN49+AR49+AV49+AZ49+BD49+BH49+BL49+BP49+BT49+BX49+CB49+CF49+CJ49+CN49+CR49+CV49+CZ49+DD49+DH49+DL49+DP49+DT49+DX49 -> 0 | EC49: =I49+M49+Q49+U49+Y49+AC49+AG49+AK49+AO49+AS49+AW49+BA49+BE49+BI49+BM49+BQ49+BU49+BY49+CC49+CG49+CK49+CO49+CS49+CW49+DA49+DE49+DI49+DM49+DQ49+DU49+DY49 -> 0
A50: 39 | B50: HARIT503001TSBH07066 | C50: HARITHA CHILDRENS HOSPITAL | D50: H.No:-5-6-11, DWARAKA NAGAR, NIZAMABAD - 503001. | E50: 20 | F50: 3 | K50: 2 | N50: 3 | W50: 3 | Z50: 2 | AE50: 2 | AI50: 3 | AM50: 3 | AP50: 3 | AU50: 2 | AX50: 3 | BC50: 2 | BK50: 2 | BO50: 3 | BS50: 2 | BW50: 3 | BZ50: 3 | CD50: 2 | CH50: 3 | CM50: 2 | CP50: 3 | CX50: 3 | DB50: 3 | DF50: 4 | DJ50: 3 | DR50: 3 | DZ50: =F50+J50+N50+R50+V50+Z50+AD50+AH50+AL50+AP50+AT50+AX50+BB50+BF50+BJ50+BN50+BR50+BV50+BZ50+CD50+CH50+CL50+CP50+CT50+CX50+DB50+DF50+DJ50+DN50+DR50+DV50 -> 41 | EA50: =G50+K50+O50+S50+W50+AA50+AE50+AI50+AM50+AQ50+AU50+AY50+BC50+BG50+BK50+BO50+BS50+BW50+CA50+CE50+CI50+CM50+CQ50+CU50+CY50+DC50+DG50+DK50+DO50+DS50+DW50 -> 29 | EB50: =H50+L50+P50+T50+X50+AB50+AF50+AJ50+AN50+AR50+AV50+AZ50+BD50+BH50+BL50+BP50+BT50+BX50+CB50+CF50+CJ50+CN50+CR50+CV50+CZ50+DD50+DH50+DL50+DP50+DT50+DX50 -> 0 | EC50: =I50+M50+Q50+U50+Y50+AC50+AG50+AK50+AO50+AS50+AW50+BA50+BE50+BI50+BM50+BQ50+BU50+BY50+CC50+CG50+CK50+CO50+CS50+CW50+DA50+DE50+DI50+DM50+DQ50+DU50+DY50 -> 0
A51: 40 | B51: HARSH503001TSBH11586 | C51: HARSHA SAI EYE HOSPTIAL | D51: BESIDE OLD J J REDDY HOSPITAL, DWARAKA NAGAR, NIZAMABAD - 503001. | E51: 20 | K51: 2 | N51: 3 | W51: 3 | Z51: 2 | AE51: 2 | AI51: 3 | AQ51: 2 | AT51: 3 | AY51: 3 | BB51: 3 | BF51: 3 | BJ51: 4 | BO51: 3 | BS51: 2 | BW51: 3 | BZ51: 3 | CD51: 2 | CH51: 3 | CM51: 2 | CT51: 3 | CY51: 2 | DJ51: 3 | DN51: 3 | DR51: 3 | DZ51: =F51+J51+N51+R51+V51+Z51+AD51+AH51+AL51+AP51+AT51+AX51+BB51+BF51+BJ51+BN51+BR51+BV51+BZ51+CD51+CH51+CL51+CP51+CT51+CX51+DB51+DF51+DJ51+DN51+DR51+DV51 -> 38 | EA51: =G51+K51+O51+S51+W51+AA51+AE51+AI51+AM51+AQ51+AU51+AY51+BC51+BG51+BK51+BO51+BS51+BW51+CA51+CE51+CI51+CM51+CQ51+CU51+CY51+DC51+DG51+DK51+DO51+DS51+DW51 -> 27 | EB51: =H51+L51+P51+T51+X51+AB51+AF51+AJ51+AN51+AR51+AV51+AZ51+BD51+BH51+BL51+BP51+BT51+BX51+CB51+CF51+CJ51+CN51+CR51+CV51+CZ51+DD51+DH51+DL51+DP51+DT51+DX51 -> 0 | EC51: =I51+M51+Q51+U51+Y51+AC51+AG51+AK51+AO51+AS51+AW51+BA51+BE51+BI51+BM51+BQ51+BU51+BY51+CC51+CG51+CK51+CO51+CS51+CW51+DA51+DE51+DI51+DM51+DQ51+DU51+DY51 -> 0
A52: 41 | B52: HAYAT503001TSBH08505 | C52: HAYATT HOSPITAL | D52: OPP. BUS STAND LANE, NIZAMABD - 503001. | E52: 20 | G52: 2 | K52: 2 | N52: 3 | W52: 3 | Z52: 2 | AE52: 2 | AI52: 3 | AL52: 3 | AP52: 3 | AT52: 3 | AX52: 3 | BB52: 3 | BK52: 3 | BO52: 3 | BS52: 2 | BW52: 3 | BZ52: 3 | CD52: 2 | CH52: 3 | CM52: 2 | CQ52: 3 | CX52: 3 | DC52: 2 | DJ52: 3 | DN52: 3 | DR52: 3 | DZ52: =F52+J52+N52+R52+V52+Z52+AD52+AH52+AL52+AP52+AT52+AX52+BB52+BF52+BJ52+BN52+BR52+BV52+BZ52+CD52+CH52+CL52+CP52+CT52+CX52+DB52+DF52+DJ52+DN52+DR52+DV52 -> 40 | EA52: =G52+K52+O52+S52+W52+AA52+AE52+AI52+AM52+AQ52+AU52+AY52+BC52+BG52+BK52+BO52+BS52+BW52+CA52+CE52+CI52+CM52+CQ52+CU52+CY52+DC52+DG52+DK52+DO52+DS52+DW52 -> 30 | EB52: =H52+L52+P52+T52+X52+AB52+AF52+AJ52+AN52+AR52+AV52+AZ52+BD52+BH52+BL52+BP52+BT52+BX52+CB52+CF52+CJ52+CN52+CR52+CV52+CZ52+DD52+DH52+DL52+DP52+DT52+DX52 -> 0 | EC52: =I52+M52+Q52+U52+Y52+AC52+AG52+AK52+AO52+AS52+AW52+BA52+BE52+BI52+BM52+BQ52+BU52+BY52+CC52+CG52+CK52+CO52+CS52+CW52+DA52+DE52+DI52+DM52+DQ52+DU52+DY52 -> 0
A53: 42 | B53: INDUR503001TSBH01025 | C53: INDUR NURSING HOME | D53: Dr. P BHARATHI RANI HOSPITAL, SARSWATHI NAGAR, KHALEELWADI, NIZAMABAD - 503001. | E53: 20 | K53: 2 | N53: 3 | W53: 3 | Z53: 2 | AE53: 2 | AI53: 3 | AP53: 3 | AT53: 3 | AX53: 3 | BB53: 3 | BG53: 3 | BO53: 3 | BS53: 2 | BW53: 3 | BZ53: 3 | CD53: 2 | CH53: 3 | CM53: 2 | CT53: 3 | CY53: 2 | DF53: 4 | DR53: 3 | DZ53: =F53+J53+N53+R53+V53+Z53+AD53+AH53+AL53+AP53+AT53+AX53+BB53+BF53+BJ53+BN53+BR53+BV53+BZ53+CD53+CH53+CL53+CP53+CT53+CX53+DB53+DF53+DJ53+DN53+DR53+DV53 -> 35 | EA53: =G53+K53+O53+S53+W53+AA53+AE53+AI53+AM53+AQ53+AU53+AY53+BC53+BG53+BK53+BO53+BS53+BW53+CA53+CE53+CI53+CM53+CQ53+CU53+CY53+DC53+DG53+DK53+DO53+DS53+DW53 -> 25 | EB53: =H53+L53+P53+T53+X53+AB53+AF53+AJ53+AN53+AR53+AV53+AZ53+BD53+BH53+BL53+BP53+BT53+BX53+CB53+CF53+CJ53+CN53+CR53+CV53+CZ53+DD53+DH53+DL53+DP53+DT53+DX53 -> 0 | EC53: =I53+M53+Q53+U53+Y53+AC53+AG53+AK53+AO53+AS53+AW53+BA53+BE53+BI53+BM53+BQ53+BU53+BY53+CC53+CG53+CK53+CO53+CS53+CW53+DA53+DE53+DI53+DM53+DQ53+DU53+DY53 -> 0
A54: 43 | B54: JAYAH503001TSBH09852 | C54: JAYA HOSPITAL | D54: H.No. 5-7-50, OPP: MODERN PUBLIC SCHOOL, NEAR RAJIV GANDHI AUDITORIUM, KHALEELWADI, NIZAMABAD - 503001. | E54: 20 | K54: 2 | N54: 3 | W54: 3 | Z54: 2 | AE54: 2 | AI54: 3 | BO54: 3 | BS54: 2 | BW54: 3 | BZ54: 3 | CD54: 2 | CH54: 3 | CM54: 2 | DR54: 3 | DZ54: =F54+J54+N54+R54+V54+Z54+AD54+AH54+AL54+AP54+AT54+AX54+BB54+BF54+BJ54+BN54+BR54+BV54+BZ54+CD54+CH54+CL54+CP54+CT54+CX54+DB54+DF54+DJ54+DN54+DR54+DV54 -> 16 | EA54: =G54+K54+O54+S54+W54+AA54+AE54+AI54+AM54+AQ54+AU54+AY54+BC54+BG54+BK54+BO54+BS54+BW54+CA54+CE54+CI54+CM54+CQ54+CU54+CY54+DC54+DG54+DK54+DO54+DS54+DW54 -> 20 | EB54: =H54+L54+P54+T54+X54+AB54+AF54+AJ54+AN54+AR54+AV54+AZ54+BD54+BH54+BL54+BP54+BT54+BX54+CB54+CF54+CJ54+CN54+CR54+CV54+CZ54+DD54+DH54+DL54+DP54+DT54+DX54 -> 0 | EC54: =I54+M54+Q54+U54+Y54+AC54+AG54+AK54+AO54+AS54+AW54+BA54+BE54+BI54+BM54+BQ54+BU54+BY54+CC54+CG54+CK54+CO54+CS54+CW54+DA54+DE54+DI54+DM54+DQ54+DU54+DY54 -> 0
A55: 44 | B55: KAVER503001TSBH13008 | C55: KAVERI HOSPITALS | D55: DWARAKANAGAR, KAHLEELWADI, NIZAMABAD - 503001. | E55: 20 | F55: 3 | K55: 2 | N55: 3 | W55: 3 | Z55: 2 | AE55: 2 | AI55: 3 | AU55: 2 | BB55: 3 | BG55: 3 | BJ55: 4 | BO55: 3 | BS55: 2 | BW55: 3 | BZ55: 3 | CD55: 2 | CH55: 3 | CM55: 2 | CP55: 4 | CT55: 3 | CY55: 2 | DB55: 3 | DF55: 3 | DJ55: 3 | DN55: 3 | DR55: 3 | DZ55: =F55+J55+N55+R55+V55+Z55+AD55+AH55+AL55+AP55+AT55+AX55+BB55+BF55+BJ55+BN55+BR55+BV55+BZ55+CD55+CH55+CL55+CP55+CT55+CX55+DB55+DF55+DJ55+DN55+DR55+DV55 -> 45 | EA55: =G55+K55+O55+S55+W55+AA55+AE55+AI55+AM55+AQ55+AU55+AY55+BC55+BG55+BK55+BO55+BS55+BW55+CA55+CE55+CI55+CM55+CQ55+CU55+CY55+DC55+DG55+DK55+DO55+DS55+DW55 -> 27 | EB55: =H55+L55+P55+T55+X55+AB55+AF55+AJ55+AN55+AR55+AV55+AZ55+BD55+BH55+BL55+BP55+BT55+BX55+CB55+CF55+CJ55+CN55+CR55+CV55+CZ55+DD55+DH55+DL55+DP55+DT55+DX55 -> 0 | EC55: =I55+M55+Q55+U55+Y55+AC55+AG55+AK55+AO55+AS55+AW55+BA55+BE55+BI55+BM55+BQ55+BU55+BY55+CC55+CG55+CK55+CO55+CS55+CW55+DA55+DE55+DI55+DM55+DQ55+DU55+DY55 -> 0
A56: 45 | B56: KEERT503001TSBH09861 | C56: KEERTHI SAI MULTI SPECIALITY HOSPITAL | D56: KHALEELWADI, NIZAMABAD - 503001. | E56: 20 | G56: 2 | K56: 2 | N56: 3 | W56: 3 | Z56: 2 | AE56: 2 | AI56: 3 | AL56: 3 | AP56: 3 | AT56: 3 | AX56: 3 | BB56: 3 | BG56: 3 | BJ56: 4 | BO56: 3 | BS56: 2 | BW56: 3 | BZ56: 3 | CD56: 2 | CH56: 3 | CM56: 2 | CU56: 2 | CX56: 3 | DG56: 2 | DJ56: 3 | DR56: 3 | DZ56: =F56+J56+N56+R56+V56+Z56+AD56+AH56+AL56+AP56+AT56+AX56+BB56+BF56+BJ56+BN56+BR56+BV56+BZ56+CD56+CH56+CL56+CP56+CT56+CX56+DB56+DF56+DJ56+DN56+DR56+DV56 -> 41 | EA56: =G56+K56+O56+S56+W56+AA56+AE56+AI56+AM56+AQ56+AU56+AY56+BC56+BG56+BK56+BO56+BS56+BW56+CA56+CE56+CI56+CM56+CQ56+CU56+CY56+DC56+DG56+DK56+DO56+DS56+DW56 -> 29 | EB56: =H56+L56+P56+T56+X56+AB56+AF56+AJ56+AN56+AR56+AV56+AZ56+BD56+BH56+BL56+BP56+BT56+BX56+CB56+CF56+CJ56+CN56+CR56+CV56+CZ56+DD56+DH56+DL56+DP56+DT56+DX56 -> 0 | EC56: =I56+M56+Q56+U56+Y56+AC56+AG56+AK56+AO56+AS56+AW56+BA56+BE56+BI56+BM56+BQ56+BU56+BY56+CC56+CG56+CK56+CO56+CS56+CW56+DA56+DE56+DI56+DM56+DQ56+DU56+DY56 -> 0
A57: 46 | B57: MAAAR503001TSBH07088 | C57: MAA AROGYA HOSPITAL | D57: KHALEELWADI, NIZAMABAD - 503001. | E57: 20 | F57: 3 | K57: 2 | N57: 3 | W57: 3 | Z57: 2 | AE57: 2 | AI57: 3 | AP57: 4 | AT57: 4 | AX57: 4 | BB57: 4 | BK57: 4 | BO57: 3 | BS57: 2 | BW57: 3 | BZ57: 3 | CD57: 2 | CH57: 3 | CM57: 2 | CQ57: 3 | CX57: 3 | DC57: 2 | DJ57: 3 | DO57: 2 | DR57: 3 | DZ57: =F57+J57+N57+R57+V57+Z57+AD57+AH57+AL57+AP57+AT57+AX57+BB57+BF57+BJ57+BN57+BR57+BV57+BZ57+CD57+CH57+CL57+CP57+CT57+CX57+DB57+DF57+DJ57+DN57+DR57+DV57 -> 41 | EA57: =G57+K57+O57+S57+W57+AA57+AE57+AI57+AM57+AQ57+AU57+AY57+BC57+BG57+BK57+BO57+BS57+BW57+CA57+CE57+CI57+CM57+CQ57+CU57+CY57+DC57+DG57+DK57+DO57+DS57+DW57 -> 31 | EB57: =H57+L57+P57+T57+X57+AB57+AF57+AJ57+AN57+AR57+AV57+AZ57+BD57+BH57+BL57+BP57+BT57+BX57+CB57+CF57+CJ57+CN57+CR57+CV57+CZ57+DD57+DH57+DL57+DP57+DT57+DX57 -> 0 | EC57: =I57+M57+Q57+U57+Y57+AC57+AG57+AK57+AO57+AS57+AW57+BA57+BE57+BI57+BM57+BQ57+BU57+BY57+CC57+CG57+CK57+CO57+CS57+CW57+DA57+DE57+DI57+DM57+DQ57+DU57+DY57 -> 0
A58: 47 | B58: MRMUL504106TSBH08455 | C58: MR MULTI SPECIALITY HOSPITAL | D58: OPP: RDO OFFICE, KHALEELWADI, NIZAMABAD - 503001. | E58: 20 | K58: 2 | N58: 3 | W58: 3 | Z58: 2 | AE58: 2 | AI58: 3 | AP58: 4 | AT58: 3 | AX58: 4 | BB58: 4 | BG58: 4 | BK58: 3 | BO58: 3 | BS58: 2 | BZ58: 3 | CD58: 2 | CH58: 3 | CM58: 4 | CQ58: 3 | CU58: 2 | CX58: 3 | DG58: 2 | DJ58: 3 | DN58: 3 | DR58: 3 | DZ58: =F58+J58+N58+R58+V58+Z58+AD58+AH58+AL58+AP58+AT58+AX58+BB58+BF58+BJ58+BN58+BR58+BV58+BZ58+CD58+CH58+CL58+CP58+CT58+CX58+DB58+DF58+DJ58+DN58+DR58+DV58 -> 40 | EA58: =G58+K58+O58+S58+W58+AA58+AE58+AI58+AM58+AQ58+AU58+AY58+BC58+BG58+BK58+BO58+BS58+BW58+CA58+CE58+CI58+CM58+CQ58+CU58+CY58+DC58+DG58+DK58+DO58+DS58+DW58 -> 33 | EB58: =H58+L58+P58+T58+X58+AB58+AF58+AJ58+AN58+AR58+AV58+AZ58+BD58+BH58+BL58+BP58+BT58+BX58+CB58+CF58+CJ58+CN58+CR58+CV58+CZ58+DD58+DH58+DL58+DP58+DT58+DX58 -> 0 | EC58: =I58+M58+Q58+U58+Y58+AC58+AG58+AK58+AO58+AS58+AW58+BA58+BE58+BI58+BM58+BQ58+BU58+BY58+CC58+CG58+CK58+CO58+CS58+CW58+DA58+DE58+DI58+DM58+DQ58+DU58+DY58 -> 0
A59: 48 | B59: SHYLA503001TSBH06134 | C59: SHYLAJA HOSPITAL | D59: BESIDE POCHAMMA TEMPLE, POCHAMMMAGALLI, NIZAMBAD - 503001. | E59: 20 | G59: 2 | K59: 2 | N59: 3 | W59: 3 | Z59: 2 | AE59: 2 | AI59: 3 | AM59: 2 | AP59: 3 | AU59: 2 | AX59: 4 | BB59: 3 | BF59: 3 | BK59: 3 | BS59: 2 | BW59: 3 | BZ59: 3 | CD59: 2 | CH59: 3 | CM59: 2 | CP59: 4 | CT59: 3 | CY59: 2 | DB59: 3 | DJ59: 3 | DN59: 3 | DR59: 3 | DZ59: =F59+J59+N59+R59+V59+Z59+AD59+AH59+AL59+AP59+AT59+AX59+BB59+BF59+BJ59+BN59+BR59+BV59+BZ59+CD59+CH59+CL59+CP59+CT59+CX59+DB59+DF59+DJ59+DN59+DR59+DV59 -> 45 | EA59: =G59+K59+O59+S59+W59+AA59+AE59+AI59+AM59+AQ59+AU59+AY59+BC59+BG59+BK59+BO59+BS59+BW59+CA59+CE59+CI59+CM59+CQ59+CU59+CY59+DC59+DG59+DK59+DO59+DS59+DW59 -> 28 | EB59: =H59+L59+P59+T59+X59+AB59+AF59+AJ59+AN59+AR59+AV59+AZ59+BD59+BH59+BL59+BP59+BT59+BX59+CB59+CF59+CJ59+CN59+CR59+CV59+CZ59+DD59+DH59+DL59+DP59+DT59+DX59 -> 0 | EC59: =I59+M59+Q59+U59+Y59+AC59+AG59+AK59+AO59+AS59+AW59+BA59+BE59+BI59+BM59+BQ59+BU59+BY59+CC59+CG59+CK59+CO59+CS59+CW59+DA59+DE59+DI59+DM59+DQ59+DU59+DY59 -> 0
A60: 49 | B60: SRIDA503001TSBH11590 | C60: SRI DATTA MULTI SPECIALITY HOSPITAL | D60: H.NO. 5-6-238, OPP:DRO OFFICE, KHALEELWADI, NIZAMABAD - 503001. | E60: 20 | K60: 2 | N60: 3 | W60: 3 | Z60: 2 | AE60: 2 | AI60: 3 | AQ60: 3 | AY60: 3 | BB60: 4 | BF60: 3 | BJ60: 4 | BO60: 3 | BS60: 2 | BW60: 3 | BZ60: 3 | CD60: 2 | CH60: 3 | CM60: 2 | CT60: 3 | CY60: 2 | DF60: 3 | DJ60: 3 | DR60: 3 | DZ60: =F60+J60+N60+R60+V60+Z60+AD60+AH60+AL60+AP60+AT60+AX60+BB60+BF60+BJ60+BN60+BR60+BV60+BZ60+CD60+CH60+CL60+CP60+CT60+CX60+DB60+DF60+DJ60+DN60+DR60+DV60 -> 36 | EA60: =G60+K60+O60+S60+W60+AA60+AE60+AI60+AM60+AQ60+AU60+AY60+BC60+BG60+BK60+BO60+BS60+BW60+CA60+CE60+CI60+CM60+CQ60+CU60+CY60+DC60+DG60+DK60+DO60+DS60+DW60 -> 28 | EB60: =H60+L60+P60+T60+X60+AB60+AF60+AJ60+AN60+AR60+AV60+AZ60+BD60+BH60+BL60+BP60+BT60+BX60+CB60+CF60+CJ60+CN60+CR60+CV60+CZ60+DD60+DH60+DL60+DP60+DT60+DX60 -> 0 | EC60: =I60+M60+Q60+U60+Y60+AC60+AG60+AK60+AO60+AS60+AW60+BA60+BE60+BI60+BM60+BQ60+BU60+BY60+CC60+CG60+CK60+CO60+CS60+CW60+DA60+DE60+DI60+DM60+DQ60+DU60+DY60 -> 0
A61: 50 | B61: SSBAL503001TSBH06119 | C61: SS BALAJI HOSPITAL | D61: H.No: 5-6-162, BEHIND SYNDICATE BANK, OPP. KAPILA HOTEL, HYD ROAD, NIZAMABAD - 503001. | E61: 20 | F61: 3 | J61: 3 | N61: 3 | W61: 3 | Z61: 2 | AE61: 2 | AI61: 3 | AL61: 4 | AT61: 3 | AX61: 4 | BC61: 3 | BF61: 3 | BK61: 3 | BO61: 3 | BS61: 2 | BW61: 3 | BZ61: 3 | CD61: 2 | CH61: 3 | CM61: 2 | CP61: 4 | CX61: 3 | DB61: 3 | DJ61: 3 | DO61: 3 | DR61: 3 | DZ61: =F61+J61+N61+R61+V61+Z61+AD61+AH61+AL61+AP61+AT61+AX61+BB61+BF61+BJ61+BN61+BR61+BV61+BZ61+CD61+CH61+CL61+CP61+CT61+CX61+DB61+DF61+DJ61+DN61+DR61+DV61 -> 49 | EA61: =G61+K61+O61+S61+W61+AA61+AE61+AI61+AM61+AQ61+AU61+AY61+BC61+BG61+BK61+BO61+BS61+BW61+CA61+CE61+CI61+CM61+CQ61+CU61+CY61+DC61+DG61+DK61+DO61+DS61+DW61 -> 27 | EB61: =H61+L61+P61+T61+X61+AB61+AF61+AJ61+AN61+AR61+AV61+AZ61+BD61+BH61+BL61+BP61+BT61+BX61+CB61+CF61+CJ61+CN61+CR61+CV61+CZ61+DD61+DH61+DL61+DP61+DT61+DX61 -> 0 | EC61: =I61+M61+Q61+U61+Y61+AC61+AG61+AK61+AO61+AS61+AW61+BA61+BE61+BI61+BM61+BQ61+BU61+BY61+CC61+CG61+CK61+CO61+CS61+CW61+DA61+DE61+DI61+DM61+DQ61+DU61+DY61 -> 0
A62: 51 | B62: TAKSH503001TSBH09863 | C62: TAKSH MULTI SPECIALITY HOSPITAL | D62: IN LANE OPP: SUNFLOWER SCHOOL, WEEKLY MARKET, NIZAMABAD - 503001. | E62: 20 | J62: 3 | N62: 3 | W62: 3 | Z62: 2 | AE62: 2 | AI62: 3 | AQ62: 3 | AU62: 3 | AX62: 4 | BB62: 3 | BF62: 3 | BJ62: 3 | BO62: 3 | BS62: 2 | BZ62: 3 | CD62: 2 | CH62: 3 | CM62: 2 | CT62: 3 | CY62: 2 | DG62: 3 | DJ62: 3 | DR62: 3 | DZ62: =F62+J62+N62+R62+V62+Z62+AD62+AH62+AL62+AP62+AT62+AX62+BB62+BF62+BJ62+BN62+BR62+BV62+BZ62+CD62+CH62+CL62+CP62+CT62+CX62+DB62+DF62+DJ62+DN62+DR62+DV62 -> 38 | EA62: =G62+K62+O62+S62+W62+AA62+AE62+AI62+AM62+AQ62+AU62+AY62+BC62+BG62+BK62+BO62+BS62+BW62+CA62+CE62+CI62+CM62+CQ62+CU62+CY62+DC62+DG62+DK62+DO62+DS62+DW62 -> 26 | EB62: =H62+L62+P62+T62+X62+AB62+AF62+AJ62+AN62+AR62+AV62+AZ62+BD62+BH62+BL62+BP62+BT62+BX62+CB62+CF62+CJ62+CN62+CR62+CV62+CZ62+DD62+DH62+DL62+DP62+DT62+DX62 -> 0 | EC62: =I62+M62+Q62+U62+Y62+AC62+AG62+AK62+AO62+AS62+AW62+BA62+BE62+BI62+BM62+BQ62+BU62+BY62+CC62+CG62+CK62+CO62+CS62+CW62+DA62+DE62+DI62+DM62+DQ62+DU62+DY62 -> 0
A63: 52 | B63: TIRUM503001TSBH07828 | C63: THIRUMALA NURSING HOME | D63: H.No:5-7-99, DOCTOR'S LANE, KHALEELWADI, NIZAMABAD - 503001. | E63: 20 | F63: 3 | J63: 3 | N63: 3 | Z63: 2 | AD63: 2 | AH63: 3 | AL63: 3 | AP63: 3 | AT63: 3 | AX63: 3 | BG63: 3 | BO63: 3 | BS63: 2 | BW63: 3 | BZ63: 3 | CD63: 2 | CH63: 3 | CM63: 2 | CU63: 5 | CX63: 3 | DK63: 2 | DN63: 3 | DR63: 3 | DZ63: =F63+J63+N63+R63+V63+Z63+AD63+AH63+AL63+AP63+AT63+AX63+BB63+BF63+BJ63+BN63+BR63+BV63+BZ63+CD63+CH63+CL63+CP63+CT63+CX63+DB63+DF63+DJ63+DN63+DR63+DV63 -> 45 | EA63: =G63+K63+O63+S63+W63+AA63+AE63+AI63+AM63+AQ63+AU63+AY63+BC63+BG63+BK63+BO63+BS63+BW63+CA63+CE63+CI63+CM63+CQ63+CU63+CY63+DC63+DG63+DK63+DO63+DS63+DW63 -> 20 | EB63: =H63+L63+P63+T63+X63+AB63+AF63+AJ63+AN63+AR63+AV63+AZ63+BD63+BH63+BL63+BP63+BT63+BX63+CB63+CF63+CJ63+CN63+CR63+CV63+CZ63+DD63+DH63+DL63+DP63+DT63+DX63 -> 0 | EC63: =I63+M63+Q63+U63+Y63+AC63+AG63+AK63+AO63+AS63+AW63+BA63+BE63+BI63+BM63+BQ63+BU63+BY63+CC63+CG63+CK63+CO63+CS63+CW63+DA63+DE63+DI63+DM63+DQ63+DU63+DY63 -> 0
A64: 53 | B64: VASAV503001TSBH00977 | C64: VASAVI EYE HOSPITAL | D64: H.No.5-7-17, KHALELWADI, NIZAMABAD - 503001. | E64: 20 | J64: 5 | N64: 3 | V64: 3 | Z64: 2 | AD64: 2 | AH64: 3 | AP64: 3 | AT64: 3 | BC64: 3 | BK64: 3 | BO64: 3 | BS64: 2 | BW64: 3 | BZ64: 3 | CD64: 2 | CH64: 3 | CM64: 2 | CP64: 3 | CX64: 3 | DB64: 3 | DF64: 3 | DJ64: 3 | DR64: 3 | DZ64: =F64+J64+N64+R64+V64+Z64+AD64+AH64+AL64+AP64+AT64+AX64+BB64+BF64+BJ64+BN64+BR64+BV64+BZ64+CD64+CH64+CL64+CP64+CT64+CX64+DB64+DF64+DJ64+DN64+DR64+DV64 -> 50 | EA64: =G64+K64+O64+S64+W64+AA64+AE64+AI64+AM64+AQ64+AU64+AY64+BC64+BG64+BK64+BO64+BS64+BW64+CA64+CE64+CI64+CM64+CQ64+CU64+CY64+DC64+DG64+DK64+DO64+DS64+DW64 -> 16 | EB64: =H64+L64+P64+T64+X64+AB64+AF64+AJ64+AN64+AR64+AV64+AZ64+BD64+BH64+BL64+BP64+BT64+BX64+CB64+CF64+CJ64+CN64+CR64+CV64+CZ64+DD64+DH64+DL64+DP64+DT64+DX64 -> 0 | EC64: =I64+M64+Q64+U64+Y64+AC64+AG64+AK64+AO64+AS64+AW64+BA64+BE64+BI64+BM64+BQ64+BU64+BY64+CC64+CG64+CK64+CO64+CS64+CW64+DA64+DE64+DI64+DM64+DQ64+DU64+DY64 -> 0
A65: 54 | B65: VEDAN503001TSBH09864 | C65: VEDANSH HOSPITAL | D65: BEHIND PRAGATHI HOSPITAL, SARASWATHI NAGAR, NIZAMABAD - 503001. | E65: 20 | DZ65: =F65+J65+N65+R65+V65+Z65+AD65+AH65+AL65+AP65+AT65+AX65+BB65+BF65+BJ65+BN65+BR65+BV65+BZ65+CD65+CH65+CL65+CP65+CT65+CX65+DB65+DF65+DJ65+DN65+DR65+DV65 -> 0 | EA65: =G65+K65+O65+S65+W65+AA65+AE65+AI65+AM65+AQ65+AU65+AY65+BC65+BG65+BK65+BO65+BS65+BW65+CA65+CE65+CI65+CM65+CQ65+CU65+CY65+DC65+DG65+DK65+DO65+DS65+DW65 -> 0 | EB65: =H65+L65+P65+T65+X65+AB65+AF65+AJ65+AN65+AR65+AV65+AZ65+BD65+BH65+BL65+BP65+BT65+BX65+CB65+CF65+CJ65+CN65+CR65+CV65+CZ65+DD65+DH65+DL65+DP65+DT65+DX65 -> 0 | EC65: =I65+M65+Q65+U65+Y65+AC65+AG65+AK65+AO65+AS65+AW65+BA65+BE65+BI65+BM65+BQ65+BU65+BY65+CC65+CG65+CK65+CO65+CS65+CW65+DA65+DE65+DI65+DM65+DQ65+DU65+DY65 -> 0
B66: 19 TO 1 BEDS HCFs
A67: 55 | B67: ARPIT503001TSBH11560 | C67: ARPITHA HOSPITAL | D67: RAJEEV GANDHI AUDITORIUM LANE, KHALEELWADI, NIZAMABAD, 503001 | E67: 18 | F67: 2 | N67: 2 | R67: 3 | Z67: 2 | AL67: 3 | AT67: 3 | BB67: 3 | BJ67: 3 | BO67: 3 | BS67: 2 | BW67: 3 | CM67: 2 | CP67: 3 | CQ67: 3 | CX67: 3 | DC67: 2 | DK67: 2 | DN67: 3 | DZ67: =F67+J67+N67+R67+V67+Z67+AD67+AH67+AL67+AP67+AT67+AX67+BB67+BF67+BJ67+BN67+BR67+BV67+BZ67+CD67+CH67+CL67+CP67+CT67+CX67+DB67+DF67+DJ67+DN67+DR67+DV67 -> 30 | EA67: =G67+K67+O67+S67+W67+AA67+AE67+AI67+AM67+AQ67+AU67+AY67+BC67+BG67+BK67+BO67+BS67+BW67+CA67+CE67+CI67+CM67+CQ67+CU67+CY67+DC67+DG67+DK67+DO67+DS67+DW67 -> 17 | EB67: =H67+L67+P67+T67+X67+AB67+AF67+AJ67+AN67+AR67+AV67+AZ67+BD67+BH67+BL67+BP67+BT67+BX67+CB67+CF67+CJ67+CN67+CR67+CV67+CZ67+DD67+DH67+DL67+DP67+DT67+DX67 -> 0 | EC67: =I67+M67+Q67+U67+Y67+AC67+AG67+AK67+AO67+AS67+AW67+BA67+BE67+BI67+BM67+BQ67+BU67+BY67+CC67+CG67+CK67+CO67+CS67+CW67+DA67+DE67+DI67+DM67+DQ67+DU67+DY67 -> 0
A68: 56 | B68: AASHI503001TSBH07081 | C68: AASHIRWAD HOSPITAL | D68: SARASWATHI NAGAR, NIZAMABAD - 503001. | E68: 15 | N68: 2 | R68: 3 | Z68: 2 | AP68: 4 | AT68: 3 | AY68: 3 | BB68: 3 | BG68: 2 | BJ68: 3 | BO68: 3 | BS68: 2 | BW68: 3 | CM68: 2 | CU68: 2 | CX68: 3 | DF68: 3 | DJ68: 3 | DN68: 3 | DZ68: =F68+J68+N68+R68+V68+Z68+AD68+AH68+AL68+AP68+AT68+AX68+BB68+BF68+BJ68+BN68+BR68+BV68+BZ68+CD68+CH68+CL68+CP68+CT68+CX68+DB68+DF68+DJ68+DN68+DR68+DV68 -> 32 | EA68: =G68+K68+O68+S68+W68+AA68+AE68+AI68+AM68+AQ68+AU68+AY68+BC68+BG68+BK68+BO68+BS68+BW68+CA68+CE68+CI68+CM68+CQ68+CU68+CY68+DC68+DG68+DK68+DO68+DS68+DW68 -> 17 | EB68: =H68+L68+P68+T68+X68+AB68+AF68+AJ68+AN68+AR68+AV68+AZ68+BD68+BH68+BL68+BP68+BT68+BX68+CB68+CF68+CJ68+CN68+CR68+CV68+CZ68+DD68+DH68+DL68+DP68+DT68+DX68 -> 0 | EC68: =I68+M68+Q68+U68+Y68+AC68+AG68+AK68+AO68+AS68+AW68+BA68+BE68+BI68+BM68+BQ68+BU68+BY68+CC68+CG68+CK68+CO68+CS68+CW68+DA68+DE68+DI68+DM68+DQ68+DU68+DY68 -> 0
A69: 57 | B69: CHAKR503001TSBH09866 | C69: CHAKRAPANI NEURO CARE HOSPITAL | D69: OPP:SANDHYA RANI HOSPITAL, BUS STAND LANE, KHALEELWADI, NIZAMABAD - 503001. | E69: 15 | R69: 3 | Z69: 2 | AM69: 2 | AP69: 4 | AY69: 2 | BC69: 2 | BF69: 3 | BJ69: 3 | BO69: 3 | BW69: 3 | CM69: 2 | CT69: 3 | CY69: 2 | DB69: 3 | DF69: 3 | DJ69: 3 | DZ69: =F69+J69+N69+R69+V69+Z69+AD69+AH69+AL69+AP69+AT69+AX69+BB69+BF69+BJ69+BN69+BR69+BV69+BZ69+CD69+CH69+CL69+CP69+CT69+CX69+DB69+DF69+DJ69+DN69+DR69+DV69 -> 27 | EA69: =G69+K69+O69+S69+W69+AA69+AE69+AI69+AM69+AQ69+AU69+AY69+BC69+BG69+BK69+BO69+BS69+BW69+CA69+CE69+CI69+CM69+CQ69+CU69+CY69+DC69+DG69+DK69+DO69+DS69+DW69 -> 16 | EB69: =H69+L69+P69+T69+X69+AB69+AF69+AJ69+AN69+AR69+AV69+AZ69+BD69+BH69+BL69+BP69+BT69+BX69+CB69+CF69+CJ69+CN69+CR69+CV69+CZ69+DD69+DH69+DL69+DP69+DT69+DX69 -> 0 | EC69: =I69+M69+Q69+U69+Y69+AC69+AG69+AK69+AO69+AS69+AW69+BA69+BE69+BI69+BM69+BQ69+BU69+BY69+CC69+CG69+CK69+CO69+CS69+CW69+DA69+DE69+DI69+DM69+DQ69+DU69+DY69 -> 0
A70: 58 | B70: CHAND503001TSBH00959 | C70: CHANDRASHEKAR ORTHOPAEDIC HOSPITAL | D70: OPP. BALAJI LAB, KHALEEL WADI, NIZAMABAD - 503001. | E70: 15 | N70: 2 | R70: 3 | Z70: 2 | AP70: 4 | AT70: 3 | AX70: 3 | BB70: 3 | BK70: 2 | BO70: 3 | BS70: 2 | CM70: 2 | CQ70: 2 | CX70: 3 | DC70: 2 | DJ70: 3 | DO70: 3 | DZ70: =F70+J70+N70+R70+V70+Z70+AD70+AH70+AL70+AP70+AT70+AX70+BB70+BF70+BJ70+BN70+BR70+BV70+BZ70+CD70+CH70+CL70+CP70+CT70+CX70+DB70+DF70+DJ70+DN70+DR70+DV70 -> 26 | EA70: =G70+K70+O70+S70+W70+AA70+AE70+AI70+AM70+AQ70+AU70+AY70+BC70+BG70+BK70+BO70+BS70+BW70+CA70+CE70+CI70+CM70+CQ70+CU70+CY70+DC70+DG70+DK70+DO70+DS70+DW70 -> 16 | EB70: =H70+L70+P70+T70+X70+AB70+AF70+AJ70+AN70+AR70+AV70+AZ70+BD70+BH70+BL70+BP70+BT70+BX70+CB70+CF70+CJ70+CN70+CR70+CV70+CZ70+DD70+DH70+DL70+DP70+DT70+DX70 -> 0 | EC70: =I70+M70+Q70+U70+Y70+AC70+AG70+AK70+AO70+AS70+AW70+BA70+BE70+BI70+BM70+BQ70+BU70+BY70+CC70+CG70+CK70+CO70+CS70+CW70+DA70+DE70+DI70+DM70+DQ70+DU70+DY70 -> 0
A71: 59 | B71: DWARA503001TSBH01041 | C71: DWARAKAMAI CHILDRENS HOSPITAL | D71: J.J.REDDY X ROAD, KHALEELWADI, NIZAMABAD - 503001. | E71: 15 | N71: 2 | R71: 3 | Z71: 2 | AP71: 3 | AT71: 3 | AY71: 2 | BG71: 2 | BO71: 3 | BS71: 2 | CM71: 2 | CP71: 3 | CU71: 2 | CX71: 3 | DB71: 3 | DG71: 2 | DJ71: 2 | DZ71: =F71+J71+N71+R71+V71+Z71+AD71+AH71+AL71+AP71+AT71+AX71+BB71+BF71+BJ71+BN71+BR71+BV71+BZ71+CD71+CH71+CL71+CP71+CT71+CX71+DB71+DF71+DJ71+DN71+DR71+DV71 -> 24 | EA71: =G71+K71+O71+S71+W71+AA71+AE71+AI71+AM71+AQ71+AU71+AY71+BC71+BG71+BK71+BO71+BS71+BW71+CA71+CE71+CI71+CM71+CQ71+CU71+CY71+DC71+DG71+DK71+DO71+DS71+DW71 -> 15 | EB71: =H71+L71+P71+T71+X71+AB71+AF71+AJ71+AN71+AR71+AV71+AZ71+BD71+BH71+BL71+BP71+BT71+BX71+CB71+CF71+CJ71+CN71+CR71+CV71+CZ71+DD71+DH71+DL71+DP71+DT71+DX71 -> 0 | EC71: =I71+M71+Q71+U71+Y71+AC71+AG71+AK71+AO71+AS71+AW71+BA71+BE71+BI71+BM71+BQ71+BU71+BY71+CC71+CG71+CK71+CO71+CS71+CW71+DA71+DE71+DI71+DM71+DQ71+DU71+DY71 -> 0
A72: 60 | B72: KIWIS503001TSBH00969 | C72: KIWI SPECIALITY HOSPITAL | D72: BESIDE SYNDICATE BANK, KHALEELWADI, NIZAMABAD - 503001. | E72: 15 | G72: 2 | N72: 2 | R72: 3 | Z72: 2 | AM72: 2 | AP72: 3 | AU72: 2 | AX72: 3 | BC72: 2 | BJ72: 3 | BO72: 3 | BS72: 2 | BW72: 3 | CM72: 2 | CP72: 3 | CY72: 2 | DB72: 3 | DJ72: 2 | DO72: 2 | DZ72: =F72+J72+N72+R72+V72+Z72+AD72+AH72+AL72+AP72+AT72+AX72+BB72+BF72+BJ72+BN72+BR72+BV72+BZ72+CD72+CH72+CL72+CP72+CT72+CX72+DB72+DF72+DJ72+DN72+DR72+DV72 -> 24 | EA72: =G72+K72+O72+S72+W72+AA72+AE72+AI72+AM72+AQ72+AU72+AY72+BC72+BG72+BK72+BO72+BS72+BW72+CA72+CE72+CI72+CM72+CQ72+CU72+CY72+DC72+DG72+DK72+DO72+DS72+DW72 -> 22 | EB72: =H72+L72+P72+T72+X72+AB72+AF72+AJ72+AN72+AR72+AV72+AZ72+BD72+BH72+BL72+BP72+BT72+BX72+CB72+CF72+CJ72+CN72+CR72+CV72+CZ72+DD72+DH72+DL72+DP72+DT72+DX72 -> 0 | EC72: =I72+M72+Q72+U72+Y72+AC72+AG72+AK72+AO72+AS72+AW72+BA72+BE72+BI72+BM72+BQ72+BU72+BY72+CC72+CG72+CK72+CO72+CS72+CW72+DA72+DE72+DI72+DM72+DQ72+DU72+DY72 -> 0
A73: 61 | B73: LATHA503001TSBH08537 | C73: LATHA NURSING HOME | D73: (Dr.M.BHOOMA REDDY) H.NO: 5-7-160, KHALEELWADI, NIZAMABAD - 503001. | E73: 15 | N73: 2 | R73: 3 | Z73: 2 | AQ73: 2 | AT73: 3 | AY73: 2 | BF73: 3 | BO73: 3 | BS73: 2 | BW73: 3 | CM73: 2 | CQ73: 2 | CT73: 3 | CX73: 3 | DB73: 3 | DG73: 2 | DJ73: 2 | DZ73: =F73+J73+N73+R73+V73+Z73+AD73+AH73+AL73+AP73+AT73+AX73+BB73+BF73+BJ73+BN73+BR73+BV73+BZ73+CD73+CH73+CL73+CP73+CT73+CX73+DB73+DF73+DJ73+DN73+DR73+DV73 -> 24 | EA73: =G73+K73+O73+S73+W73+AA73+AE73+AI73+AM73+AQ73+AU73+AY73+BC73+BG73+BK73+BO73+BS73+BW73+CA73+CE73+CI73+CM73+CQ73+CU73+CY73+DC73+DG73+DK73+DO73+DS73+DW73 -> 18 | EB73: =H73+L73+P73+T73+X73+AB73+AF73+AJ73+AN73+AR73+AV73+AZ73+BD73+BH73+BL73+BP73+BT73+BX73+CB73+CF73+CJ73+CN73+CR73+CV73+CZ73+DD73+DH73+DL73+DP73+DT73+DX73 -> 0 | EC73: =I73+M73+Q73+U73+Y73+AC73+AG73+AK73+AO73+AS73+AW73+BA73+BE73+BI73+BM73+BQ73+BU73+BY73+CC73+CG73+CK73+CO73+CS73+CW73+DA73+DE73+DI73+DM73+DQ73+DU73+DY73 -> 0
A74: 62 | B74: MAAMU503001TSBH11385 | C74: MAA MULTISPECIALITY HOSPITAL | D74: OPP: SUNFLOWER HIGH SCHOOL, BESIDE DR. KAVITHA REDDY HOSPITAL, WEEKLY MARKET, NIZAMABAD 503001. | E74: 15 | N74: 2 | R74: 3 | Z74: 2 | BO74: 3 | BS74: 2 | BW74: 3 | CM74: 2 | DZ74: =F74+J74+N74+R74+V74+Z74+AD74+AH74+AL74+AP74+AT74+AX74+BB74+BF74+BJ74+BN74+BR74+BV74+BZ74+CD74+CH74+CL74+CP74+CT74+CX74+DB74+DF74+DJ74+DN74+DR74+DV74 -> 7 | EA74: =G74+K74+O74+S74+W74+AA74+AE74+AI74+AM74+AQ74+AU74+AY74+BC74+BG74+BK74+BO74+BS74+BW74+CA74+CE74+CI74+CM74+CQ74+CU74+CY74+DC74+DG74+DK74+DO74+DS74+DW74 -> 10 | EB74: =H74+L74+P74+T74+X74+AB74+AF74+AJ74+AN74+AR74+AV74+AZ74+BD74+BH74+BL74+BP74+BT74+BX74+CB74+CF74+CJ74+CN74+CR74+CV74+CZ74+DD74+DH74+DL74+DP74+DT74+DX74 -> 0 | EC74: =I74+M74+Q74+U74+Y74+AC74+AG74+AK74+AO74+AS74+AW74+BA74+BE74+BI74+BM74+BQ74+BU74+BY74+CC74+CG74+CK74+CO74+CS74+CW74+DA74+DE74+DI74+DM74+DQ74+DU74+DY74 -> 0
A75: 63 | B75: MAHAL503001TSBH09862 | C75: MAHALAXMI NURSING HOME | D75: H.NO:5-7-76, KHALEELWADI, NIZAMABAD - 503001. | E75: 15 | N75: 2 | R75: 3 | Z75: 2 | AP75: 3 | AT75: 3 | AX75: 3 | BC75: 2 | BK75: 2 | BS75: 2 | BW75: 3 | CM75: 2 | CX75: 3 | DN75: 3 | DZ75: =F75+J75+N75+R75+V75+Z75+AD75+AH75+AL75+AP75+AT75+AX75+BB75+BF75+BJ75+BN75+BR75+BV75+BZ75+CD75+CH75+CL75+CP75+CT75+CX75+DB75+DF75+DJ75+DN75+DR75+DV75 -> 22 | EA75: =G75+K75+O75+S75+W75+AA75+AE75+AI75+AM75+AQ75+AU75+AY75+BC75+BG75+BK75+BO75+BS75+BW75+CA75+CE75+CI75+CM75+CQ75+CU75+CY75+DC75+DG75+DK75+DO75+DS75+DW75 -> 11 | EB75: =H75+L75+P75+T75+X75+AB75+AF75+AJ75+AN75+AR75+AV75+AZ75+BD75+BH75+BL75+BP75+BT75+BX75+CB75+CF75+CJ75+CN75+CR75+CV75+CZ75+DD75+DH75+DL75+DP75+DT75+DX75 -> 0 | EC75: =I75+M75+Q75+U75+Y75+AC75+AG75+AK75+AO75+AS75+AW75+BA75+BE75+BI75+BM75+BQ75+BU75+BY75+CC75+CG75+CK75+CO75+CS75+CW75+DA75+DE75+DI75+DM75+DQ75+DU75+DY75 -> 0
A76: 64 | B76: MANOR503001TSBH06133 | C76: MANORAMA HOSPITAL | D76: OPP. BUSTAND, KHALEEL WADI, NIZAMABAD - 503001. | E76: 15 | N76: 2 | R76: 3 | Z76: 2 | AM76: 2 | AP76: 3 | AT76: 3 | AY76: 2 | BB76: 3 | BG76: 2 | BJ76: 3 | BS76: 2 | BW76: 3 | CM76: 2 | CU76: 2 | CX76: 3 | DF76: 3 | DJ76: 3 | DZ76: =F76+J76+N76+R76+V76+Z76+AD76+AH76+AL76+AP76+AT76+AX76+BB76+BF76+BJ76+BN76+BR76+BV76+BZ76+CD76+CH76+CL76+CP76+CT76+CX76+DB76+DF76+DJ76+DN76+DR76+DV76 -> 28 | EA76: =G76+K76+O76+S76+W76+AA76+AE76+AI76+AM76+AQ76+AU76+AY76+BC76+BG76+BK76+BO76+BS76+BW76+CA76+CE76+CI76+CM76+CQ76+CU76+CY76+DC76+DG76+DK76+DO76+DS76+DW76 -> 15 | EB76: =H76+L76+P76+T76+X76+AB76+AF76+AJ76+AN76+AR76+AV76+AZ76+BD76+BH76+BL76+BP76+BT76+BX76+CB76+CF76+CJ76+CN76+CR76+CV76+CZ76+DD76+DH76+DL76+DP76+DT76+DX76 -> 0 | EC76: =I76+M76+Q76+U76+Y76+AC76+AG76+AK76+AO76+AS76+AW76+BA76+BE76+BI76+BM76+BQ76+BU76+BY76+CC76+CG76+CK76+CO76+CS76+CW76+DA76+DE76+DI76+DM76+DQ76+DU76+DY76 -> 0
A77: 65 | B77: PAVAN503001TSBH07053 | C77: PAVAN NEURO HOSPITAL | D77: H.NO. 5-6-92, J J REDDY HOSPITAL LINE, BESIDE TEJA HOSPITAL, DWARAKA NAGAR, KHALEELWADI, NIZAMABAD - 503001. | E77: 15 | N77: 2 | R77: 3 | Z77: 2 | AT77: 3 | BB77: 3 | BJ77: 3 | BS77: 2 | BW77: 3 | CM77: 2 | CQ77: 2 | CT77: 3 | CU77: 2 | CX77: 3 | DC77: 2 | DG77: 3 | DJ77: 3 | DZ77: =F77+J77+N77+R77+V77+Z77+AD77+AH77+AL77+AP77+AT77+AX77+BB77+BF77+BJ77+BN77+BR77+BV77+BZ77+CD77+CH77+CL77+CP77+CT77+CX77+DB77+DF77+DJ77+DN77+DR77+DV77 -> 25 | EA77: =G77+K77+O77+S77+W77+AA77+AE77+AI77+AM77+AQ77+AU77+AY77+BC77+BG77+BK77+BO77+BS77+BW77+CA77+CE77+CI77+CM77+CQ77+CU77+CY77+DC77+DG77+DK77+DO77+DS77+DW77 -> 16 | EB77: =H77+L77+P77+T77+X77+AB77+AF77+AJ77+AN77+AR77+AV77+AZ77+BD77+BH77+BL77+BP77+BT77+BX77+CB77+CF77+CJ77+CN77+CR77+CV77+CZ77+DD77+DH77+DL77+DP77+DT77+DX77 -> 0 | EC77: =I77+M77+Q77+U77+Y77+AC77+AG77+AK77+AO77+AS77+AW77+BA77+BE77+BI77+BM77+BQ77+BU77+BY77+CC77+CG77+CK77+CO77+CS77+CW77+DA77+DE77+DI77+DM77+DQ77+DU77+DY77 -> 0
A78: 66 | B78: SAADH503001TSBH08525 | C78: SAADHYA MULTISPECIALITY HOSPITAL | D78: BEHIND BHARATHI RANI HOSPITAL, OPP: DWARAKA ENT HOSPITAL, KHALEELWADI, NIZAMABAD - 503001. | E78: 15 | F78: 3 | N78: 2 | R78: 3 | Z78: 2 | AL78: 3 | AP78: 3 | AU78: 2 | BC78: 2 | BK78: 2 | BS78: 2 | BW78: 3 | CM78: 2 | CP78: 3 | CT78: 3 | CX78: 3 | DB78: 3 | DN78: 3 | DZ78: =F78+J78+N78+R78+V78+Z78+AD78+AH78+AL78+AP78+AT78+AX78+BB78+BF78+BJ78+BN78+BR78+BV78+BZ78+CD78+CH78+CL78+CP78+CT78+CX78+DB78+DF78+DJ78+DN78+DR78+DV78 -> 31 | EA78: =G78+K78+O78+S78+W78+AA78+AE78+AI78+AM78+AQ78+AU78+AY78+BC78+BG78+BK78+BO78+BS78+BW78+CA78+CE78+CI78+CM78+CQ78+CU78+CY78+DC78+DG78+DK78+DO78+DS78+DW78 -> 13 | EB78: =H78+L78+P78+T78+X78+AB78+AF78+AJ78+AN78+AR78+AV78+AZ78+BD78+BH78+BL78+BP78+BT78+BX78+CB78+CF78+CJ78+CN78+CR78+CV78+CZ78+DD78+DH78+DL78+DP78+DT78+DX78 -> 0 | EC78: =I78+M78+Q78+U78+Y78+AC78+AG78+AK78+AO78+AS78+AW78+BA78+BE78+BI78+BM78+BQ78+BU78+BY78+CC78+CG78+CK78+CO78+CS78+CW78+DA78+DE78+DI78+DM78+DQ78+DU78+DY78 -> 0
A79: 67 | B79: SHASH503001TSBH00930 | C79: SHASHANK HOSPITAL | D79: OPP: BUSTAND LANE, KHALEELWADI, NIZAMABAD - 503001. | E79: 15 | N79: 2 | R79: 3 | Z79: 2 | AQ79: 2 | AT79: 3 | AY79: 2 | BG79: 2 | BN79: 3 | BS79: 2 | BW79: 3 | CM79: 2 | CP79: 3 | CU79: 2 | CX79: 3 | DB79: 3 | DJ79: 3 | DN79: 3 | DZ79: =F79+J79+N79+R79+V79+Z79+AD79+AH79+AL79+AP79+AT79+AX79+BB79+BF79+BJ79+BN79+BR79+BV79+BZ79+CD79+CH79+CL79+CP79+CT79+CX79+DB79+DF79+DJ79+DN79+DR79+DV79 -> 28 | EA79: =G79+K79+O79+S79+W79+AA79+AE79+AI79+AM79+AQ79+AU79+AY79+BC79+BG79+BK79+BO79+BS79+BW79+CA79+CE79+CI79+CM79+CQ79+CU79+CY79+DC79+DG79+DK79+DO79+DS79+DW79 -> 15 | EB79: =H79+L79+P79+T79+X79+AB79+AF79+AJ79+AN79+AR79+AV79+AZ79+BD79+BH79+BL79+BP79+BT79+BX79+CB79+CF79+CJ79+CN79+CR79+CV79+CZ79+DD79+DH79+DL79+DP79+DT79+DX79 -> 0 | EC79: =I79+M79+Q79+U79+Y79+AC79+AG79+AK79+AO79+AS79+AW79+BA79+BE79+BI79+BM79+BQ79+BU79+BY79+CC79+CG79+CK79+CO79+CS79+CW79+DA79+DE79+DI79+DM79+DQ79+DU79+DY79 -> 0
A80: 68 | B80: SILVE503001TSBH08526 | C80: SILVERLINE HOSPITALS | D80: OPP: DR BHARATHI RANI HOSPITAL, SARASWATHI NAGAR, KHALEELWADI, NIZAMABAD - 503001. Telangana-503001 | E80: 15 | G80: 3 | N80: 2 | R80: 3 | Z80: 2 | AL80: 3 | AT80: 3 | AX80: 3 | BB80: 3 | BF80: 3 | BK80: 2 | BS80: 2 | BW80: 3 | CM80: 2 | CQ80: 2 | CX80: 3 | DC80: 2 | DF80: 3 | DJ80: 3 | DN80: 3 | DZ80: =F80+J80+N80+R80+V80+Z80+AD80+AH80+AL80+AP80+AT80+AX80+BB80+BF80+BJ80+BN80+BR80+BV80+BZ80+CD80+CH80+CL80+CP80+CT80+CX80+DB80+DF80+DJ80+DN80+DR80+DV80 -> 34 | EA80: =G80+K80+O80+S80+W80+AA80+AE80+AI80+AM80+AQ80+AU80+AY80+BC80+BG80+BK80+BO80+BS80+BW80+CA80+CE80+CI80+CM80+CQ80+CU80+CY80+DC80+DG80+DK80+DO80+DS80+DW80 -> 16 | EB80: =H80+L80+P80+T80+X80+AB80+AF80+AJ80+AN80+AR80+AV80+AZ80+BD80+BH80+BL80+BP80+BT80+BX80+CB80+CF80+CJ80+CN80+CR80+CV80+CZ80+DD80+DH80+DL80+DP80+DT80+DX80 -> 0 | EC80: =I80+M80+Q80+U80+Y80+AC80+AG80+AK80+AO80+AS80+AW80+BA80+BE80+BI80+BM80+BQ80+BU80+BY80+CC80+CG80+CK80+CO80+CS80+CW80+DA80+DE80+DI80+DM80+DQ80+DU80+DY80 -> 0
A81: 69 | B81: SRIHA503001TSBH00960 | C81: SRI HARSHA KIDNEY & URO CENTRE | D81: H.NO. 5-6-92, DWARAKA NAGAR, KHALEELWADI, NIZAMABAD - 503001. | E81: 15 | N81: 2 | R81: 3 | Z81: 2 | AL81: 3 | AP81: 3 | AY81: 2 | BG81: 2 | BO81: 3 | BS81: 2 | BW81: 3 | CM81: 2 | CP81: 3 | CU81: 2 | CX81: 3 | DB81: 3 | DG81: 2 | DJ81: 3 | DZ81: =F81+J81+N81+R81+V81+Z81+AD81+AH81+AL81+AP81+AT81+AX81+BB81+BF81+BJ81+BN81+BR81+BV81+BZ81+CD81+CH81+CL81+CP81+CT81+CX81+DB81+DF81+DJ81+DN81+DR81+DV81 -> 25 | EA81: =G81+K81+O81+S81+W81+AA81+AE81+AI81+AM81+AQ81+AU81+AY81+BC81+BG81+BK81+BO81+BS81+BW81+CA81+CE81+CI81+CM81+CQ81+CU81+CY81+DC81+DG81+DK81+DO81+DS81+DW81 -> 18 | EB81: =H81+L81+P81+T81+X81+AB81+AF81+AJ81+AN81+AR81+AV81+AZ81+BD81+BH81+BL81+BP81+BT81+BX81+CB81+CF81+CJ81+CN81+CR81+CV81+CZ81+DD81+DH81+DL81+DP81+DT81+DX81 -> 0 | EC81: =I81+M81+Q81+U81+Y81+AC81+AG81+AK81+AO81+AS81+AW81+BA81+BE81+BI81+BM81+BQ81+BU81+BY81+CC81+CG81+CK81+CO81+CS81+CW81+DA81+DE81+DI81+DM81+DQ81+DU81+DY81 -> 0
A82: 70 | B82: SWETH503001TSBH08530 | C82: SWETHA KIDNEY CENTRE & MATERNITY NURSING HOME | D82: OPP: DESAI BEEDI GODOWN, HYDERABAD ROAD, NIZAMABAD - 503001. | E82: 15 | G82: 2 | N82: 2 | R82: 3 | Z82: 2 | AQ82: 2 | AU82: 2 | BB82: 3 | BF82: 3 | BJ82: 3 | BO82: 3 | BS82: 2 | BW82: 3 | CM82: 2 | CP82: 3 | CY82: 2 | DB82: 3 | DF82: 3 | DJ82: 3 | DZ82: =F82+J82+N82+R82+V82+Z82+AD82+AH82+AL82+AP82+AT82+AX82+BB82+BF82+BJ82+BN82+BR82+BV82+BZ82+CD82+CH82+CL82+CP82+CT82+CX82+DB82+DF82+DJ82+DN82+DR82+DV82 -> 28 | EA82: =G82+K82+O82+S82+W82+AA82+AE82+AI82+AM82+AQ82+AU82+AY82+BC82+BG82+BK82+BO82+BS82+BW82+CA82+CE82+CI82+CM82+CQ82+CU82+CY82+DC82+DG82+DK82+DO82+DS82+DW82 -> 18 | EB82: =H82+L82+P82+T82+X82+AB82+AF82+AJ82+AN82+AR82+AV82+AZ82+BD82+BH82+BL82+BP82+BT82+BX82+CB82+CF82+CJ82+CN82+CR82+CV82+CZ82+DD82+DH82+DL82+DP82+DT82+DX82 -> 0 | EC82: =I82+M82+Q82+U82+Y82+AC82+AG82+AK82+AO82+AS82+AW82+BA82+BE82+BI82+BM82+BQ82+BU82+BY82+CC82+CG82+CK82+CO82+CS82+CW82+DA82+DE82+DI82+DM82+DQ82+DU82+DY82 -> 0
A83: 71 | B83: VENKA503001TSBH00962 | C83: VENKAT CHILDREN'S HOSPITAL | D83: NEAR INDIAN BANK, KHALEEL WADI, NIZAMABAD - 503001. | E83: 15 | F83: 3 | N83: 2 | R83: 3 | Z83: 2 | AM83: 2 | BB83: 3 | BG83: 2 | BJ83: 3 | BO83: 3 | BS83: 2 | CM83: 2 | CQ83: 3 | CT83: 3 | DC83: 2 | DN83: 3 | DZ83: =F83+J83+N83+R83+V83+Z83+AD83+AH83+AL83+AP83+AT83+AX83+BB83+BF83+BJ83+BN83+BR83+BV83+BZ83+CD83+CH83+CL83+CP83+CT83+CX83+DB83+DF83+DJ83+DN83+DR83+DV83 -> 22 | EA83: =G83+K83+O83+S83+W83+AA83+AE83+AI83+AM83+AQ83+AU83+AY83+BC83+BG83+BK83+BO83+BS83+BW83+CA83+CE83+CI83+CM83+CQ83+CU83+CY83+DC83+DG83+DK83+DO83+DS83+DW83 -> 16 | EB83: =H83+L83+P83+T83+X83+AB83+AF83+AJ83+AN83+AR83+AV83+AZ83+BD83+BH83+BL83+BP83+BT83+BX83+CB83+CF83+CJ83+CN83+CR83+CV83+CZ83+DD83+DH83+DL83+DP83+DT83+DX83 -> 0 | EC83: =I83+M83+Q83+U83+Y83+AC83+AG83+AK83+AO83+AS83+AW83+BA83+BE83+BI83+BM83+BQ83+BU83+BY83+CC83+CG83+CK83+CO83+CS83+CW83+DA83+DE83+DI83+DM83+DQ83+DU83+DY83 -> 0
A84: 72 | B84: VENKA503001TSBH01918 | C84: VENKATA SAI NEW BORN CHILDRENS HOSPITAL | D84: ROAD NO. 3, OPP: R.D.O OFFICE, SARASWATHI NAGAR, NIZAMBAD - 503001. | E84: 15 | N84: 2 | R84: 3 | Z84: 2 | AT84: 3 | BB84: 3 | BF84: 3 | BK84: 2 | BS84: 2 | CM84: 2 | CQ84: 2 | CX84: 3 | DC84: 2 | DF84: 3 | DO84: 2 | DZ84: =F84+J84+N84+R84+V84+Z84+AD84+AH84+AL84+AP84+AT84+AX84+BB84+BF84+BJ84+BN84+BR84+BV84+BZ84+CD84+CH84+CL84+CP84+CT84+CX84+DB84+DF84+DJ84+DN84+DR84+DV84 -> 22 | EA84: =G84+K84+O84+S84+W84+AA84+AE84+AI84+AM84+AQ84+AU84+AY84+BC84+BG84+BK84+BO84+BS84+BW84+CA84+CE84+CI84+CM84+CQ84+CU84+CY84+DC84+DG84+DK84+DO84+DS84+DW84 -> 12 | EB84: =H84+L84+P84+T84+X84+AB84+AF84+AJ84+AN84+AR84+AV84+AZ84+BD84+BH84+BL84+BP84+BT84+BX84+CB84+CF84+CJ84+CN84+CR84+CV84+CZ84+DD84+DH84+DL84+DP84+DT84+DX84 -> 0 | EC84: =I84+M84+Q84+U84+Y84+AC84+AG84+AK84+AO84+AS84+AW84+BA84+BE84+BI84+BM84+BQ84+BU84+BY84+CC84+CG84+CK84+CO84+CS84+CW84+DA84+DE84+DI84+DM84+DQ84+DU84+DY84 -> 0
A85: 73 | B85: NIROO503001TSBH16240 | C85: NIROOP CHILDRENS HOSPITAL | D85: 5-4-335, SHAILAJA DIAGNOSTIC BUILDING, NEAR NARAYAN REDDY COMPLEX,OPP: VASAVI EYE HOSPITAL, KHALEELWADI, NIZAMABAD | E85: 13 | N85: 2 | R85: 3 | Z85: 2 | AM85: 3 | AT85: 3 | AX85: 3 | BB85: 3 | BK85: 2 | BN85: 3 | BS85: 2 | BV85: 3 | CM85: 2 | CQ85: 2 | CX85: 3 | DC85: 2 | DK85: 2 | DN85: 3 | DZ85: =F85+J85+N85+R85+V85+Z85+AD85+AH85+AL85+AP85+AT85+AX85+BB85+BF85+BJ85+BN85+BR85+BV85+BZ85+CD85+CH85+CL85+CP85+CT85+CX85+DB85+DF85+DJ85+DN85+DR85+DV85 -> 28 | EA85: =G85+K85+O85+S85+W85+AA85+AE85+AI85+AM85+AQ85+AU85+AY85+BC85+BG85+BK85+BO85+BS85+BW85+CA85+CE85+CI85+CM85+CQ85+CU85+CY85+DC85+DG85+DK85+DO85+DS85+DW85 -> 15 | EB85: =H85+L85+P85+T85+X85+AB85+AF85+AJ85+AN85+AR85+AV85+AZ85+BD85+BH85+BL85+BP85+BT85+BX85+CB85+CF85+CJ85+CN85+CR85+CV85+CZ85+DD85+DH85+DL85+DP85+DT85+DX85 -> 0 | EC85: =I85+M85+Q85+U85+Y85+AC85+AG85+AK85+AO85+AS85+AW85+BA85+BE85+BI85+BM85+BQ85+BU85+BY85+CC85+CG85+CK85+CO85+CS85+CW85+DA85+DE85+DI85+DM85+DQ85+DU85+DY85 -> 0
A86: 74 | B86: SWAMY503001TSBH08027 | C86: SWAMY CHILDREN'S HOSPITAL | D86: H.NO: 5-7-48, OPP. MODEM PUBLIC SCHOOL , KHALEELWADI, NIZAMABAD - 503001. | E86: 13 | F86: 3 | N86: 2 | R86: 3 | Z86: 2 | AL86: 3 | AP86: 3 | AT86: 3 | AY86: 2 | BB86: 3 | BG86: 2 | BJ86: 3 | BN86: 3 | BR86: 2 | CL86: 2 | CU86: 2 | CX86: 3 | DG86: 2 | DJ86: 2 | DZ86: =F86+J86+N86+R86+V86+Z86+AD86+AH86+AL86+AP86+AT86+AX86+BB86+BF86+BJ86+BN86+BR86+BV86+BZ86+CD86+CH86+CL86+CP86+CT86+CX86+DB86+DF86+DJ86+DN86+DR86+DV86 -> 37 | EA86: =G86+K86+O86+S86+W86+AA86+AE86+AI86+AM86+AQ86+AU86+AY86+BC86+BG86+BK86+BO86+BS86+BW86+CA86+CE86+CI86+CM86+CQ86+CU86+CY86+DC86+DG86+DK86+DO86+DS86+DW86 -> 8 | EB86: =H86+L86+P86+T86+X86+AB86+AF86+AJ86+AN86+AR86+AV86+AZ86+BD86+BH86+BL86+BP86+BT86+BX86+CB86+CF86+CJ86+CN86+CR86+CV86+CZ86+DD86+DH86+DL86+DP86+DT86+DX86 -> 0 | EC86: =I86+M86+Q86+U86+Y86+AC86+AG86+AK86+AO86+AS86+AW86+BA86+BE86+BI86+BM86+BQ86+BU86+BY86+CC86+CG86+CK86+CO86+CS86+CW86+DA86+DE86+DI86+DM86+DQ86+DU86+DY86 -> 0
A87: 75 | B87: RKLAX503001TSBH09882 | C87: RK LAXMI CHILDRENS HOSPITAL | D87: BUILDING No.N12A, OPP: CHAKRAPANI HOSPITAL, BANK OF INDIA ROAD, KHALEELWADI, NIZAMABAD - 503001. | E87: 12 | F87: 3 | N87: 2 | R87: 3 | Z87: 2 | AM87: 2 | AP87: 3 | AT87: 3 | AX87: 3 | BB87: 3 | BK87: 2 | BN87: 3 | BR87: 2 | BV87: 3 | CL87: 2 | CQ87: 2 | CX87: 3 | DC87: 2 | DJ87: 3 | DN87: 3 | DZ87: =F87+J87+N87+R87+V87+Z87+AD87+AH87+AL87+AP87+AT87+AX87+BB87+BF87+BJ87+BN87+BR87+BV87+BZ87+CD87+CH87+CL87+CP87+CT87+CX87+DB87+DF87+DJ87+DN87+DR87+DV87 -> 41 | EA87: =G87+K87+O87+S87+W87+AA87+AE87+AI87+AM87+AQ87+AU87+AY87+BC87+BG87+BK87+BO87+BS87+BW87+CA87+CE87+CI87+CM87+CQ87+CU87+CY87+DC87+DG87+DK87+DO87+DS87+DW87 -> 8 | EB87: =H87+L87+P87+T87+X87+AB87+AF87+AJ87+AN87+AR87+AV87+AZ87+BD87+BH87+BL87+BP87+BT87+BX87+CB87+CF87+CJ87+CN87+CR87+CV87+CZ87+DD87+DH87+DL87+DP87+DT87+DX87 -> 0 | EC87: =I87+M87+Q87+U87+Y87+AC87+AG87+AK87+AO87+AS87+AW87+BA87+BE87+BI87+BM87+BQ87+BU87+BY87+CC87+CG87+CK87+CO87+CS87+CW87+DA87+DE87+DI87+DM87+DQ87+DU87+DY87 -> 0
A88: 76 | B88: SRISU503001TSBH09871 | C88: SRI SURYA HOSPITAL | D88: BESIDE GOUTHAMI DEGREE COLLEGE, KHALEELWADI, NIZAMABAD - 503001. | E88: 12 | F88: 3 | N88: 2 | R88: 3 | Z88: 2 | AM88: 2 | AP88: 3 | AT88: 3 | AY88: 2 | BB88: 3 | BG88: 2 | BJ88: 3 | BN88: 3 | BR88: 2 | BV88: 3 | CL88: 2 | CU88: 2 | CX88: 3 | DG88: 2 | DJ88: 3 | DN88: 3 | DZ88: =F88+J88+N88+R88+V88+Z88+AD88+AH88+AL88+AP88+AT88+AX88+BB88+BF88+BJ88+BN88+BR88+BV88+BZ88+CD88+CH88+CL88+CP88+CT88+CX88+DB88+DF88+DJ88+DN88+DR88+DV88 -> 41 | EA88: =G88+K88+O88+S88+W88+AA88+AE88+AI88+AM88+AQ88+AU88+AY88+BC88+BG88+BK88+BO88+BS88+BW88+CA88+CE88+CI88+CM88+CQ88+CU88+CY88+DC88+DG88+DK88+DO88+DS88+DW88 -> 10 | EB88: =H88+L88+P88+T88+X88+AB88+AF88+AJ88+AN88+AR88+AV88+AZ88+BD88+BH88+BL88+BP88+BT88+BX88+CB88+CF88+CJ88+CN88+CR88+CV88+CZ88+DD88+DH88+DL88+DP88+DT88+DX88 -> 0 | EC88: =I88+M88+Q88+U88+Y88+AC88+AG88+AK88+AO88+AS88+AW88+BA88+BE88+BI88+BM88+BQ88+BU88+BY88+CC88+CG88+CK88+CO88+CS88+CW88+DA88+DE88+DI88+DM88+DQ88+DU88+DY88 -> 0
A89: 77 | B89: AAYUK503001TSBH09873 | C89: AAYUKSHA HOSPITAL | D89: ROAD NO.1, OPP: RDO OFFICE, DWARAKA NAGAR, KHALEELWADI, NIZAMABAD - 503001. | E89: 10 | F89: 3 | N89: 2 | R89: 3 | Z89: 2 | AQ89: 2 | AU89: 2 | BC89: 2 | BJ89: 3 | BN89: 3 | BR89: 2 | BV89: 3 | CL89: 2 | CP89: 3 | CT89: 3 | DB89: 3 | DF89: 3 | DZ89: =F89+J89+N89+R89+V89+Z89+AD89+AH89+AL89+AP89+AT89+AX89+BB89+BF89+BJ89+BN89+BR89+BV89+BZ89+CD89+CH89+CL89+CP89+CT89+CX89+DB89+DF89+DJ89+DN89+DR89+DV89 -> 35 | EA89: =G89+K89+O89+S89+W89+AA89+AE89+AI89+AM89+AQ89+AU89+AY89+BC89+BG89+BK89+BO89+BS89+BW89+CA89+CE89+CI89+CM89+CQ89+CU89+CY89+DC89+DG89+DK89+DO89+DS89+DW89 -> 6 | EB89: =H89+L89+P89+T89+X89+AB89+AF89+AJ89+AN89+AR89+AV89+AZ89+BD89+BH89+BL89+BP89+BT89+BX89+CB89+CF89+CJ89+CN89+CR89+CV89+CZ89+DD89+DH89+DL89+DP89+DT89+DX89 -> 0 | EC89: =I89+M89+Q89+U89+Y89+AC89+AG89+AK89+AO89+AS89+AW89+BA89+BE89+BI89+BM89+BQ89+BU89+BY89+CC89+CG89+CK89+CO89+CS89+CW89+DA89+DE89+DI89+DM89+DQ89+DU89+DY89 -> 0
A90: 78 | B90: APOOR503001TSBH07054 | C90: APOORVA NETHRALAYA & DIAGNOSTIC CENTER | D90: H.NO. 5-7-7/8, NEAR NALANDA WOMEN'S COLLEGE, KHALEELWADI, NIZAMABAD - 503001. | E90: 10 | F90: 3 | N90: 2 | R90: 3 | Z90: 2 | AM90: 2 | AQ90: 2 | AU90: 2 | AX90: 3 | BC90: 2 | BF90: 3 | BK90: 2 | BN90: 3 | BR90: 2 | BV90: 3 | CL90: 2 | CP90: 3 | CX90: 3 | DB90: 3 | DJ90: 3 | DN90: 3 | DZ90: =F90+J90+N90+R90+V90+Z90+AD90+AH90+AL90+AP90+AT90+AX90+BB90+BF90+BJ90+BN90+BR90+BV90+BZ90+CD90+CH90+CL90+CP90+CT90+CX90+DB90+DF90+DJ90+DN90+DR90+DV90 -> 41 | EA90: =G90+K90+O90+S90+W90+AA90+AE90+AI90+AM90+AQ90+AU90+AY90+BC90+BG90+BK90+BO90+BS90+BW90+CA90+CE90+CI90+CM90+CQ90+CU90+CY90+DC90+DG90+DK90+DO90+DS90+DW90 -> 10 | EB90: =H90+L90+P90+T90+X90+AB90+AF90+AJ90+AN90+AR90+AV90+AZ90+BD90+BH90+BL90+BP90+BT90+BX90+CB90+CF90+CJ90+CN90+CR90+CV90+CZ90+DD90+DH90+DL90+DP90+DT90+DX90 -> 0 | EC90: =I90+M90+Q90+U90+Y90+AC90+AG90+AK90+AO90+AS90+AW90+BA90+BE90+BI90+BM90+BQ90+BU90+BY90+CC90+CG90+CK90+CO90+CS90+CW90+DA90+DE90+DI90+DM90+DQ90+DU90+DY90 -> 0
A91: 79 | B91: DEEPA503001TSBH09874 | C91: DEEPA HOSPITAL | D91: H.No. 5-4-36/16, BESIDE BJP OFFICE, BESIDE TEJA HOSPITAL, DWARAKA NAGAR, NIZAMABAD - 503001. | E91: 10 | DZ91: =F91+J91+N91+R91+V91+Z91+AD91+AH91+AL91+AP91+AT91+AX91+BB91+BF91+BJ91+BN91+BR91+BV91+BZ91+CD91+CH91+CL91+CP91+CT91+CX91+DB91+DF91+DJ91+DN91+DR91+DV91 -> 0 | EA91: =G91+K91+O91+S91+W91+AA91+AE91+AI91+AM91+AQ91+AU91+AY91+BC91+BG91+BK91+BO91+BS91+BW91+CA91+CE91+CI91+CM91+CQ91+CU91+CY91+DC91+DG91+DK91+DO91+DS91+DW91 -> 0 | EB91: =H91+L91+P91+T91+X91+AB91+AF91+AJ91+AN91+AR91+AV91+AZ91+BD91+BH91+BL91+BP91+BT91+BX91+CB91+CF91+CJ91+CN91+CR91+CV91+CZ91+DD91+DH91+DL91+DP91+DT91+DX91 -> 0 | EC91: =I91+M91+Q91+U91+Y91+AC91+AG91+AK91+AO91+AS91+AW91+BA91+BE91+BI91+BM91+BQ91+BU91+BY91+CC91+CG91+CK91+CO91+CS91+CW91+DA91+DE91+DI91+DM91+DQ91+DU91+DY91 -> 0
A92: 80 | B92: GANGA503001TSBH09875 | C92: GANGA BHAVANI HOSPITAL | D92: ROAD No.1, SARASWATHI NAGAR, NIZAMABAD - 503001. | E92: 10 | N92: 2 | R92: 3 | Z92: 2 | AQ92: 2 | AT92: 3 | AY92: 2 | BB92: 3 | BF92: 3 | BJ92: 3 | BN92: 3 | BR92: 2 | BV92: 3 | CL92: 2 | CT92: 3 | CY92: 2 | DG92: 2 | DN92: 3 | DZ92: =F92+J92+N92+R92+V92+Z92+AD92+AH92+AL92+AP92+AT92+AX92+BB92+BF92+BJ92+BN92+BR92+BV92+BZ92+CD92+CH92+CL92+CP92+CT92+CX92+DB92+DF92+DJ92+DN92+DR92+DV92 -> 35 | EA92: =G92+K92+O92+S92+W92+AA92+AE92+AI92+AM92+AQ92+AU92+AY92+BC92+BG92+BK92+BO92+BS92+BW92+CA92+CE92+CI92+CM92+CQ92+CU92+CY92+DC92+DG92+DK92+DO92+DS92+DW92 -> 8 | EB92: =H92+L92+P92+T92+X92+AB92+AF92+AJ92+AN92+AR92+AV92+AZ92+BD92+BH92+BL92+BP92+BT92+BX92+CB92+CF92+CJ92+CN92+CR92+CV92+CZ92+DD92+DH92+DL92+DP92+DT92+DX92 -> 0 | EC92: =I92+M92+Q92+U92+Y92+AC92+AG92+AK92+AO92+AS92+AW92+BA92+BE92+BI92+BM92+BQ92+BU92+BY92+CC92+CG92+CK92+CO92+CS92+CW92+DA92+DE92+DI92+DM92+DQ92+DU92+DY92 -> 0
A93: 81 | B93: GAYAT503001TSBH00861 | C93: GAYATRI HOSPITAL | D93: Dr SUMALATHA HOSPITAL BUILDING, NEAR J.J. REDDY HOSPITAL, DWARAKA NAGAR, 1ST LANE, NIZAMABAD - 503001. | E93: 10 | N93: 2 | R93: 3 | Z93: 2 | AP93: 3 | AT93: 3 | AX93: 3 | BB93: 3 | BK93: 2 | BN93: 3 | BR93: 2 | BV93: 3 | CL93: 2 | CQ93: 2 | CX93: 3 | DC93: 2 | DF93: 3 | DJ93: 3 | DN93: 3 | DZ93: =F93+J93+N93+R93+V93+Z93+AD93+AH93+AL93+AP93+AT93+AX93+BB93+BF93+BJ93+BN93+BR93+BV93+BZ93+CD93+CH93+CL93+CP93+CT93+CX93+DB93+DF93+DJ93+DN93+DR93+DV93 -> 41 | EA93: =G93+K93+O93+S93+W93+AA93+AE93+AI93+AM93+AQ93+AU93+AY93+BC93+BG93+BK93+BO93+BS93+BW93+CA93+CE93+CI93+CM93+CQ93+CU93+CY93+DC93+DG93+DK93+DO93+DS93+DW93 -> 6 | EB93: =H93+L93+P93+T93+X93+AB93+AF93+AJ93+AN93+AR93+AV93+AZ93+BD93+BH93+BL93+BP93+BT93+BX93+CB93+CF93+CJ93+CN93+CR93+CV93+CZ93+DD93+DH93+DL93+DP93+DT93+DX93 -> 0 | EC93: =I93+M93+Q93+U93+Y93+AC93+AG93+AK93+AO93+AS93+AW93+BA93+BE93+BI93+BM93+BQ93+BU93+BY93+CC93+CG93+CK93+CO93+CS93+CW93+DA93+DE93+DI93+DM93+DQ93+DU93+DY93 -> 0
A94: 82 | B94: KGSCH503001TSBH09876 | C94: KGS CHILDRENS HOSPITAL | D94: H.No. 5-7-204, BESIDE TIRUMALA HOSPITAL, TILAK GARDEN, KHALLELWADI, NIZAMABAD - 503001. | E94: 10 | G94: 2 | N94: 2 | R94: 3 | Z94: 2 | AL94: 3 | AP94: 3 | AQ94: 2 | AT94: 3 | AY94: 2 | BB94: 3 | BG94: 2 | BJ94: 3 | BN94: 3 | BR94: 2 | BV94: 3 | CL94: 2 | CP94: 6 | CU94: 2 | CX94: 2 | DB94: 3 | DN94: 3 | DZ94: =F94+J94+N94+R94+V94+Z94+AD94+AH94+AL94+AP94+AT94+AX94+BB94+BF94+BJ94+BN94+BR94+BV94+BZ94+CD94+CH94+CL94+CP94+CT94+CX94+DB94+DF94+DJ94+DN94+DR94+DV94 -> 46 | EA94: =G94+K94+O94+S94+W94+AA94+AE94+AI94+AM94+AQ94+AU94+AY94+BC94+BG94+BK94+BO94+BS94+BW94+CA94+CE94+CI94+CM94+CQ94+CU94+CY94+DC94+DG94+DK94+DO94+DS94+DW94 -> 10 | EB94: =H94+L94+P94+T94+X94+AB94+AF94+AJ94+AN94+AR94+AV94+AZ94+BD94+BH94+BL94+BP94+BT94+BX94+CB94+CF94+CJ94+CN94+CR94+CV94+CZ94+DD94+DH94+DL94+DP94+DT94+DX94 -> 0 | EC94: =I94+M94+Q94+U94+Y94+AC94+AG94+AK94+AO94+AS94+AW94+BA94+BE94+BI94+BM94+BQ94+BU94+BY94+CC94+CG94+CK94+CO94+CS94+CW94+DA94+DE94+DI94+DM94+DQ94+DU94+DY94 -> 0
A95: 83 | B95: KIDSC503001TSBH09878 | C95: KIDS CARE EMERGENCY CHILDRENS HOSPITAL | D95: OPP.TELANGANA GRAMEENA BANK, DWARAKANAGAR, KHALEELWADI, NIZAMABAD - 503001. | E95: 10 | N95: 2 | R95: 3 | Z95: 2 | AU95: 2 | AX95: 3 | BC95: 2 | BF95: 3 | BK95: 2 | BN95: 3 | CL95: 2 | CT95: 3 | CY95: 2 | DZ95: =F95+J95+N95+R95+V95+Z95+AD95+AH95+AL95+AP95+AT95+AX95+BB95+BF95+BJ95+BN95+BR95+BV95+BZ95+CD95+CH95+CL95+CP95+CT95+CX95+DB95+DF95+DJ95+DN95+DR95+DV95 -> 21 | EA95: =G95+K95+O95+S95+W95+AA95+AE95+AI95+AM95+AQ95+AU95+AY95+BC95+BG95+BK95+BO95+BS95+BW95+CA95+CE95+CI95+CM95+CQ95+CU95+CY95+DC95+DG95+DK95+DO95+DS95+DW95 -> 8 | EB95: =H95+L95+P95+T95+X95+AB95+AF95+AJ95+AN95+AR95+AV95+AZ95+BD95+BH95+BL95+BP95+BT95+BX95+CB95+CF95+CJ95+CN95+CR95+CV95+CZ95+DD95+DH95+DL95+DP95+DT95+DX95 -> 0 | EC95: =I95+M95+Q95+U95+Y95+AC95+AG95+AK95+AO95+AS95+AW95+BA95+BE95+BI95+BM95+BQ95+BU95+BY95+CC95+CG95+CK95+CO95+CS95+CW95+DA95+DE95+DI95+DM95+DQ95+DU95+DY95 -> 0
A96: 84 | B96: LIFEL503001TSBH11655 | C96: LIFE LINE HOSPITAL NIZAMABAD | D96: BESIDE SANA GARDEN FUNCTION HALL, FAHAD TOWER, OPP: BODHAN BUS STAND, NIZAMABAD - 503001. | E96: 10 | N96: 2 | R96: 3 | Z96: 2 | AL96: 2 | AP96: 2 | BB96: 2 | BN96: 2 | BR96: 2 | CL96: 2 | CT96: 1 | CX96: 2 | DB96: 2 | DJ96: 2 | DZ96: =F96+J96+N96+R96+V96+Z96+AD96+AH96+AL96+AP96+AT96+AX96+BB96+BF96+BJ96+BN96+BR96+BV96+BZ96+CD96+CH96+CL96+CP96+CT96+CX96+DB96+DF96+DJ96+DN96+DR96+DV96 -> 26 | EA96: =G96+K96+O96+S96+W96+AA96+AE96+AI96+AM96+AQ96+AU96+AY96+BC96+BG96+BK96+BO96+BS96+BW96+CA96+CE96+CI96+CM96+CQ96+CU96+CY96+DC96+DG96+DK96+DO96+DS96+DW96 -> 0 | EB96: =H96+L96+P96+T96+X96+AB96+AF96+AJ96+AN96+AR96+AV96+AZ96+BD96+BH96+BL96+BP96+BT96+BX96+CB96+CF96+CJ96+CN96+CR96+CV96+CZ96+DD96+DH96+DL96+DP96+DT96+DX96 -> 0 | EC96: =I96+M96+Q96+U96+Y96+AC96+AG96+AK96+AO96+AS96+AW96+BA96+BE96+BI96+BM96+BQ96+BU96+BY96+CC96+CG96+CK96+CO96+CS96+CW96+DA96+DE96+DI96+DM96+DQ96+DU96+DY96 -> 0
A97: 85 | B97: MAHES503001TSBH00981 | C97: MAHESHWARI MULTI SPECIALITY HOSPITAL | D97: KHALEELWADI, NIZAMABAD - 503001. | E97: 10 | F97: 3 | N97: 2 | R97: 3 | Z97: 2 | AM97: 2 | AP97: 3 | AQ97: 2 | AX97: 3 | BF97: 3 | BN97: 3 | BR97: 2 | BV97: 3 | CL97: 2 | CQ97: 2 | CT97: 3 | CX97: 3 | DC97: 2 | DG97: 3 | DJ97: 3 | DZ97: =F97+J97+N97+R97+V97+Z97+AD97+AH97+AL97+AP97+AT97+AX97+BB97+BF97+BJ97+BN97+BR97+BV97+BZ97+CD97+CH97+CL97+CP97+CT97+CX97+DB97+DF97+DJ97+DN97+DR97+DV97 -> 38 | EA97: =G97+K97+O97+S97+W97+AA97+AE97+AI97+AM97+AQ97+AU97+AY97+BC97+BG97+BK97+BO97+BS97+BW97+CA97+CE97+CI97+CM97+CQ97+CU97+CY97+DC97+DG97+DK97+DO97+DS97+DW97 -> 11 | EB97: =H97+L97+P97+T97+X97+AB97+AF97+AJ97+AN97+AR97+AV97+AZ97+BD97+BH97+BL97+BP97+BT97+BX97+CB97+CF97+CJ97+CN97+CR97+CV97+CZ97+DD97+DH97+DL97+DP97+DT97+DX97 -> 0 | EC97: =I97+M97+Q97+U97+Y97+AC97+AG97+AK97+AO97+AS97+AW97+BA97+BE97+BI97+BM97+BQ97+BU97+BY97+CC97+CG97+CK97+CO97+CS97+CW97+DA97+DE97+DI97+DM97+DQ97+DU97+DY97 -> 0
A98: 86 | B98: NEOLI503001TSBH00907 | C98: NEOLIFE CHILDREN'S HOSPITAL | D98: KHALEELWADI, NIZAMABAD - 503001. | E98: 10 | N98: 2 | R98: 3 | Z98: 2 | AL98: 3 | AP98: 3 | BG98: 2 | BJ98: 3 | BN98: 3 | BR98: 2 | CL98: 2 | CP98: 3 | CU98: 2 | CX98: 3 | DB98: 3 | DF98: 3 | DO98: 2 | DZ98: =F98+J98+N98+R98+V98+Z98+AD98+AH98+AL98+AP98+AT98+AX98+BB98+BF98+BJ98+BN98+BR98+BV98+BZ98+CD98+CH98+CL98+CP98+CT98+CX98+DB98+DF98+DJ98+DN98+DR98+DV98 -> 35 | EA98: =G98+K98+O98+S98+W98+AA98+AE98+AI98+AM98+AQ98+AU98+AY98+BC98+BG98+BK98+BO98+BS98+BW98+CA98+CE98+CI98+CM98+CQ98+CU98+CY98+DC98+DG98+DK98+DO98+DS98+DW98 -> 6 | EB98: =H98+L98+P98+T98+X98+AB98+AF98+AJ98+AN98+AR98+AV98+AZ98+BD98+BH98+BL98+BP98+BT98+BX98+CB98+CF98+CJ98+CN98+CR98+CV98+CZ98+DD98+DH98+DL98+DP98+DT98+DX98 -> 0 | EC98: =I98+M98+Q98+U98+Y98+AC98+AG98+AK98+AO98+AS98+AW98+BA98+BE98+BI98+BM98+BQ98+BU98+BY98+CC98+CG98+CK98+CO98+CS98+CW98+DA98+DE98+DI98+DM98+DQ98+DU98+DY98 -> 0
A99: 87 | B99: NILOU503001TSBH08492 | C99: NILOUFER CHILD CARE HOSPITAL | D99: J.J.REDDY X ROAD, KHALEELWADI, NIZAMABAD - 503001. | E99: 10 | G99: 2 | R99: 3 | Z99: 2 | AM99: 2 | AP99: 3 | AY99: 3 | BG99: 2 | BN99: 3 | BR99: 2 | CL99: 2 | CQ99: 2 | CT99: 3 | CX99: 3 | DB99: 3 | DF99: 3 | DN99: 3 | DZ99: =F99+J99+N99+R99+V99+Z99+AD99+AH99+AL99+AP99+AT99+AX99+BB99+BF99+BJ99+BN99+BR99+BV99+BZ99+CD99+CH99+CL99+CP99+CT99+CX99+DB99+DF99+DJ99+DN99+DR99+DV99 -> 30 | EA99: =G99+K99+O99+S99+W99+AA99+AE99+AI99+AM99+AQ99+AU99+AY99+BC99+BG99+BK99+BO99+BS99+BW99+CA99+CE99+CI99+CM99+CQ99+CU99+CY99+DC99+DG99+DK99+DO99+DS99+DW99 -> 11 | EB99: =H99+L99+P99+T99+X99+AB99+AF99+AJ99+AN99+AR99+AV99+AZ99+BD99+BH99+BL99+BP99+BT99+BX99+CB99+CF99+CJ99+CN99+CR99+CV99+CZ99+DD99+DH99+DL99+DP99+DT99+DX99 -> 0 | EC99: =I99+M99+Q99+U99+Y99+AC99+AG99+AK99+AO99+AS99+AW99+BA99+BE99+BI99+BM99+BQ99+BU99+BY99+CC99+CG99+CK99+CO99+CS99+CW99+DA99+DE99+DI99+DM99+DQ99+DU99+DY99 -> 0
A100: 88 | B100: NISHK503001TSBH11587 | C100: NISHKAL NEURO HOSPITAL | D100: OPP: BUS STAND LANE, KHALEELWADI,Nizamabad,Nizamabad South,NIZAMABAD,503001 | E100: 10 | G100: 2 | N100: 2 | R100: 3 | Z100: 2 | AP100: 3 | AX100: 3 | BC100: 2 | BN100: 3 | BR100: 2 | BV100: 3 | CL100: 2 | CQ100: 2 | DB100: 3 | DJ100: 3 | DO100: 2 | DZ100: =F100+J100+N100+R100+V100+Z100+AD100+AH100+AL100+AP100+AT100+AX100+BB100+BF100+BJ100+BN100+BR100+BV100+BZ100+CD100+CH100+CL100+CP100+CT100+CX100+DB100+DF100+DJ100+DN100+DR100+DV100 -> 29 | EA100: =G100+K100+O100+S100+W100+AA100+AE100+AI100+AM100+AQ100+AU100+AY100+BC100+BG100+BK100+BO100+BS100+BW100+CA100+CE100+CI100+CM100+CQ100+CU100+CY100+DC100+DG100+DK100+DO100+DS100+DW100 -> 8 | EB100: =H100+L100+P100+T100+X100+AB100+AF100+AJ100+AN100+AR100+AV100+AZ100+BD100+BH100+BL100+BP100+BT100+BX100+CB100+CF100+CJ100+CN100+CR100+CV100+CZ100+DD100+DH100+DL100+DP100+DT100+DX100 -> 0 | EC100: =I100+M100+Q100+U100+Y100+AC100+AG100+AK100+AO100+AS100+AW100+BA100+BE100+BI100+BM100+BQ100+BU100+BY100+CC100+CG100+CK100+CO100+CS100+CW100+DA100+DE100+DI100+DM100+DQ100+DU100+DY100 -> 0
...

Sheet Kamareddy
A1: =Nizamabad!A1 -> APRIL - 2023 MONTH REPORT | F1: =Nizamabad!F1 -> 45017 | J1: =Nizamabad!J1 -> 45018 | N1: =Nizamabad!N1 -> 45019 | R1: =Nizamabad!R1 -> 45020 | V1: =Nizamabad!V1 -> 45021 | Z1: =Nizamabad!Z1 -> 45022 | AD1: =Nizamabad!AD1 -> 45023 | AH1: =Nizamabad!AH1 -> 45024 | AL1: =Nizamabad!AL1 -> 45025 | AP1: =Nizamabad!AP1 -> 45026 | AT1: =Nizamabad!AT1 -> 45027 | AX1: =Nizamabad!AX1 -> 45028 | BB1: =Nizamabad!BB1 -> 45029 | BF1: =Nizamabad!BF1 -> 45030 | BJ1: =Nizamabad!BJ1 -> 45031 | BN1: =Nizamabad!BN1 -> 45032 | BR1: =Nizamabad!BR1 -> 45033 | BV1: =Nizamabad!BV1 -> 45034 | BZ1: =Nizamabad!BZ1 -> 45035 | CD1: =Nizamabad!CD1 -> 45036 | CH1: =Nizamabad!CH1 -> 45037 | CL1: =Nizamabad!CL1 -> 45038 | CP1: =Nizamabad!CP1 -> 45039 | CT1: =Nizamabad!CT1 -> 45040 | CX1: =Nizamabad!CX1 -> 45041 | DB1: =Nizamabad!DB1 -> 45042 | DF1: =Nizamabad!DF1 -> 45043 | DJ1: =Nizamabad!DJ1 -> 45044 | DZ1: TOTAL
A2: SNO | B2: HCF ID | C2: NAME OF THE HCF | D2: ADDRESS OF THE HCFS | E2: NO.OF BEDS | F2: Yellow | G2: Red | H2: Blue | I2: White | J2: Yellow | K2: Red | L2: Blue | M2: White | N2: Yellow | O2: Red | P2: Blue | Q2: White | R2: Yellow | S2: Red | T2: Blue | U2: White | V2: Yellow | W2: Red | X2: Blue | Y2: White | Z2: Yellow | AA2: Red | AB2: Blue | AC2: White | AD2: Yellow | AE2: Red | AF2: Blue | AG2: White | AH2: Yellow | AI2: Red | AJ2: Blue | AK2: White | AL2: Yellow | AM2: Red | AN2: Blue | AO2: White | AP2: Yellow | AQ2: Red | AR2: Blue | AS2: White | AT2: Yellow | AU2: Red | AV2: Blue | AW2: White | AX2: Yellow | AY2: Red | AZ2: Blue | BA2: White | BB2: Yellow | BC2: Red | BD2: Blue | BE2: White | BF2: Yellow | BG2: Red | BH2: Blue | BI2: White | BJ2: Yellow | BK2: Red | BL2: Blue | BM2: White | BN2: Yellow | BO2: Red | BP2: Blue | BQ2: White | BR2: Yellow | BS2: Red | BT2: Blue | BU2: White | BV2: Yellow | BW2: Red | BX2: Blue | BY2: White | BZ2: Yellow | CA2: Red | CB2: Blue | CC2: White | CD2: Yellow | CE2: Red | CF2: Blue | CG2: White | CH2: Yellow | CI2: Red | CJ2: Blue | CK2: White | CL2: Yellow | CM2: Red | CN2: Blue | CO2: White | CP2: Yellow | CQ2: Red | CR2: Blue | CS2: White | CT2: Yellow | CU2: Red | CV2: Blue | CW2: White | CX2: Yellow | CY2: Red | CZ2: Blue | DA2: White | DB2: Yellow | DC2: Red | DD2: Blue | DE2: White | DF2: Yellow | DG2: Red | DH2: Blue | DI2: White | DJ2: Yellow | DK2: Red | DL2: Blue | DM2: White | DN2: Yellow | DO2: Red | DP2: Blue | DQ2: White | DR2: Yellow | DS2: Red | DT2: Blue | DU2: White | DV2: Yellow | DW2: Red | DX2: Blue | DY2: White | DZ2: Yellow | EA2: Red | EB2: Blue | EC2: White
A3: KAMAREDDY 100 AND ABOVE BEDS HCFs
A4: 1 | B4: AREAH503111TSBH06149 | C4: AREA HOSPITAL, KAMAREDDY | D4: STATION ROAD, KAMAREDDY - 503111. | E4: 100 | F4: 5 | G4: 2 | J4: 5 | K4: 3 | L4: 2 | M4: 1 | N4: 5 | O4: 2 | R4: 5 | S4: 1 | V4: 6 | W4: 2 | Z4: 5 | AA4: 3 | AD4: 5 | AE4: 5 | AH4: 7 | AI4: 6 | AL4: 5 | AM4: 4 | AP4: 7 | AQ4: 5 | AT4: 8 | AU4: 3 | AX4: 7 | AY4: 3 | BB4: 7 | BC4: 3 | BD4: 1 | BE4: 1 | BF4: 6 | BG4: 2 | BJ4: 8 | BK4: 3 | BN4: 6 | BO4: 2 | BR4: 5 | BS4: 4 | BV4: 5 | BW4: 5 | BZ4: 5 | CA4: 5 | CD4: 8 | CE4: 6 | CF4: 1 | CG4: 1 | CH4: 7 | CI4: 5 | CL4: 7 | CM4: 5 | CP4: 5 | CQ4: 5 | CT4: 7 | CU4: 2 | CX4: 6 | CY4: 3 | DB4: 5 | DC4: 5 | DF4: 7 | DG4: 6 | DJ4: 6 | DK4: 4 | DN4: 5 | DO4: 5 | DR4: 8 | DS4: 6 | DZ4: =F4+J4+N4+R4+V4+Z4+AD4+AH4+AL4+AP4+AT4+AX4+BB4+BF4+BJ4+BN4+BR4+BV4+BZ4+CD4+CH4+CL4+CP4+CT4+CX4+DB4+DF4+DJ4+DN4+DR4+DV4 -> 183 | EA4: =G4+K4+O4+S4+W4+AA4+AE4+AI4+AM4+AQ4+AU4+AY4+BC4+BG4+BK4+BO4+BS4+BW4+CA4+CE4+CI4+CM4+CQ4+CU4+CY4+DC4+DG4+DK4+DO4+DS4+DW4 -> 115 | EB4: =H4+L4+P4+T4+X4+AB4+AF4+AJ4+AN4+AR4+AV4+AZ4+BD4+BH4+BL4+BP4+BT4+BX4+CB4+CF4+CJ4+CN4+CR4+CV4+CZ4+DD4+DH4+DL4+DP4+DT4+DX4 -> 4 | EC4: =I4+M4+Q4+U4+Y4+AC4+AG4+AK4+AO4+AS4+AW4+BA4+BE4+BI4+BM4+BQ4+BU4+BY4+CC4+CG4+CK4+CO4+CS4+CW4+DA4+DE4+DI4+DM4+DQ4+DU4+DY4 -> 3
A5: 2 | B5: JEEVA503111TSBH06112 | C5: JEEVADAN HOSPITAL | D5: NIZAM SAGAR ROAD, KAMAREDDY - 503111. | E5: 100 | F5: 4 | G5: 2 | J5: 4 | K5: 2 | L5: 1 | M5: 1 | N5: 4 | O5: 2 | R5: 5 | S5: 1 | V5: 4 | W5: 3 | Z5: 4 | AA5: 4 | AD5: 4 | AE5: 4 | AH5: 5 | AI5: 4 | AL5: 5 | AM5: 4 | AP5: 5 | AQ5: 5 | AT5: 5 | AU5: 4 | AX5: 5 | AY5: 5 | BB5: 5 | BC5: 5 | BF5: 5 | BG5: 5 | BJ5: 5 | BK5: 5 | BN5: 4 | BO5: 4 | BR5: 5 | BS5: 4 | BV5: 4 | BW5: 4 | BZ5: 5 | CA5: 5 | CD5: 4 | CE5: 4 | CF5: 1 | CG5: 1 | CH5: 4 | CI5: 4 | CL5: 4 | CM5: 4 | CP5: 4 | CQ5: 4 | CT5: 4 | CU5: 4 | CX5: 4 | CY5: 3 | DB5: 4 | DC5: 4 | DF5: 4 | DG5: 4 | DJ5: 5 | DK5: 4 | DN5: 5 | DO5: 4 | DR5: 5 | DS5: 5 | DZ5: =F5+J5+N5+R5+V5+Z5+AD5+AH5+AL5+AP5+AT5+AX5+BB5+BF5+BJ5+BN5+BR5+BV5+BZ5+CD5+CH5+CL5+CP5+CT5+CX5+DB5+DF5+DJ5+DN5+DR5+DV5 -> 134 | EA5: =G5+K5+O5+S5+W5+AA5+AE5+AI5+AM5+AQ5+AU5+AY5+BC5+BG5+BK5+BO5+BS5+BW5+CA5+CE5+CI5+CM5+CQ5+CU5+CY5+DC5+DG5+DK5+DO5+DS5+DW5 -> 116 | EB5: =H5+L5+P5+T5+X5+AB5+AF5+AJ5+AN5+AR5+AV5+AZ5+BD5+BH5+BL5+BP5+BT5+BX5+CB5+CF5+CJ5+CN5+CR5+CV5+CZ5+DD5+DH5+DL5+DP5+DT5+DX5 -> 2 | EC5: =I5+M5+Q5+U5+Y5+AC5+AG5+AK5+AO5+AS5+AW5+BA5+BE5+BI5+BM5+BQ5+BU5+BY5+CC5+CG5+CK5+CO5+CS5+CW5+DA5+DE5+DI5+DM5+DQ5+DU5+DY5 -> 2
A6: 3 | B6: AREAH503187TSBH08193 | C6: AREA HOSPITAL, BANSWADA | D6: BESIDE POST OFFFICE, BANSWADA - 503187 | E6: 100 | F6: 5 | G6: 2 | J6: 5 | K6: 2 | L6: 1 | M6: 1 | N6: 5 | O6: 1 | P6: 1 | R6: 5 | S6: 3 | V6: 5 | W6: 4 | Z6: 5 | AA6: 5 | AD6: 5 | AE6: 5 | AH6: 5 | AI6: 5 | AL6: 5 | AM6: 4 | AP6: 5 | AQ6: 5 | AT6: 5 | AU6: 5 | AX6: 5 | AY6: 4 | BB6: 5 | BC6: 4 | BD6: 1 | BE6: 1 | BF6: 5 | BG6: 5 | BJ6: 5 | BK6: 5 | BN6: 5 | BO6: 3 | BR6: 5 | BS6: 5 | BV6: 5 | BW6: 5 | BZ6: 5 | CA6: 5 | CD6: 5 | CE6: 5 | CF6: 1 | CH6: 5 | CI6: 5 | CL6: 5 | CM6: 5 | CP6: 5 | CQ6: 5 | CT6: 4 | CU6: 3 | CX6: 4 | CY6: 4 | DB6: 5 | DC6: 5 | DF6: 5 | DG6: 5 | DJ6: 5 | DK6: 5 | DN6: 5 | DO6: 5 | DR6: 5 | DS6: 5 | DZ6: =F6+J6+N6+R6+V6+Z6+AD6+AH6+AL6+AP6+AT6+AX6+BB6+BF6+BJ6+BN6+BR6+BV6+BZ6+CD6+CH6+CL6+CP6+CT6+CX6+DB6+DF6+DJ6+DN6+DR6+DV6 -> 148 | EA6: =G6+K6+O6+S6+W6+AA6+AE6+AI6+AM6+AQ6+AU6+AY6+BC6+BG6+BK6+BO6+BS6+BW6+CA6+CE6+CI6+CM6+CQ6+CU6+CY6+DC6+DG6+DK6+DO6+DS6+DW6 -> 129 | EB6: =H6+L6+P6+T6+X6+AB6+AF6+AJ6+AN6+AR6+AV6+AZ6+BD6+BH6+BL6+BP6+BT6+BX6+CB6+CF6+CJ6+CN6+CR6+CV6+CZ6+DD6+DH6+DL6+DP6+DT6+DX6 -> 4 | EC6: =I6+M6+Q6+U6+Y6+AC6+AG6+AK6+AO6+AS6+AW6+BA6+BE6+BI6+BM6+BQ6+BU6+BY6+CC6+CG6+CK6+CO6+CS6+CW6+DA6+DE6+DI6+DM6+DQ6+DU6+DY6 -> 2
A7: BELOW 100 BEDS HCFs
A8: KAMAREDDY
A9: 1 | B9: LIFEH503111TSBH10120 | C9: LIFE HOSPITAL | D9: H.NO.1-5-518/7, OPP: RAJEEV PARK, SIRICILLA ROAD, KAMAREDDY - 503111. | E9: 50 | F9: 4 | G9: 1 | J9: 4 | K9: 1 | L9: 1 | M9: 1 | N9: 4 | O9: 1 | R9: 5 | V9: 5 | W9: 1 | Z9: 5 | AA9: 1 | AD9: 5 | AE9: 2 | AH9: 5 | AI9: 1 | AL9: 4 | AP9: 4 | AQ9: 2 | AT9: 5 | AU9: 2 | AX9: 5 | AY9: 1 | BB9: 5 | BC9: 1 | BD9: 1 | BF9: 5 | BG9: 1 | BJ9: 5 | BK9: 2 | BN9: 4 | BO9: 1 | BR9: 5 | BS9: 1 | BU9: 1 | BV9: 4 | BW9: 1 | BZ9: 3 | CA9: 2 | CD9: 4 | CE9: 2 | CF9: 1 | CH9: 3 | CI9: 2 | CL9: 3 | CM9: 2 | CP9: 3 | CQ9: 2 | CT9: 4 | CU9: 1 | CV9: 1 | CX9: 4 | CY9: 1 | DB9: 4 | DC9: 1 | DF9: 4 | DG9: 2 | DJ9: 3 | DK9: 2 | DN9: 4 | DO9: 2 | DR9: 5 | DS9: 3 | DZ9: =F9+J9+N9+R9+V9+Z9+AD9+AH9+AL9+AP9+AT9+AX9+BB9+BF9+BJ9+BN9+BR9+BV9+BZ9+CD9+CH9+CL9+CP9+CT9+CX9+DB9+DF9+DJ9+DN9+DR9+DV9 -> 127 | EA9: =G9+K9+O9+S9+W9+AA9+AE9+AI9+AM9+AQ9+AU9+AY9+BC9+BG9+BK9+BO9+BS9+BW9+CA9+CE9+CI9+CM9+CQ9+CU9+CY9+DC9+DG9+DK9+DO9+DS9+DW9 -> 42 | EB9: =H9+L9+P9+T9+X9+AB9+AF9+AJ9+AN9+AR9+AV9+AZ9+BD9+BH9+BL9+BP9+BT9+BX9+CB9+CF9+CJ9+CN9+CR9+CV9+CZ9+DD9+DH9+DL9+DP9+DT9+DX9 -> 4 | EC9: =I9+M9+Q9+U9+Y9+AC9+AG9+AK9+AO9+AS9+AW9+BA9+BE9+BI9+BM9+BQ9+BU9+BY9+CC9+CG9+CK9+CO9+CS9+CW9+DA9+DE9+DI9+DM9+DQ9+DU9+DY9 -> 2
A10: 2 | B10: SHISH503111TSBH11233 | C10: SHISHURAKSHA THIRUMALA CHILDREN'S HOSPITAL | D10: H.No. 1-7-68, SIRICILLA ROAD, KAMAREDDY - 503111 | E10: 50 | F10: 5 | J10: 5 | L10: 2 | N10: 5 | O10: 1 | R10: 5 | V10: 5 | W10: 1 | Z10: 5 | AA10: 1 | AD10: 5 | AH10: 5 | AI10: 2 | AL10: 4 | AP10: 4 | AQ10: 1 | AT10: 5 | AU10: 2 | AX10: 4 | AY10: 1 | BB10: 5 | BC10: 1 | BD10: 1 | BF10: 5 | BG10: 1 | BJ10: 5 | BK10: 2 | BN10: 4 | BO10: 1 | BR10: 5 | BS10: 1 | BT10: 1 | BV10: 3 | BW10: 2 | BZ10: 3 | CA10: 2 | CD10: 4 | CE10: 3 | CF10: 1 | CH10: 3 | CI10: 2 | CL10: 3 | CM10: 2 | CP10: 3 | CQ10: 2 | CT10: 2 | CU10: 1 | CX10: 3 | CY10: 2 | DB10: 3 | DC10: 2 | DF10: 4 | DG10: 3 | DJ10: 3 | DK10: 2 | DN10: 4 | DO10: 2 | DR10: 3 | DS10: 2 | DZ10: =F10+J10+N10+R10+V10+Z10+AD10+AH10+AL10+AP10+AT10+AX10+BB10+BF10+BJ10+BN10+BR10+BV10+BZ10+CD10+CH10+CL10+CP10+CT10+CX10+DB10+DF10+DJ10+DN10+DR10+DV10 -> 122 | EA10: =G10+K10+O10+S10+W10+AA10+AE10+AI10+AM10+AQ10+AU10+AY10+BC10+BG10+BK10+BO10+BS10+BW10+CA10+CE10+CI10+CM10+CQ10+CU10+CY10+DC10+DG10+DK10+DO10+DS10+DW10 -> 42 | EB10: =H10+L10+P10+T10+X10+AB10+AF10+AJ10+AN10+AR10+AV10+AZ10+BD10+BH10+BL10+BP10+BT10+BX10+CB10+CF10+CJ10+CN10+CR10+CV10+CZ10+DD10+DH10+DL10+DP10+DT10+DX10 -> 5 | EC10: =I10+M10+Q10+U10+Y10+AC10+AG10+AK10+AO10+AS10+AW10+BA10+BE10+BI10+BM10+BQ10+BU10+BY10+CC10+CG10+CK10+CO10+CS10+CW10+DA10+DE10+DI10+DM10+DQ10+DU10+DY10 -> 0
A11: 3 | B11: SRIME503111TSBH16237 | C11: SRI MEDICARE HOSPITAL | D11: H.No: 5-3-69/1, KOUNDINYA BUILDING, OPP: R & B GUEST HOUSE, KAMAREDDY - 503111. | E11: 50 | F11: 5 | G11: 1 | J11: 5 | K11: 1 | M11: 1 | N11: 5 | O11: 1 | R11: 5 | V11: 5 | W11: 1 | Z11: 5 | AA11: 1 | AD11: 5 | AH11: 5 | AI11: 1 | AL11: 3 | AM11: 2 | AP11: 4 | AQ11: 1 | AT11: 4 | AU11: 2 | AX11: 3 | AY11: 2 | BB11: 3 | BC11: 2 | BE11: 1 | BF11: 3 | BG11: 1 | BJ11: 4 | BK11: 2 | BN11: 3 | BO11: 2 | BR11: 3 | BS11: 2 | BU11: 1 | BV11: 3 | BW11: 2 | BZ11: 3 | CA11: 2 | CD11: 4 | CE11: 1 | CH11: 3 | CI11: 1 | CL11: 3 | CM11: 1 | CP11: 3 | CQ11: 1 | CT11: 2 | CU11: 1 | CX11: 3 | CY11: 1 | DB11: 3 | DC11: 1 | DF11: 4 | DG11: 2 | DJ11: 4 | DK11: 1 | DN11: 4 | DO11: 1 | DR11: 3 | DS11: 2 | DZ11: =F11+J11+N11+R11+V11+Z11+AD11+AH11+AL11+AP11+AT11+AX11+BB11+BF11+BJ11+BN11+BR11+BV11+BZ11+CD11+CH11+CL11+CP11+CT11+CX11+DB11+DF11+DJ11+DN11+DR11+DV11 -> 112 | EA11: =G11+K11+O11+S11+W11+AA11+AE11+AI11+AM11+AQ11+AU11+AY11+BC11+BG11+BK11+BO11+BS11+BW11+CA11+CE11+CI11+CM11+CQ11+CU11+CY11+DC11+DG11+DK11+DO11+DS11+DW11 -> 39 | EB11: =H11+L11+P11+T11+X11+AB11+AF11+AJ11+AN11+AR11+AV11+AZ11+BD11+BH11+BL11+BP11+BT11+BX11+CB11+CF11+CJ11+CN11+CR11+CV11+CZ11+DD11+DH11+DL11+DP11+DT11+DX11 -> 0 | EC11: =I11+M11+Q11+U11+Y11+AC11+AG11+AK11+AO11+AS11+AW11+BA11+BE11+BI11+BM11+BQ11+BU11+BY11+CC11+CG11+CK11+CO11+CS11+CW11+DA11+DE11+DI11+DM11+DQ11+DU11+DY11 -> 3
A12: 4 | B12: DRKAN503001TSBH00942 | C12: Dr. K ANJAL REDDY MEMORIAL HOSPITAL | D12: NETHAJI ROAD, KAMAREDDY - 503111. | E12: 30 | F12: 4 | J12: 4 | N12: 5 | R12: 5 | V12: 4 | Z12: 4 | AD12: 5 | AH12: 3 | AI12: 1 | AL12: 2 | AP12: 3 | AT12: 4 | AX12: 3 | BB12: 3 | BF12: 3 | BJ12: 3 | BN12: 3 | BR12: 3 | BV12: 3 | BZ12: 3 | CD12: 3 | CE12: 1 | CH12: 3 | CI12: 1 | CL12: 3 | CM12: 1 | CP12: 3 | CQ12: 1 | CT12: 2 | CU12: 1 | CX12: 3 | CY12: 1 | DB12: 3 | DC12: 1 | DF12: 3 | DG12: 1 | DJ12: 2 | DK12: 1 | DN12: 3 | DO12: 1 | DR12: 2 | DS12: 1 | DZ12: =F12+J12+N12+R12+V12+Z12+AD12+AH12+AL12+AP12+AT12+AX12+BB12+BF12+BJ12+BN12+BR12+BV12+BZ12+CD12+CH12+CL12+CP12+CT12+CX12+DB12+DF12+DJ12+DN12+DR12+DV12 -> 97 | EA12: =G12+K12+O12+S12+W12+AA12+AE12+AI12+AM12+AQ12+AU12+AY12+BC12+BG12+BK12+BO12+BS12+BW12+CA12+CE12+CI12+CM12+CQ12+CU12+CY12+DC12+DG12+DK12+DO12+DS12+DW12 -> 12 | EB12: =H12+L12+P12+T12+X12+AB12+AF12+AJ12+AN12+AR12+AV12+AZ12+BD12+BH12+BL12+BP12+BT12+BX12+CB12+CF12+CJ12+CN12+CR12+CV12+CZ12+DD12+DH12+DL12+DP12+DT12+DX12 -> 0 | EC12: =I12+M12+Q12+U12+Y12+AC12+AG12+AK12+AO12+AS12+AW12+BA12+BE12+BI12+BM12+BQ12+BU12+BY12+CC12+CG12+CK12+CO12+CS12+CW12+DA12+DE12+DI12+DM12+DQ12+DU12+DY12 -> 0
A13: 5 | B13: SRIKR503111TSBH13901 | C13: SRI KRISHNA HOSPITAL (KIDNEY & URO) KAMAREDDY | D13: H.No. 4-96, UNDER MEESEVA, PADMAJIWADI X ROAD, KAMAREDDY - 503111. | E13: 30 | F13: 3 | G13: 1 | J13: 3 | K13: 1 | N13: 3 | R13: 2 | V13: 3 | Z13: 3 | AD13: 3 | AH13: 3 | AI13: 1 | AL13: 3 | AP13: 3 | AT13: 4 | AX13: 3 | BB13: 3 | BF13: 3 | BJ13: 3 | BN13: 3 | BR13: 3 | BV13: 3 | BZ13: 3 | CD13: 3 | CE13: 1 | CH13: 3 | CI13: 1 | CL13: 3 | CM13: 1 | CP13: 3 | CQ13: 1 | CT13: 2 | CU13: 1 | CX13: 3 | DB13: 3 | DF13: 3 | DJ13: 2 | DN13: 3 | DO13: 1 | DR13: 2 | DS13: 1 | DZ13: =F13+J13+N13+R13+V13+Z13+AD13+AH13+AL13+AP13+AT13+AX13+BB13+BF13+BJ13+BN13+BR13+BV13+BZ13+CD13+CH13+CL13+CP13+CT13+CX13+DB13+DF13+DJ13+DN13+DR13+DV13 -> 87 | EA13: =G13+K13+O13+S13+W13+AA13+AE13+AI13+AM13+AQ13+AU13+AY13+BC13+BG13+BK13+BO13+BS13+BW13+CA13+CE13+CI13+CM13+CQ13+CU13+CY13+DC13+DG13+DK13+DO13+DS13+DW13 -> 10 | EB13: =H13+L13+P13+T13+X13+AB13+AF13+AJ13+AN13+AR13+AV13+AZ13+BD13+BH13+BL13+BP13+BT13+BX13+CB13+CF13+CJ13+CN13+CR13+CV13+CZ13+DD13+DH13+DL13+DP13+DT13+DX13 -> 0 | EC13: =I13+M13+Q13+U13+Y13+AC13+AG13+AK13+AO13+AS13+AW13+BA13+BE13+BI13+BM13+BQ13+BU13+BY13+CC13+CG13+CK13+CO13+CS13+CW13+DA13+DE13+DI13+DM13+DQ13+DU13+DY13 -> 0
A14: 6 | B14: DEVIH503111TSBH08368 | C14: DEVI HOSPITAL | D14: H.No.5-6-417, BESIDE ANDHRA BANK, R.K. LODGE ROAD, NGO'S COLONY, KAMAREDDY - 503111. | E14: 25 | F14: 3 | J14: 3 | N14: 3 | R14: 2 | V14: 3 | Z14: 3 | AD14: 2 | AH14: 2 | AL14: 2 | AP14: 3 | AT14: 4 | AX14: 3 | BB14: 3 | BF14: 3 | BJ14: 3 | BN14: 3 | BR14: 3 | BV14: 3 | BZ14: 3 | CD14: 3 | CE14: 1 | CH14: 3 | CI14: 1 | CL14: 3 | CM14: 1 | CP14: 3 | CQ14: 1 | CT14: 2 | CU14: 1 | CX14: 2 | CY14: 1 | DB14: 2 | DC14: 1 | DF14: 2 | DG14: 1 | DJ14: 2 | DK14: 1 | DN14: 2 | DR14: 2 | DZ14: =F14+J14+N14+R14+V14+Z14+AD14+AH14+AL14+AP14+AT14+AX14+BB14+BF14+BJ14+BN14+BR14+BV14+BZ14+CD14+CH14+CL14+CP14+CT14+CX14+DB14+DF14+DJ14+DN14+DR14+DV14 -> 80 | EA14: =G14+K14+O14+S14+W14+AA14+AE14+AI14+AM14+AQ14+AU14+AY14+BC14+BG14+BK14+BO14+BS14+BW14+CA14+CE14+CI14+CM14+CQ14+CU14+CY14+DC14+DG14+DK14+DO14+DS14+DW14 -> 9 | EB14: =H14+L14+P14+T14+X14+AB14+AF14+AJ14+AN14+AR14+AV14+AZ14+BD14+BH14+BL14+BP14+BT14+BX14+CB14+CF14+CJ14+CN14+CR14+CV14+CZ14+DD14+DH14+DL14+DP14+DT14+DX14 -> 0 | EC14: =I14+M14+Q14+U14+Y14+AC14+AG14+AK14+AO14+AS14+AW14+BA14+BE14+BI14+BM14+BQ14+BU14+BY14+CC14+CG14+CK14+CO14+CS14+CW14+DA14+DE14+DI14+DM14+DQ14+DU14+DY14 -> 0
A15: 7 | B15: JAYAM503111TSBH00986 | C15: JAYA MULTI SPECIALITY HOSPITAL | D15: BESIDE ARYABATTA JUNIOR COLLEGE, KAMAREDDY - 503111. | E15: 25 | F15: 3 | J15: 3 | N15: 3 | R15: 3 | V15: 3 | Z15: 3 | AD15: 2 | AH15: 2 | AL15: 2 | AP15: 2 | AT15: 3 | AX15: 3 | BB15: 3 | BF15: 3 | BJ15: 3 | BN15: 3 | BR15: 3 | BV15: 3 | BZ15: 3 | CD15: 3 | CH15: 3 | CL15: 3 | CP15: 3 | CT15: 2 | CX15: 2 | DB15: 2 | DF15: 2 | DJ15: 2 | DN15: 2 | DR15: 2 | DZ15: =F15+J15+N15+R15+V15+Z15+AD15+AH15+AL15+AP15+AT15+AX15+BB15+BF15+BJ15+BN15+BR15+BV15+BZ15+CD15+CH15+CL15+CP15+CT15+CX15+DB15+DF15+DJ15+DN15+DR15+DV15 -> 79 | EA15: =G15+K15+O15+S15+W15+AA15+AE15+AI15+AM15+AQ15+AU15+AY15+BC15+BG15+BK15+BO15+BS15+BW15+CA15+CE15+CI15+CM15+CQ15+CU15+CY15+DC15+DG15+DK15+DO15+DS15+DW15 -> 0 | EB15: =H15+L15+P15+T15+X15+AB15+AF15+AJ15+AN15+AR15+AV15+AZ15+BD15+BH15+BL15+BP15+BT15+BX15+CB15+CF15+CJ15+CN15+CR15+CV15+CZ15+DD15+DH15+DL15+DP15+DT15+DX15 -> 0 | EC15: =I15+M15+Q15+U15+Y15+AC15+AG15+AK15+AO15+AS15+AW15+BA15+BE15+BI15+BM15+BQ15+BU15+BY15+CC15+CG15+CK15+CO15+CS15+CW15+DA15+DE15+DI15+DM15+DQ15+DU15+DY15 -> 0
A16: 8 | B16: AKHIL503111TSBH09690 | C16: AKHILA HOSPITAL | D16: N.H.7 ROAD, VIKASNAGAR COLONY, I.B.P. OPP: PETROL BUNK, KAMAREDDY - 503111. | E16: 20 | F16: 2 | J16: 2 | N16: 2 | R16: 2 | V16: 2 | Z16: 2 | AD16: 2 | AH16: 2 | AL16: 2 | AP16: 2 | AT16: 3 | AX16: 3 | BB16: 3 | BF16: 3 | BJ16: 3 | BN16: 3 | BR16: 3 | BV16: 3 | BZ16: 3 | CD16: 3 | CH16: 3 | CL16: 3 | CP16: 3 | CT16: 2 | CX16: 2 | DB16: 2 | DF16: 2 | DJ16: 2 | DN16: 2 | DR16: 2 | DZ16: =F16+J16+N16+R16+V16+Z16+AD16+AH16+AL16+AP16+AT16+AX16+BB16+BF16+BJ16+BN16+BR16+BV16+BZ16+CD16+CH16+CL16+CP16+CT16+CX16+DB16+DF16+DJ16+DN16+DR16+DV16 -> 73 | EA16: =G16+K16+O16+S16+W16+AA16+AE16+AI16+AM16+AQ16+AU16+AY16+BC16+BG16+BK16+BO16+BS16+BW16+CA16+CE16+CI16+CM16+CQ16+CU16+CY16+DC16+DG16+DK16+DO16+DS16+DW16 -> 0 | EB16: =H16+L16+P16+T16+X16+AB16+AF16+AJ16+AN16+AR16+AV16+AZ16+BD16+BH16+BL16+BP16+BT16+BX16+CB16+CF16+CJ16+CN16+CR16+CV16+CZ16+DD16+DH16+DL16+DP16+DT16+DX16 -> 0 | EC16: =I16+M16+Q16+U16+Y16+AC16+AG16+AK16+AO16+AS16+AW16+BA16+BE16+BI16+BM16+BQ16+BU16+BY16+CC16+CG16+CK16+CO16+CS16+CW16+DA16+DE16+DI16+DM16+DQ16+DU16+DY16 -> 0
A17: 9 | B17: APEXM503111TSBH11727 | C17: APEX MULTISPECIALTY HOSPITAL | D17: OPPOSITE R & B GUEST HOUSE, OLD NH-7 ROAD, KAMAREDDY - 503111. | E17: 20 | F17: 2 | J17: 2 | N17: 2 | R17: 2 | V17: 2 | Z17: 2 | AD17: 2 | AH17: 2 | AL17: 2 | AP17: 2 | AT17: 3 | AX17: 3 | BB17: 3 | BF17: 3 | BJ17: 3 | BN17: 3 | BR17: 3 | BV17: 3 | BZ17: 3 | CD17: 3 | CH17: 3 | CL17: 3 | CP17: 3 | CT17: 2 | CX17: 2 | DB17: 2 | DF17: 2 | DJ17: 2 | DN17: 2 | DR17: 2 | DZ17: =F17+J17+N17+R17+V17+Z17+AD17+AH17+AL17+AP17+AT17+AX17+BB17+BF17+BJ17+BN17+BR17+BV17+BZ17+CD17+CH17+CL17+CP17+CT17+CX17+DB17+DF17+DJ17+DN17+DR17+DV17 -> 73 | EA17: =G17+K17+O17+S17+W17+AA17+AE17+AI17+AM17+AQ17+AU17+AY17+BC17+BG17+BK17+BO17+BS17+BW17+CA17+CE17+CI17+CM17+CQ17+CU17+CY17+DC17+DG17+DK17+DO17+DS17+DW17 -> 0 | EB17: =H17+L17+P17+T17+X17+AB17+AF17+AJ17+AN17+AR17+AV17+AZ17+BD17+BH17+BL17+BP17+BT17+BX17+CB17+CF17+CJ17+CN17+CR17+CV17+CZ17+DD17+DH17+DL17+DP17+DT17+DX17 -> 0 | EC17: =I17+M17+Q17+U17+Y17+AC17+AG17+AK17+AO17+AS17+AW17+BA17+BE17+BI17+BM17+BQ17+BU17+BY17+CC17+CG17+CK17+CO17+CS17+CW17+DA17+DE17+DI17+DM17+DQ17+DU17+DY17 -> 0
A18: 10 | B18: MAATR503111TSBH14019 | C18: MAATRUSRI HOSPITAL MATERNITY & SURGICAL, KAMAREDDY | D18: H.NO. 1-5-209, SIRICILLA ROAD, OPP: ROAD OF GUNJ GATE, BESIDE SRIRAM CT SCAN, NETHAJI ROAD, KAMAREDDY,Kamareddy ( U ),Kamareddy,KAMAREDDY,503111 | E18: 20 | F18: 2 | J18: 2 | N18: 2 | R18: 2 | V18: 2 | Z18: 2 | AD18: 2 | AH18: 2 | AL18: 2 | AP18: 2 | AT18: 3 | AX18: 3 | BB18: 3 | BF18: 3 | BJ18: 3 | BN18: 3 | BR18: 3 | BV18: 3 | BZ18: 3 | CD18: 3 | CH18: 3 | CL18: 3 | CP18: 3 | CT18: 2 | CX18: 2 | DB18: 2 | DF18: 2 | DJ18: 2 | DN18: 2 | DR18: 2 | DZ18: =F18+J18+N18+R18+V18+Z18+AD18+AH18+AL18+AP18+AT18+AX18+BB18+BF18+BJ18+BN18+BR18+BV18+BZ18+CD18+CH18+CL18+CP18+CT18+CX18+DB18+DF18+DJ18+DN18+DR18+DV18 -> 73 | EA18: =G18+K18+O18+S18+W18+AA18+AE18+AI18+AM18+AQ18+AU18+AY18+BC18+BG18+BK18+BO18+BS18+BW18+CA18+CE18+CI18+CM18+CQ18+CU18+CY18+DC18+DG18+DK18+DO18+DS18+DW18 -> 0 | EB18: =H18+L18+P18+T18+X18+AB18+AF18+AJ18+AN18+AR18+AV18+AZ18+BD18+BH18+BL18+BP18+BT18+BX18+CB18+CF18+CJ18+CN18+CR18+CV18+CZ18+DD18+DH18+DL18+DP18+DT18+DX18 -> 0 | EC18: =I18+M18+Q18+U18+Y18+AC18+AG18+AK18+AO18+AS18+AW18+BA18+BE18+BI18+BM18+BQ18+BU18+BY18+CC18+CG18+CK18+CO18+CS18+CW18+DA18+DE18+DI18+DM18+DQ18+DU18+DY18 -> 0
A19: 11 | B19: RAJYA503111TSBH02589 | C19: RAJYALAKSHMI NURSING HOME | D19: BESIDE MUNICIPAL OFFICE, KAMAREDDY - 503111. | E19: 20 | F19: 2 | J19: 2 | N19: 2 | R19: 2 | V19: 2 | Z19: 2 | AD19: 2 | AH19: 2 | AL19: 2 | AP19: 2 | AT19: 3 | AX19: 3 | BB19: 3 | BF19: 3 | BJ19: 3 | BN19: 3 | BR19: 3 | BV19: 3 | BZ19: 3 | CD19: 3 | CH19: 3 | CL19: 3 | CP19: 3 | CT19: 2 | CX19: 2 | DB19: 2 | DF19: 2 | DJ19: 2 | DN19: 2 | DR19: 2 | DZ19: =F19+J19+N19+R19+V19+Z19+AD19+AH19+AL19+AP19+AT19+AX19+BB19+BF19+BJ19+BN19+BR19+BV19+BZ19+CD19+CH19+CL19+CP19+CT19+CX19+DB19+DF19+DJ19+DN19+DR19+DV19 -> 73 | EA19: =G19+K19+O19+S19+W19+AA19+AE19+AI19+AM19+AQ19+AU19+AY19+BC19+BG19+BK19+BO19+BS19+BW19+CA19+CE19+CI19+CM19+CQ19+CU19+CY19+DC19+DG19+DK19+DO19+DS19+DW19 -> 0 | EB19: =H19+L19+P19+T19+X19+AB19+AF19+AJ19+AN19+AR19+AV19+AZ19+BD19+BH19+BL19+BP19+BT19+BX19+CB19+CF19+CJ19+CN19+CR19+CV19+CZ19+DD19+DH19+DL19+DP19+DT19+DX19 -> 0 | EC19: =I19+M19+Q19+U19+Y19+AC19+AG19+AK19+AO19+AS19+AW19+BA19+BE19+BI19+BM19+BQ19+BU19+BY19+CC19+CG19+CK19+CO19+CS19+CW19+DA19+DE19+DI19+DM19+DQ19+DU19+DY19 -> 0
A20: 12 | B20: SREEG503111TSBH00895 | C20: SREE GANESHA MULTI SPECIALITY HOSPITAL | D20: H.No.1-7-73, DAILY MARKET, THILAK ROAD, KAMAREDDY - 503111. | E20: 20 | F20: 2 | J20: 2 | N20: 2 | R20: 2 | V20: 2 | Z20: 2 | AD20: 2 | AH20: 2 | AL20: 2 | AP20: 2 | AT20: 3 | AX20: 3 | BB20: 3 | BF20: 3 | BJ20: 3 | BN20: 3 | BR20: 3 | BV20: 3 | BZ20: 3 | CD20: 3 | CH20: 3 | CL20: 3 | CP20: 3 | CT20: 2 | CX20: 2 | DB20: 2 | DF20: 2 | DJ20: 2 | DN20: 2 | DR20: 2 | DZ20: =F20+J20+N20+R20+V20+Z20+AD20+AH20+AL20+AP20+AT20+AX20+BB20+BF20+BJ20+BN20+BR20+BV20+BZ20+CD20+CH20+CL20+CP20+CT20+CX20+DB20+DF20+DJ20+DN20+DR20+DV20 -> 73 | EA20: =G20+K20+O20+S20+W20+AA20+AE20+AI20+AM20+AQ20+AU20+AY20+BC20+BG20+BK20+BO20+BS20+BW20+CA20+CE20+CI20+CM20+CQ20+CU20+CY20+DC20+DG20+DK20+DO20+DS20+DW20 -> 0 | EB20: =H20+L20+P20+T20+X20+AB20+AF20+AJ20+AN20+AR20+AV20+AZ20+BD20+BH20+BL20+BP20+BT20+BX20+CB20+CF20+CJ20+CN20+CR20+CV20+CZ20+DD20+DH20+DL20+DP20+DT20+DX20 -> 0 | EC20: =I20+M20+Q20+U20+Y20+AC20+AG20+AK20+AO20+AS20+AW20+BA20+BE20+BI20+BM20+BQ20+BU20+BY20+CC20+CG20+CK20+CO20+CS20+CW20+DA20+DE20+DI20+DM20+DQ20+DU20+DY20 -> 0
A21: 13 | B21: SRIJA503111TSBH06130 | C21: SRI JANANI MOTHER & CHILD HOPSITAL | D21: GOWDOWN ROAD, BEHIND GANGA CHILDRENS HOSPITAL, NEAR POOJA DIAGNOSTICS CENTRE , KAMAREDDY - 503111. | E21: 20 | F21: 2 | J21: 2 | N21: 2 | R21: 2 | V21: 2 | Z21: 2 | AD21: 2 | AH21: 2 | AL21: 2 | AP21: 2 | AT21: 3 | AX21: 3 | BB21: 3 | BF21: 3 | BJ21: 3 | BN21: 3 | BR21: 3 | BV21: 3 | BZ21: 3 | CD21: 3 | CH21: 3 | CL21: 3 | CP21: 3 | CT21: 2 | CX21: 2 | DB21: 2 | DF21: 2 | DJ21: 2 | DN21: 2 | DR21: 2 | DZ21: =F21+J21+N21+R21+V21+Z21+AD21+AH21+AL21+AP21+AT21+AX21+BB21+BF21+BJ21+BN21+BR21+BV21+BZ21+CD21+CH21+CL21+CP21+CT21+CX21+DB21+DF21+DJ21+DN21+DR21+DV21 -> 73 | EA21: =G21+K21+O21+S21+W21+AA21+AE21+AI21+AM21+AQ21+AU21+AY21+BC21+BG21+BK21+BO21+BS21+BW21+CA21+CE21+CI21+CM21+CQ21+CU21+CY21+DC21+DG21+DK21+DO21+DS21+DW21 -> 0 | EB21: =H21+L21+P21+T21+X21+AB21+AF21+AJ21+AN21+AR21+AV21+AZ21+BD21+BH21+BL21+BP21+BT21+BX21+CB21+CF21+CJ21+CN21+CR21+CV21+CZ21+DD21+DH21+DL21+DP21+DT21+DX21 -> 0 | EC21: =I21+M21+Q21+U21+Y21+AC21+AG21+AK21+AO21+AS21+AW21+BA21+BE21+BI21+BM21+BQ21+BU21+BY21+CC21+CG21+CK21+CO21+CS21+CW21+DA21+DE21+DI21+DM21+DQ21+DU21+DY21 -> 0
A22: 14 | B22: SRILA503111TSBH16238 | C22: SRI LALITHA HOSPITAL | D22: 1-5-442/10/C, Near Dr. Prakash Rao Eye Hospital, Ramareddy Road, Kamareddy | E22: 9 | F22: 2 | J22: 2 | N22: 2 | R22: 2 | V22: 2 | Z22: 2 | AD22: 2 | AH22: 2 | AL22: 2 | AP22: 2 | AT22: 3 | AX22: 3 | BB22: 3 | BF22: 3 | BJ22: 3 | BN22: 3 | BR22: 3 | BV22: 3 | BZ22: 3 | CD22: 3 | CH22: 3 | CL22: 3 | CP22: 3 | CT22: 2 | CX22: 2 | DB22: 2 | DF22: 2 | DJ22: 2 | DN22: 2 | DR22: 2 | DZ22: =F22+J22+N22+R22+V22+Z22+AD22+AH22+AL22+AP22+AT22+AX22+BB22+BF22+BJ22+BN22+BR22+BV22+BZ22+CD22+CH22+CL22+CP22+CT22+CX22+DB22+DF22+DJ22+DN22+DR22+DV22 -> 73 | EA22: =G22+K22+O22+S22+W22+AA22+AE22+AI22+AM22+AQ22+AU22+AY22+BC22+BG22+BK22+BO22+BS22+BW22+CA22+CE22+CI22+CM22+CQ22+CU22+CY22+DC22+DG22+DK22+DO22+DS22+DW22 -> 0 | EB22: =H22+L22+P22+T22+X22+AB22+AF22+AJ22+AN22+AR22+AV22+AZ22+BD22+BH22+BL22+BP22+BT22+BX22+CB22+CF22+CJ22+CN22+CR22+CV22+CZ22+DD22+DH22+DL22+DP22+DT22+DX22 -> 0 | EC22: =I22+M22+Q22+U22+Y22+AC22+AG22+AK22+AO22+AS22+AW22+BA22+BE22+BI22+BM22+BQ22+BU22+BY22+CC22+CG22+CK22+CO22+CS22+CW22+DA22+DE22+DI22+DM22+DQ22+DU22+DY22 -> 0
A23: 15 | B23: SRISA503111TSBH07063 | C23: SRI SAI SIMHA MULTI SPECIALITY HOME | D23: H.NO. 1-5-192, NETHAJI ROAD, OLD BUS STAND, KAMAREDDY - 503111. | E23: 20 | F23: 2 | J23: 2 | N23: 2 | R23: 2 | V23: 2 | Z23: 2 | AD23: 2 | AH23: 2 | AL23: 2 | AP23: 2 | AT23: 3 | AX23: 3 | BB23: 3 | BF23: 3 | BJ23: 3 | BN23: 3 | BR23: 3 | BV23: 3 | BZ23: 3 | CD23: 3 | CH23: 3 | CL23: 3 | CP23: 3 | CT23: 2 | CX23: 2 | DB23: 2 | DF23: 2 | DJ23: 2 | DN23: 2 | DR23: 2 | DZ23: =F23+J23+N23+R23+V23+Z23+AD23+AH23+AL23+AP23+AT23+AX23+BB23+BF23+BJ23+BN23+BR23+BV23+BZ23+CD23+CH23+CL23+CP23+CT23+CX23+DB23+DF23+DJ23+DN23+DR23+DV23 -> 73 | EA23: =G23+K23+O23+S23+W23+AA23+AE23+AI23+AM23+AQ23+AU23+AY23+BC23+BG23+BK23+BO23+BS23+BW23+CA23+CE23+CI23+CM23+CQ23+CU23+CY23+DC23+DG23+DK23+DO23+DS23+DW23 -> 0 | EB23: =H23+L23+P23+T23+X23+AB23+AF23+AJ23+AN23+AR23+AV23+AZ23+BD23+BH23+BL23+BP23+BT23+BX23+CB23+CF23+CJ23+CN23+CR23+CV23+CZ23+DD23+DH23+DL23+DP23+DT23+DX23 -> 0 | EC23: =I23+M23+Q23+U23+Y23+AC23+AG23+AK23+AO23+AS23+AW23+BA23+BE23+BI23+BM23+BQ23+BU23+BY23+CC23+CG23+CK23+CO23+CS23+CW23+DA23+DE23+DI23+DM23+DQ23+DU23+DY23 -> 0
A24: 16 | B24: SRISA503001TSBH08370 | C24: SRI SAI SRINIVASA HOSPITAL | D24: NEAR PRAKASH RAO EYE HOSPITAL, RAMAREDDY ROAD, KAMAREDDY - 503111. | E24: 20 | F24: 2 | J24: 2 | N24: 2 | R24: 2 | V24: 2 | Z24: 2 | AD24: 2 | AH24: 2 | AL24: 2 | AP24: 2 | AT24: 3 | AX24: 3 | BB24: 3 | BF24: 3 | BJ24: 3 | BN24: 3 | BR24: 3 | BV24: 3 | BZ24: 3 | CD24: 3 | CH24: 3 | CL24: 3 | CP24: 3 | CT24: 2 | CX24: 2 | DB24: 2 | DF24: 2 | DJ24: 2 | DN24: 2 | DR24: 2 | DZ24: =F24+J24+N24+R24+V24+Z24+AD24+AH24+AL24+AP24+AT24+AX24+BB24+BF24+BJ24+BN24+BR24+BV24+BZ24+CD24+CH24+CL24+CP24+CT24+CX24+DB24+DF24+DJ24+DN24+DR24+DV24 -> 73 | EA24: =G24+K24+O24+S24+W24+AA24+AE24+AI24+AM24+AQ24+AU24+AY24+BC24+BG24+BK24+BO24+BS24+BW24+CA24+CE24+CI24+CM24+CQ24+CU24+CY24+DC24+DG24+DK24+DO24+DS24+DW24 -> 0 | EB24: =H24+L24+P24+T24+X24+AB24+AF24+AJ24+AN24+AR24+AV24+AZ24+BD24+BH24+BL24+BP24+BT24+BX24+CB24+CF24+CJ24+CN24+CR24+CV24+CZ24+DD24+DH24+DL24+DP24+DT24+DX24 -> 0 | EC24: =I24+M24+Q24+U24+Y24+AC24+AG24+AK24+AO24+AS24+AW24+BA24+BE24+BI24+BM24+BQ24+BU24+BY24+CC24+CG24+CK24+CO24+CS24+CW24+DA24+DE24+DI24+DM24+DQ24+DU24+DY24 -> 0
A25: 17 | B25: THIRU503111TSBH00893 | C25: THIRUMALA NURSING HOME | D25: OPPOSITE LANE OF BUS STATION, AHSOK NAGAR COLONY, KAMAREDDY - 503111. | E25: 20 | F25: 2 | J25: 2 | N25: 2 | R25: 2 | V25: 2 | Z25: 2 | AD25: 2 | AH25: 2 | AL25: 2 | AP25: 2 | AT25: 3 | AX25: 3 | BB25: 3 | BF25: 3 | BJ25: 3 | BN25: 3 | BR25: 3 | BV25: 3 | BZ25: 3 | CD25: 3 | CH25: 3 | CL25: 3 | CP25: 3 | CT25: 2 | CX25: 2 | DB25: 2 | DF25: 2 | DJ25: 2 | DN25: 2 | DR25: 2 | DZ25: =F25+J25+N25+R25+V25+Z25+AD25+AH25+AL25+AP25+AT25+AX25+BB25+BF25+BJ25+BN25+BR25+BV25+BZ25+CD25+CH25+CL25+CP25+CT25+CX25+DB25+DF25+DJ25+DN25+DR25+DV25 -> 73 | EA25: =G25+K25+O25+S25+W25+AA25+AE25+AI25+AM25+AQ25+AU25+AY25+BC25+BG25+BK25+BO25+BS25+BW25+CA25+CE25+CI25+CM25+CQ25+CU25+CY25+DC25+DG25+DK25+DO25+DS25+DW25 -> 0 | EB25: =H25+L25+P25+T25+X25+AB25+AF25+AJ25+AN25+AR25+AV25+AZ25+BD25+BH25+BL25+BP25+BT25+BX25+CB25+CF25+CJ25+CN25+CR25+CV25+CZ25+DD25+DH25+DL25+DP25+DT25+DX25 -> 0 | EC25: =I25+M25+Q25+U25+Y25+AC25+AG25+AK25+AO25+AS25+AW25+BA25+BE25+BI25+BM25+BQ25+BU25+BY25+CC25+CG25+CK25+CO25+CS25+CW25+DA25+DE25+DI25+DM25+DQ25+DU25+DY25 -> 0
A26: 18 | B26: DRBIS503111TSBH00941 | C26: B. ISHWAR DAS HOSPITAL | D26: H.No. 2-1-2, NEAR RAILWAY BRIDGE, KAMAREDDY - 503111. | E26: 18 | F26: 2 | J26: 2 | N26: 2 | R26: 2 | V26: 2 | Z26: 2 | AD26: 2 | AH26: 2 | AL26: 2 | AP26: 2 | AT26: 2 | AX26: 2 | BB26: 2 | BF26: 2 | BJ26: 2 | BN26: 2 | BR26: 2 | BV26: 2 | BZ26: 2 | CD26: 2 | CH26: 2 | CL26: 2 | CP26: 2 | CT26: 2 | CX26: 2 | DB26: 2 | DF26: 2 | DJ26: 2 | DN26: 2 | DR26: 2 | DZ26: =F26+J26+N26+R26+V26+Z26+AD26+AH26+AL26+AP26+AT26+AX26+BB26+BF26+BJ26+BN26+BR26+BV26+BZ26+CD26+CH26+CL26+CP26+CT26+CX26+DB26+DF26+DJ26+DN26+DR26+DV26 -> 60 | EA26: =G26+K26+O26+S26+W26+AA26+AE26+AI26+AM26+AQ26+AU26+AY26+BC26+BG26+BK26+BO26+BS26+BW26+CA26+CE26+CI26+CM26+CQ26+CU26+CY26+DC26+DG26+DK26+DO26+DS26+DW26 -> 0 | EB26: =H26+L26+P26+T26+X26+AB26+AF26+AJ26+AN26+AR26+AV26+AZ26+BD26+BH26+BL26+BP26+BT26+BX26+CB26+CF26+CJ26+CN26+CR26+CV26+CZ26+DD26+DH26+DL26+DP26+DT26+DX26 -> 0 | EC26: =I26+M26+Q26+U26+Y26+AC26+AG26+AK26+AO26+AS26+AW26+BA26+BE26+BI26+BM26+BQ26+BU26+BY26+CC26+CG26+CK26+CO26+CS26+CW26+DA26+DE26+DI26+DM26+DQ26+DU26+DY26 -> 0
... A55: 47 | B55: AJAYH503111TSBH09981 | C55: AJAY HOSPITAL (CHILDRENS & NEONATAL) KAMAREDDY | D55: BESIDE SPARSHA SKIN HOSPITAL & SRI LAXMI HOSPITAL, GODOWN ROAD, KAMAREDDY - 503111. | E55: 9 | F55: 1 | J55: 1 | N55: 1 | R55: 1 | V55: 1 | Z55: 1 | AD55: 1 | AH55: 1 | AL55: 1 | AP55: 1 | AT55: 1 | AX55: 1 | BB55: 1 | BF55: 1 | BJ55: 1 | BN55: 1 | BR55: 1 | BV55: 1 | BZ55: 1 | CD55: 1 | CH55: 1 | CL55: 1 | CP55: 1 | CT55: 1 | CX55: 1 | DB55: 1 | DF55: 1 | DJ55: 1 | DN55: 1 | DR55: 1 | DZ55: =F55+J55+N55+R55+V55+Z55+AD55+AH55+AL55+AP55+AT55+AX55+BB55+BF55+BJ55+BN55+BR55+BV55+BZ55+CD55+CH55+CL55+CP55+CT55+CX55+DB55+DF55+DJ55+DN55+DR55+DV55 -> 30 | EA55: =G55+K55+O55+S55+W55+AA55+AE55+AI55+AM55+AQ55+AU55+AY55+BC55+BG55+BK55+BO55+BS55+BW55+CA55+CE55+CI55+CM55+CQ55+CU55+CY55+DC55+DG55+DK55+DO55+DS55+DW55 -> 0 | EB55: =H55+L55+P55+T55+X55+AB55+AF55+AJ55+AN55+AR55+AV55+AZ55+BD55+BH55+BL55+BP55+BT55+BX55+CB55+CF55+CJ55+CN55+CR55+CV55+CZ55+DD55+DH55+DL55+DP55+DT55+DX55 -> 0 | EC55: =I55+M55+Q55+U55+Y55+AC55+AG55+AK55+AO55+AS55+AW55+BA55+BE55+BI55+BM55+BQ55+BU55+BY55+CC55+CG55+CK55+CO55+CS55+CW55+DA55+DE55+DI55+DM55+DQ55+DU55+DY55 -> 0
A56: 48 | B56: KAMAR503111TSBH08454 | C56: KAMAREDDY EYE HOSPITAL | D56: BESIDE SHRAVANI EYE HOSPITAL, GODOWN ROAD, KAMAREDDY - 503111. | E56: 9 | DZ56: =F56+J56+N56+R56+V56+Z56+AD56+AH56+AL56+AP56+AT56+AX56+BB56+BF56+BJ56+BN56+BR56+BV56+BZ56+CD56+CH56+CL56+CP56+CT56+CX56+DB56+DF56+DJ56+DN56+DR56+DV56 -> 0 | EA56: =G56+K56+O56+S56+W56+AA56+AE56+AI56+AM56+AQ56+AU56+AY56+BC56+BG56+BK56+BO56+BS56+BW56+CA56+CE56+CI56+CM56+CQ56+CU56+CY56+DC56+DG56+DK56+DO56+DS56+DW56 -> 0 | EB56: =H56+L56+P56+T56+X56+AB56+AF56+AJ56+AN56+AR56+AV56+AZ56+BD56+BH56+BL56+BP56+BT56+BX56+CB56+CF56+CJ56+CN56+CR56+CV56+CZ56+DD56+DH56+DL56+DP56+DT56+DX56 -> 0 | EC56: =I56+M56+Q56+U56+Y56+AC56+AG56+AK56+AO56+AS56+AW56+BA56+BE56+BI56+BM56+BQ56+BU56+BY56+CC56+CG56+CK56+CO56+CS56+CW56+DA56+DE56+DI56+DM56+DQ56+DU56+DY56 -> 0
A57: 49 | B57: NAKSH503111TSBH09942 | C57: NAKSHATRA HOSPITAL | D57: OPP: SRI SAI KRISHNA HOSPITAL, PARSHI RAMULU FUNCTION HALL ROAD, ASHOK NAGAR COLONY, OPPOSITE LANE OF BUS STAND, KAMAREDDY - 503111. | E57: 9 | F57: 1 | J57: 1 | N57: 1 | R57: 1 | V57: 1 | Z57: 1 | AD57: 1 | AH57: 1 | AL57: 1 | AP57: 1 | AT57: 1 | AX57: 1 | BB57: 1 | BF57: 1 | BJ57: 1 | BN57: 1 | BR57: 1 | BV57: 1 | BZ57: 1 | CD57: 1 | CH57: 1 | CL57: 1 | CP57: 1 | CT57: 1 | CX57: 1 | DB57: 1 | DF57: 1 | DJ57: 1 | DN57: 1 | DR57: 1 | DZ57: =F57+J57+N57+R57+V57+Z57+AD57+AH57+AL57+AP57+AT57+AX57+BB57+BF57+BJ57+BN57+BR57+BV57+BZ57+CD57+CH57+CL57+CP57+CT57+CX57+DB57+DF57+DJ57+DN57+DR57+DV57 -> 30 | EA57: =G57+K57+O57+S57+W57+AA57+AE57+AI57+AM57+AQ57+AU57+AY57+BC57+BG57+BK57+BO57+BS57+BW57+CA57+CE57+CI57+CM57+CQ57+CU57+CY57+DC57+DG57+DK57+DO57+DS57+DW57 -> 0 | EB57: =H57+L57+P57+T57+X57+AB57+AF57+AJ57+AN57+AR57+AV57+AZ57+BD57+BH57+BL57+BP57+BT57+BX57+CB57+CF57+CJ57+CN57+CR57+CV57+CZ57+DD57+DH57+DL57+DP57+DT57+DX57 -> 0 | EC57: =I57+M57+Q57+U57+Y57+AC57+AG57+AK57+AO57+AS57+AW57+BA57+BE57+BI57+BM57+BQ57+BU57+BY57+CC57+CG57+CK57+CO57+CS57+CW57+DA57+DE57+DI57+DM57+DQ57+DU57+DY57 -> 0
A58: 50 | B58: RJHOS503111TSBH09781 | C58: R J HOSPITAL | D58: JAMAL'S R J HOSPITAL, #1-5-Ra0004, KAMAREDDY - 503111. | E58: 9 | F58: 1 | J58: 1 | N58: 1 | R58: 1 | V58: 1 | Z58: 1 | AD58: 1 | AH58: 1 | AL58: 1 | AP58: 1 | AT58: 1 | AX58: 1 | BB58: 1 | BF58: 1 | BJ58: 1 | BN58: 1 | BR58: 1 | BV58: 1 | BZ58: 1 | CD58: 1 | CH58: 1 | CL58: 1 | CP58: 1 | CT58: 1 | CX58: 1 | DB58: 1 | DF58: 1 | DJ58: 1 | DN58: 1 | DR58: 1 | DZ58: =F58+J58+N58+R58+V58+Z58+AD58+AH58+AL58+AP58+AT58+AX58+BB58+BF58+BJ58+BN58+BR58+BV58+BZ58+CD58+CH58+CL58+CP58+CT58+CX58+DB58+DF58+DJ58+DN58+DR58+DV58 -> 30 | EA58: =G58+K58+O58+S58+W58+AA58+AE58+AI58+AM58+AQ58+AU58+AY58+BC58+BG58+BK58+BO58+BS58+BW58+CA58+CE58+CI58+CM58+CQ58+CU58+CY58+DC58+DG58+DK58+DO58+DS58+DW58 -> 0 | EB58: =H58+L58+P58+T58+X58+AB58+AF58+AJ58+AN58+AR58+AV58+AZ58+BD58+BH58+BL58+BP58+BT58+BX58+CB58+CF58+CJ58+CN58+CR58+CV58+CZ58+DD58+DH58+DL58+DP58+DT58+DX58 -> 0 | EC58: =I58+M58+Q58+U58+Y58+AC58+AG58+AK58+AO58+AS58+AW58+BA58+BE58+BI58+BM58+BQ58+BU58+BY58+CC58+CG58+CK58+CO58+CS58+CW58+DA58+DE58+DI58+DM58+DQ58+DU58+DY58 -> 0
A59: 51 | B59: SRIKR503111TSBH09902 | C59: SRI KRISHNA NETHRALAYA EYE CARE HOSPITAL | D59: DR V. SURESH KUMAR, GODOWN ROAD, KAMAREDDY | E59: 9 | F59: 1 | J59: 1 | N59: 1 | R59: 1 | V59: 1 | Z59: 1 | AD59: 1 | AH59: 1 | AL59: 1 | AP59: 1 | AT59: 1 | AX59: 1 | BB59: 1 | BF59: 1 | BJ59: 1 | BN59: 1 | BR59: 1 | BV59: 1 | BZ59: 1 | CD59: 1 | CH59: 1 | CL59: 1 | CP59: 1 | CT59: 1 | CX59: 1 | DB59: 1 | DF59: 1 | DJ59: 1 | DN59: 1 | DR59: 1 | DZ59: =F59+J59+N59+R59+V59+Z59+AD59+AH59+AL59+AP59+AT59+AX59+BB59+BF59+BJ59+BN59+BR59+BV59+BZ59+CD59+CH59+CL59+CP59+CT59+CX59+DB59+DF59+DJ59+DN59+DR59+DV59 -> 30 | EA59: =G59+K59+O59+S59+W59+AA59+AE59+AI59+AM59+AQ59+AU59+AY59+BC59+BG59+BK59+BO59+BS59+BW59+CA59+CE59+CI59+CM59+CQ59+CU59+CY59+DC59+DG59+DK59+DO59+DS59+DW59 -> 0 | EB59: =H59+L59+P59+T59+X59+AB59+AF59+AJ59+AN59+AR59+AV59+AZ59+BD59+BH59+BL59+BP59+BT59+BX59+CB59+CF59+CJ59+CN59+CR59+CV59+CZ59+DD59+DH59+DL59+DP59+DT59+DX59 -> 0 | EC59: =I59+M59+Q59+U59+Y59+AC59+AG59+AK59+AO59+AS59+AW59+BA59+BE59+BI59+BM59+BQ59+BU59+BY59+CC59+CG59+CK59+CO59+CS59+CW59+DA59+DE59+DI59+DM59+DQ59+DU59+DY59 -> 0
A60: 52 | B60: SRILA503111TSBH13903 | C60: SRI LAXMI VENKATESHWARA MULTISPECIALITY HOSPITAL (SRI LVR HOSPITAL) KAMAREDDY | D60: H.No. 1-5-173/1, NETAJI ROAD, KAMAREDDY - 503111. | E60: 9 | DZ60: =F60+J60+N60+R60+V60+Z60+AD60+AH60+AL60+AP60+AT60+AX60+BB60+BF60+BJ60+BN60+BR60+BV60+BZ60+CD60+CH60+CL60+CP60+CT60+CX60+DB60+DF60+DJ60+DN60+DR60+DV60 -> 0 | EA60: =G60+K60+O60+S60+W60+AA60+AE60+AI60+AM60+AQ60+AU60+AY60+BC60+BG60+BK60+BO60+BS60+BW60+CA60+CE60+CI60+CM60+CQ60+CU60+CY60+DC60+DG60+DK60+DO60+DS60+DW60 -> 0 | EB60: =H60+L60+P60+T60+X60+AB60+AF60+AJ60+AN60+AR60+AV60+AZ60+BD60+BH60+BL60+BP60+BT60+BX60+CB60+CF60+CJ60+CN60+CR60+CV60+CZ60+DD60+DH60+DL60+DP60+DT60+DX60 -> 0 | EC60: =I60+M60+Q60+U60+Y60+AC60+AG60+AK60+AO60+AS60+AW60+BA60+BE60+BI60+BM60+BQ60+BU60+BY60+CC60+CG60+CK60+CO60+CS60+CW60+DA60+DE60+DI60+DM60+DQ60+DU60+DY60 -> 0
A61: 53 | B61: SRIPA503111TSBH14020 | C61: SRI PADMAVATHI MULTI SPECIALITY HOSPITAL | D61: DOCTOR JYOTHIRMAYI BUILDING, BESIDE R.K. LODGE, NEW BUS STAND, NGO'S COLONY, KAMAREDDY - 503111 | E61: 9 | F61: 1 | J61: 1 | N61: 1 | R61: 1 | V61: 1 | Z61: 1 | AD61: 1 | AH61: 1 | AL61: 1 | AP61: 1 | AT61: 1 | AX61: 1 | BB61: 1 | BF61: 1 | BJ61: 1 | BN61: 1 | BR61: 1 | BV61: 1 | BZ61: 1 | CD61: 1 | CH61: 1 | CL61: 1 | CP61: 1 | CT61: 1 | CX61: 1 | DB61: 1 | DF61: 1 | DJ61: 1 | DN61: 1 | DR61: 1 | DZ61: =F61+J61+N61+R61+V61+Z61+AD61+AH61+AL61+AP61+AT61+AX61+BB61+BF61+BJ61+BN61+BR61+BV61+BZ61+CD61+CH61+CL61+CP61+CT61+CX61+DB61+DF61+DJ61+DN61+DR61+DV61 -> 30 | EA61: =G61+K61+O61+S61+W61+AA61+AE61+AI61+AM61+AQ61+AU61+AY61+BC61+BG61+BK61+BO61+BS61+BW61+CA61+CE61+CI61+CM61+CQ61+CU61+CY61+DC61+DG61+DK61+DO61+DS61+DW61 -> 0 | EB61: =H61+L61+P61+T61+X61+AB61+AF61+AJ61+AN61+AR61+AV61+AZ61+BD61+BH61+BL61+BP61+BT61+BX61+CB61+CF61+CJ61+CN61+CR61+CV61+CZ61+DD61+DH61+DL61+DP61+DT61+DX61 -> 0 | EC61: =I61+M61+Q61+U61+Y61+AC61+AG61+AK61+AO61+AS61+AW61+BA61+BE61+BI61+BM61+BQ61+BU61+BY61+CC61+CG61+CK61+CO61+CS61+CW61+DA61+DE61+DI61+DM61+DQ61+DU61+DY61 -> 0
A62: 54 | B62: SRIVE503111TSBH06155 | C62: SRI VENKATESHWARA MULTI SPECIALITY DENTAL & COSMETIC CLINIC | D62: H.No:5-3-447, SREE VENKATA NIVAASAM, VIDYA NAGAR COLONY, NEAR SAI BABA TEMPLE, KAMAREDDY - 503111. | E62: 9 | N62: 1 | R62: 1 | V62: 1 | Z62: 1 | AD62: 1 | AH62: 1 | AL62: 1 | AP62: 1 | AT62: 1 | AX62: 1 | BB62: 1 | BF62: 1 | BJ62: 1 | BN62: 1 | BR62: 1 | BV62: 1 | BZ62: 1 | CD62: 1 | CH62: 1 | CL62: 1 | CP62: 1 | CT62: 1 | CX62: 1 | DB62: 1 | DF62: 1 | DJ62: 1 | DN62: 1 | DR62: 1 | DZ62: =F62+J62+N62+R62+V62+Z62+AD62+AH62+AL62+AP62+AT62+AX62+BB62+BF62+BJ62+BN62+BR62+BV62+BZ62+CD62+CH62+CL62+CP62+CT62+CX62+DB62+DF62+DJ62+DN62+DR62+DV62 -> 28 | EA62: =G62+K62+O62+S62+W62+AA62+AE62+AI62+AM62+AQ62+AU62+AY62+BC62+BG62+BK62+BO62+BS62+BW62+CA62+CE62+CI62+CM62+CQ62+CU62+CY62+DC62+DG62+DK62+DO62+DS62+DW62 -> 0 | EB62: =H62+L62+P62+T62+X62+AB62+AF62+AJ62+AN62+AR62+AV62+AZ62+BD62+BH62+BL62+BP62+BT62+BX62+CB62+CF62+CJ62+CN62+CR62+CV62+CZ62+DD62+DH62+DL62+DP62+DT62+DX62 -> 0 | EC62: =I62+M62+Q62+U62+Y62+AC62+AG62+AK62+AO62+AS62+AW62+BA62+BE62+BI62+BM62+BQ62+BU62+BY62+CC62+CG62+CK62+CO62+CS62+CW62+DA62+DE62+DI62+DM62+DQ62+DU62+DY62 -> 0
A63: 55 | B63: SURAK503111TSBH14555 | C63: SURAKSHA HOSPITAL | D63: OPPOSITE DR. ANJALREDDY HOSPITAL,NETHAJI ROAD, KAMAREDDY - 503111 | E63: 9 | G63: 1 | K63: 1 | O63: 1 | R63: 1 | V63: 1 | Z63: 1 | AD63: 1 | AH63: 1 | AL63: 1 | AP63: 1 | AT63: 1 | AX63: 1 | BB63: 1 | BF63: 1 | BJ63: 1 | BN63: 1 | BR63: 1 | BV63: 1 | BZ63: 1 | CD63: 1 | CH63: 1 | CL63: 1 | CP63: 1 | CT63: 1 | CX63: 1 | DB63: 1 | DF63: 1 | DJ63: 1 | DN63: 1 | DR63: 1 | DZ63: =F63+J63+N63+R63+V63+Z63+AD63+AH63+AL63+AP63+AT63+AX63+BB63+BF63+BJ63+BN63+BR63+BV63+BZ63+CD63+CH63+CL63+CP63+CT63+CX63+DB63+DF63+DJ63+DN63+DR63+DV63 -> 27 | EA63: =G63+K63+O63+S63+W63+AA63+AE63+AI63+AM63+AQ63+AU63+AY63+BC63+BG63+BK63+BO63+BS63+BW63+CA63+CE63+CI63+CM63+CQ63+CU63+CY63+DC63+DG63+DK63+DO63+DS63+DW63 -> 3 | EB63: =H63+L63+P63+T63+X63+AB63+AF63+AJ63+AN63+AR63+AV63+AZ63+BD63+BH63+BL63+BP63+BT63+BX63+CB63+CF63+CJ63+CN63+CR63+CV63+CZ63+DD63+DH63+DL63+DP63+DT63+DX63 -> 0 | EC63: =I63+M63+Q63+U63+Y63+AC63+AG63+AK63+AO63+AS63+AW63+BA63+BE63+BI63+BM63+BQ63+BU63+BY63+CC63+CG63+CK63+CO63+CS63+CW63+DA63+DE63+DI63+DM63+DQ63+DU63+DY63 -> 0
A64: 56 | B64: KAMAR503111TSBH09697 | C64: KAMAREDDY NEURO SUPERSPECIALITY HOSPITAL | D64: OPP: SWATHI HOTEL, SIRICILLA ROAD, KAMAREDDY - 503111. | E64: 8 | F64: 1 | J64: 1 | N64: 1 | R64: 1 | V64: 1 | Z64: 1 | AD64: 1 | AH64: 1 | AL64: 1 | AP64: 1 | AT64: 1 | AX64: 1 | BB64: 1 | BF64: 1 | BJ64: 1 | BN64: 1 | BR64: 1 | BV64: 1 | BZ64: 1 | CD64: 1 | CH64: 1 | CL64: 1 | CP64: 1 | CT64: 1 | CX64: 1 | DB64: 1 | DF64: 1 | DJ64: 1 | DN64: 1 | DR64: 1 | DZ64: =F64+J64+N64+R64+V64+Z64+AD64+AH64+AL64+AP64+AT64+AX64+BB64+BF64+BJ64+BN64+BR64+BV64+BZ64+CD64+CH64+CL64+CP64+CT64+CX64+DB64+DF64+DJ64+DN64+DR64+DV64 -> 30 | EA64: =G64+K64+O64+S64+W64+AA64+AE64+AI64+AM64+AQ64+AU64+AY64+BC64+BG64+BK64+BO64+BS64+BW64+CA64+CE64+CI64+CM64+CQ64+CU64+CY64+DC64+DG64+DK64+DO64+DS64+DW64 -> 0 | EB64: =H64+L64+P64+T64+X64+AB64+AF64+AJ64+AN64+AR64+AV64+AZ64+BD64+BH64+BL64+BP64+BT64+BX64+CB64+CF64+CJ64+CN64+CR64+CV64+CZ64+DD64+DH64+DL64+DP64+DT64+DX64 -> 0 | EC64: =I64+M64+Q64+U64+Y64+AC64+AG64+AK64+AO64+AS64+AW64+BA64+BE64+BI64+BM64+BQ64+BU64+BY64+CC64+CG64+CK64+CO64+CS64+CW64+DA64+DE64+DI64+DM64+DQ64+DU64+DY64 -> 0
A65: 57 | B65: NETRA503111TSBH09940 | C65: NETRA JYOTHI VISION CARE CENTER | D65: GODWN ROAD, KAMAREDDY - 503111. | E65: 8 | G65: 1 | K65: 1 | O65: 1 | R65: 1 | AD65: 1 | AH65: 1 | AL65: 1 | AP65: 1 | AT65: 1 | AX65: 1 | BB65: 1 | BF65: 1 | BJ65: 1 | BN65: 1 | BR65: 1 | BV65: 1 | BZ65: 1 | CD65: 1 | CH65: 1 | CL65: 1 | CP65: 1 | CT65: 1 | CX65: 1 | DB65: 1 | DF65: 1 | DJ65: 1 | DN65: 1 | DR65: 1 | DZ65: =F65+J65+N65+R65+V65+Z65+AD65+AH65+AL65+AP65+AT65+AX65+BB65+BF65+BJ65+BN65+BR65+BV65+BZ65+CD65+CH65+CL65+CP65+CT65+CX65+DB65+DF65+DJ65+DN65+DR65+DV65 -> 25 | EA65: =G65+K65+O65+S65+W65+AA65+AE65+AI65+AM65+AQ65+AU65+AY65+BC65+BG65+BK65+BO65+BS65+BW65+CA65+CE65+CI65+CM65+CQ65+CU65+CY65+DC65+DG65+DK65+DO65+DS65+DW65 -> 3 | EB65: =H65+L65+P65+T65+X65+AB65+AF65+AJ65+AN65+AR65+AV65+AZ65+BD65+BH65+BL65+BP65+BT65+BX65+CB65+CF65+CJ65+CN65+CR65+CV65+CZ65+DD65+DH65+DL65+DP65+DT65+DX65 -> 0 | EC65: =I65+M65+Q65+U65+Y65+AC65+AG65+AK65+AO65+AS65+AW65+BA65+BE65+BI65+BM65+BQ65+BU65+BY65+CC65+CG65+CK65+CO65+CS65+CW65+DA65+DE65+DI65+DM65+DQ65+DU65+DY65 -> 0
A66: 58 | B66: PULSE503111TSBH11651 | C66: PULSE HOSPITAL | D66: H.NO.5-3-678, BESIDE SREE VINAYAKA SKIN HOSPITAL, NEAR RAYMOND SHOWROOM, BUS STAND ROAD, KAMAREDDY | E66: 8 | F66: 1 | J66: 1 | N66: 1 | R66: 1 | AD66: 1 | AH66: 1 | AL66: 1 | AP66: 1 | AT66: 1 | AX66: 1 | BB66: 1 | BF66: 1 | BJ66: 1 | BN66: 1 | BR66: 1 | BV66: 1 | BZ66: 1 | CD66: 1 | CH66: 1 | CL66: 1 | CP66: 1 | CT66: 1 | CX66: 1 | DB66: 1 | DF66: 1 | DJ66: 1 | DN66: 1 | DR66: 1 | DZ66: =F66+J66+N66+R66+V66+Z66+AD66+AH66+AL66+AP66+AT66+AX66+BB66+BF66+BJ66+BN66+BR66+BV66+BZ66+CD66+CH66+CL66+CP66+CT66+CX66+DB66+DF66+DJ66+DN66+DR66+DV66 -> 28 | EA66: =G66+K66+O66+S66+W66+AA66+AE66+AI66+AM66+AQ66+AU66+AY66+BC66+BG66+BK66+BO66+BS66+BW66+CA66+CE66+CI66+CM66+CQ66+CU66+CY66+DC66+DG66+DK66+DO66+DS66+DW66 -> 0 | EB66: =H66+L66+P66+T66+X66+AB66+AF66+AJ66+AN66+AR66+AV66+AZ66+BD66+BH66+BL66+BP66+BT66+BX66+CB66+CF66+CJ66+CN66+CR66+CV66+CZ66+DD66+DH66+DL66+DP66+DT66+DX66 -> 0 | EC66: =I66+M66+Q66+U66+Y66+AC66+AG66+AK66+AO66+AS66+AW66+BA66+BE66+BI66+BM66+BQ66+BU66+BY66+CC66+CG66+CK66+CO66+CS66+CW66+DA66+DE66+DI66+DM66+DQ66+DU66+DY66 -> 0
A67: 59 | B67: SRINI503111TSBH01020 | C67: SRINIVASA CHILDRENS HOSPITAL | D67: H.NO. 5-4-125/1, N.H.7 ROAD, NEAR DSP OFFICE, RAMAREDDY ROAD, KAMAREDDY - 503111. | E67: 8 | F67: 1 | J67: 1 | N67: 1 | R67: 1 | V67: 1 | Z67: 1 | AD67: 1 | AH67: 1 | AL67: 1 | AP67: 1 | AT67: 1 | AX67: 1 | BB67: 1 | BF67: 1 | BJ67: 1 | BN67: 1 | BR67: 1 | BV67: 1 | BZ67: 1 | CD67: 1 | CH67: 1 | CL67: 1 | CP67: 1 | CT67: 1 | CX67: 1 | DB67: 1 | DF67: 1 | DJ67: 1 | DN67: 1 | DR67: 1 | DZ67: =F67+J67+N67+R67+V67+Z67+AD67+AH67+AL67+AP67+AT67+AX67+BB67+BF67+BJ67+BN67+BR67+BV67+BZ67+CD67+CH67+CL67+CP67+CT67+CX67+DB67+DF67+DJ67+DN67+DR67+DV67 -> 30 | EA67: =G67+K67+O67+S67+W67+AA67+AE67+AI67+AM67+AQ67+AU67+AY67+BC67+BG67+BK67+BO67+BS67+BW67+CA67+CE67+CI67+CM67+CQ67+CU67+CY67+DC67+DG67+DK67+DO67+DS67+DW67 -> 0 | EB67: =H67+L67+P67+T67+X67+AB67+AF67+AJ67+AN67+AR67+AV67+AZ67+BD67+BH67+BL67+BP67+BT67+BX67+CB67+CF67+CJ67+CN67+CR67+CV67+CZ67+DD67+DH67+DL67+DP67+DT67+DX67 -> 0 | EC67: =I67+M67+Q67+U67+Y67+AC67+AG67+AK67+AO67+AS67+AW67+BA67+BE67+BI67+BM67+BQ67+BU67+BY67+CC67+CG67+CK67+CO67+CS67+CW67+DA67+DE67+DI67+DM67+DQ67+DU67+DY67 -> 0
A68: 60 | B68: CITYN503111TSBH09977 | C68: CITY NEURO SUPER SPECIALITY HOSPITAL | D68: NEAR SREE GANESHA MULTI SPECIALITY HOSPITAL, TILAK ROAD, GODOWN ROAD, KAMAREDDY - 503111. | E68: 7 | F68: 1 | J68: 1 | N68: 1 | R68: 1 | V68: 1 | Z68: 1 | AD68: 1 | AH68: 1 | AL68: 1 | AP68: 1 | AT68: 1 | AX68: 1 | BB68: 1 | BF68: 1 | BJ68: 1 | BN68: 1 | BR68: 1 | BV68: 1 | BZ68: 1 | CD68: 1 | CH68: 1 | CL68: 1 | CP68: 1 | CT68: 1 | CX68: 1 | DB68: 1 | DF68: 1 | DJ68: 1 | DN68: 1 | DR68: 1 | DZ68: =F68+J68+N68+R68+V68+Z68+AD68+AH68+AL68+AP68+AT68+AX68+BB68+BF68+BJ68+BN68+BR68+BV68+BZ68+CD68+CH68+CL68+CP68+CT68+CX68+DB68+DF68+DJ68+DN68+DR68+DV68 -> 30 | EA68: =G68+K68+O68+S68+W68+AA68+AE68+AI68+AM68+AQ68+AU68+AY68+BC68+BG68+BK68+BO68+BS68+BW68+CA68+CE68+CI68+CM68+CQ68+CU68+CY68+DC68+DG68+DK68+DO68+DS68+DW68 -> 0 | EB68: =H68+L68+P68+T68+X68+AB68+AF68+AJ68+AN68+AR68+AV68+AZ68+BD68+BH68+BL68+BP68+BT68+BX68+CB68+CF68+CJ68+CN68+CR68+CV68+CZ68+DD68+DH68+DL68+DP68+DT68+DX68 -> 0 | EC68: =I68+M68+Q68+U68+Y68+AC68+AG68+AK68+AO68+AS68+AW68+BA68+BE68+BI68+BM68+BQ68+BU68+BY68+CC68+CG68+CK68+CO68+CS68+CW68+DA68+DE68+DI68+DM68+DQ68+DU68+DY68 -> 0
A69: 61 | B69: DRPSU503111TSBH07067 | C69: DR. P SUDARSHAN RAJ CLINIC | D69: H.NO. 1-9-53, MUSHRIF BHAGH, KAMAREDDY - 503111. | E69: 6 | F69: 1 | J69: 1 | N69: 1 | R69: 1 | V69: 1 | Z69: 1 | AD69: 1 | AH69: 1 | AL69: 1 | AP69: 1 | AT69: 1 | AX69: 1 | BB69: 1 | BF69: 1 | BJ69: 1 | BN69: 1 | BR69: 1 | BV69: 1 | BZ69: 1 | CD69: 1 | CH69: 1 | CL69: 1 | CP69: 1 | CT69: 1 | CX69: 1 | DB69: 1 | DF69: 1 | DJ69: 1 | DN69: 1 | DR69: 1 | DZ69: =F69+J69+N69+R69+V69+Z69+AD69+AH69+AL69+AP69+AT69+AX69+BB69+BF69+BJ69+BN69+BR69+BV69+BZ69+CD69+CH69+CL69+CP69+CT69+CX69+DB69+DF69+DJ69+DN69+DR69+DV69 -> 30 | EA69: =G69+K69+O69+S69+W69+AA69+AE69+AI69+AM69+AQ69+AU69+AY69+BC69+BG69+BK69+BO69+BS69+BW69+CA69+CE69+CI69+CM69+CQ69+CU69+CY69+DC69+DG69+DK69+DO69+DS69+DW69 -> 0 | EB69: =H69+L69+P69+T69+X69+AB69+AF69+AJ69+AN69+AR69+AV69+AZ69+BD69+BH69+BL69+BP69+BT69+BX69+CB69+CF69+CJ69+CN69+CR69+CV69+CZ69+DD69+DH69+DL69+DP69+DT69+DX69 -> 0 | EC69: =I69+M69+Q69+U69+Y69+AC69+AG69+AK69+AO69+AS69+AW69+BA69+BE69+BI69+BM69+BQ69+BU69+BY69+CC69+CG69+CK69+CO69+CS69+CW69+DA69+DE69+DI69+DM69+DQ69+DU69+DY69 -> 0
A70: 62 | B70: SURYA503111TSBH09941 | C70: SURYA HOSPITAL | D70: BESIDE SPARSHA SKIN HOSPITAL, NEAR T. BHAIRAIAH HOSPITAL, GODOWN ROAD, KAMAREDDY - 503111. | E70: 6 | F70: 1 | J70: 1 | N70: 1 | R70: 1 | AD70: 1 | AH70: 1 | AL70: 1 | AP70: 1 | AT70: 1 | AX70: 1 | BB70: 1 | BF70: 1 | BJ70: 1 | BN70: 1 | BR70: 1 | BV70: 1 | BZ70: 1 | CD70: 1 | CH70: 1 | CL70: 1 | CP70: 1 | CT70: 1 | CX70: 1 | DB70: 1 | DF70: 1 | DJ70: 1 | DN70: 1 | DR70: 1 | DZ70: =F70+J70+N70+R70+V70+Z70+AD70+AH70+AL70+AP70+AT70+AX70+BB70+BF70+BJ70+BN70+BR70+BV70+BZ70+CD70+CH70+CL70+CP70+CT70+CX70+DB70+DF70+DJ70+DN70+DR70+DV70 -> 28 | EA70: =G70+K70+O70+S70+W70+AA70+AE70+AI70+AM70+AQ70+AU70+AY70+BC70+BG70+BK70+BO70+BS70+BW70+CA70+CE70+CI70+CM70+CQ70+CU70+CY70+DC70+DG70+DK70+DO70+DS70+DW70 -> 0 | EB70: =H70+L70+P70+T70+X70+AB70+AF70+AJ70+AN70+AR70+AV70+AZ70+BD70+BH70+BL70+BP70+BT70+BX70+CB70+CF70+CJ70+CN70+CR70+CV70+CZ70+DD70+DH70+DL70+DP70+DT70+DX70 -> 0 | EC70: =I70+M70+Q70+U70+Y70+AC70+AG70+AK70+AO70+AS70+AW70+BA70+BE70+BI70+BM70+BQ70+BU70+BY70+CC70+CG70+CK70+CO70+CS70+CW70+DA70+DE70+DI70+DM70+DQ70+DU70+DY70 -> 0
A71: 63 | B71: AMRUT503111TSBH07827 | C71: AMRUTHA CHILDRENS & NEONATAL HOSPITAL | D71: BESIDE MUNICIPAL OFFICE, KAMAREDDY - 503111. | E71: 5 | F71: 1 | J71: 1 | N71: 1 | R71: 1 | AD71: 1 | AH71: 1 | AL71: 1 | AP71: 1 | AT71: 1 | AX71: 1 | BB71: 1 | BF71: 1 | BJ71: 1 | BN71: 1 | BR71: 1 | BV71: 1 | BZ71: 1 | CD71: 1 | CH71: 1 | CL71: 1 | CP71: 1 | CT71: 1 | CX71: 1 | DB71: 1 | DF71: 1 | DJ71: 1 | DN71: 1 | DR71: 1 | DZ71: =F71+J71+N71+R71+V71+Z71+AD71+AH71+AL71+AP71+AT71+AX71+BB71+BF71+BJ71+BN71+BR71+BV71+BZ71+CD71+CH71+CL71+CP71+CT71+CX71+DB71+DF71+DJ71+DN71+DR71+DV71 -> 28 | EA71: =G71+K71+O71+S71+W71+AA71+AE71+AI71+AM71+AQ71+AU71+AY71+BC71+BG71+BK71+BO71+BS71+BW71+CA71+CE71+CI71+CM71+CQ71+CU71+CY71+DC71+DG71+DK71+DO71+DS71+DW71 -> 0 | EB71: =H71+L71+P71+T71+X71+AB71+AF71+AJ71+AN71+AR71+AV71+AZ71+BD71+BH71+BL71+BP71+BT71+BX71+CB71+CF71+CJ71+CN71+CR71+CV71+CZ71+DD71+DH71+DL71+DP71+DT71+DX71 -> 0 | EC71: =I71+M71+Q71+U71+Y71+AC71+AG71+AK71+AO71+AS71+AW71+BA71+BE71+BI71+BM71+BQ71+BU71+BY71+CC71+CG71+CK71+CO71+CS71+CW71+DA71+DE71+DI71+DM71+DQ71+DU71+DY71 -> 0
A72: 64 | B72: JAGRU503111TSBH09903 | C72: JAGRUTHI HOSPITAL | D72: H.No. 1-5-98, TILAK ROAD, NEAR SRI KRISHNA NETHRALAYA EYE CARE HOSPITAL, GODOWN ROAD, KAMAREDDY - 503111. | E72: 5 | F72: 1 | J72: 1 | N72: 1 | R72: 1 | V72: 1 | Z72: 1 | AD72: 1 | AH72: 1 | AL72: 1 | AP72: 1 | AT72: 1 | AX72: 1 | BB72: 1 | BF72: 1 | BJ72: 1 | BN72: 1 | BR72: 1 | BV72: 1 | BZ72: 1 | CD72: 1 | CH72: 1 | CL72: 1 | CP72: 1 | CT72: 1 | CX72: 1 | DB72: 1 | DF72: 1 | DJ72: 1 | DN72: 1 | DR72: 1 | DZ72: =F72+J72+N72+R72+V72+Z72+AD72+AH72+AL72+AP72+AT72+AX72+BB72+BF72+BJ72+BN72+BR72+BV72+BZ72+CD72+CH72+CL72+CP72+CT72+CX72+DB72+DF72+DJ72+DN72+DR72+DV72 -> 30 | EA72: =G72+K72+O72+S72+W72+AA72+AE72+AI72+AM72+AQ72+AU72+AY72+BC72+BG72+BK72+BO72+BS72+BW72+CA72+CE72+CI72+CM72+CQ72+CU72+CY72+DC72+DG72+DK72+DO72+DS72+DW72 -> 0 | EB72: =H72+L72+P72+T72+X72+AB72+AF72+AJ72+AN72+AR72+AV72+AZ72+BD72+BH72+BL72+BP72+BT72+BX72+CB72+CF72+CJ72+CN72+CR72+CV72+CZ72+DD72+DH72+DL72+DP72+DT72+DX72 -> 0 | EC72: =I72+M72+Q72+U72+Y72+AC72+AG72+AK72+AO72+AS72+AW72+BA72+BE72+BI72+BM72+BQ72+BU72+BY72+CC72+CG72+CK72+CO72+CS72+CW72+DA72+DE72+DI72+DM72+DQ72+DU72+DY72 -> 0
A73: 65 | B73: SAIRA503111TSBH08388 | C73: SAIRAM GENERAL & SKIN HOSPITAL | D73: BESIDE DR. DATHAIAH CLINIC, NEAR RAILWAY BRIDGE, BESIDE AMBEDKAR STATUE, BIG BAZAR, KAMAREDDY - 503111. | E73: 5 | F73: 1 | J73: 1 | N73: 1 | R73: 1 | V73: 1 | Z73: 1 | AD73: 1 | AH73: 1 | AL73: 1 | AP73: 1 | AT73: 1 | AX73: 1 | BB73: 1 | BF73: 1 | BJ73: 1 | BN73: 1 | BR73: 1 | BV73: 1 | BZ73: 1 | CD73: 1 | CH73: 1 | CL73: 1 | CP73: 1 | CT73: 1 | CX73: 1 | DB73: 1 | DF73: 1 | DJ73: 1 | DN73: 1 | DR73: 1 | DZ73: =F73+J73+N73+R73+V73+Z73+AD73+AH73+AL73+AP73+AT73+AX73+BB73+BF73+BJ73+BN73+BR73+BV73+BZ73+CD73+CH73+CL73+CP73+CT73+CX73+DB73+DF73+DJ73+DN73+DR73+DV73 -> 30 | EA73: =G73+K73+O73+S73+W73+AA73+AE73+AI73+AM73+AQ73+AU73+AY73+BC73+BG73+BK73+BO73+BS73+BW73+CA73+CE73+CI73+CM73+CQ73+CU73+CY73+DC73+DG73+DK73+DO73+DS73+DW73 -> 0 | EB73: =H73+L73+P73+T73+X73+AB73+AF73+AJ73+AN73+AR73+AV73+AZ73+BD73+BH73+BL73+BP73+BT73+BX73+CB73+CF73+CJ73+CN73+CR73+CV73+CZ73+DD73+DH73+DL73+DP73+DT73+DX73 -> 0 | EC73: =I73+M73+Q73+U73+Y73+AC73+AG73+AK73+AO73+AS73+AW73+BA73+BE73+BI73+BM73+BQ73+BU73+BY73+CC73+CG73+CK73+CO73+CS73+CW73+DA73+DE73+DI73+DM73+DQ73+DU73+DY73 -> 0
A74: 66 | B74: SRIRA503111TSBH09934 | C74: SRI RAMA MULTI SPECIALITY DENTAL HOSPITAL | D74: 5-3-218/A, II FLOOR, ABOVE THE CANARA BANK, OLD NH.7, OPP: NEW LIC BUILDING, NH-7 ROAD, KAMAREDDY - 503111. | E74: 5 | F74: 1 | J74: 1 | N74: 1 | R74: 1 | V74: 1 | Z74: 1 | AD74: 1 | AH74: 1 | AL74: 1 | AP74: 1 | AT74: 1 | AX74: 1 | BB74: 1 | BF74: 1 | BJ74: 1 | BN74: 1 | BR74: 1 | BV74: 1 | BZ74: 1 | CD74: 1 | CH74: 1 | CL74: 1 | CP74: 1 | CT74: 1 | CX74: 1 | DB74: 1 | DF74: 1 | DJ74: 1 | DN74: 1 | DR74: 1 | DZ74: =F74+J74+N74+R74+V74+Z74+AD74+AH74+AL74+AP74+AT74+AX74+BB74+BF74+BJ74+BN74+BR74+BV74+BZ74+CD74+CH74+CL74+CP74+CT74+CX74+DB74+DF74+DJ74+DN74+DR74+DV74 -> 30 | EA74: =G74+K74+O74+S74+W74+AA74+AE74+AI74+AM74+AQ74+AU74+AY74+BC74+BG74+BK74+BO74+BS74+BW74+CA74+CE74+CI74+CM74+CQ74+CU74+CY74+DC74+DG74+DK74+DO74+DS74+DW74 -> 0 | EB74: =H74+L74+P74+T74+X74+AB74+AF74+AJ74+AN74+AR74+AV74+AZ74+BD74+BH74+BL74+BP74+BT74+BX74+CB74+CF74+CJ74+CN74+CR74+CV74+CZ74+DD74+DH74+DL74+DP74+DT74+DX74 -> 0 | EC74: =I74+M74+Q74+U74+Y74+AC74+AG74+AK74+AO74+AS74+AW74+BA74+BE74+BI74+BM74+BQ74+BU74+BY74+CC74+CG74+CK74+CO74+CS74+CW74+DA74+DE74+DI74+DM74+DQ74+DU74+DY74 -> 0
A75: 67 | B75: VISHN503111TSBH01099 | C75: VISHNU ENT HOSPITAL | D75: H.No. 1-5-255/B, BESIDE VAISHNAVI HOSPITAL, NEAR ANJAL REDDY HOSPITAL, RAMAREDDY ROAD, KAMAREDDY - 503111. | E75: 5 | F75: 1 | J75: 1 | N75: 1 | R75: 1 | AD75: 1 | AH75: 1 | AL75: 1 | AP75: 1 | AT75: 1 | AX75: 1 | BB75: 1 | BF75: 1 | BJ75: 1 | BN75: 1 | BR75: 1 | BV75: 1 | BZ75: 1 | CD75: 1 | CH75: 1 | CL75: 1 | CP75: 1 | CT75: 1 | CX75: 1 | DB75: 1 | DF75: 1 | DJ75: 1 | DN75: 1 | DR75: 1 | DZ75: =F75+J75+N75+R75+V75+Z75+AD75+AH75+AL75+AP75+AT75+AX75+BB75+BF75+BJ75+BN75+BR75+BV75+BZ75+CD75+CH75+CL75+CP75+CT75+CX75+DB75+DF75+DJ75+DN75+DR75+DV75 -> 28 | EA75: =G75+K75+O75+S75+W75+AA75+AE75+AI75+AM75+AQ75+AU75+AY75+BC75+BG75+BK75+BO75+BS75+BW75+CA75+CE75+CI75+CM75+CQ75+CU75+CY75+DC75+DG75+DK75+DO75+DS75+DW75 -> 0 | EB75: =H75+L75+P75+T75+X75+AB75+AF75+AJ75+AN75+AR75+AV75+AZ75+BD75+BH75+BL75+BP75+BT75+BX75+CB75+CF75+CJ75+CN75+CR75+CV75+CZ75+DD75+DH75+DL75+DP75+DT75+DX75 -> 0 | EC75: =I75+M75+Q75+U75+Y75+AC75+AG75+AK75+AO75+AS75+AW75+BA75+BE75+BI75+BM75+BQ75+BU75+BY75+CC75+CG75+CK75+CO75+CS75+CW75+DA75+DE75+DI75+DM75+DQ75+DU75+DY75 -> 0
A76: 68 | B76: SHIVA503111TSBH00956 | C76: SHIVA SAI MULTISPECIALITY DENTAL CLINIC | D76: H.No:-1-7-73, NIZAMSAGAR X ROAD, THILAK ROAD, KAMAREDDY - 503111. | E76: 4 | F76: 1 | J76: 1 | N76: 1 | R76: 1 | V76: 1 | Z76: 1 | AD76: 1 | AH76: 1 | AL76: 1 | AP76: 1 | AT76: 1 | AX76: 1 | BB76: 1 | BF76: 1 | BJ76: 1 | BN76: 1 | BR76: 1 | BV76: 1 | BZ76: 1 | CD76: 1 | CH76: 1 | CL76: 1 | CP76: 1 | CT76: 1 | CX76: 1 | DB76: 1 | DF76: 1 | DJ76: 1 | DN76: 1 | DR76: 1 | DZ76: =F76+J76+N76+R76+V76+Z76+AD76+AH76+AL76+AP76+AT76+AX76+BB76+BF76+BJ76+BN76+BR76+BV76+BZ76+CD76+CH76+CL76+CP76+CT76+CX76+DB76+DF76+DJ76+DN76+DR76+DV76 -> 30 | EA76: =G76+K76+O76+S76+W76+AA76+AE76+AI76+AM76+AQ76+AU76+AY76+BC76+BG76+BK76+BO76+BS76+BW76+CA76+CE76+CI76+CM76+CQ76+CU76+CY76+DC76+DG76+DK76+DO76+DS76+DW76 -> 0 | EB76: =H76+L76+P76+T76+X76+AB76+AF76+AJ76+AN76+AR76+AV76+AZ76+BD76+BH76+BL76+BP76+BT76+BX76+CB76+CF76+CJ76+CN76+CR76+CV76+CZ76+DD76+DH76+DL76+DP76+DT76+DX76 -> 0 | EC76: =I76+M76+Q76+U76+Y76+AC76+AG76+AK76+AO76+AS76+AW76+BA76+BE76+BI76+BM76+BQ76+BU76+BY76+CC76+CG76+CK76+CO76+CS76+CW76+DA76+DE76+DI76+DM76+DQ76+DU76+DY76 -> 0
C77: APPLE DENTAL CLINIC | D77: BESIDE RAMRAJ COTTONS STORES, NH-7, BUS STATION ROAD, KAMAREDDY | E77: 2 | DZ77: =F77+J77+N77+R77+V77+Z77+AD77+AH77+AL77+AP77+AT77+AX77+BB77+BF77+BJ77+BN77+BR77+BV77+BZ77+CD77+CH77+CL77+CP77+CT77+CX77+DB77+DF77+DJ77+DN77+DR77+DV77 -> 0 | EA77: =G77+K77+O77+S77+W77+AA77+AE77+AI77+AM77+AQ77+AU77+AY77+BC77+BG77+BK77+BO77+BS77+BW77+CA77+CE77+CI77+CM77+CQ77+CU77+CY77+DC77+DG77+DK77+DO77+DS77+DW77 -> 0 | EB77: =H77+L77+P77+T77+X77+AB77+AF77+AJ77+AN77+AR77+AV77+AZ77+BD77+BH77+BL77+BP77+BT77+BX77+CB77+CF77+CJ77+CN77+CR77+CV77+CZ77+DD77+DH77+DL77+DP77+DT77+DX77 -> 0 | EC77: =I77+M77+Q77+U77+Y77+AC77+AG77+AK77+AO77+AS77+AW77+BA77+BE77+BI77+BM77+BQ77+BU77+BY77+CC77+CG77+CK77+CO77+CS77+CW77+DA77+DE77+DI77+DM77+DQ77+DU77+DY77 -> 0
A78: 69 | B78: NIZAM503111TSBH09953 | C78: NIZAMABAD SUPER SPECIALITY DENTAL HOSPITAL | D78: OPP: MUNICIPAL OFFICE, GOWTHAM MODEL SCHOOL COMPLEX, KAMAREDDY - 503111. | E78: 2 | G78: 1 | K78: 1 | O78: 1 | S78: 1 | W78: 1 | AA78: 1 | AE78: 1 | AI78: 1 | AL78: 1 | AP78: 1 | AT78: 1 | AX78: 1 | BB78: 1 | BF78: 1 | BJ78: 1 | BN78: 1 | BR78: 1 | BV78: 1 | BZ78: 1 | CD78: 1 | CH78: 1 | CL78: 1 | CP78: 1 | CT78: 1 | CX78: 1 | DB78: 1 | DF78: 1 | DJ78: 1 | DN78: 1 | DR78: 1 | DZ78: =F78+J78+N78+R78+V78+Z78+AD78+AH78+AL78+AP78+AT78+AX78+BB78+BF78+BJ78+BN78+BR78+BV78+BZ78+CD78+CH78+CL78+CP78+CT78+CX78+DB78+DF78+DJ78+DN78+DR78+DV78 -> 22 | EA78: =G78+K78+O78+S78+W78+AA78+AE78+AI78+AM78+AQ78+AU78+AY78+BC78+BG78+BK78+BO78+BS78+BW78+CA78+CE78+CI78+CM78+CQ78+CU78+CY78+DC78+DG78+DK78+DO78+DS78+DW78 -> 8 | EB78: =H78+L78+P78+T78+X78+AB78+AF78+AJ78+AN78+AR78+AV78+AZ78+BD78+BH78+BL78+BP78+BT78+BX78+CB78+CF78+CJ78+CN78+CR78+CV78+CZ78+DD78+DH78+DL78+DP78+DT78+DX78 -> 0 | EC78: =I78+M78+Q78+U78+Y78+AC78+AG78+AK78+AO78+AS78+AW78+BA78+BE78+BI78+BM78+BQ78+BU78+BY78+CC78+CG78+CK78+CO78+CS78+CW78+DA78+DE78+DI78+DM78+DQ78+DU78+DY78 -> 0
A79: 70 | B79: SRIRA503111TSBH09975 | C79: SRI RAMANA MULTISPECIALITY DENTAL CLINIC | D79: DHARMASHALA COMPLEX, CONGRESS OFFICE ROAD, UNIQUE SCHOOL ROAD, GODOWN ROAD, KAMAREDDY - 503111. | E79: 2 | F79: 1 | J79: 1 | N79: 1 | R79: 1 | V79: 1 | Z79: 1 | AD79: 1 | AH79: 1 | AL79: 1 | AP79: 1 | AT79: 1 | AX79: 1 | BB79: 1 | BF79: 1 | BJ79: 1 | BN79: 1 | BR79: 1 | BV79: 1 | BZ79: 1 | CD79: 1 | CH79: 1 | CL79: 1 | CP79: 1 | CT79: 1 | CX79: 1 | DB79: 1 | DF79: 1 | DJ79: 1 | DN79: 1 | DR79: 1 | DZ79: =F79+J79+N79+R79+V79+Z79+AD79+AH79+AL79+AP79+AT79+AX79+BB79+BF79+BJ79+BN79+BR79+BV79+BZ79+CD79+CH79+CL79+CP79+CT79+CX79+DB79+DF79+DJ79+DN79+DR79+DV79 -> 30 | EA79: =G79+K79+O79+S79+W79+AA79+AE79+AI79+AM79+AQ79+AU79+AY79+BC79+BG79+BK79+BO79+BS79+BW79+CA79+CE79+CI79+CM79+CQ79+CU79+CY79+DC79+DG79+DK79+DO79+DS79+DW79 -> 0 | EB79: =H79+L79+P79+T79+X79+AB79+AF79+AJ79+AN79+AR79+AV79+AZ79+BD79+BH79+BL79+BP79+BT79+BX79+CB79+CF79+CJ79+CN79+CR79+CV79+CZ79+DD79+DH79+DL79+DP79+DT79+DX79 -> 0 | EC79: =I79+M79+Q79+U79+Y79+AC79+AG79+AK79+AO79+AS79+AW79+BA79+BE79+BI79+BM79+BQ79+BU79+BY79+CC79+CG79+CK79+CO79+CS79+CW79+DA79+DE79+DI79+DM79+DQ79+DU79+DY79 -> 0
A80: 71 | B80: SRISA503111TSBH09954 | C80: SRI SAI KRUPA COSMETIC MULTI SPECIALITY & DENTAL CARE | D80: NEAR RAILWAY BRIDGE, PEDDA BAZAR, KAMAREDDY - 503111. | E80: 2 | F80: 1 | J80: 1 | N80: 1 | R80: 1 | V80: 1 | Z80: 1 | AD80: 1 | AH80: 1 | AL80: 1 | AP80: 1 | AT80: 1 | AX80: 1 | BB80: 1 | BF80: 1 | BJ80: 1 | BN80: 1 | BR80: 1 | BV80: 1 | BZ80: 1 | CD80: 1 | CH80: 1 | CL80: 1 | CP80: 1 | CT80: 1 | CX80: 1 | DB80: 1 | DF80: 1 | DJ80: 1 | DN80: 1 | DR80: 1 | DZ80: =F80+J80+N80+R80+V80+Z80+AD80+AH80+AL80+AP80+AT80+AX80+BB80+BF80+BJ80+BN80+BR80+BV80+BZ80+CD80+CH80+CL80+CP80+CT80+CX80+DB80+DF80+DJ80+DN80+DR80+DV80 -> 30 | EA80: =G80+K80+O80+S80+W80+AA80+AE80+AI80+AM80+AQ80+AU80+AY80+BC80+BG80+BK80+BO80+BS80+BW80+CA80+CE80+CI80+CM80+CQ80+CU80+CY80+DC80+DG80+DK80+DO80+DS80+DW80 -> 0 | EB80: =H80+L80+P80+T80+X80+AB80+AF80+AJ80+AN80+AR80+AV80+AZ80+BD80+BH80+BL80+BP80+BT80+BX80+CB80+CF80+CJ80+CN80+CR80+CV80+CZ80+DD80+DH80+DL80+DP80+DT80+DX80 -> 0 | EC80: =I80+M80+Q80+U80+Y80+AC80+AG80+AK80+AO80+AS80+AW80+BA80+BE80+BI80+BM80+BQ80+BU80+BY80+CC80+CG80+CK80+CO80+CS80+CW80+DA80+DE80+DI80+DM80+DQ80+DU80+DY80 -> 0
A81: 72 | B81: SUSHE503111TSBH09955 | C81: SUSHEELA DENTAL SPECIALITIES | D81: H.No. 4-1-11, NEAR RAILWAY BRIDGE, BESIDE AMBEDKAR STATUE, PEDDABAZAR, KAMAREDDY - 503111. | E81: 2 | G81: 1 | K81: 1 | O81: 1 | S81: 1 | W81: 1 | AA81: 1 | AE81: 1 | AI81: 1 | AL81: 1 | AP81: 1 | AT81: 1 | AX81: 1 | BB81: 1 | BF81: 1 | BJ81: 1 | BN81: 1 | BR81: 1 | BV81: 1 | BZ81: 1 | CD81: 1 | CH81: 1 | CL81: 1 | CP81: 1 | CT81: 1 | CX81: 1 | DB81: 1 | DF81: 1 | DJ81: 1 | DN81: 1 | DR81: 1 | DZ81: =F81+J81+N81+R81+V81+Z81+AD81+AH81+AL81+AP81+AT81+AX81+BB81+BF81+BJ81+BN81+BR81+BV81+BZ81+CD81+CH81+CL81+CP81+CT81+CX81+DB81+DF81+DJ81+DN81+DR81+DV81 -> 22 | EA81: =G81+K81+O81+S81+W81+AA81+AE81+AI81+AM81+AQ81+AU81+AY81+BC81+BG81+BK81+BO81+BS81+BW81+CA81+CE81+CI81+CM81+CQ81+CU81+CY81+DC81+DG81+DK81+DO81+DS81+DW81 -> 8 | EB81: =H81+L81+P81+T81+X81+AB81+AF81+AJ81+AN81+AR81+AV81+AZ81+BD81+BH81+BL81+BP81+BT81+BX81+CB81+CF81+CJ81+CN81+CR81+CV81+CZ81+DD81+DH81+DL81+DP81+DT81+DX81 -> 0 | EC81: =I81+M81+Q81+U81+Y81+AC81+AG81+AK81+AO81+AS81+AW81+BA81+BE81+BI81+BM81+BQ81+BU81+BY81+CC81+CG81+CK81+CO81+CS81+CW81+DA81+DE81+DI81+DM81+DQ81+DU81+DY81 -> 0
A82: 73 | B82: BASHE503111TSBH01034 | C82: BASHEERUDDIN MEMORIAL HOSPITAL (ZIYAVDDIN) | D82: NEAR RAILWAY STATION, SIRCILLA ROAD, KAMAREDDY - 503111. | E82: 1 | F82: 1 | J82: 1 | N82: 1 | R82: 1 | V82: 1 | Z82: 1 | AD82: 1 | AH82: 1 | AL82: 1 | AP82: 1 | AT82: 1 | AX82: 1 | BB82: 1 | BF82: 1 | BJ82: 1 | BN82: 1 | BR82: 1 | BV82: 1 | BZ82: 1 | CD82: 1 | CH82: 1 | CL82: 1 | CP82: 1 | CT82: 1 | CX82: 1 | DB82: 1 | DF82: 1 | DJ82: 1 | DN82: 1 | DR82: 1 | DZ82: =F82+J82+N82+R82+V82+Z82+AD82+AH82+AL82+AP82+AT82+AX82+BB82+BF82+BJ82+BN82+BR82+BV82+BZ82+CD82+CH82+CL82+CP82+CT82+CX82+DB82+DF82+DJ82+DN82+DR82+DV82 -> 30 | EA82: =G82+K82+O82+S82+W82+AA82+AE82+AI82+AM82+AQ82+AU82+AY82+BC82+BG82+BK82+BO82+BS82+BW82+CA82+CE82+CI82+CM82+CQ82+CU82+CY82+DC82+DG82+DK82+DO82+DS82+DW82 -> 0 | EB82: =H82+L82+P82+T82+X82+AB82+AF82+AJ82+AN82+AR82+AV82+AZ82+BD82+BH82+BL82+BP82+BT82+BX82+CB82+CF82+CJ82+CN82+CR82+CV82+CZ82+DD82+DH82+DL82+DP82+DT82+DX82 -> 0 | EC82: =I82+M82+Q82+U82+Y82+AC82+AG82+AK82+AO82+AS82+AW82+BA82+BE82+BI82+BM82+BQ82+BU82+BY82+CC82+CG82+CK82+CO82+CS82+CW82+DA82+DE82+DI82+DM82+DQ82+DU82+DY82 -> 0
A83: 74 | B83: SMILE503111TSBH09957 | C83: SMILE CARE DENTAL HOSPITAL | D83: NEAR PULSE HOSPITAL, NEAR BUS STAND, MAIN ROAD, KAMAREDDY - 503111. | E83: 1 | F83: 1 | J83: 1 | N83: 1 | R83: 1 | AP83: 1 | AT83: 1 | AX83: 1 | BB83: 1 | BF83: 1 | BJ83: 1 | BN83: 1 | BR83: 1 | BV83: 1 | BZ83: 1 | CD83: 1 | CH83: 1 | CL83: 1 | CP83: 1 | CT83: 1 | CX83: 1 | DB83: 1 | DF83: 1 | DJ83: 1 | DN83: 1 | DR83: 1 | DZ83: =F83+J83+N83+R83+V83+Z83+AD83+AH83+AL83+AP83+AT83+AX83+BB83+BF83+BJ83+BN83+BR83+BV83+BZ83+CD83+CH83+CL83+CP83+CT83+CX83+DB83+DF83+DJ83+DN83+DR83+DV83 -> 25 | EA83: =G83+K83+O83+S83+W83+AA83+AE83+AI83+AM83+AQ83+AU83+AY83+BC83+BG83+BK83+BO83+BS83+BW83+CA83+CE83+CI83+CM83+CQ83+CU83+CY83+DC83+DG83+DK83+DO83+DS83+DW83 -> 0 | EB83: =H83+L83+P83+T83+X83+AB83+AF83+AJ83+AN83+AR83+AV83+AZ83+BD83+BH83+BL83+BP83+BT83+BX83+CB83+CF83+CJ83+CN83+CR83+CV83+CZ83+DD83+DH83+DL83+DP83+DT83+DX83 -> 0 | EC83: =I83+M83+Q83+U83+Y83+AC83+AG83+AK83+AO83+AS83+AW83+BA83+BE83+BI83+BM83+BQ83+BU83+BY83+CC83+CG83+CK83+CO83+CS83+CW83+DA83+DE83+DI83+DM83+DQ83+DU83+DY83 -> 0
A84: 75 | B84: SRMUL503111TSBH09956 | C84: SR MULTI SPECIALITY DENTAL HOSPITAL | D84: OPP: DR NARENDAR RAO CHILDRENS HOSPITAL, GODWN ROAD, KAMAREDDY - 503111. | E84: 1 | G84: 1 | K84: 1 | O84: 1 | S84: 1 | W84: 1 | AA84: 1 | AE84: 1 | AI84: 1 | AL84: 1 | AP84: 1 | AT84: 1 | AX84: 1 | BB84: 1 | BF84: 1 | BJ84: 1 | BN84: 1 | BR84: 1 | BV84: 1 | BZ84: 1 | CD84: 1 | CH84: 1 | CL84: 1 | CP84: 1 | CT84: 1 | CX84: 1 | DB84: 1 | DF84: 1 | DJ84: 1 | DN84: 1 | DR84: 1 | DZ84: =F84+J84+N84+R84+V84+Z84+AD84+AH84+AL84+AP84+AT84+AX84+BB84+BF84+BJ84+BN84+BR84+BV84+BZ84+CD84+CH84+CL84+CP84+CT84+CX84+DB84+DF84+DJ84+DN84+DR84+DV84 -> 22 | EA84: =G84+K84+O84+S84+W84+AA84+AE84+AI84+AM84+AQ84+AU84+AY84+BC84+BG84+BK84+BO84+BS84+BW84+CA84+CE84+CI84+CM84+CQ84+CU84+CY84+DC84+DG84+DK84+DO84+DS84+DW84 -> 8 | EB84: =H84+L84+P84+T84+X84+AB84+AF84+AJ84+AN84+AR84+AV84+AZ84+BD84+BH84+BL84+BP84+BT84+BX84+CB84+CF84+CJ84+CN84+CR84+CV84+CZ84+DD84+DH84+DL84+DP84+DT84+DX84 -> 0 | EC84: =I84+M84+Q84+U84+Y84+AC84+AG84+AK84+AO84+AS84+AW84+BA84+BE84+BI84+BM84+BQ84+BU84+BY84+CC84+CG84+CK84+CO84+CS84+CW84+DA84+DE84+DI84+DM84+DQ84+DU84+DY84 -> 0
A85: 76 | B85: APPLE503111TSPL13911 | C85: APPLE DIAGNOSTICS, KAMAREDDY | D85: OPP: CITY NEURO HOSPITAL, TILAK ROAD, GODOWN ROAD,KAMAREDDY - 503111. | E85: 0 | F85: 1 | J85: 1 | N85: 1 | R85: 1 | V85: 1 | Z85: 1 | AD85: 1 | AH85: 1 | AL85: 1 | AP85: 1 | AT85: 1 | AX85: 1 | BB85: 1 | BF85: 1 | BJ85: 1 | BN85: 1 | BR85: 1 | BV85: 1 | BZ85: 1 | CD85: 1 | CH85: 1 | CL85: 1 | CP85: 1 | CT85: 1 | CX85: 1 | DB85: 1 | DF85: 1 | DJ85: 1 | DN85: 1 | DR85: 1 | DZ85: =F85+J85+N85+R85+V85+Z85+AD85+AH85+AL85+AP85+AT85+AX85+BB85+BF85+BJ85+BN85+BR85+BV85+BZ85+CD85+CH85+CL85+CP85+CT85+CX85+DB85+DF85+DJ85+DN85+DR85+DV85 -> 30 | EA85: =G85+K85+O85+S85+W85+AA85+AE85+AI85+AM85+AQ85+AU85+AY85+BC85+BG85+BK85+BO85+BS85+BW85+CA85+CE85+CI85+CM85+CQ85+CU85+CY85+DC85+DG85+DK85+DO85+DS85+DW85 -> 0 | EB85: =H85+L85+P85+T85+X85+AB85+AF85+AJ85+AN85+AR85+AV85+AZ85+BD85+BH85+BL85+BP85+BT85+BX85+CB85+CF85+CJ85+CN85+CR85+CV85+CZ85+DD85+DH85+DL85+DP85+DT85+DX85 -> 0 | EC85: =I85+M85+Q85+U85+Y85+AC85+AG85+AK85+AO85+AS85+AW85+BA85+BE85+BI85+BM85+BQ85+BU85+BY85+CC85+CG85+CK85+CO85+CS85+CW85+DA85+DE85+DI85+DM85+DQ85+DU85+DY85 -> 0
A86: 77 | B86: ASHRI503111TSPL13011 | C86: ASHRITHA DIAGNOSTIC CENTRE, | D86: NEAR PRAKASH RAO EYE HOSPITAL, RAMA REDDY ROAD, KAMAREDDY - 503111. | E86: 0 | G86: 1 | K86: 1 | O86: 1 | S86: 1 | W86: 1 | AA86: 1 | AE86: 1 | AI86: 1 | AL86: 1 | AP86: 1 | AT86: 1 | AX86: 1 | BB86: 1 | BF86: 1 | BJ86: 1 | BN86: 1 | BR86: 1 | BV86: 1 | BZ86: 1 | CD86: 1 | CH86: 1 | CL86: 1 | CP86: 1 | CT86: 1 | CX86: 1 | DB86: 1 | DF86: 1 | DJ86: 1 | DN86: 1 | DR86: 1 | DZ86: =F86+J86+N86+R86+V86+Z86+AD86+AH86+AL86+AP86+AT86+AX86+BB86+BF86+BJ86+BN86+BR86+BV86+BZ86+CD86+CH86+CL86+CP86+CT86+CX86+DB86+DF86+DJ86+DN86+DR86+DV86 -> 22 | EA86: =G86+K86+O86+S86+W86+AA86+AE86+AI86+AM86+AQ86+AU86+AY86+BC86+BG86+BK86+BO86+BS86+BW86+CA86+CE86+CI86+CM86+CQ86+CU86+CY86+DC86+DG86+DK86+DO86+DS86+DW86 -> 8 | EB86: =H86+L86+P86+T86+X86+AB86+AF86+AJ86+AN86+AR86+AV86+AZ86+BD86+BH86+BL86+BP86+BT86+BX86+CB86+CF86+CJ86+CN86+CR86+CV86+CZ86+DD86+DH86+DL86+DP86+DT86+DX86 -> 0 | EC86: =I86+M86+Q86+U86+Y86+AC86+AG86+AK86+AO86+AS86+AW86+BA86+BE86+BI86+BM86+BQ86+BU86+BY86+CC86+CG86+CK86+CO86+CS86+CW86+DA86+DE86+DI86+DM86+DQ86+DU86+DY86 -> 0
A87: 78 | B87: BALAJ503111TSDH09971 | C87: BALAJI FAMILY DENTAL CARE | D87: OPP: ANJALI REDDY HOSPITAL, GODOWN ROAD, KAMAREDDY - 503111. | E87: 0 | F87: 1 | J87: 1 | N87: 1 | R87: 1 | V87: 1 | Z87: 1 | AD87: 1 | AH87: 1 | AL87: 1 | AP87: 1 | AT87: 1 | AX87: 1 | BB87: 1 | BF87: 1 | BJ87: 1 | BN87: 1 | BR87: 1 | BV87: 1 | BZ87: 1 | CD87: 1 | CH87: 1 | CL87: 1 | CP87: 1 | CT87: 1 | CX87: 1 | DB87: 1 | DF87: 1 | DJ87: 1 | DN87: 1 | DR87: 1 | DZ87: =F87+J87+N87+R87+V87+Z87+AD87+AH87+AL87+AP87+AT87+AX87+BB87+BF87+BJ87+BN87+BR87+BV87+BZ87+CD87+CH87+CL87+CP87+CT87+CX87+DB87+DF87+DJ87+DN87+DR87+DV87 -> 30 | EA87: =G87+K87+O87+S87+W87+AA87+AE87+AI87+AM87+AQ87+AU87+AY87+BC87+BG87+BK87+BO87+BS87+BW87+CA87+CE87+CI87+CM87+CQ87+CU87+CY87+DC87+DG87+DK87+DO87+DS87+DW87 -> 0 | EB87: =H87+L87+P87+T87+X87+AB87+AF87+AJ87+AN87+AR87+AV87+AZ87+BD87+BH87+BL87+BP87+BT87+BX87+CB87+CF87+CJ87+CN87+CR87+CV87+CZ87+DD87+DH87+DL87+DP87+DT87+DX87 -> 0 | EC87: =I87+M87+Q87+U87+Y87+AC87+AG87+AK87+AO87+AS87+AW87+BA87+BE87+BI87+BM87+BQ87+BU87+BY87+CC87+CG87+CK87+CO87+CS87+CW87+DA87+DE87+DI87+DM87+DQ87+DU87+DY87 -> 0
A88: 79 | B88: BHAIR503111TSPL09945 | C88: BHAIRAVA DIAGNOSTIC CENTRE | D88: NEAR DR NARENDER RAO CHILDRENS HOSPITAL, BESIDE INDIRA SCANNING CENTER, GODOWN ROAD, KAMAREDDY - 503111. | E88: 0 | G88: 1 | K88: 1 | O88: 1 | S88: 1 | W88: 1 | AA88: 1 | AE88: 1 | AI88: 1 | AL88: 1 | AP88: 1 | AT88: 1 | AX88: 1 | BB88: 1 | BF88: 1 | BJ88: 1 | BN88: 1 | BR88: 1 | BV88: 1 | BZ88: 1 | CD88: 1 | CH88: 1 | CL88: 1 | CP88: 1 | CT88: 1 | CX88: 1 | DB88: 1 | DF88: 1 | DJ88: 1 | DN88: 1 | DR88: 1 | DZ88: =F88+J88+N88+R88+V88+Z88+AD88+AH88+AL88+AP88+AT88+AX88+BB88+BF88+BJ88+BN88+BR88+BV88+BZ88+CD88+CH88+CL88+CP88+CT88+CX88+DB88+DF88+DJ88+DN88+DR88+DV88 -> 22 | EA88: =G88+K88+O88+S88+W88+AA88+AE88+AI88+AM88+AQ88+AU88+AY88+BC88+BG88+BK88+BO88+BS88+BW88+CA88+CE88+CI88+CM88+CQ88+CU88+CY88+DC88+DG88+DK88+DO88+DS88+DW88 -> 8 | EB88: =H88+L88+P88+T88+X88+AB88+AF88+AJ88+AN88+AR88+AV88+AZ88+BD88+BH88+BL88+BP88+BT88+BX88+CB88+CF88+CJ88+CN88+CR88+CV88+CZ88+DD88+DH88+DL88+DP88+DT88+DX88 -> 0 | EC88: =I88+M88+Q88+U88+Y88+AC88+AG88+AK88+AO88+AS88+AW88+BA88+BE88+BI88+BM88+BQ88+BU88+BY88+CC88+CG88+CK88+CO88+CS88+CW88+DA88+DE88+DI88+DM88+DQ88+DU88+DY88 -> 0
A89: 80 | B89: BHANU503111TSCL11965 | C89: BHANU ORTHOPAEDIC CLINIC | D89: 1-5-47/1, TILAK ROAD, OPP: DR. NARENDER RAO CHILDREN'S HOSPITAL, RAMAREDDY ROAD, KAMAREDDY - 503111. | E89: 0 | F89: 1 | J89: 1 | N89: 1 | R89: 1 | V89: 1 | Z89: 1 | AD89: 1 | AH89: 1 | AL89: 1 | AP89: 1 | AT89: 1 | AX89: 1 | BB89: 1 | BF89: 1 | BJ89: 1 | BN89: 1 | BR89: 1 | BV89: 1 | BZ89: 1 | CD89: 1 | CH89: 1 | CL89: 1 | CP89: 1 | CT89: 1 | CX89: 1 | DB89: 1 | DF89: 1 | DJ89: 1 | DN89: 1 | DR89: 1 | DZ89: =F89+J89+N89+R89+V89+Z89+AD89+AH89+AL89+AP89+AT89+AX89+BB89+BF89+BJ89+BN89+BR89+BV89+BZ89+CD89+CH89+CL89+CP89+CT89+CX89+DB89+DF89+DJ89+DN89+DR89+DV89 -> 30 | EA89: =G89+K89+O89+S89+W89+AA89+AE89+AI89+AM89+AQ89+AU89+AY89+BC89+BG89+BK89+BO89+BS89+BW89+CA89+CE89+CI89+CM89+CQ89+CU89+CY89+DC89+DG89+DK89+DO89+DS89+DW89 -> 0 | EB89: =H89+L89+P89+T89+X89+AB89+AF89+AJ89+AN89+AR89+AV89+AZ89+BD89+BH89+BL89+BP89+BT89+BX89+CB89+CF89+CJ89+CN89+CR89+CV89+CZ89+DD89+DH89+DL89+DP89+DT89+DX89 -> 0 | EC89: =I89+M89+Q89+U89+Y89+AC89+AG89+AK89+AO89+AS89+AW89+BA89+BE89+BI89+BM89+BQ89+BU89+BY89+CC89+CG89+CK89+CO89+CS89+CW89+DA89+DE89+DI89+DM89+DQ89+DU89+DY89 -> 0
A90: 81 | B90: CARED503111TSDH09778 | C90: CARE DENTAL CLINIC | D90: D.No. 1-2-50, SIRICILLA ROAD, KAMAREDDY - 503111. | E90: 0 | G90: 1 | K90: 1 | O90: 1 | S90: 1 | W90: 1 | AA90: 1 | AE90: 1 | AI90: 1 | AL90: 1 | AP90: 1 | AT90: 1 | AX90: 1 | BB90: 1 | BF90: 1 | BJ90: 1 | BN90: 1 | BR90: 1 | BV90: 1 | BZ90: 1 | CD90: 1 | CH90: 1 | CL90: 1 | CP90: 1 | CT90: 1 | CX90: 1 | DB90: 1 | DF90: 1 | DJ90: 1 | DN90: 1 | DR90: 1 | DZ90: =F90+J90+N90+R90+V90+Z90+AD90+AH90+AL90+AP90+AT90+AX90+BB90+BF90+BJ90+BN90+BR90+BV90+BZ90+CD90+CH90+CL90+CP90+CT90+CX90+DB90+DF90+DJ90+DN90+DR90+DV90 -> 22 | EA90: =G90+K90+O90+S90+W90+AA90+AE90+AI90+AM90+AQ90+AU90+AY90+BC90+BG90+BK90+BO90+BS90+BW90+CA90+CE90+CI90+CM90+CQ90+CU90+CY90+DC90+DG90+DK90+DO90+DS90+DW90 -> 8 | EB90: =H90+L90+P90+T90+X90+AB90+AF90+AJ90+AN90+AR90+AV90+AZ90+BD90+BH90+BL90+BP90+BT90+BX90+CB90+CF90+CJ90+CN90+CR90+CV90+CZ90+DD90+DH90+DL90+DP90+DT90+DX90 -> 0 | EC90: =I90+M90+Q90+U90+Y90+AC90+AG90+AK90+AO90+AS90+AW90+BA90+BE90+BI90+BM90+BQ90+BU90+BY90+CC90+CG90+CK90+CO90+CS90+CW90+DA90+DE90+DI90+DM90+DQ90+DU90+DY90 -> 0
A91: 82 | B91: CBNAA503111TSPL09935 | C91: CBNAAT LABORATORY | D91: PHC, DEVANPALLY, BEHIND GOVT. ARTS & SCIENCE DEGREE COLLEGE, KAMAREDDY - 503111. | E91: 0 | F91: 1 | J91: 1 | N91: 1 | R91: 1 | V91: 1 | Z91: 1 | AD91: 1 | AH91: 1 | AL91: 1 | AP91: 1 | AT91: 1 | AX91: 1 | BB91: 1 | BF91: 1 | BJ91: 1 | BN91: 1 | BR91: 1 | BV91: 1 | BZ91: 1 | CD91: 1 | CH91: 1 | CL91: 1 | CP91: 1 | CT91: 1 | CX91: 1 | DB91: 1 | DF91: 1 | DJ91: 1 | DN91: 1 | DR91: 1 | DZ91: =F91+J91+N91+R91+V91+Z91+AD91+AH91+AL91+AP91+AT91+AX91+BB91+BF91+BJ91+BN91+BR91+BV91+BZ91+CD91+CH91+CL91+CP91+CT91+CX91+DB91+DF91+DJ91+DN91+DR91+DV91 -> 30 | EA91: =G91+K91+O91+S91+W91+AA91+AE91+AI91+AM91+AQ91+AU91+AY91+BC91+BG91+BK91+BO91+BS91+BW91+CA91+CE91+CI91+CM91+CQ91+CU91+CY91+DC91+DG91+DK91+DO91+DS91+DW91 -> 0 | EB91: =H91+L91+P91+T91+X91+AB91+AF91+AJ91+AN91+AR91+AV91+AZ91+BD91+BH91+BL91+BP91+BT91+BX91+CB91+CF91+CJ91+CN91+CR91+CV91+CZ91+DD91+DH91+DL91+DP91+DT91+DX91 -> 0 | EC91: =I91+M91+Q91+U91+Y91+AC91+AG91+AK91+AO91+AS91+AW91+BA91+BE91+BI91+BM91+BQ91+BU91+BY91+CC91+CG91+CK91+CO91+CS91+CW91+DA91+DE91+DI91+DM91+DQ91+DU91+DY91 -> 0
A92: 83 | B92: DRBBA503111TSCL09946 | C92: DR. B BALRAJ CLINIC | D92: GOPALA SWAMY TEMPLE ROAD, KAMAREDDY - 503111. | E92: 0 | G92: 1 | K92: 1 | O92: 1 | S92: 1 | W92: 1 | AA92: 1 | AE92: 1 | AI92: 1 | AL92: 1 | AP92: 1 | AT92: 1 | AX92: 1 | BB92: 1 | BF92: 1 | BJ92: 1 | BN92: 1 | BR92: 1 | BV92: 1 | BZ92: 1 | CD92: 1 | CH92: 1 | CL92: 1 | CP92: 1 | CT92: 1 | CX92: 1 | DB92: 1 | DF92: 1 | DJ92: 1 | DN92: 1 | DR92: 1 | DZ92: =F92+J92+N92+R92+V92+Z92+AD92+AH92+AL92+AP92+AT92+AX92+BB92+BF92+BJ92+BN92+BR92+BV92+BZ92+CD92+CH92+CL92+CP92+CT92+CX92+DB92+DF92+DJ92+DN92+DR92+DV92 -> 22 | EA92: =G92+K92+O92+S92+W92+AA92+AE92+AI92+AM92+AQ92+AU92+AY92+BC92+BG92+BK92+BO92+BS92+BW92+CA92+CE92+CI92+CM92+CQ92+CU92+CY92+DC92+DG92+DK92+DO92+DS92+DW92 -> 8 | EB92: =H92+L92+P92+T92+X92+AB92+AF92+AJ92+AN92+AR92+AV92+AZ92+BD92+BH92+BL92+BP92+BT92+BX92+CB92+CF92+CJ92+CN92+CR92+CV92+CZ92+DD92+DH92+DL92+DP92+DT92+DX92 -> 0 | EC92: =I92+M92+Q92+U92+Y92+AC92+AG92+AK92+AO92+AS92+AW92+BA92+BE92+BI92+BM92+BQ92+BU92+BY92+CC92+CG92+CK92+CO92+CS92+CW92+DA92+DE92+DI92+DM92+DQ92+DU92+DY92 -> 0
A93: 84 | B93: DRTBH503111TSBH09938 | C93: DR T BHAIRAIAH MEMORIAL CLINIC | D93: HNO:1-3-89, BESIDE SHRAVANI EYE HOSPITAL, GODOWN ROAD, KAMAREDDY - 503111. | E93: 0 | F93: 1 | J93: 1 | N93: 1 | R93: 1 | V93: 1 | Z93: 1 | AD93: 1 | AH93: 1 | AL93: 1 | AP93: 1 | AT93: 1 | AX93: 1 | BB93: 1 | BF93: 1 | BJ93: 1 | BN93: 1 | BR93: 1 | BV93: 1 | BZ93: 1 | CD93: 1 | CH93: 1 | CL93: 1 | CP93: 1 | CT93: 1 | CX93: 1 | DB93: 1 | DF93: 1 | DJ93: 1 | DN93: 1 | DR93: 1 | DZ93: =F93+J93+N93+R93+V93+Z93+AD93+AH93+AL93+AP93+AT93+AX93+BB93+BF93+BJ93+BN93+BR93+BV93+BZ93+CD93+CH93+CL93+CP93+CT93+CX93+DB93+DF93+DJ93+DN93+DR93+DV93 -> 30 | EA93: =G93+K93+O93+S93+W93+AA93+AE93+AI93+AM93+AQ93+AU93+AY93+BC93+BG93+BK93+BO93+BS93+BW93+CA93+CE93+CI93+CM93+CQ93+CU93+CY93+DC93+DG93+DK93+DO93+DS93+DW93 -> 0 | EB93: =H93+L93+P93+T93+X93+AB93+AF93+AJ93+AN93+AR93+AV93+AZ93+BD93+BH93+BL93+BP93+BT93+BX93+CB93+CF93+CJ93+CN93+CR93+CV93+CZ93+DD93+DH93+DL93+DP93+DT93+DX93 -> 0 | EC93: =I93+M93+Q93+U93+Y93+AC93+AG93+AK93+AO93+AS93+AW93+BA93+BE93+BI93+BM93+BQ93+BU93+BY93+CC93+CG93+CK93+CO93+CS93+CW93+DA93+DE93+DI93+DM93+DQ93+DU93+DY93 -> 0
A94: 85 | B94: DRHAN503111TSCL09947 | C94: Dr. HANUMANTHA RAO GOJE CLINIC | D94: BESIDE SANDEEPANI JR. COLLEGE, BESIDE BUS DEPOT, MAIN ROAD, KAMAREDDY - 503111. | E94: 0 | G94: 1 | K94: 1 | O94: 1 | S94: 1 | W94: 1 | AA94: 1 | AE94: 1 | AI94: 1 | AL94: 1 | AP94: 1 | AT94: 1 | AX94: 1 | BB94: 1 | BF94: 1 | BJ94: 1 | BN94: 1 | BR94: 1 | BV94: 1 | BZ94: 1 | CD94: 1 | CH94: 1 | CL94: 1 | CP94: 1 | CT94: 1 | CX94: 1 | DB94: 1 | DF94: 1 | DJ94: 1 | DN94: 1 | DR94: 1 | DZ94: =F94+J94+N94+R94+V94+Z94+AD94+AH94+AL94+AP94+AT94+AX94+BB94+BF94+BJ94+BN94+BR94+BV94+BZ94+CD94+CH94+CL94+CP94+CT94+CX94+DB94+DF94+DJ94+DN94+DR94+DV94 -> 22 | EA94: =G94+K94+O94+S94+W94+AA94+AE94+AI94+AM94+AQ94+AU94+AY94+BC94+BG94+BK94+BO94+BS94+BW94+CA94+CE94+CI94+CM94+CQ94+CU94+CY94+DC94+DG94+DK94+DO94+DS94+DW94 -> 8 | EB94: =H94+L94+P94+T94+X94+AB94+AF94+AJ94+AN94+AR94+AV94+AZ94+BD94+BH94+BL94+BP94+BT94+BX94+CB94+CF94+CJ94+CN94+CR94+CV94+CZ94+DD94+DH94+DL94+DP94+DT94+DX94 -> 0 | EC94: =I94+M94+Q94+U94+Y94+AC94+AG94+AK94+AO94+AS94+AW94+BA94+BE94+BI94+BM94+BQ94+BU94+BY94+CC94+CG94+CK94+CO94+CS94+CW94+DA94+DE94+DI94+DM94+DQ94+DU94+DY94 -> 0
A95: 86 | B95: GAYAT503111TSDH09764 | C95: GAYATHRI MULTISPECIALITY DENTAL CLINIC | D95: SHOP No. 12, CSI COMPLEX, BESIDE CSI CHURCH, NEW BUS STAND, KAMAREDDY - 503111. | E95: 0 | F95: 1 | J95: 1 | N95: 1 | R95: 1 | DZ95: =F95+J95+N95+R95+V95+Z95+AD95+AH95+AL95+AP95+AT95+AX95+BB95+BF95+BJ95+BN95+BR95+BV95+BZ95+CD95+CH95+CL95+CP95+CT95+CX95+DB95+DF95+DJ95+DN95+DR95+DV95 -> 4 | EA95: =G95+K95+O95+S95+W95+AA95+AE95+AI95+AM95+AQ95+AU95+AY95+BC95+BG95+BK95+BO95+BS95+BW95+CA95+CE95+CI95+CM95+CQ95+CU95+CY95+DC95+DG95+DK95+DO95+DS95+DW95 -> 0 | EB95: =H95+L95+P95+T95+X95+AB95+AF95+AJ95+AN95+AR95+AV95+AZ95+BD95+BH95+BL95+BP95+BT95+BX95+CB95+CF95+CJ95+CN95+CR95+CV95+CZ95+DD95+DH95+DL95+DP95+DT95+DX95 -> 0 | EC95: =I95+M95+Q95+U95+Y95+AC95+AG95+AK95+AO95+AS95+AW95+BA95+BE95+BI95+BM95+BQ95+BU95+BY95+CC95+CG95+CK95+CO95+CS95+CW95+DA95+DE95+DI95+DM95+DQ95+DU95+DY95 -> 0
A96: 87 | B96: INDHR503111TSBH01035 | C96: INDHRANI DIAGNOSTIC CENTRE | D96: H.NO. 5-3-82, OPP: GUEST HOUSE, LAXMI NAGAR, NH-7 ROAD, KAMAREDDY - 503111. | E96: 0 | G96: 1 | K96: 1 | O96: 1 | S96: 1 | W96: 1 | AA96: 1 | AE96: 1 | AI96: 1 | AL96: 1 | AP96: 1 | AT96: 1 | AX96: 1 | BB96: 1 | BF96: 1 | BJ96: 1 | BN96: 1 | BR96: 1 | BV96: 1 | BZ96: 1 | CD96: 1 | CH96: 1 | CL96: 1 | CP96: 1 | CT96: 1 | DN96: 1 | DR96: 1 | DZ96: =F96+J96+N96+R96+V96+Z96+AD96+AH96+AL96+AP96+AT96+AX96+BB96+BF96+BJ96+BN96+BR96+BV96+BZ96+CD96+CH96+CL96+CP96+CT96+CX96+DB96+DF96+DJ96+DN96+DR96+DV96 -> 18 | EA96: =G96+K96+O96+S96+W96+AA96+AE96+AI96+AM96+AQ96+AU96+AY96+BC96+BG96+BK96+BO96+BS96+BW96+CA96+CE96+CI96+CM96+CQ96+CU96+CY96+DC96+DG96+DK96+DO96+DS96+DW96 -> 8 | EB96: =H96+L96+P96+T96+X96+AB96+AF96+AJ96+AN96+AR96+AV96+AZ96+BD96+BH96+BL96+BP96+BT96+BX96+CB96+CF96+CJ96+CN96+CR96+CV96+CZ96+DD96+DH96+DL96+DP96+DT96+DX96 -> 0 | EC96: =I96+M96+Q96+U96+Y96+AC96+AG96+AK96+AO96+AS96+AW96+BA96+BE96+BI96+BM96+BQ96+BU96+BY96+CC96+CG96+CK96+CO96+CS96+CW96+DA96+DE96+DI96+DM96+DQ96+DU96+DY96 -> 0
A97: 88 | B97: KAMAR503111TSDH10082 | C97: KAMAREDDY DENTAL CLINIC | D97: GODOWN ROAD, KAMAREDDY - 503111. | E97: 0 | F97: 1 | J97: 1 | N97: 1 | R97: 1 | V97: 1 | Z97: 1 | AD97: 1 | AH97: 1 | AL97: 1 | AP97: 1 | AT97: 1 | AX97: 1 | BB97: 1 | BF97: 1 | BJ97: 1 | BN97: 1 | BR97: 1 | BV97: 1 | BZ97: 1 | CD97: 1 | CH97: 1 | CL97: 1 | CP97: 1 | CT97: 1 | DN97: 1 | DR97: 1 | DZ97: =F97+J97+N97+R97+V97+Z97+AD97+AH97+AL97+AP97+AT97+AX97+BB97+BF97+BJ97+BN97+BR97+BV97+BZ97+CD97+CH97+CL97+CP97+CT97+CX97+DB97+DF97+DJ97+DN97+DR97+DV97 -> 26 | EA97: =G97+K97+O97+S97+W97+AA97+AE97+AI97+AM97+AQ97+AU97+AY97+BC97+BG97+BK97+BO97+BS97+BW97+CA97+CE97+CI97+CM97+CQ97+CU97+CY97+DC97+DG97+DK97+DO97+DS97+DW97 -> 0 | EB97: =H97+L97+P97+T97+X97+AB97+AF97+AJ97+AN97+AR97+AV97+AZ97+BD97+BH97+BL97+BP97+BT97+BX97+CB97+CF97+CJ97+CN97+CR97+CV97+CZ97+DD97+DH97+DL97+DP97+DT97+DX97 -> 0 | EC97: =I97+M97+Q97+U97+Y97+AC97+AG97+AK97+AO97+AS97+AW97+BA97+BE97+BI97+BM97+BQ97+BU97+BY97+CC97+CG97+CK97+CO97+CS97+CW97+DA97+DE97+DI97+DM97+DQ97+DU97+DY97 -> 0
A98: 89 | B98: KBSKA503111TSBB11650 | C98: KBS KAMAREDDY BLOOD CENTRE | D98: H.No:5-3-99/2, 2nd FLOOR, N.H-7 ROAD, OPP: R & B GUEST HOUSE, BESIDE KAVERI HOTEL, KAMAREDDY - 503111. | E98: 0 | F98: 1 | J98: 1 | N98: 1 | R98: 1 | V98: 1 | Z98: 1 | AD98: 1 | AH98: 1 | AL98: 1 | AP98: 1 | AT98: 1 | AX98: 1 | BB98: 1 | BF98: 1 | BJ98: 1 | BN98: 1 | BR98: 1 | BV98: 1 | BZ98: 1 | CD98: 1 | CH98: 1 | CL98: 1 | CP98: 1 | CT98: 1 | DN98: 1 | DR98: 1 | DZ98: =F98+J98+N98+R98+V98+Z98+AD98+AH98+AL98+AP98+AT98+AX98+BB98+BF98+BJ98+BN98+BR98+BV98+BZ98+CD98+CH98+CL98+CP98+CT98+CX98+DB98+DF98+DJ98+DN98+DR98+DV98 -> 26 | EA98: =G98+K98+O98+S98+W98+AA98+AE98+AI98+AM98+AQ98+AU98+AY98+BC98+BG98+BK98+BO98+BS98+BW98+CA98+CE98+CI98+CM98+CQ98+CU98+CY98+DC98+DG98+DK98+DO98+DS98+DW98 -> 0 | EB98: =H98+L98+P98+T98+X98+AB98+AF98+AJ98+AN98+AR98+AV98+AZ98+BD98+BH98+BL98+BP98+BT98+BX98+CB98+CF98+CJ98+CN98+CR98+CV98+CZ98+DD98+DH98+DL98+DP98+DT98+DX98 -> 0 | EC98: =I98+M98+Q98+U98+Y98+AC98+AG98+AK98+AO98+AS98+AW98+BA98+BE98+BI98+BM98+BQ98+BU98+BY98+CC98+CG98+CK98+CO98+CS98+CW98+DA98+DE98+DI98+DM98+DQ98+DU98+DY98 -> 0
A99: 90 | B99: LIFEC503111TSPL09983 | C99: LIFE CELL DIAGNOSTICS | D99: NEAR DR. T. BHAIRAIAH HOSPITAL, BESIDE PRATHIBHA HIGH SCHOOL, GODOWN ROAD, KAMAREDDY - 503111. | E99: 0 | G99: 1 | K99: 1 | O99: 1 | S99: 1 | W99: 1 | AA99: 1 | AE99: 1 | AI99: 1 | AL99: 1 | AP99: 1 | AT99: 1 | AX99: 1 | BB99: 1 | BF99: 1 | BJ99: 1 | BN99: 1 | BR99: 1 | BV99: 1 | BZ99: 1 | CD99: 1 | CH99: 1 | CL99: 1 | CP99: 1 | CT99: 1 | DN99: 1 | DR99: 1 | DZ99: =F99+J99+N99+R99+V99+Z99+AD99+AH99+AL99+AP99+AT99+AX99+BB99+BF99+BJ99+BN99+BR99+BV99+BZ99+CD99+CH99+CL99+CP99+CT99+CX99+DB99+DF99+DJ99+DN99+DR99+DV99 -> 18 | EA99: =G99+K99+O99+S99+W99+AA99+AE99+AI99+AM99+AQ99+AU99+AY99+BC99+BG99+BK99+BO99+BS99+BW99+CA99+CE99+CI99+CM99+CQ99+CU99+CY99+DC99+DG99+DK99+DO99+DS99+DW99 -> 8 | EB99: =H99+L99+P99+T99+X99+AB99+AF99+AJ99+AN99+AR99+AV99+AZ99+BD99+BH99+BL99+BP99+BT99+BX99+CB99+CF99+CJ99+CN99+CR99+CV99+CZ99+DD99+DH99+DL99+DP99+DT99+DX99 -> 0 | EC99: =I99+M99+Q99+U99+Y99+AC99+AG99+AK99+AO99+AS99+AW99+BA99+BE99+BI99+BM99+BQ99+BU99+BY99+CC99+CG99+CK99+CO99+CS99+CW99+DA99+DE99+DI99+DM99+DQ99+DU99+DY99 -> 0
A100: 91 | B100: MEDIC503111TSPL09948 | C100: MEDICARE X-RAY & DIAGNOSTIC CENTRE | D100: BESIDE JAGRUTHI HOSPITAL, GODOWN ROAD, KAMAREDDY - 503111. | E100: 0 | F100: 1 | J100: 1 | N100: 1 | R100: 1 | V100: 1 | Z100: 1 | AD100: 1 | AH100: 1 | AL100: 1 | AP100: 1 | AT100: 1 | AX100: 1 | BB100: 1 | BF100: 1 | BJ100: 1 | BN100: 1 | BR100: 1 | BV100: 1 | BZ100: 1 | CD100: 1 | CH100: 1 | CL100: 1 | CP100: 1 | CT100: 1 | DN100: 1 | DR100: 1 | DZ100: =F100+J100+N100+R100+V100+Z100+AD100+AH100+AL100+AP100+AT100+AX100+BB100+BF100+BJ100+BN100+BR100+BV100+BZ100+CD100+CH100+CL100+CP100+CT100+CX100+DB100+DF100+DJ100+DN100+DR100+DV100 -> 26 | EA100: =G100+K100+O100+S100+W100+AA100+AE100+AI100+AM100+AQ100+AU100+AY100+BC100+BG100+BK100+BO100+BS100+BW100+CA100+CE100+CI100+CM100+CQ100+CU100+CY100+DC100+DG100+DK100+DO100+DS100+DW100 -> 0 | EB100: =H100+L100+P100+T100+X100+AB100+AF100+AJ100+AN100+AR100+AV100+AZ100+BD100+BH100+BL100+BP100+BT100+BX100+CB100+CF100+CJ100+CN100+CR100+CV100+CZ100+DD100+DH100+DL100+DP100+DT100+DX100 -> 0 | EC100: =I100+M100+Q100+U100+Y100+AC100+AG100+AK100+AO100+AS100+AW100+BA100+BE100+BI100+BM100+BQ100+BU100+BY100+CC100+CG100+CK100+CO100+CS100+CW100+DA100+DE100+DI100+DM100+DQ100+DU100+DY100 -> 0
A101: 92 | B101: NAVYA503111TSDH13910 | C101: NAVYA'S AROGYA DENTAL CARE | D101: H.NO. 5-8-236, ASHOK NAGAR ROAD, KAMAREDDY | E101: 0 | G101: 1 | K101: 1 | O101: 1 | S101: 1 | W101: 1 | AA101: 1 | AE101: 1 | AI101: 1 | AL101: 1 | AP101: 1 | AT101: 1 | AX101: 1 | BB101: 1 | BF101: 1 | BJ101: 1 | BN101: 1 | BR101: 1 | BV101: 1 | BZ101: 1 | CD101: 1 | CH101: 1 | CL101: 1 | CP101: 1 | CT101: 1 | DZ101: =F101+J101+N101+R101+V101+Z101+AD101+AH101+AL101+AP101+AT101+AX101+BB101+BF101+BJ101+BN101+BR101+BV101+BZ101+CD101+CH101+CL101+CP101+CT101+CX101+DB101+DF101+DJ101+DN101+DR101+DV101 -> 16 | EA101: =G101+K101+O101+S101+W101+AA101+AE101+AI101+AM101+AQ101+AU101+AY101+BC101+BG101+BK101+BO101+BS101+BW101+CA101+CE101+CI101+CM101+CQ101+CU101+CY101+DC101+DG101+DK101+DO101+DS101+DW101 -> 8 | EB101: =H101+L101+P101+T101+X101+AB101+AF101+AJ101+AN101+AR101+AV101+AZ101+BD101+BH101+BL101+BP101+BT101+BX101+CB101+CF101+CJ101+CN101+CR101+CV101+CZ101+DD101+DH101+DL101+DP101+DT101+DX101 -> 0 | EC101: =I101+M101+Q101+U101+Y101+AC101+AG101+AK101+AO101+AS101+AW101+BA101+BE101+BI101+BM101+BQ101+BU101+BY101+CC101+CG101+CK101+CO101+CS101+CW101+DA101+DE101+DI101+DM101+DQ101+DU101+DY101 -> 0
A102: 93 | B102: :NITH503111TSPL11867 | C102: NITHYA DIAGNOSTICS | D102: H.No. 1-5-177, ANJALREDDY HOSPITAL LANE, KAMAREDDY - 503111. | E102: 0 | F102: 1 | J102: 1 | N102: 1 | R102: 1 | V102: 1 | Z102: 1 | AD102: 1 | AH102: 1 | AL102: 1 | AP102: 1 | AT102: 1 | AX102: 1 | BB102: 1 | BF102: 1 | BJ102: 1 | BN102: 1 | BR102: 1 | BV102: 1 | BZ102: 1 | CD102: 1 | CH102: 1 | CL102: 1 | CP102: 1 | CT102: 1 | DN102: 1 | DR102: 1 | DZ102: =F102+J102+N102+R102+V102+Z102+AD102+AH102+AL102+AP102+AT102+AX102+BB102+BF102+BJ102+BN102+BR102+BV102+BZ102+CD102+CH102+CL102+CP102+CT102+CX102+DB102+DF102+DJ102+DN102+DR102+DV102 -> 26 | EA102: =G102+K102+O102+S102+W102+AA102+AE102+AI102+AM102+AQ102+AU102+AY102+BC102+BG102+BK102+BO102+BS102+BW102+CA102+CE102+CI102+CM102+CQ102+CU102+CY102+DC102+DG102+DK102+DO102+DS102+DW102 -> 0 | EB102: =H102+L102+P102+T102+X102+AB102+AF102+AJ102+AN102+AR102+AV102+AZ102+BD102+BH102+BL102+BP102+BT102+BX102+CB102+CF102+CJ102+CN102+CR102+CV102+CZ102+DD102+DH102+DL102+DP102+DT102+DX102 -> 0 | EC102: =I102+M102+Q102+U102+Y102+AC102+AG102+AK102+AO102+AS102+AW102+BA102+BE102+BI102+BM102+BQ102+BU102+BY102+CC102+CG102+CK102+CO102+CS102+CW102+DA102+DE102+DI102+DM102+DQ102+DU102+DY102 -> 0
A103: 94 | B103: POOJA503111TSPL09949 | C103: POOJA DIAGNOSTIC CENTRE | D103: H.No. 1-3-17, MADINA MASJID ROAD, BEHIND GODOWNS, GODOWN ROAD, KAMAREDDY - 503111. | E103: 0 | G103: 1 | K103: 1 | O103: 1 | S103: 1 | V103: 1 | Z103: 1 | AD103: 1 | AH103: 1 | AL103: 1 | AP103: 1 | AT103: 1 | AX103: 1 | BB103: 1 | BF103: 1 | BJ103: 1 | BN103: 1 | BR103: 1 | BV103: 1 | BZ103: 1 | CD103: 1 | CH103: 1 | CL103: 1 | CP103: 1 | CT103: 1 | DN103: 1 | DR103: 1 | DZ103: =F103+J103+N103+R103+V103+Z103+AD103+AH103+AL103+AP103+AT103+AX103+BB103+BF103+BJ103+BN103+BR103+BV103+BZ103+CD103+CH103+CL103+CP103+CT103+CX103+DB103+DF103+DJ103+DN103+DR103+DV103 -> 22 | EA103: =G103+K103+O103+S103+W103+AA103+AE103+AI103+AM103+AQ103+AU103+AY103+BC103+BG103+BK103+BO103+BS103+BW103+CA103+CE103+CI103+CM103+CQ103+CU103+CY103+DC103+DG103+DK103+DO103+DS103+DW103 -> 4 | EB103: =H103+L103+P103+T103+X103+AB103+AF103+AJ103+AN103+AR103+AV103+AZ103+BD103+BH103+BL103+BP103+BT103+BX103+CB103+CF103+CJ103+CN103+CR103+CV103+CZ103+DD103+DH103+DL103+DP103+DT103+DX103 -> 0 | EC103: =I103+M103+Q103+U103+Y103+AC103+AG103+AK103+AO103+AS103+AW103+BA103+BE103+BI103+BM103+BQ103+BU103+BY103+CC103+CG103+CK103+CO103+CS103+CW103+DA103+DE103+DI103+DM103+DQ103+DU103+DY103 -> 0
A104: 95 | B104: S.R.D503111TSPL15002 | C104: S.R. DIAGNOSTIC CENTRE | D104: BESIDE MITHRI HOSPITAL, BHOOPUTRAMMA KALYANA MANDAPAM ROAD, KAMAREDDY - 503111. | E104: 0 | F104: 1 | J104: 1 | N104: 1 | R104: 1 | V104: 1 | Z104: 1 | AD104: 1 | AH104: 1 | AL104: 1 | AP104: 1 | AT104: 1 | AX104: 1 | BB104: 1 | BF104: 1 | BJ104: 1 | BN104: 1 | BR104: 1 | BV104: 1 | BZ104: 1 | CD104: 1 | CH104: 1 | CL104: 1 | CP104: 1 | CT104: 1 | DN104: 1 | DR104: 1 | DZ104: =F104+J104+N104+R104+V104+Z104+AD104+AH104+AL104+AP104+AT104+AX104+BB104+BF104+BJ104+BN104+BR104+BV104+BZ104+CD104+CH104+CL104+CP104+CT104+CX104+DB104+DF104+DJ104+DN104+DR104+DV104 -> 26 | EA104: =G104+K104+O104+S104+W104+AA104+AE104+AI104+AM104+AQ104+AU104+AY104+BC104+BG104+BK104+BO104+BS104+BW104+CA104+CE104+CI104+CM104+CQ104+CU104+CY104+DC104+DG104+DK104+DO104+DS104+DW104 -> 0 | EB104: =H104+L104+P104+T104+X104+AB104+AF104+AJ104+AN104+AR104+AV104+AZ104+BD104+BH104+BL104+BP104+BT104+BX104+CB104+CF104+CJ104+CN104+CR104+CV104+CZ104+DD104+DH104+DL104+DP104+DT104+DX104 -> 0 | EC104: =I104+M104+Q104+U104+Y104+AC104+AG104+AK104+AO104+AS104+AW104+BA104+BE104+BI104+BM104+BQ104+BU104+BY104+CC104+CG104+CK104+CO104+CS104+CW104+DA104+DE104+DI104+DM104+DQ104+DU104+DY104 -> 0
A105: 96 | B105: SADAS503111TSPL09776 | C105: SADASHIVA DIAGNOSTIC CENTER | D105: H.No.1-5-169/1, OPP: R.K. CHILDREN'S HOSPITAL, NETHAJI ROAD, KAMAREDDY - 503111. | E105: 0 | G105: 1 | K105: 1 | O105: 1 | S105: 1 | DZ105: =F105+J105+N105+R105+V105+Z105+AD105+AH105+AL105+AP105+AT105+AX105+BB105+BF105+BJ105+BN105+BR105+BV105+BZ105+CD105+CH105+CL105+CP105+CT105+CX105+DB105+DF105+DJ105+DN105+DR105+DV105 -> 0 | EA105: =G105+K105+O105+S105+W105+AA105+AE105+AI105+AM105+AQ105+AU105+AY105+BC105+BG105+BK105+BO105+BS105+BW105+CA105+CE105+CI105+CM105+CQ105+CU105+CY105+DC105+DG105+DK105+DO105+DS105+DW105 -> 4 | EB105: =H105+L105+P105+T105+X105+AB105+AF105+AJ105+AN105+AR105+AV105+AZ105+BD105+BH105+BL105+BP105+BT105+BX105+CB105+CF105+CJ105+CN105+CR105+CV105+CZ105+DD105+DH105+DL105+DP105+DT105+DX105 -> 0 | EC105: =I105+M105+Q105+U105+Y105+AC105+AG105+AK105+AO105+AS105+AW105+BA105+BE105+BI105+BM105+BQ105+BU105+BY105+CC105+CG105+CK105+CO105+CS105+CW105+DA105+DE105+DI105+DM105+DQ105+DU105+DY105 -> 0
A106: 97 | B106: SEVAS503111TSBH01043 | C106: SEVASADAN DIAGNOSTIC CENTRE | D106: H.No. 1-7-111/5, SRI KALABHAIRAVA COMPLEX, DAILY MARKET ROAD, KAMAREDDY - 503111. | E106: 0 | F106: 1 | J106: 1 | N106: 1 | R106: 1 | V106: 1 | Z106: 1 | AD106: 1 | AH106: 1 | AL106: 1 | AP106: 1 | AT106: 1 | AX106: 1 | BB106: 1 | BF106: 1 | BJ106: 1 | BN106: 1 | BR106: 1 | BV106: 1 | BZ106: 1 | CD106: 1 | CH106: 1 | CL106: 1 | CP106: 1 | CT106: 1 | DN106: 1 | DR106: 1 | DZ106: =F106+J106+N106+R106+V106+Z106+AD106+AH106+AL106+AP106+AT106+AX106+BB106+BF106+BJ106+BN106+BR106+BV106+BZ106+CD106+CH106+CL106+CP106+CT106+CX106+DB106+DF106+DJ106+DN106+DR106+DV106 -> 26 | EA106: =G106+K106+O106+S106+W106+AA106+AE106+AI106+AM106+AQ106+AU106+AY106+BC106+BG106+BK106+BO106+BS106+BW106+CA106+CE106+CI106+CM106+CQ106+CU106+CY106+DC106+DG106+DK106+DO106+DS106+DW106 -> 0 | EB106: =H106+L106+P106+T106+X106+AB106+AF106+AJ106+AN106+AR106+AV106+AZ106+BD106+BH106+BL106+BP106+BT106+BX106+CB106+CF106+CJ106+CN106+CR106+CV106+CZ106+DD106+DH106+DL106+DP106+DT106+DX106 -> 0 | EC106: =I106+M106+Q106+U106+Y106+AC106+AG106+AK106+AO106+AS106+AW106+BA106+BE106+BI106+BM106+BQ106+BU106+BY106+CC106+CG106+CK106+CO106+CS106+CW106+DA106+DE106+DI106+DM106+DQ106+DU106+DY106 -> 0
A107: 98 | B107: SHESH503111TSCL09950 | C107: SHESHADRI SKIN HOSPITAL | D107: OPP: ANDHRA BANK, BESIDE NEW BUS STAND, R.K. LODGE ROAD, NGO'S COLONY, KAMAREDDY - 503111. | E107: 0 | G107: 1 | K107: 1 | O107: 1 | S107: 1 | W107: 1 | AA107: 1 | AE107: 1 | AI107: 1 | AL107: 1 | AP107: 1 | AT107: 1 | AX107: 1 | BB107: 1 | BF107: 1 | BJ107: 1 | BN107: 1 | BR107: 1 | BV107: 1 | BZ107: 1 | CD107: 1 | CH107: 1 | CL107: 1 | CP107: 1 | CT107: 1 | DN107: 1 | DR107: 1 | DZ107: =F107+J107+N107+R107+V107+Z107+AD107+AH107+AL107+AP107+AT107+AX107+BB107+BF107+BJ107+BN107+BR107+BV107+BZ107+CD107+CH107+CL107+CP107+CT107+CX107+DB107+DF107+DJ107+DN107+DR107+DV107 -> 18 | EA107: =G107+K107+O107+S107+W107+AA107+AE107+AI107+AM107+AQ107+AU107+AY107+BC107+BG107+BK107+BO107+BS107+BW107+CA107+CE107+CI107+CM107+CQ107+CU107+CY107+DC107+DG107+DK107+DO107+DS107+DW107 -> 8 | EB107: =H107+L107+P107+T107+X107+AB107+AF107+AJ107+AN107+AR107+AV107+AZ107+BD107+BH107+BL107+BP107+BT107+BX107+CB107+CF107+CJ107+CN107+CR107+CV107+CZ107+DD107+DH107+DL107+DP107+DT107+DX107 -> 0 | EC107: =I107+M107+Q107+U107+Y107+AC107+AG107+AK107+AO107+AS107+AW107+BA107+BE107+BI107+BM107+BQ107+BU107+BY107+CC107+CG107+CK107+CO107+CS107+CW107+DA107+DE107+DI107+DM107+DQ107+DU107+DY107 -> 0
A108: 99 | B108: SPARS503111TSNH09901 | C108: SPARSHA SKIN & ENT HOSPITAL | D108: H.No.1-5-18, NEAR JAGRUTHI HOSPITAL, TILAK ROAD, GODOWN ROAD, KAMAREDDY - 503111. | E108: 0 | F108: 1 | J108: 1 | N108: 1 | R108: 1 | V108: 1 | Z108: 1 | AD108: 1 | AH108: 1 | AL108: 1 | AP108: 1 | AT108: 1 | AX108: 1 | BB108: 1 | BF108: 1 | BJ108: 1 | BN108: 1 | BR108: 1 | BV108: 1 | BZ108: 1 | CD108: 1 | CH108: 1 | CL108: 1 | CP108: 1 | CT108: 1 | DN108: 1 | DR108: 1 | DZ108: =F108+J108+N108+R108+V108+Z108+AD108+AH108+AL108+AP108+AT108+AX108+BB108+BF108+BJ108+BN108+BR108+BV108+BZ108+CD108+CH108+CL108+CP108+CT108+CX108+DB108+DF108+DJ108+DN108+DR108+DV108 -> 26 | EA108: =G108+K108+O108+S108+W108+AA108+AE108+AI108+AM108+AQ108+AU108+AY108+BC108+BG108+BK108+BO108+BS108+BW108+CA108+CE108+CI108+CM108+CQ108+CU108+CY108+DC108+DG108+DK108+DO108+DS108+DW108 -> 0 | EB108: =H108+L108+P108+T108+X108+AB108+AF108+AJ108+AN108+AR108+AV108+AZ108+BD108+BH108+BL108+BP108+BT108+BX108+CB108+CF108+CJ108+CN108+CR108+CV108+CZ108+DD108+DH108+DL108+DP108+DT108+DX108 -> 0 | EC108: =I108+M108+Q108+U108+Y108+AC108+AG108+AK108+AO108+AS108+AW108+BA108+BE108+BI108+BM108+BQ108+BU108+BY108+CC108+CG108+CK108+CO108+CS108+CW108+DA108+DE108+DI108+DM108+DQ108+DU108+DY108 -> 0
A109: 100 | B109: SREEV503111TSCL09952 | C109: SREE VINAYAKA SKIN CLINIC | D109: BESIDE SANDEEPANI JUNIOR COLLEGE, OPP: NEW BUS STAND, SRI RAM NAGAR COLONY, KAMAREDDY - 503111. | E109: 0 | G109: 1 | K109: 1 | O109: 1 | S109: 1 | W109: 1 | AA109: 1 | AE109: 1 | AI109: 1 | AL109: 1 | AP109: 1 | AT109: 1 | AX109: 1 | BB109: 1 | BF109: 1 | BJ109: 1 | BN109: 1 | BR109: 1 | BV109: 1 | BZ109: 1 | CD109: 1 | CH109: 1 | CL109: 1 | CP109: 1 | CT109: 1 | DZ109: =F109+J109+N109+R109+V109+Z109+AD109+AH109+AL109+AP109+AT109+AX109+BB109+BF109+BJ109+BN109+BR109+BV109+BZ109+CD109+CH109+CL109+CP109+CT109+CX109+DB109+DF109+DJ109+DN109+DR109+DV109 -> 16 | EA109: =G109+K109+O109+S109+W109+AA109+AE109+AI109+AM109+AQ109+AU109+AY109+BC109+BG109+BK109+BO109+BS109+BW109+CA109+CE109+CI109+CM109+CQ109+CU109+CY109+DC109+DG109+DK109+DO109+DS109+DW109 -> 8 | EB109: =H109+L109+P109+T109+X109+AB109+AF109+AJ109+AN109+AR109+AV109+AZ109+BD109+BH109+BL109+BP109+BT109+BX109+CB109+CF109+CJ109+CN109+CR109+CV109+CZ109+DD109+DH109+DL109+DP109+DT109+DX109 -> 0 | EC109: =I109+M109+Q109+U109+Y109+AC109+AG109+AK109+AO109+AS109+AW109+BA109+BE109+BI109+BM109+BQ109+BU109+BY109+CC109+CG109+CK109+CO109+CS109+CW109+DA109+DE109+DI109+DM109+DQ109+DU109+DY109 -> 0
A110: 101 | B110: SRIBA503111TSCL09944 | C110: SRI BALAJI SKIN & ENT HOSPITAL | D110: BESIDE T. BHAIRAIAH HOSPITAL, GODOWN ROAD, KAMAREDDY - 503111. | E110: 0 | F110: 1 | J110: 1 | N110: 1 | R110: 1 | V110: 1 | Z110: 1 | AD110: 1 | AH110: 1 | AL110: 1 | AP110: 1 | AT110: 1 | AX110: 1 | BB110: 1 | BF110: 1 | BJ110: 1 | BN110: 1 | BR110: 1 | BV110: 1 | BZ110: 1 | CD110: 1 | CH110: 1 | CL110: 1 | CP110: 1 | CT110: 1 | DN110: 1 | DR110: 1 | DZ110: =F110+J110+N110+R110+V110+Z110+AD110+AH110+AL110+AP110+AT110+AX110+BB110+BF110+BJ110+BN110+BR110+BV110+BZ110+CD110+CH110+CL110+CP110+CT110+CX110+DB110+DF110+DJ110+DN110+DR110+DV110 -> 26 | EA110: =G110+K110+O110+S110+W110+AA110+AE110+AI110+AM110+AQ110+AU110+AY110+BC110+BG110+BK110+BO110+BS110+BW110+CA110+CE110+CI110+CM110+CQ110+CU110+CY110+DC110+DG110+DK110+DO110+DS110+DW110 -> 0 | EB110: =H110+L110+P110+T110+X110+AB110+AF110+AJ110+AN110+AR110+AV110+AZ110+BD110+BH110+BL110+BP110+BT110+BX110+CB110+CF110+CJ110+CN110+CR110+CV110+CZ110+DD110+DH110+DL110+DP110+DT110+DX110 -> 0 | EC110: =I110+M110+Q110+U110+Y110+AC110+AG110+AK110+AO110+AS110+AW110+BA110+BE110+BI110+BM110+BQ110+BU110+BY110+CC110+CG110+CK110+CO110+CS110+CW110+DA110+DE110+DI110+DM110+DQ110+DU110+DY110 -> 0
A111: 102 | B111: SRIDI503111TSPL13315 | C111: SRI DIAGNOSTIC CENTRE | D111: OPP: VAISHNAVI HOSPITAL, BESIDE RJ HOSPITAL, RAMAREDDY ROAD, KAMAREDDY - 503111. | E111: 0 | G111: 1 | K111: 1 | O111: 1 | S111: 1 | W111: 1 | AA111: 1 | AE111: 1 | AI111: 1 | AL111: 1 | AP111: 1 | AT111: 1 | AX111: 1 | BB111: 1 | BF111: 1 | BJ111: 1 | BN111: 1 | BR111: 1 | BV111: 1 | BZ111: 1 | CD111: 1 | CH111: 1 | CL111: 1 | CP111: 1 | CT111: 1 | DN111: 1 | DR111: 1 | DZ111: =F111+J111+N111+R111+V111+Z111+AD111+AH111+AL111+AP111+AT111+AX111+BB111+BF111+BJ111+BN111+BR111+BV111+BZ111+CD111+CH111+CL111+CP111+CT111+CX111+DB111+DF111+DJ111+DN111+DR111+DV111 -> 18 | EA111: =G111+K111+O111+S111+W111+AA111+AE111+AI111+AM111+AQ111+AU111+AY111+BC111+BG111+BK111+BO111+BS111+BW111+CA111+CE111+CI111+CM111+CQ111+CU111+CY111+DC111+DG111+DK111+DO111+DS111+DW111 -> 8 | EB111: =H111+L111+P111+T111+X111+AB111+AF111+AJ111+AN111+AR111+AV111+AZ111+BD111+BH111+BL111+BP111+BT111+BX111+CB111+CF111+CJ111+CN111+CR111+CV111+CZ111+DD111+DH111+DL111+DP111+DT111+DX111 -> 0 | EC111: =I111+M111+Q111+U111+Y111+AC111+AG111+AK111+AO111+AS111+AW111+BA111+BE111+BI111+BM111+BQ111+BU111+BY111+CC111+CG111+CK111+CO111+CS111+CW111+DA111+DE111+DI111+DM111+DQ111+DU111+DY111 -> 0
