Workbook

Sheet Total
B1: AUGUST - 2023 MONTH REPORT ABSTRACT
B2: DISTRICT | C2: NO.OF HCFs | D2: NO.OF BEDS | E2: YELLOW | F2: RED | G2: BLUE | H2: WHITE | I2: TOTAL
E3: Values are in Kilograms
B4: NIZAMABAD | C4: ='Area Wise Total'!D13 -> 374 | D4: ='Area Wise Total'!E13 -> 5516 | E4: ='Area Wise Total'!F13 -> 13219 | F4: ='Area Wise Total'!G13 -> 8250 | G4: ='Area Wise Total'!H13 -> 123 | H4: ='Area Wise Total'!I13 -> 129 | I4: =SUM(E4:H4) -> 21721
B5: KAMAREDDY | C5: ='Area Wise Total'!D19 -> 186 | D5: ='Area Wise Total'!E19 -> 1920 | E5: ='Area Wise Total'!F19 -> 4306 | F5: ='Area Wise Total'!G19 -> 2776 | G5: ='Area Wise Total'!H19 -> 27 | H5: ='Area Wise Total'!I19 -> 16 | I5: =SUM(E5:H5) -> 7125
B6: NIRMAL | C6: ='Area Wise Total'!D25 -> 107 | D6: ='Area Wise Total'!E25 -> 1658 | E6: ='Area Wise Total'!F25 -> 3095 | F6: ='Area Wise Total'!G25 -> 1463 | G6: ='Area Wise Total'!H25 -> 15 | H6: ='Area Wise Total'!I25 -> 12 | I6: =SUM(E6:H6) -> 4585
B7: ADILABAD | C7: ='Area Wise Total'!D29 -> 121 | D7: ='Area Wise Total'!E29 -> 1864 | E7: ='Area Wise Total'!F29 -> 3042 | F7: ='Area Wise Total'!G29 -> 1608 | G7: ='Area Wise Total'!H29 -> 35 | H7: ='Area Wise Total'!I29 -> 15 | I7: =SUM(E7:H7) -> 4700
B8: ASIFABAD | C8: ='Area Wise Total'!D33 -> 49 | D8: ='Area Wise Total'!E33 -> 649 | E8: ='Area Wise Total'!F33 -> 1360 | F8: ='Area Wise Total'!G33 -> 887 | G8: ='Area Wise Total'!H33 -> 9 | H8: ='Area Wise Total'!I33 -> 5 | I8: =SUM(E8:H8) -> 2261
B9: CLOSED HCFS | C9: ='Area Wise Total'!D35 -> 32 | D9: ='Area Wise Total'!E35 -> 300 | E9: ='Area Wise Total'!F35 -> 304 | F9: ='Area Wise Total'!G35 -> 139 | G9: ='Area Wise Total'!H35 -> 0 | H9: ='Area Wise Total'!I35 -> 0 | I9: =SUM(E9:H9) -> 443
B10: TOTAL | C10: =SUM(C4:C9) -> 869 | D10: =SUM(D4:D9) -> 11907 | E10: =SUM(E4:E9) -> 25326 | F10: =SUM(F4:F9) -> 15123 | G10: =SUM(G4:G9) -> 209 | H10: =SUM(H4:H9) -> 177 | I10: =SUM(I4:I9) -> 40835
B12: DETAILS OF COLOURS
B13: YELLOW | C13: INCENERABLE WASTE
B14: RED | C14: AUTOCLAVE WASTE
B15: BLUE | C15: SHREDDING, BROKEN GLASS, METALIC BODY IMPLANTS
B16: WHITE | C16: SHARPENS, NEEDLES, BLADES, SCALPELS, NAILS, LANCETS

Sheet Area Wise Total
B2: STATEMENT SHOWING AREA WISE RECEIVED BIO - MEDICAL WASTE
B3: AUGUST - 2023
B4: District | C4: Areas | D4: HCF's | E4: Beds | F4: Yellow | G4: Red | H4: Blue | I4: White
B6: Nizamabad | C6: Nizamabad | D6: =COUNTIF(Nizamabad!A4:A8,">0")+COUNTIF(Nizamabad!A12:A248,">0") -> 238 | E6: =SUM(Nizamabad!E4:E8)+SUM(Nizamabad!E12:E248) -> 3930 | F6: =SUM(Nizamabad!DZ4:DZ8)+SUM(Nizamabad!DZ12:DZ248) -> 8763 | G6: =SUM(Nizamabad!EA4:EA8)+SUM(Nizamabad!EA12:EA248) -> 6127 | H6: =SUM(Nizamabad!EB4:EB8)+SUM(Nizamabad!EB12:EB248) -> 108 | I6: =SUM(Nizamabad!EC4:EC8)+SUM(Nizamabad!EC12:EC248) -> 124
C7: Armoor | D7: =COUNTIF(Nizamabad!A250:A308,">0") -> 59 | E7: =SUM(Nizamabad!E250:E308) -> 709 | F7: =SUM(Nizamabad!DZ250:DZ308) -> 2660 | G7: =SUM(Nizamabad!EA250:EA308) -> 901 | H7: =SUM(Nizamabad!EB250:EB308) -> 0 | I7: =SUM(Nizamabad!EC250:EC308) -> 0
C8: Bodhan | D8: =COUNTIF(Nizamabad!A310:A350, ">0")+COUNTIF(Nizamabad!A9,">0") -> 42 | E8: =Nizamabad!E9+SUM(Nizamabad!E310:E350) -> 437 | F8: =Nizamabad!DZ9+SUM(Nizamabad!DZ310:DZ350) -> 948 | G8: =Nizamabad!EA9+SUM(Nizamabad!EA310:EA350) -> 692 | H8: =Nizamabad!EB9+SUM(Nizamabad!EB310:EB350) -> 7 | I8: =Nizamabad!EC9+SUM(Nizamabad!EC310:EC350) -> 1
C9: Dichpally | D9: =COUNTIF(Nizamabad!A352:A354, ">0") -> 3 | E9: =SUM(Nizamabad!E352:E354) -> 36 | F9: =SUM(Nizamabad!DZ352:DZ354) -> 117 | G9: =SUM(Nizamabad!EA352:EA354) -> 68 | H9: =SUM(Nizamabad!EB352:EB354) -> 0 | I9: =SUM(Nizamabad!EC352:EC354) -> 0
C10: Varni | D10: =COUNTIF(Nizamabad!A356:A357, ">0") -> 2 | E10: =SUM(Nizamabad!E356:E357) -> 31 | F10: =SUM(Nizamabad!DZ356:DZ357) -> 77 | G10: =SUM(Nizamabad!EA356:EA357) -> 40 | H10: =SUM(Nizamabad!EB356:EB357) -> 0 | I10: =SUM(Nizamabad!EC356:EC357) -> 0
C11: Navipet | D11: =COUNTIF(Nizamabad!A359:A360,">0") -> 2 | E11: =SUM(Nizamabad!E359:E360) -> 37 | F11: =SUM(Nizamabad!DZ359:DZ360) -> 60 | G11: =SUM(Nizamabad!EA359:EA360) -> 22 | H11: =SUM(Nizamabad!EB359:EB360) -> 0 | I11: =SUM(Nizamabad!EC359:EC360) -> 0
C12: Govt.HCFs. | D12: =COUNTIF(Nizamabad!A362:A389,">0") -> 28 | E12: =SUM(Nizamabad!E362:E389) -> 336 | F12: =SUM(Nizamabad!DZ362:DZ389) -> 594 | G12: =SUM(Nizamabad!EA362:EA389) -> 400 | H12: =SUM(Nizamabad!EB362:EB389) -> 8 | I12: =SUM(Nizamabad!EC362:EC389) -> 4
C13: Total: | D13: =SUM(D6:D12) -> 374 | E13: =SUM(E6:E12) -> 5516 | F13: =SUM(F6:F12) -> 13219 | G13: =SUM(G6:G12) -> 8250 | H13: =SUM(H6:H12) -> 123 | I13: =SUM(I6:I12) -> 129
B15: Kamareddy | C15: Kamareddy | D15: =COUNTIF(Kamareddy!A4:A5, ">0")+COUNTIF(Kamareddy!A9:A129, ">0") -> 123 | E15: =SUM(Kamareddy!E4:E5)+SUM(Kamareddy!E9:E129) -> 1143 | F15: =SUM(Kamareddy!DZ4:DZ5)+SUM(Kamareddy!DZ9:DZ129) -> 2697 | G15: =SUM(Kamareddy!EA4:EA5)+SUM(Kamareddy!EA9:EA129) -> 1769 | H15: =SUM(Kamareddy!EB4:EB5)+SUM(Kamareddy!EB9:EB129) -> 17 | I15: =SUM(Kamareddy!EC4:EC5)+SUM(Kamareddy!EC9:EC129) -> 8
C16: Banswada | D16: =COUNTIF(Kamareddy!A6,">0")+COUNTIF(Kamareddy!A131:A157, ">0") -> 27 | E16: =Kamareddy!E6+SUM(Kamareddy!E131:E157) -> 279 | F16: =Kamareddy!DZ6+SUM(Kamareddy!DZ131:DZ157) -> 650 | G16: =Kamareddy!EA6+SUM(Kamareddy!EA131:EA157) -> 398 | H16: =Kamareddy!EB6+SUM(Kamareddy!EB131:EB157) -> 3 | I16: =Kamareddy!EC6+SUM(Kamareddy!EC131:EC157) -> 3
C17: Yellareddy | D17: =COUNTIF(Kamareddy!A159:A168,">0") -> 10 | E17: =SUM(Kamareddy!E159:E168) -> 222 | F17: =SUM(Kamareddy!DZ159:DZ168) -> 440 | G17: =SUM(Kamareddy!EA159:EA168) -> 252 | H17: =SUM(Kamareddy!EB159:EB168) -> 0 | I17: =SUM(Kamareddy!EC159:EC168) -> 0
C18: Govt.HCFs. | D18: =COUNTIF(Kamareddy!A170:A195,">0") -> 26 | E18: =SUM(Kamareddy!E170:E195) -> 276 | F18: =SUM(Kamareddy!DZ170:DZ195) -> 519 | G18: =SUM(Kamareddy!EA170:EA195) -> 357 | H18: =SUM(Kamareddy!EB170:EB195) -> 7 | I18: =SUM(Kamareddy!EC170:EC195) -> 5
C19: Total: | D19: =SUM(D15:D18) -> 186 | E19: =SUM(E15:E18) -> 1920 | F19: =SUM(F15:F18) -> 4306 | G19: =SUM(G15:G18) -> 2776 | H19: =SUM(H15:H18) -> 27 | I19: =SUM(I15:I18) -> 16
B21: Nirmal | C21: Nirmal | D21: =COUNTIF(Nirmal!A4:A5,">0")+COUNTIF(Nirmal!A9:A77,">0") -> 71 | E21: =SUM(Nirmal!E4:E5)+SUM(Nirmal!E9:E77) -> 1197 | F21: =SUM(Nirmal!DZ4:DZ5)+SUM(Nirmal!DZ9:DZ77) -> 2076 | G21: =SUM(Nirmal!EA4:EA5)+SUM(Nirmal!EA9:EA77) -> 944 | H21: =SUM(Nirmal!EB4:EB5)+SUM(Nirmal!EB9:EB77) -> 10 | I21: =SUM(Nirmal!EC4:EC5)+SUM(Nirmal!EC9:EC77) -> 9
C22: Bhainsa | D22: =COUNTIF(Nirmal!A6,">0")+COUNTIF(Nirmal!A79:A95,">0") -> 18 | E22: =Nirmal!E6+SUM(Nirmal!E79:E95) -> 302 | F22: =Nirmal!DZ6+SUM(Nirmal!DZ79:DZ95) -> 692 | G22: =Nirmal!EA6+SUM(Nirmal!EA79:EA95) -> 328 | H22: =Nirmal!EB6+SUM(Nirmal!EB79:EB95) -> 3 | I22: =Nirmal!EC6+SUM(Nirmal!EC79:EC95) -> 2
C23: Mudhole | D23: =COUNTIF(Nirmal!A97:A99, ">0") -> 3 | E23: =SUM(Nirmal!E97:E99) -> 45 | F23: =SUM(Nirmal!DZ97:DZ99) -> 28 | G23: =SUM(Nirmal!EA97:EA99) -> 14 | H23: =SUM(Nirmal!EB97:EB99) -> 0 | I23: =SUM(Nirmal!EC97:EC99) -> 0
C24: Govt.HCFs. | D24: =COUNTIF(Nirmal!A101:A115, ">0") -> 15 | E24: =SUM(Nirmal!E101:E115) -> 114 | F24: =SUM(Nirmal!DZ101:DZ115) -> 299 | G24: =SUM(Nirmal!EA101:EA115) -> 177 | H24: =SUM(Nirmal!EB101:EB115) -> 2 | I24: =SUM(Nirmal!EC101:EC115) -> 1
C25: Total: | D25: =SUM(D21:D24) -> 107 | E25: =SUM(E21:E24) -> 1658 | F25: =SUM(F21:F24) -> 3095 | G25: =SUM(G21:G24) -> 1463 | H25: =SUM(H21:H24) -> 15 | I25: =SUM(I21:I24) -> 12
B27: Adilabad | C27: Adilabad | D27: =COUNTIF(Adilabad!A3:A78,">0") -> 74 | E27: =SUM(Adilabad!E4:E78) -> 1623 | F27: =SUM(Adilabad!DZ4:DZ78) -> 2296 | G27: =SUM(Adilabad!EA4:EA78) -> 1124 | H27: =SUM(Adilabad!EB4:EB78) -> 29 | I27: =SUM(Adilabad!EC4:EC78) -> 13
C28: Govt.HCFs. | D28: =COUNTIF(Adilabad!A80:A126,">0") -> 47 | E28: =SUM(Adilabad!E80:E126) -> 231 | F28: =SUM(Adilabad!DZ80:DZ126) -> 746 | G28: =SUM(Adilabad!EA80:EA126) -> 484 | H28: =SUM(Adilabad!EB80:EB126) -> 6 | I28: =SUM(Adilabad!EC80:EC126) -> 2
C29: Total | D29: =SUM(D27:D28) -> 121 | E29: =SUM(Adilabad!E4:E130) -> 1864 | F29: =SUM(F27:F28) -> 3042 | G29: =SUM(G27:G28) -> 1608 | H29: =SUM(H27:H28) -> 35 | I29: =SUM(I27:I28) -> 15
B31: Asifabad | C31: Asifabad | D31: =COUNTIF(Asifabad!A4:A30, ">0") -> 27 | E31: =SUM(Asifabad!E4:E30) -> 493 | F31: =SUM(Asifabad!DZ4:DZ30) -> 1058 | G31: =SUM(Asifabad!EA4:EA30) -> 645 | H31: =SUM(Asifabad!EB4:EB30) -> 7 | I31: =SUM(Asifabad!EC2:EC30) -> 4
C32: Govt.HCFs. | D32: =COUNTIF(Asifabad!A32:A53, ">0") -> 22 | E32: =SUM(Asifabad!E32:E53) -> 156 | F32: =SUM(Asifabad!DZ32:DZ53) -> 302 | G32: =SUM(Asifabad!EA32:EA53) -> 242 | H32: =SUM(Asifabad!EB32:EB53) -> 2 | I32: =SUM(Asifabad!EC32:EC53) -> 1
B33: Asifabad | C33: Total | D33: =SUM(D31:D32) -> 49 | E33: =SUM(E31:E32) -> 649 | F33: =SUM(F31:F32) -> 1360 | G33: =SUM(G31:G32) -> 887 | H33: =SUM(H31:H32) -> 9 | I33: =SUM(I31:I32) -> 5
B35: Closed HCFs | D35: =COUNTIF(Nizamabad!A391:A405, ">0")+COUNTIF(Kamareddy!A197:A199, ">0")+COUNTIF(Nirmal!A117:A123, ">0")+COUNTIF(Adilabad!A128:A130, ">0")+COUNTIF(Asifabad!A55:A58, ">0") -> 32 | E35: =SUM(Nizamabad!E391:E405)+SUM(Kamareddy!E197:E199)+SUM(Nirmal!E117:E123)+SUM(Adilabad!E128:E130)+SUM(Asifabad!E55:E58) -> 300 | F35: =SUM(Nizamabad!DZ391:DZ405)+SUM(Kamareddy!DZ197:DZ199)+SUM(Nirmal!DZ117:DZ123)+SUM(Adilabad!DZ128:DZ130)+SUM(Asifabad!DZ55:DZ58) -> 304 | G35: =SUM(Nizamabad!EA391:EA405)+SUM(Kamareddy!EA197:EA199)+SUM(Nirmal!EA117:EA123)+SUM(Adilabad!EA128:EA130)+SUM(Asifabad!EA55:EA58) -> 139 | H35: =SUM(Nizamabad!EB391:EB405)+SUM(Kamareddy!EB197:EB199)+SUM(Nirmal!EB117:EB123)+SUM(Adilabad!EB128:EB130)+SUM(Asifabad!EB55:EB58) -> 0 | I35: =SUM(Nizamabad!EC391:EC405)+SUM(Kamareddy!EC197:EC199)+SUM(Nirmal!EC117:EC123)+SUM(Adilabad!EC128:EC130)+SUM(Asifabad!EC55:EC58) -> 0
B37: Grand Total | D37: =D13+D19+D25+D29+D33+D35 -> 869 | E37: =E13+E19+E25+E29+E33+E35 -> 11907 | F37: =F13+F19+F25+F29+F33+F35 -> 25326 | G37: =G13+G19+G25+G29+G33+G35 -> 15123 | H37: =H13+H19+H25+H29+H33+H35 -> 209 | I37: =I13+I19+I25+I29+I33+I35 -> 177

Sheet Nizamabad
A1: AUGUST - 2023 MONTH REPORT | F1: 45139 | J1: 45140 | N1: 45141 | R1: 45142 | V1: 45143 | Z1: 45144 | AD1: 45145 | AH1: 45146 | AL1: 45147 | AP1: 45148 | AT1: 45149 | AX1: 45150 | BB1: 45151 | BF1: 45152 | BJ1: 45153 | BN1: 45154 | BR1: 45155 | BV1: 45156 | BZ1: 45157 | CD1: 45158 | CH1: 45159 | CL1: 45160 | CP1: 45161 | CT1: 45162 | CX1: 45163 | DB1: 45164 | DF1: 45165 | DJ1: 45166 | DN1: 45167 | DR1: 45168 | DV1: 45169 | DZ1: TOTAL
A2: SNO | B2: HCF ID | C2: NAME OF THE HCF | D2: ADDRESS OF THE HCFS | E2: NO.OF BEDS | F2: Yellow | G2: Red | H2: Blue | I2: White | J2: Yellow | K2: Red | L2: Blue | M2: White | N2: Yellow | O2: Red | P2: Blue | Q2: White | R2: Yellow | S2: Red | T2: Blue | U2: White | V2: Yellow | W2: Red | X2: Blue | Y2: White | Z2: Yellow | AA2: Red | AB2: Blue | AC2: White | AD2: Yellow | AE2: Red | AF2: Blue | AG2: White | AH2: Yellow | AI2: Red | AJ2: Blue | AK2: White | AL2: Yellow | AM2: Red | AN2: Blue | AO2: White | AP2: Yellow | AQ2: Red | AR2: Blue | AS2: White | AT2: Yellow | AU2: Red | AV2: Blue | AW2: White | AX2: Yellow | AY2: Red | AZ2: Blue | BA2: White | BB2: Yellow | BC2: Red | BD2: Blue | BE2: White | BF2: Yellow | BG2: Red | BH2: Blue | BI2: White | BJ2: Yellow | BK2: Red | BL2: Blue | BM2: White | BN2: Yellow | BO2: Red | BP2: Blue | BQ2: White | BR2: Yellow | BS2: Red | BT2: Blue | BU2: White | BV2: Yellow | BW2: Red | BX2: Blue | BY2: White | BZ2: Yellow | CA2: Red | CB2: Blue | CC2: White | CD2: Yellow | CE2: Red | CF2: Blue | CG2: White | CH2: Yellow | CI2: Red | CJ2: Blue | CK2: White | CL2: Yellow | CM2: Red | CN2: Blue | CO2: White | CP2: Yellow | CQ2: Red | CR2: Blue | CS2: White | CT2: Yellow | CU2: Red | CV2: Blue | CW2: White | CX2: Yellow | CY2: Red | CZ2: Blue | DA2: White | DB2: Yellow | DC2: Red | DD2: Blue | DE2: White | DF2: Yellow | DG2: Red | DH2: Blue | DI2: White | DJ2: Yellow | DK2: Red | DL2: Blue | DM2: White | DN2: Yellow | DO2: Red | DP2: Blue | DQ2: White | DR2: Yellow | DS2: Red | DT2: Blue | DU2: White | DV2: Yellow | DW2: Red | DX2: Blue | DY2: White | DZ2: Yellow | EA2: Red | EB2: Blue | EC2: White
A3: NIZAMABAD 100 AND ABOVE BEDS HCFs
A4: 1 | B4: GOVER503001TSBH00988 | C4: GOVT. DIST. HOSPITAL | D4: BESIDE NIZAMABAD BUS STATION, NIZAMABAD - 503001 | E4: 750 | F4: =3*9 -> 27 | G4: =4*9 -> 36 | J4: 32 | K4: =8*4 -> 32 | N4: 21 | O4: 28 | R4: =4*8 -> 32 | S4: =8*4 -> 32 | V4: 36 | W4: =9*4 -> 36 | AA4: 32 | AB4: 8 | AD4: =8*4 -> 32 | AE4: 32 | AF4: 2 | AG4: 2 | AH4: 32 | AI4: 24 | AL4: =8*4 -> 32 | AM4: 24 | AP4: 24 | AQ4: 32 | AS4: 8 | AT4: 24 | AU4: 40 | AV4: 8 | AX4: 40 | AY4: 32 | BF4: 35 | BG4: =8*3 -> 24 | BH4: 2 | BI4: 2 | BJ4: =9*5 -> 45 | BK4: =9*3 -> 27 | BN4: 35 | BO4: 28 | BR4: 32 | BS4: 32 | BV4: 36 | BW4: 18 | BZ4: 40 | CA4: 32 | CH4: 24 | CI4: 18 | CJ4: 2 | CK4: 1 | CL4: 32 | CM4: 24 | CN4: 8 | CP4: 32 | CQ4: 32 | CT4: 32 | CU4: 32 | CX4: 48 | CY4: 24 | DB4: 40 | DC4: 32 | DF4: 40 | DG4: 32 | DJ4: 40 | DK4: 32 | DN4: =8*6 -> 48 | DO4: 24 | DR4: 36 | DS4: =9*4 -> 36 | DW4: 24 | DX4: 16 | DY4: 8 | DZ4: =F4+J4+N4+R4+V4+Z4+AD4+AH4+AL4+AP4+AT4+AX4+BB4+BF4+BJ4+BN4+BR4+BV4+BZ4+CD4+CH4+CL4+CP4+CT4+CX4+DB4+DF4+DJ4+DN4+DR4+DV4 -> 927 | EA4: =G4+K4+O4+S4+W4+AA4+AE4+AI4+AM4+AQ4+AU4+AY4+BC4+BG4+BK4+BO4+BS4+BW4+CA4+CE4+CI4+CM4+CQ4+CU4+CY4+DC4+DG4+DK4+DO4+DS4+DW4 -> 851 | EB4: =H4+L4+P4+T4+X4+AB4+AF4+AJ4+AN4+AR4+AV4+AZ4+BD4+BH4+BL4+BP4+BT4+BX4+CB4+CF4+CJ4+CN4+CR4+CV4+CZ4+DD4+DH4+DL4+DP4+DT4+DX4 -> 46 | EC4: =I4+M4+Q4+U4+Y4+AC4+AG4+AK4+AO4+AS4+AW4+BA4+BE4+BI4+BM4+BQ4+BU4+BY4+CC4+CG4+CK4+CO4+CS4+CW4+DA4+DE4+DI4+DM4+DQ4+DU4+DY4 -> 21
A5: 2 | B5: MEGHN503003TSBH00905 | C5: MEGHANA INSTITUTE OF DENTAL SCIENCE | D5: VARNI ROAD, MALLARAM VILLAGE, NIZAMABAD - 503001 | E5: 200 | F5: 5 | G5: 5 | J5: 5 | K5: 5 | N5: 5 | O5: 5 | R5: 5 | S5: 5 | V5: 5 | W5: 5 | Z5: 5 | AD5: 5 | AE5: 5 | AH5: 5 | AI5: 5 | AL5: 5 | AM5: 5 | AP5: 5 | AQ5: 5 | AT5: 5 | AU5: 5 | AX5: 5 | AY5: 5 | BF5: 5 | BG5: 5 | BJ5: 5 | BK5: 5 | BN5: 5 | BO5: 5 | BR5: 5 | BS5: 5 | BV5: 5 | BW5: 5 | BZ5: 5 | CA5: 5 | CH5: 5 | CI5: 5 | CL5: 5 | CM5: 5 | CP5: 5 | CQ5: 5 | CT5: 5 | CU5: 5 | CX5: 6 | CY5: 5 | CZ5: 6 | DB5: 6 | DC5: 5 | DF5: 6 | DG5: 5 | DJ5: 6 | DK5: 5 | DO5: 6 | DQ5: 6 | DS5: 5 | DV5: 5 | DW5: 5 | DZ5: =F5+J5+N5+R5+V5+Z5+AD5+AH5+AL5+AP5+AT5+AX5+BB5+BF5+BJ5+BN5+BR5+BV5+BZ5+CD5+CH5+CL5+CP5+CT5+CX5+DB5+DF5+DJ5+DN5+DR5+DV5 -> 139 | EA5: =G5+K5+O5+S5+W5+AA5+AE5+AI5+AM5+AQ5+AU5+AY5+BC5+BG5+BK5+BO5+BS5+BW5+CA5+CE5+CI5+CM5+CQ5+CU5+CY5+DC5+DG5+DK5+DO5+DS5+DW5 -> 141 | EB5: =H5+L5+P5+T5+X5+AB5+AF5+AJ5+AN5+AR5+AV5+AZ5+BD5+BH5+BL5+BP5+BT5+BX5+CB5+CF5+CJ5+CN5+CR5+CV5+CZ5+DD5+DH5+DL5+DP5+DT5+DX5 -> 6 | EC5: =I5+M5+Q5+U5+Y5+AC5+AG5+AK5+AO5+AS5+AW5+BA5+BE5+BI5+BM5+BQ5+BU5+BY5+CC5+CG5+CK5+CO5+CS5+CW5+DA5+DE5+DI5+DM5+DQ5+DU5+DY5 -> 6
A6: 3 | B6: PRAGA503001TSBH06142 | C6: PRAGATHI HOSPITAL | D6: HYDERABAD ROAD, PRAGATHI NAGAR, NIZAMABAD - 503001 | E6: 150 | F6: 5 | G6: 5 | J6: 5 | K6: 5 | N6: 5 | O6: 5 | R6: 5 | S6: 5 | V6: 5 | W6: 5 | Z6: 5 | AD6: 5 | AE6: 5 | AF6: 2 | AG6: 1 | AH6: 5 | AI6: 5 | AL6: 5 | AM6: 5 | AP6: 5 | AQ6: 5 | AT6: 5 | AU6: 5 | AX6: 5 | AY6: 5 | BF6: 5 | BG6: 5 | BH6: 2 | BI6: 1 | BJ6: 5 | BK6: 5 | BN6: 5 | BO6: 5 | BR6: 2 | BS6: 8 | BV6: 5 | BW6: 5 | BZ6: 5 | CA6: 5 | CH6: 5 | CI6: 5 | CL6: 5 | CO6: 5 | CP6: 5 | CR6: 5 | CT6: 5 | CU6: 5 | CX6: 6 | CY6: 6 | DB6: 6 | DC6: 6 | DF6: 6 | DG6: 6 | DJ6: 6 | DK6: 6 | DN6: 6 | DQ6: 6 | DR6: 5 | DS6: 5 | DV6: 10 | DZ6: =F6+J6+N6+R6+V6+Z6+AD6+AH6+AL6+AP6+AT6+AX6+BB6+BF6+BJ6+BN6+BR6+BV6+BZ6+CD6+CH6+CL6+CP6+CT6+CX6+DB6+DF6+DJ6+DN6+DR6+DV6 -> 152 | EA6: =G6+K6+O6+S6+W6+AA6+AE6+AI6+AM6+AQ6+AU6+AY6+BC6+BG6+BK6+BO6+BS6+BW6+CA6+CE6+CI6+CM6+CQ6+CU6+CY6+DC6+DG6+DK6+DO6+DS6+DW6 -> 127 | EB6: =H6+L6+P6+T6+X6+AB6+AF6+AJ6+AN6+AR6+AV6+AZ6+BD6+BH6+BL6+BP6+BT6+BX6+CB6+CF6+CJ6+CN6+CR6+CV6+CZ6+DD6+DH6+DL6+DP6+DT6+DX6 -> 9 | EC6: =I6+M6+Q6+U6+Y6+AC6+AG6+AK6+AO6+AS6+AW6+BA6+BE6+BI6+BM6+BQ6+BU6+BY6+CC6+CG6+CK6+CO6+CS6+CW6+DA6+DE6+DI6+DM6+DQ6+DU6+DY6 -> 13
A7: 4 | B7: PRUDE503002TSBH17373 | C7: PRUDENCE HOSPITALS | D7: H.NO. 1-12-121/A, OPP: YENDALA TOWERS, PRAGATHI NAGAR, NIZAMABAD | E7: 100 | F7: 5 | G7: 5 | J7: 5 | K7: 5 | N7: 5 | O7: 5 | R7: 5 | S7: 2 | V7: 5 | W7: 5 | Z7: 5 | AD7: 5 | AE7: 5 | AF7: 2 | AG7: 1 | AH7: 5 | AI7: 5 | AL7: 5 | AM7: 5 | AP7: 5 | AQ7: 5 | AT7: 5 | AU7: 5 | AX7: 5 | AY7: 5 | BF7: 5 | BG7: 5 | BH7: 1 | BI7: 1 | BJ7: 5 | BK7: 5 | BN7: 5 | BO7: 5 | BR7: 5 | BS7: 5 | BV7: 5 | BW7: 5 | BZ7: 5 | CA7: 5 | CH7: 5 | CI7: 5 | CJ7: 1 | CK7: 1 | CL7: 5 | CM7: 5 | CP7: 5 | CQ7: 5 | CT7: 5 | CU7: 5 | CX7: 6 | CY7: 6 | DB7: 6 | DC7: 6 | DF7: 6 | DG7: 6 | DJ7: 6 | DK7: 6 | DN7: 6 | DQ7: 6 | DR7: 5 | DS7: 5 | DV7: 5 | DW7: 5 | DZ7: =F7+J7+N7+R7+V7+Z7+AD7+AH7+AL7+AP7+AT7+AX7+BB7+BF7+BJ7+BN7+BR7+BV7+BZ7+CD7+CH7+CL7+CP7+CT7+CX7+DB7+DF7+DJ7+DN7+DR7+DV7 -> 150 | EA7: =G7+K7+O7+S7+W7+AA7+AE7+AI7+AM7+AQ7+AU7+AY7+BC7+BG7+BK7+BO7+BS7+BW7+CA7+CE7+CI7+CM7+CQ7+CU7+CY7+DC7+DG7+DK7+DO7+DS7+DW7 -> 136 | EB7: =H7+L7+P7+T7+X7+AB7+AF7+AJ7+AN7+AR7+AV7+AZ7+BD7+BH7+BL7+BP7+BT7+BX7+CB7+CF7+CJ7+CN7+CR7+CV7+CZ7+DD7+DH7+DL7+DP7+DT7+DX7 -> 4 | EC7: =I7+M7+Q7+U7+Y7+AC7+AG7+AK7+AO7+AS7+AW7+BA7+BE7+BI7+BM7+BQ7+BU7+BY7+CC7+CG7+CK7+CO7+CS7+CW7+DA7+DE7+DI7+DM7+DQ7+DU7+DY7 -> 9
A8: 5 | B8: MEDIC503001TSBH09849 | C8: MEDICOVER HOSPITAL | D8: H.No. 5-11-744, BESIDE LIC OF INDIA, YELLAMMA GUTTA X ROAD, HYDERABAD ROAD, NIZAMABAD - 503001 | E8: 100 | F8: 5 | G8: 5 | J8: 5 | K8: 5 | N8: 5 | O8: 5 | R8: 5 | S8: 2 | V8: 5 | W8: 5 | Z8: 5 | AD8: 5 | AE8: 5 | AI8: 5 | AK8: 5 | AM8: 5 | AN8: 5 | AP8: 5 | AQ8: 5 | AT8: 5 | AU8: 5 | AX8: 5 | AY8: 5 | BF8: 5 | BG8: 5 | BJ8: 5 | BK8: 5 | BN8: 5 | BO8: 5 | BR8: 8 | BS8: 2 | BV8: 5 | BW8: 5 | BZ8: 5 | CA8: 5 | CH8: 5 | CI8: 5 | CL8: 5 | CM8: 5 | CP8: 5 | CQ8: 5 | CT8: 5 | CU8: 5 | CX8: 6 | CY8: 6 | DC8: 6 | DE8: 6 | DF8: 6 | DG8: 6 | DJ8: 6 | DK8: 6 | DN8: 6 | DO8: 6 | DR8: 5 | DS8: 5 | DV8: 10 | DZ8: =F8+J8+N8+R8+V8+Z8+AD8+AH8+AL8+AP8+AT8+AX8+BB8+BF8+BJ8+BN8+BR8+BV8+BZ8+CD8+CH8+CL8+CP8+CT8+CX8+DB8+DF8+DJ8+DN8+DR8+DV8 -> 142 | EA8: =G8+K8+O8+S8+W8+AA8+AE8+AI8+AM8+AQ8+AU8+AY8+BC8+BG8+BK8+BO8+BS8+BW8+CA8+CE8+CI8+CM8+CQ8+CU8+CY8+DC8+DG8+DK8+DO8+DS8+DW8 -> 134 | EB8: =H8+L8+P8+T8+X8+AB8+AF8+AJ8+AN8+AR8+AV8+AZ8+BD8+BH8+BL8+BP8+BT8+BX8+CB8+CF8+CJ8+CN8+CR8+CV8+CZ8+DD8+DH8+DL8+DP8+DT8+DX8 -> 5 | EC8: =I8+M8+Q8+U8+Y8+AC8+AG8+AK8+AO8+AS8+AW8+BA8+BE8+BI8+BM8+BQ8+BU8+BY8+CC8+CG8+CK8+CO8+CS8+CW8+DA8+DE8+DI8+DM8+DQ8+DU8+DY8 -> 11
A9: 6 | B9: DISTR503185TSBH08531 | C9: AREA HOSPITAL, BODHAN | D9: NEAR AMBEDKAR CHOWRASTA, BODHAN - 503185 | E9: 100 | F9: 5 | G9: 5 | J9: 5 | K9: 5 | N9: 5 | O9: 5 | R9: 5 | S9: 5 | V9: 5 | W9: 5 | Z9: 5 | AD9: 5 | AE9: 5 | AH9: 5 | AI9: 5 | AL9: 5 | AM9: 5 | AP9: 5 | AT9: 5 | AU9: 5 | AV9: 5 | AX9: 5 | AY9: 5 | BF9: 5 | BG9: 5 | BH9: 1 | BJ9: 5 | BK9: 5 | BN9: 5 | BO9: 5 | BR9: 6 | BS9: 4 | BV9: 5 | BW9: 5 | BZ9: 5 | CA9: 5 | CH9: 5 | CI9: 5 | CJ9: 1 | CK9: 1 | CL9: 5 | CM9: 5 | CP9: 5 | CT9: 5 | CU9: 5 | CX9: 5 | CY9: 5 | DB9: 5 | DF9: 5 | DG9: 5 | DJ9: 5 | DK9: 5 | DN9: 5 | DO9: 5 | DR9: 5 | DV9: 5 | DZ9: =F9+J9+N9+R9+V9+Z9+AD9+AH9+AL9+AP9+AT9+AX9+BB9+BF9+BJ9+BN9+BR9+BV9+BZ9+CD9+CH9+CL9+CP9+CT9+CX9+DB9+DF9+DJ9+DN9+DR9+DV9 -> 146 | EA9: =G9+K9+O9+S9+W9+AA9+AE9+AI9+AM9+AQ9+AU9+AY9+BC9+BG9+BK9+BO9+BS9+BW9+CA9+CE9+CI9+CM9+CQ9+CU9+CY9+DC9+DG9+DK9+DO9+DS9+DW9 -> 114 | EB9: =H9+L9+P9+T9+X9+AB9+AF9+AJ9+AN9+AR9+AV9+AZ9+BD9+BH9+BL9+BP9+BT9+BX9+CB9+CF9+CJ9+CN9+CR9+CV9+CZ9+DD9+DH9+DL9+DP9+DT9+DX9 -> 7 | EC9: =I9+M9+Q9+U9+Y9+AC9+AG9+AK9+AO9+AS9+AW9+BA9+BE9+BI9+BM9+BQ9+BU9+BY9+CC9+CG9+CK9+CO9+CS9+CW9+DA9+DE9+DI9+DM9+DQ9+DU9+DY9 -> 1
B10: 80 TO 50 BEDS HCFs
B11: NIZAMABAD
A12: 1 | B12: PRATI503001TSBH00889 | C12: PRATHIBHA SUPER SPECIALITY HOSPITAL | D12: BESIDE LANE OF JOYALLUKKAS JEWELLERS, HYDERABAD ROAD, KAKATIYA STREET, NIZAMABAD - 503001. | E12: 80 | F12: 5 | G12: 5 | J12: 5 | K12: 5 | N12: 5 | O12: 5 | R12: 5 | S12: 5 | V12: 5 | W12: 5 | Z12: 5 | AD12: 5 | AE12: 5 | AF12: 2 | AG12: 1 | AH12: 8 | AI12: 8 | AL12: 5 | AM12: 5 | AP12: 5 | AQ12: 5 | AT12: 5 | AU12: 5 | AX12: 5 | AY12: 5 | AZ12: 5 | BF12: 5 | BG12: 5 | BH12: 2 | BI12: 1 | BJ12: 5 | BK12: 5 | BN12: 5 | BO12: 5 | BR12: 5 | BS12: 5 | BV12: 5 | BW12: 5 | BZ12: 5 | CA12: 5 | CH12: 5 | CI12: 5 | CJ12: 1 | CK12: 1 | CL12: 5 | CM12: 5 | CP12: 5 | CQ12: 5 | CT12: 5 | CU12: 5 | CX12: 6 | DA12: 5 | DB12: 6 | DC12: 6 | DF12: 6 | DH12: 6 | DJ12: 6 | DL12: 6 | DN12: 6 | DO12: 6 | DR12: 5 | DS12: 5 | DV12: 10 | DZ12: =F12+J12+N12+R12+V12+Z12+AD12+AH12+AL12+AP12+AT12+AX12+BB12+BF12+BJ12+BN12+BR12+BV12+BZ12+CD12+CH12+CL12+CP12+CT12+CX12+DB12+DF12+DJ12+DN12+DR12+DV12 -> 158 | EA12: =G12+K12+O12+S12+W12+AA12+AE12+AI12+AM12+AQ12+AU12+AY12+BC12+BG12+BK12+BO12+BS12+BW12+CA12+CE12+CI12+CM12+CQ12+CU12+CY12+DC12+DG12+DK12+DO12+DS12+DW12 -> 125 | EB12: =H12+L12+P12+T12+X12+AB12+AF12+AJ12+AN12+AR12+AV12+AZ12+BD12+BH12+BL12+BP12+BT12+BX12+CB12+CF12+CJ12+CN12+CR12+CV12+CZ12+DD12+DH12+DL12+DP12+DT12+DX12 -> 22 | EC12: =I12+M12+Q12+U12+Y12+AC12+AG12+AK12+AO12+AS12+AW12+BA12+BE12+BI12+BM12+BQ12+BU12+BY12+CC12+CG12+CK12+CO12+CS12+CW12+DA12+DE12+DI12+DM12+DQ12+DU12+DY12 -> 8
A13: 2 | B13: SHIVA503001TSBH00427 | C13: SHIVA SAI EMERGENCY AND MULTI SPECIALITY HOSPITAL | D13: OPP: TELANGANA GRAMEENA BANK, KHALEEL WADI, NIZAMABAD - 503001 | E13: 53 | F13: 5 | G13: 5 | J13: 5 | K13: 5 | N13: 5 | O13: 5 | S13: 5 | W13: 5 | Z13: 5 | AD13: 5 | AE13: 5 | AH13: 5 | AL13: 5 | AP13: 5 | AT13: 5 | AX13: 5 | BG13: 5 | BJ13: 5 | BK13: 5 | BN13: 5 | BO13: 5 | BS13: 5 | BV13: 4 | BW13: 4 | BZ13: 5 | CA13: 5 | CH13: 5 | CI13: 5 | CL13: 5 | CM13: 5 | CP13: 5 | CQ13: 5 | CT13: 5 | CU13: 5 | CX13: 5 | CY13: 5 | DB13: 5 | DF13: 5 | DG13: 5 | DJ13: 5 | DK13: 5 | DN13: 5 | DR13: 5 | DS13: 5 | DV13: 5 | DW13: 5 | DZ13: =F13+J13+N13+R13+V13+Z13+AD13+AH13+AL13+AP13+AT13+AX13+BB13+BF13+BJ13+BN13+BR13+BV13+BZ13+CD13+CH13+CL13+CP13+CT13+CX13+DB13+DF13+DJ13+DN13+DR13+DV13 -> 124 | EA13: =G13+K13+O13+S13+W13+AA13+AE13+AI13+AM13+AQ13+AU13+AY13+BC13+BG13+BK13+BO13+BS13+BW13+CA13+CE13+CI13+CM13+CQ13+CU13+CY13+DC13+DG13+DK13+DO13+DS13+DW13 -> 104 | EB13: =H13+L13+P13+T13+X13+AB13+AF13+AJ13+AN13+AR13+AV13+AZ13+BD13+BH13+BL13+BP13+BT13+BX13+CB13+CF13+CJ13+CN13+CR13+CV13+CZ13+DD13+DH13+DL13+DP13+DT13+DX13 -> 0 | EC13: =I13+M13+Q13+U13+Y13+AC13+AG13+AK13+AO13+AS13+AW13+BA13+BE13+BI13+BM13+BQ13+BU13+BY13+CC13+CG13+CK13+CO13+CS13+CW13+DA13+DE13+DI13+DM13+DQ13+DU13+DY13 -> 0
A14: 3 | B14: BOMBA503001TSBH00885 | C14: BOMBAY NURSING HOME | D14: YELLAMMA GUTTA X ROAD, HYDERABAD ROAD, NIZAMABAD - 503001 | E14: 50 | F14: 5 | G14: 5 | J14: 5 | K14: 5 | N14: 5 | O14: 5 | S14: 5 | W14: 5 | Z14: 5 | AA14: 5 | AD14: 5 | AE14: 5 | AH14: 5 | AM14: 5 | AQ14: 5 | AU14: 5 | AX14: 5 | BG14: 5 | BJ14: 5 | BK14: 5 | BN14: 5 | BO14: 5 | BS14: 5 | BV14: 4 | BW14: 4 | BZ14: 5 | CA14: 5 | CH14: 5 | CI14: 5 | CL14: 5 | CP14: 5 | CT14: 5 | CX14: 5 | DB14: 5 | DF14: 5 | DJ14: 5 | DO14: 5 | DR14: 5 | DS14: 5 | DV14: 5 | DW14: 5 | DZ14: =F14+J14+N14+R14+V14+Z14+AD14+AH14+AL14+AP14+AT14+AX14+BB14+BF14+BJ14+BN14+BR14+BV14+BZ14+CD14+CH14+CL14+CP14+CT14+CX14+DB14+DF14+DJ14+DN14+DR14+DV14 -> 104 | EA14: =G14+K14+O14+S14+W14+AA14+AE14+AI14+AM14+AQ14+AU14+AY14+BC14+BG14+BK14+BO14+BS14+BW14+CA14+CE14+CI14+CM14+CQ14+CU14+CY14+DC14+DG14+DK14+DO14+DS14+DW14 -> 99 | EB14: =H14+L14+P14+T14+X14+AB14+AF14+AJ14+AN14+AR14+AV14+AZ14+BD14+BH14+BL14+BP14+BT14+BX14+CB14+CF14+CJ14+CN14+CR14+CV14+CZ14+DD14+DH14+DL14+DP14+DT14+DX14 -> 0 | EC14: =I14+M14+Q14+U14+Y14+AC14+AG14+AK14+AO14+AS14+AW14+BA14+BE14+BI14+BM14+BQ14+BU14+BY14+CC14+CG14+CK14+CO14+CS14+CW14+DA14+DE14+DI14+DM14+DQ14+DU14+DY14 -> 0
A15: 4 | B15: BRIND503001TSBH00922 | C15: BRINDAVAN HOSPITAL | D15: OPP: RED CROSS BOLLD BANK, BEHIND DR. PRABHAKAR CHILDREN HOSPITAL, KHALEELWADI, NIZAMABAD - 503001. | E15: 50 | F15: 5 | G15: 5 | J15: 5 | K15: 5 | N15: 5 | O15: 5 | S15: 5 | W15: 5 | Z15: 5 | AD15: 5 | AE15: 5 | AH15: 5 | AI15: 5 | AL15: 5 | AM15: 5 | AP15: 5 | AQ15: 5 | AT15: 5 | AU15: 5 | AX15: 5 | AY15: 5 | BG15: 5 | BJ15: 5 | BK15: 5 | BN15: 5 | BO15: 5 | BS15: 5 | BV15: 4 | BW15: 4 | BZ15: 5 | CA15: 5 | CH15: 5 | CI15: 5 | CL15: 5 | CM15: 5 | CP15: 5 | CQ15: 5 | CT15: 5 | CU15: 5 | CX15: 5 | CY15: 5 | DB15: 5 | DC15: 5 | DF15: 5 | DG15: 5 | DJ15: 5 | DK15: 5 | DN15: 5 | DO15: 5 | DR15: 5 | DS15: 5 | DV15: 10 | DZ15: =F15+J15+N15+R15+V15+Z15+AD15+AH15+AL15+AP15+AT15+AX15+BB15+BF15+BJ15+BN15+BR15+BV15+BZ15+CD15+CH15+CL15+CP15+CT15+CX15+DB15+DF15+DJ15+DN15+DR15+DV15 -> 129 | EA15: =G15+K15+O15+S15+W15+AA15+AE15+AI15+AM15+AQ15+AU15+AY15+BC15+BG15+BK15+BO15+BS15+BW15+CA15+CE15+CI15+CM15+CQ15+CU15+CY15+DC15+DG15+DK15+DO15+DS15+DW15 -> 134 | EB15: =H15+L15+P15+T15+X15+AB15+AF15+AJ15+AN15+AR15+AV15+AZ15+BD15+BH15+BL15+BP15+BT15+BX15+CB15+CF15+CJ15+CN15+CR15+CV15+CZ15+DD15+DH15+DL15+DP15+DT15+DX15 -> 0 | EC15: =I15+M15+Q15+U15+Y15+AC15+AG15+AK15+AO15+AS15+AW15+BA15+BE15+BI15+BM15+BQ15+BU15+BY15+CC15+CG15+CK15+CO15+CS15+CW15+DA15+DE15+DI15+DM15+DQ15+DU15+DY15 -> 0
A16: 5 | B16: CITYM503001TSBH16522 | C16: CITY MULTISPECIALITY HOSPITAL | D16: H.No.7-11-723/3, KHOJA COLONY, BODHAN ROAD, NIZAMABAD | E16: 50 | F16: 5 | G16: 5 | J16: 5 | N16: 5 | R16: 5 | S16: 5 | W16: 5 | Z16: 5 | AD16: 5 | AE16: 5 | AH16: 5 | AL16: 5 | AQ16: 5 | AT16: 5 | AY16: 5 | BG16: 5 | BJ16: 5 | BN16: 5 | BS16: 5 | BV16: 5 | BZ16: 5 | CH16: 5 | CM16: 5 | CP16: 5 | CT16: 5 | CX16: 5 | DB16: 5 | DF16: 5 | DJ16: 5 | DN16: 5 | DR16: 5 | DV16: 5 | DZ16: =F16+J16+N16+R16+V16+Z16+AD16+AH16+AL16+AP16+AT16+AX16+BB16+BF16+BJ16+BN16+BR16+BV16+BZ16+CD16+CH16+CL16+CP16+CT16+CX16+DB16+DF16+DJ16+DN16+DR16+DV16 -> 115 | EA16: =G16+K16+O16+S16+W16+AA16+AE16+AI16+AM16+AQ16+AU16+AY16+BC16+BG16+BK16+BO16+BS16+BW16+CA16+CE16+CI16+CM16+CQ16+CU16+CY16+DC16+DG16+DK16+DO16+DS16+DW16 -> 45 | EB16: =H16+L16+P16+T16+X16+AB16+AF16+AJ16+AN16+AR16+AV16+AZ16+BD16+BH16+BL16+BP16+BT16+BX16+CB16+CF16+CJ16+CN16+CR16+CV16+CZ16+DD16+DH16+DL16+DP16+DT16+DX16 -> 0 | EC16: =I16+M16+Q16+U16+Y16+AC16+AG16+AK16+AO16+AS16+AW16+BA16+BE16+BI16+BM16+BQ16+BU16+BY16+CC16+CG16+CK16+CO16+CS16+CW16+DA16+DE16+DI16+DM16+DQ16+DU16+DY16 -> 0
A17: 6 | B17: DREAM503001TSBH06107 | C17: DREAMLAND HOPE HOSPITAL | D17: H.No. 5-4-387/3, OPP.OLD JJ HOSPITAL, POCHAMMA GALLY, NIZAMABAD - 503001. | E17: 50 | F17: 5 | G17: 5 | J17: 5 | K17: 5 | N17: 5 | O17: 5 | S17: 5 | W17: 5 | Z17: 5 | AA17: 5 | AD17: 5 | AE17: 5 | AH17: 5 | AI17: 5 | AL17: 5 | AM17: 5 | AP17: 5 | AQ17: 5 | AT17: 5 | AU17: 5 | AX17: 5 | AY17: 5 | BG17: 5 | BJ17: 5 | BK17: 5 | BN17: 5 | BO17: 5 | BS17: 5 | BV17: 4 | BW17: 4 | BZ17: 5 | CA17: 5 | CH17: 5 | CI17: 5 | CL17: 5 | CM17: 5 | CP17: 5 | CQ17: 5 | CT17: 5 | CU17: 5 | CX17: 5 | CY17: 5 | DB17: 5 | DC17: 5 | DF17: 5 | DG17: 5 | DJ17: 5 | DK17: 5 | DN17: 5 | DO17: 5 | DR17: 5 | DS17: 5 | DV17: 10 | DZ17: =F17+J17+N17+R17+V17+Z17+AD17+AH17+AL17+AP17+AT17+AX17+BB17+BF17+BJ17+BN17+BR17+BV17+BZ17+CD17+CH17+CL17+CP17+CT17+CX17+DB17+DF17+DJ17+DN17+DR17+DV17 -> 129 | EA17: =G17+K17+O17+S17+W17+AA17+AE17+AI17+AM17+AQ17+AU17+AY17+BC17+BG17+BK17+BO17+BS17+BW17+CA17+CE17+CI17+CM17+CQ17+CU17+CY17+DC17+DG17+DK17+DO17+DS17+DW17 -> 139 | EB17: =H17+L17+P17+T17+X17+AB17+AF17+AJ17+AN17+AR17+AV17+AZ17+BD17+BH17+BL17+BP17+BT17+BX17+CB17+CF17+CJ17+CN17+CR17+CV17+CZ17+DD17+DH17+DL17+DP17+DT17+DX17 -> 0 | EC17: =I17+M17+Q17+U17+Y17+AC17+AG17+AK17+AO17+AS17+AW17+BA17+BE17+BI17+BM17+BQ17+BU17+BY17+CC17+CG17+CK17+CO17+CS17+CW17+DA17+DE17+DI17+DM17+DQ17+DU17+DY17 -> 0
A18: 7 | B18: GSBVM503001TSBH07045 | C18: GSBV MEMORIAL MULTI SPECIALTY HOSPITAL | D18: OPP. RAJEEV GANDHI AUDITORUM, KHALEELWADI, NIZAMABAD - 503001. | E18: 50 | F18: 5 | G18: 5 | J18: 5 | K18: 5 | N18: 5 | O18: 5 | S18: 5 | W18: 5 | Z18: 5 | AD18: 5 | AE18: 5 | AH18: 5 | AI18: 5 | AL18: 5 | AM18: 5 | AP18: 5 | AQ18: 5 | AT18: 5 | AU18: 5 | AX18: 5 | AY18: 5 | BG18: 5 | BJ18: 5 | BK18: 5 | BN18: 5 | BO18: 5 | BS18: 5 | BV18: 4 | BW18: 4 | BZ18: 5 | CA18: 5 | CH18: 5 | CI18: 5 | CL18: 5 | CM18: 5 | CP18: 5 | CQ18: 5 | CT18: 5 | CU18: 5 | CX18: 5 | CY18: 5 | DB18: 5 | DC18: 5 | DF18: 5 | DG18: 5 | DJ18: 5 | DK18: 5 | DN18: 5 | DO18: 5 | DR18: 5 | DS18: 5 | DV18: 10 | DZ18: =F18+J18+N18+R18+V18+Z18+AD18+AH18+AL18+AP18+AT18+AX18+BB18+BF18+BJ18+BN18+BR18+BV18+BZ18+CD18+CH18+CL18+CP18+CT18+CX18+DB18+DF18+DJ18+DN18+DR18+DV18 -> 129 | EA18: =G18+K18+O18+S18+W18+AA18+AE18+AI18+AM18+AQ18+AU18+AY18+BC18+BG18+BK18+BO18+BS18+BW18+CA18+CE18+CI18+CM18+CQ18+CU18+CY18+DC18+DG18+DK18+DO18+DS18+DW18 -> 134 | EB18: =H18+L18+P18+T18+X18+AB18+AF18+AJ18+AN18+AR18+AV18+AZ18+BD18+BH18+BL18+BP18+BT18+BX18+CB18+CF18+CJ18+CN18+CR18+CV18+CZ18+DD18+DH18+DL18+DP18+DT18+DX18 -> 0 | EC18: =I18+M18+Q18+U18+Y18+AC18+AG18+AK18+AO18+AS18+AW18+BA18+BE18+BI18+BM18+BQ18+BU18+BY18+CC18+CG18+CK18+CO18+CS18+CW18+DA18+DE18+DI18+DM18+DQ18+DU18+DY18 -> 0
A19: 8 | B19: INDUR503001TSBH09851 | C19: INDUR CANCER HOSPITAL | D19: PANGRA, MADHAVA NAGAR, HYDERABAD ROAD, NIZAMABAD - 503001. | E19: 50 | F19: 5 | G19: 5 | J19: 5 | N19: 5 | R19: 5 | S19: 5 | W19: 5 | Z19: 5 | AD19: 5 | AE19: 5 | AH19: 5 | AL19: 5 | AP19: 5 | AU19: 5 | AY19: 5 | BG19: 5 | BJ19: 5 | BN19: 5 | BS19: 5 | BV19: 5 | BZ19: 5 | CI19: 5 | CL19: 5 | CP19: 5 | CT19: 5 | CX19: 5 | DF19: 5 | DJ19: 5 | DN19: 5 | DR19: 5 | DV19: 5 | DZ19: =F19+J19+N19+R19+V19+Z19+AD19+AH19+AL19+AP19+AT19+AX19+BB19+BF19+BJ19+BN19+BR19+BV19+BZ19+CD19+CH19+CL19+CP19+CT19+CX19+DB19+DF19+DJ19+DN19+DR19+DV19 -> 110 | EA19: =G19+K19+O19+S19+W19+AA19+AE19+AI19+AM19+AQ19+AU19+AY19+BC19+BG19+BK19+BO19+BS19+BW19+CA19+CE19+CI19+CM19+CQ19+CU19+CY19+DC19+DG19+DK19+DO19+DS19+DW19 -> 45 | EB19: =H19+L19+P19+T19+X19+AB19+AF19+AJ19+AN19+AR19+AV19+AZ19+BD19+BH19+BL19+BP19+BT19+BX19+CB19+CF19+CJ19+CN19+CR19+CV19+CZ19+DD19+DH19+DL19+DP19+DT19+DX19 -> 0 | EC19: =I19+M19+Q19+U19+Y19+AC19+AG19+AK19+AO19+AS19+AW19+BA19+BE19+BI19+BM19+BQ19+BU19+BY19+CC19+CG19+CK19+CO19+CS19+CW19+DA19+DE19+DI19+DM19+DQ19+DU19+DY19 -> 0
A20: 9 | B20: INDUS503001TSBH08523 | C20: INDUS SUPER SPECIALITY HOSPITAL | D20: H.No. 5-6-192/194, SARASWATHI NAGAR, HYDERABAD ROAD, NIZAMABAD - 503001. | E20: 50 | F20: 5 | G20: 5 | J20: 3 | N20: 5 | S20: 5 | W20: 5 | Z20: 5 | AD20: 5 | AE20: 5 | AH20: 5 | AM20: 5 | AQ20: 5 | AU20: 5 | AX20: 5 | BG20: 5 | BJ20: 5 | BK20: 5 | BN20: 5 | BO20: 5 | BS20: 5 | BV20: 4 | BW20: 4 | BZ20: 5 | CA20: 5 | CH20: 5 | CL20: 5 | CP20: 5 | CT20: 5 | CX20: 5 | DC20: 5 | DG20: 5 | DK20: 5 | DO20: 5 | DR20: 5 | DV20: 5 | DW20: 5 | DZ20: =F20+J20+N20+R20+V20+Z20+AD20+AH20+AL20+AP20+AT20+AX20+BB20+BF20+BJ20+BN20+BR20+BV20+BZ20+CD20+CH20+CL20+CP20+CT20+CX20+DB20+DF20+DJ20+DN20+DR20+DV20 -> 87 | EA20: =G20+K20+O20+S20+W20+AA20+AE20+AI20+AM20+AQ20+AU20+AY20+BC20+BG20+BK20+BO20+BS20+BW20+CA20+CE20+CI20+CM20+CQ20+CU20+CY20+DC20+DG20+DK20+DO20+DS20+DW20 -> 89 | EB20: =H20+L20+P20+T20+X20+AB20+AF20+AJ20+AN20+AR20+AV20+AZ20+BD20+BH20+BL20+BP20+BT20+BX20+CB20+CF20+CJ20+CN20+CR20+CV20+CZ20+DD20+DH20+DL20+DP20+DT20+DX20 -> 0 | EC20: =I20+M20+Q20+U20+Y20+AC20+AG20+AK20+AO20+AS20+AW20+BA20+BE20+BI20+BM20+BQ20+BU20+BY20+CC20+CG20+CK20+CO20+CS20+CW20+DA20+DE20+DI20+DM20+DQ20+DU20+DY20 -> 0
A21: 10 | B21: MANOR503001TSBH01042 | C21: MANORAMA SUPER SPECIALITY HOSPITAL | D21: SARASWATHI NAGAR, KHALEELWADI, HYDERABAD ROAD, NIZAMABAD - 503001. | E21: 50 | F21: 5 | G21: 5 | J21: 3 | K21: 3 | N21: 5 | O21: 5 | S21: 5 | W21: 5 | Z21: 5 | AD21: 5 | AE21: 5 | AH21: 5 | AL21: 5 | AP21: 5 | AT21: 5 | AU21: 5 | AX21: 5 | AY21: 5 | BG21: 5 | BJ21: 5 | BK21: 5 | BN21: 5 | BO21: 5 | BS21: 5 | BV21: 4 | BW21: 4 | BZ21: 5 | CA21: 5 | CH21: 5 | CL21: 5 | CM21: 5 | CP21: 5 | CQ21: 5 | CT21: 5 | CU21: 5 | CX21: 5 | CY21: 5 | DB21: 5 | DF21: 5 | DG21: 5 | DJ21: 5 | DK21: 5 | DN21: 5 | DR21: 5 | DS21: 5 | DV21: 10 | DZ21: =F21+J21+N21+R21+V21+Z21+AD21+AH21+AL21+AP21+AT21+AX21+BB21+BF21+BJ21+BN21+BR21+BV21+BZ21+CD21+CH21+CL21+CP21+CT21+CX21+DB21+DF21+DJ21+DN21+DR21+DV21 -> 127 | EA21: =G21+K21+O21+S21+W21+AA21+AE21+AI21+AM21+AQ21+AU21+AY21+BC21+BG21+BK21+BO21+BS21+BW21+CA21+CE21+CI21+CM21+CQ21+CU21+CY21+DC21+DG21+DK21+DO21+DS21+DW21 -> 102 | EB21: =H21+L21+P21+T21+X21+AB21+AF21+AJ21+AN21+AR21+AV21+AZ21+BD21+BH21+BL21+BP21+BT21+BX21+CB21+CF21+CJ21+CN21+CR21+CV21+CZ21+DD21+DH21+DL21+DP21+DT21+DX21 -> 0 | EC21: =I21+M21+Q21+U21+Y21+AC21+AG21+AK21+AO21+AS21+AW21+BA21+BE21+BI21+BM21+BQ21+BU21+BY21+CC21+CG21+CK21+CO21+CS21+CW21+DA21+DE21+DI21+DM21+DQ21+DU21+DY21 -> 0
A22: 11 | B22: NOVAL503001TSBH08513 | C22: NOVALIFE HOSPITAL | D22: H.No.5-6-293, SARASWATHI NAGAR, NIZAMABAD - 503001. | E22: 50 | F22: 5 | G22: 5 | J22: 3 | K22: 3 | N22: 5 | S22: 5 | W22: 5 | Z22: 5 | AD22: 5 | AE22: 5 | AH22: 5 | AI22: 5 | AL22: 5 | AM22: 5 | AP22: 5 | AQ22: 5 | AT22: 5 | AU22: 5 | AX22: 5 | AY22: 5 | BG22: 5 | BJ22: 5 | BK22: 5 | BN22: 5 | BO22: 5 | BS22: 5 | BV22: 4 | BW22: 4 | BZ22: 5 | CA22: 5 | CH22: 5 | CI22: 5 | CL22: 5 | CM22: 5 | CP22: 5 | CQ22: 5 | CT22: 5 | CU22: 5 | CX22: 5 | DB22: 5 | DC22: 5 | DF22: 5 | DJ22: 5 | DN22: 5 | DO22: 5 | DR22: 5 | DS22: 5 | DV22: 5 | DW22: 5 | DZ22: =F22+J22+N22+R22+V22+Z22+AD22+AH22+AL22+AP22+AT22+AX22+BB22+BF22+BJ22+BN22+BR22+BV22+BZ22+CD22+CH22+CL22+CP22+CT22+CX22+DB22+DF22+DJ22+DN22+DR22+DV22 -> 122 | EA22: =G22+K22+O22+S22+W22+AA22+AE22+AI22+AM22+AQ22+AU22+AY22+BC22+BG22+BK22+BO22+BS22+BW22+CA22+CE22+CI22+CM22+CQ22+CU22+CY22+DC22+DG22+DK22+DO22+DS22+DW22 -> 117 | EB22: =H22+L22+P22+T22+X22+AB22+AF22+AJ22+AN22+AR22+AV22+AZ22+BD22+BH22+BL22+BP22+BT22+BX22+CB22+CF22+CJ22+CN22+CR22+CV22+CZ22+DD22+DH22+DL22+DP22+DT22+DX22 -> 0 | EC22: =I22+M22+Q22+U22+Y22+AC22+AG22+AK22+AO22+AS22+AW22+BA22+BE22+BI22+BM22+BQ22+BU22+BY22+CC22+CG22+CK22+CO22+CS22+CW22+DA22+DE22+DI22+DM22+DQ22+DU22+DY22 -> 0
A23: 12 | B23: RRLIF503001TSBH00887 | C23: R R LIFE LINE HOSPITAL NIZAMABAD | D23: H.No. 5-6-766/1, OPP. RED CROSS BLOOD BANK, KHALEEL WADI, NIZAMABAD - 503001. | E23: 50 | F23: 5 | G23: 5 | J23: 3 | K23: 3 | N23: 5 | O23: 5 | S23: 5 | W23: 5 | Z23: 5 | AD23: 5 | AE23: 5 | AH23: 5 | AL23: 5 | AQ23: 5 | AU23: 5 | BG23: 5 | BJ23: 5 | BN23: 5 | BS23: 5 | BV23: 4 | BZ23: 5 | CH23: 5 | CL23: 5 | CP23: 5 | CT23: 5 | CX23: 5 | CY23: 5 | DB23: 5 | DF23: 5 | DG23: 5 | DJ23: 5 | DK23: 5 | DN23: 5 | DR23: 5 | DV23: 5 | DW23: 5 | DZ23: =F23+J23+N23+R23+V23+Z23+AD23+AH23+AL23+AP23+AT23+AX23+BB23+BF23+BJ23+BN23+BR23+BV23+BZ23+CD23+CH23+CL23+CP23+CT23+CX23+DB23+DF23+DJ23+DN23+DR23+DV23 -> 107 | EA23: =G23+K23+O23+S23+W23+AA23+AE23+AI23+AM23+AQ23+AU23+AY23+BC23+BG23+BK23+BO23+BS23+BW23+CA23+CE23+CI23+CM23+CQ23+CU23+CY23+DC23+DG23+DK23+DO23+DS23+DW23 -> 68 | EB23: =H23+L23+P23+T23+X23+AB23+AF23+AJ23+AN23+AR23+AV23+AZ23+BD23+BH23+BL23+BP23+BT23+BX23+CB23+CF23+CJ23+CN23+CR23+CV23+CZ23+DD23+DH23+DL23+DP23+DT23+DX23 -> 0 | EC23: =I23+M23+Q23+U23+Y23+AC23+AG23+AK23+AO23+AS23+AW23+BA23+BE23+BI23+BM23+BQ23+BU23+BY23+CC23+CG23+CK23+CO23+CS23+CW23+DA23+DE23+DI23+DM23+DQ23+DU23+DY23 -> 0
A24: 13 | B24: SRIGU503001TSBH06796 | C24: SRI GURU RAGHAVENDRA SUNRISE HOSPITAL | D24: H.No.5-7-93 & 5-7-94, OPP: MUNCIPAL COMPLEX, NIZAMABAD - 503001. | E24: 50 | F24: 5 | G24: 5 | J24: 3 | K24: 3 | N24: 5 | S24: 5 | W24: 5 | Z24: 5 | AD24: 5 | AE24: 5 | AH24: 5 | AL24: 5 | AP24: 5 | AT24: 5 | AX24: 5 | AY24: 5 | BG24: 5 | BJ24: 5 | BK24: 5 | BN24: 5 | BO24: 5 | BS24: 5 | BV24: 4 | BW24: 4 | BZ24: 5 | CA24: 5 | CH24: 5 | CI24: 5 | CL24: 5 | CM24: 5 | CP24: 5 | CT24: 5 | CU24: 5 | CX24: 5 | DB24: 5 | DC24: 5 | DF24: 5 | DJ24: 5 | DN24: 5 | DO24: 5 | DR24: 5 | DS24: 5 | DV24: 10 | DZ24: =F24+J24+N24+R24+V24+Z24+AD24+AH24+AL24+AP24+AT24+AX24+BB24+BF24+BJ24+BN24+BR24+BV24+BZ24+CD24+CH24+CL24+CP24+CT24+CX24+DB24+DF24+DJ24+DN24+DR24+DV24 -> 127 | EA24: =G24+K24+O24+S24+W24+AA24+AE24+AI24+AM24+AQ24+AU24+AY24+BC24+BG24+BK24+BO24+BS24+BW24+CA24+CE24+CI24+CM24+CQ24+CU24+CY24+DC24+DG24+DK24+DO24+DS24+DW24 -> 87 | EB24: =H24+L24+P24+T24+X24+AB24+AF24+AJ24+AN24+AR24+AV24+AZ24+BD24+BH24+BL24+BP24+BT24+BX24+CB24+CF24+CJ24+CN24+CR24+CV24+CZ24+DD24+DH24+DL24+DP24+DT24+DX24 -> 0 | EC24: =I24+M24+Q24+U24+Y24+AC24+AG24+AK24+AO24+AS24+AW24+BA24+BE24+BI24+BM24+BQ24+BU24+BY24+CC24+CG24+CK24+CO24+CS24+CW24+DA24+DE24+DI24+DM24+DQ24+DU24+DY24 -> 0
A25: 14 | B25: SRIKR503001TSBH09853 | C25: SRI KRISHNA NEURO & MULTI SPECIALITY HOSPITAL | D25: H.No. 5-6-385 & 386, C/o. BOMBAY NURSING HOME, YELLAMMA GUTTA X ROAD, HYDERABAD ROAD, NIZAMABAD - 503001. | E25: 50 | F25: 5 | G25: 5 | J25: 3 | K25: 3 | N25: 5 | O25: 5 | S25: 5 | W25: 5 | Z25: 5 | AA25: 5 | AD25: 5 | AE25: 5 | AH25: 5 | AI25: 5 | AL25: 5 | AM25: 5 | AP25: 5 | AQ25: 5 | AT25: 5 | AU25: 5 | AX25: 5 | BG25: 5 | BJ25: 5 | BK25: 5 | BN25: 5 | BO25: 5 | BS25: 5 | BV25: 4 | BW25: 4 | BZ25: 5 | CA25: 5 | CH25: 5 | CI25: 5 | CL25: 5 | CP25: 5 | CQ25: 5 | CT25: 5 | CX25: 5 | CY25: 5 | DB25: 5 | DC25: 5 | DF25: 5 | DG25: 5 | DJ25: 5 | DK25: 5 | DN25: 5 | DO25: 5 | DR25: 5 | DS25: 5 | DV25: 5 | DW25: 5 | DZ25: =F25+J25+N25+R25+V25+Z25+AD25+AH25+AL25+AP25+AT25+AX25+BB25+BF25+BJ25+BN25+BR25+BV25+BZ25+CD25+CH25+CL25+CP25+CT25+CX25+DB25+DF25+DJ25+DN25+DR25+DV25 -> 122 | EA25: =G25+K25+O25+S25+W25+AA25+AE25+AI25+AM25+AQ25+AU25+AY25+BC25+BG25+BK25+BO25+BS25+BW25+CA25+CE25+CI25+CM25+CQ25+CU25+CY25+DC25+DG25+DK25+DO25+DS25+DW25 -> 127 | EB25: =H25+L25+P25+T25+X25+AB25+AF25+AJ25+AN25+AR25+AV25+AZ25+BD25+BH25+BL25+BP25+BT25+BX25+CB25+CF25+CJ25+CN25+CR25+CV25+CZ25+DD25+DH25+DL25+DP25+DT25+DX25 -> 0 | EC25: =I25+M25+Q25+U25+Y25+AC25+AG25+AK25+AO25+AS25+AW25+BA25+BE25+BI25+BM25+BQ25+BU25+BY25+CC25+CG25+CK25+CO25+CS25+CW25+DA25+DE25+DI25+DM25+DQ25+DU25+DY25 -> 0
A26: 15 | B26: SRIMA503001TSBH00974 | C26: SRI MAHALAXMI CHILDRENS HOSPITAL | D26: H.No. 5-7-7/1 , BESIDE NALANDA WOMENS DEGREE COLLEGE, KHALEELWADI, NIZAMABAD - 503001. | E26: 50 | F26: 5 | G26: 5 | J26: 3 | K26: 3 | N26: 5 | O26: 5 | S26: 5 | W26: 5 | Z26: 5 | AD26: 5 | AE26: 5 | AH26: 5 | AI26: 5 | AL26: 5 | AM26: 5 | AP26: 5 | AQ26: 5 | AT26: 5 | AX26: 5 | AY26: 5 | BG26: 5 | BJ26: 5 | BK26: 5 | BN26: 5 | BO26: 5 | BS26: 5 | BV26: 4 | BW26: 4 | BZ26: 5 | CA26: 5 | CH26: 5 | CI26: 5 | CL26: 5 | CP26: 5 | CT26: 5 | CU26: 5 | CX26: 5 | CY26: 5 | DB26: 5 | DF26: 5 | DG26: 5 | DJ26: 5 | DK26: 5 | DN26: 5 | DR26: 5 | DS26: 5 | DV26: 5 | DW26: 5 | DZ26: =F26+J26+N26+R26+V26+Z26+AD26+AH26+AL26+AP26+AT26+AX26+BB26+BF26+BJ26+BN26+BR26+BV26+BZ26+CD26+CH26+CL26+CP26+CT26+CX26+DB26+DF26+DJ26+DN26+DR26+DV26 -> 122 | EA26: =G26+K26+O26+S26+W26+AA26+AE26+AI26+AM26+AQ26+AU26+AY26+BC26+BG26+BK26+BO26+BS26+BW26+CA26+CE26+CI26+CM26+CQ26+CU26+CY26+DC26+DG26+DK26+DO26+DS26+DW26 -> 112 | EB26: =H26+L26+P26+T26+X26+AB26+AF26+AJ26+AN26+AR26+AV26+AZ26+BD26+BH26+BL26+BP26+BT26+BX26+CB26+CF26+CJ26+CN26+CR26+CV26+CZ26+DD26+DH26+DL26+DP26+DT26+DX26 -> 0 | EC26: =I26+M26+Q26+U26+Y26+AC26+AG26+AK26+AO26+AS26+AW26+BA26+BE26+BI26+BM26+BQ26+BU26+BY26+CC26+CG26+CK26+CO26+CS26+CW26+DA26+DE26+DI26+DM26+DQ26+DU26+DY26 -> 0
A27: 16 | B27: SRIVI503001TSBH06146 | C27: SRI VISHNU HOSPITAL | D27: ABOVE KOTAK MAHINDRA BANK, OPP: CENTRAL LIBRARY, KHALEELWADI, NIZAMABAD - 503001. | E27: 50 | F27: 5 | G27: 5 | J27: 3 | K27: 3 | O27: 2 | S27: 5 | W27: 5 | Z27: 5 | AD27: 5 | AE27: 5 | AH27: 5 | AI27: 5 | AL27: 5 | AM27: 5 | AP27: 5 | AQ27: 5 | AT27: 5 | AU27: 5 | AX27: 5 | BG27: 5 | BJ27: 5 | BK27: 5 | BN27: 5 | BO27: 5 | BS27: 5 | BV27: 4 | BW27: 4 | BZ27: 5 | CA27: 5 | CH27: 5 | CL27: 5 | CM27: 5 | CP27: 5 | CQ27: 5 | CT27: 5 | CX27: 5 | DB27: 5 | DC27: 5 | DF27: 5 | DJ27: 5 | DN27: 5 | DO27: 5 | DR27: 5 | DS27: 5 | DV27: 10 | DZ27: =F27+J27+N27+R27+V27+Z27+AD27+AH27+AL27+AP27+AT27+AX27+BB27+BF27+BJ27+BN27+BR27+BV27+BZ27+CD27+CH27+CL27+CP27+CT27+CX27+DB27+DF27+DJ27+DN27+DR27+DV27 -> 122 | EA27: =G27+K27+O27+S27+W27+AA27+AE27+AI27+AM27+AQ27+AU27+AY27+BC27+BG27+BK27+BO27+BS27+BW27+CA27+CE27+CI27+CM27+CQ27+CU27+CY27+DC27+DG27+DK27+DO27+DS27+DW27 -> 99 | EB27: =H27+L27+P27+T27+X27+AB27+AF27+AJ27+AN27+AR27+AV27+AZ27+BD27+BH27+BL27+BP27+BT27+BX27+CB27+CF27+CJ27+CN27+CR27+CV27+CZ27+DD27+DH27+DL27+DP27+DT27+DX27 -> 0 | EC27: =I27+M27+Q27+U27+Y27+AC27+AG27+AK27+AO27+AS27+AW27+BA27+BE27+BI27+BM27+BQ27+BU27+BY27+CC27+CG27+CK27+CO27+CS27+CW27+DA27+DE27+DI27+DM27+DQ27+DU27+DY27 -> 0
A28: 17 | B28: SRINI503001TSBH06147 | C28: SRINIVAS GASTRO & LIVER CARE HOSPITAL | D28: H.No.5-6-742/743, BESIDE MRO OFFICE, OPP: DEO OFFICE AND CENTRAL LIBRARY, KHALEELWADI, NIZAMABAD - 503001. | E28: 50 | F28: 5 | G28: 5 | J28: 3 | K28: 3 | N28: 5 | O28: 5 | S28: 5 | W28: 5 | Z28: 5 | AA28: 5 | AD28: 5 | AE28: 5 | AH28: 5 | AI28: 5 | AL28: 5 | AP28: 5 | AT28: 5 | AU28: 5 | AX28: 5 | BG28: 5 | BJ28: 5 | BK28: 5 | BN28: 5 | BO28: 5 | BS28: 5 | BV28: 4 | BW28: 4 | BZ28: 5 | CA28: 5 | CH28: 5 | CI28: 5 | CL28: 5 | CM28: 5 | CP28: 5 | CQ28: 5 | CT28: 5 | CU28: 5 | CX28: 5 | DC28: 5 | DF28: 5 | DJ28: 5 | DN28: 5 | DO28: 5 | DR28: 5 | DS28: 5 | DZ28: =F28+J28+N28+R28+V28+Z28+AD28+AH28+AL28+AP28+AT28+AX28+BB28+BF28+BJ28+BN28+BR28+BV28+BZ28+CD28+CH28+CL28+CP28+CT28+CX28+DB28+DF28+DJ28+DN28+DR28+DV28 -> 112 | EA28: =G28+K28+O28+S28+W28+AA28+AE28+AI28+AM28+AQ28+AU28+AY28+BC28+BG28+BK28+BO28+BS28+BW28+CA28+CE28+CI28+CM28+CQ28+CU28+CY28+DC28+DG28+DK28+DO28+DS28+DW28 -> 107 | EB28: =H28+L28+P28+T28+X28+AB28+AF28+AJ28+AN28+AR28+AV28+AZ28+BD28+BH28+BL28+BP28+BT28+BX28+CB28+CF28+CJ28+CN28+CR28+CV28+CZ28+DD28+DH28+DL28+DP28+DT28+DX28 -> 0 | EC28: =I28+M28+Q28+U28+Y28+AC28+AG28+AK28+AO28+AS28+AW28+BA28+BE28+BI28+BM28+BQ28+BU28+BY28+CC28+CG28+CK28+CO28+CS28+CW28+DA28+DE28+DI28+DM28+DQ28+DU28+DY28 -> 0
A29: 18 | B29: SVRMU503001TSBH08033 | C29: SVR MULTI SPECIALITY HOSPITAL | D29: KHALEELWADI, NIZAMABAD - 503001. | E29: 50 | F29: 5 | G29: 5 | J29: 3 | K29: 3 | N29: 5 | O29: 5 | S29: 5 | W29: 5 | Z29: 5 | AD29: 5 | AE29: 5 | AH29: 5 | AI29: 5 | AL29: 5 | AM29: 5 | AP29: 5 | AT29: 5 | AX29: 5 | BG29: 5 | BJ29: 5 | BK29: 5 | BN29: 5 | BO29: 5 | BS29: 5 | BV29: 4 | BW29: 4 | BZ29: 5 | CA29: 5 | CH29: 5 | CI29: 5 | CL29: 5 | CM29: 5 | CP29: 5 | CQ29: 5 | CT29: 5 | CU29: 5 | CX29: 5 | CY29: 5 | DB29: 5 | DC29: 5 | DF29: 5 | DG29: 5 | DJ29: 5 | DK29: 5 | DN29: 5 | DO29: 5 | DR29: 5 | DS29: 5 | DV29: 5 | DW29: 5 | DZ29: =F29+J29+N29+R29+V29+Z29+AD29+AH29+AL29+AP29+AT29+AX29+BB29+BF29+BJ29+BN29+BR29+BV29+BZ29+CD29+CH29+CL29+CP29+CT29+CX29+DB29+DF29+DJ29+DN29+DR29+DV29 -> 122 | EA29: =G29+K29+O29+S29+W29+AA29+AE29+AI29+AM29+AQ29+AU29+AY29+BC29+BG29+BK29+BO29+BS29+BW29+CA29+CE29+CI29+CM29+CQ29+CU29+CY29+DC29+DG29+DK29+DO29+DS29+DW29 -> 122 | EB29: =H29+L29+P29+T29+X29+AB29+AF29+AJ29+AN29+AR29+AV29+AZ29+BD29+BH29+BL29+BP29+BT29+BX29+CB29+CF29+CJ29+CN29+CR29+CV29+CZ29+DD29+DH29+DL29+DP29+DT29+DX29 -> 0 | EC29: =I29+M29+Q29+U29+Y29+AC29+AG29+AK29+AO29+AS29+AW29+BA29+BE29+BI29+BM29+BQ29+BU29+BY29+CC29+CG29+CK29+CO29+CS29+CW29+DA29+DE29+DI29+DM29+DQ29+DU29+DY29 -> 0
A30: 19 | B30: VIJAY503001TSBH00903 | C30: VIJAYALAKSHMI HOSPITAL | D30: H.No. 5-6-767, NEAR RAJIV GANDHI AUDITORIUM, OPP: RED CROSS BLOOD BANK, KHALEELWADI, NIZAMABAD - 503001. | E30: 50 | F30: 2 | G30: 2 | J30: 3 | K30: 3 | N30: 5 | S30: 5 | W30: 5 | AA30: 5 | AD30: 5 | AE30: 5 | AH30: 5 | AI30: 5 | AL30: 5 | AP30: 5 | AQ30: 5 | AT30: 5 | AU30: 5 | AX30: 5 | AY30: 5 | BG30: 5 | BJ30: 5 | BK30: 5 | BN30: 5 | BO30: 5 | BS30: 5 | BV30: 4 | BW30: 4 | BZ30: 5 | CA30: 5 | CH30: 5 | CI30: 5 | CL30: 5 | CM30: 5 | CP30: 5 | CQ30: 5 | CT30: 5 | CU30: 5 | CX30: 5 | CY30: 5 | DB30: 5 | DC30: 5 | DF30: 5 | DG30: 5 | DJ30: 5 | DK30: 5 | DN30: 5 | DO30: 5 | DR30: 5 | DS30: 5 | DZ30: =F30+J30+N30+R30+V30+Z30+AD30+AH30+AL30+AP30+AT30+AX30+BB30+BF30+BJ30+BN30+BR30+BV30+BZ30+CD30+CH30+CL30+CP30+CT30+CX30+DB30+DF30+DJ30+DN30+DR30+DV30 -> 109 | EA30: =G30+K30+O30+S30+W30+AA30+AE30+AI30+AM30+AQ30+AU30+AY30+BC30+BG30+BK30+BO30+BS30+BW30+CA30+CE30+CI30+CM30+CQ30+CU30+CY30+DC30+DG30+DK30+DO30+DS30+DW30 -> 124 | EB30: =H30+L30+P30+T30+X30+AB30+AF30+AJ30+AN30+AR30+AV30+AZ30+BD30+BH30+BL30+BP30+BT30+BX30+CB30+CF30+CJ30+CN30+CR30+CV30+CZ30+DD30+DH30+DL30+DP30+DT30+DX30 -> 0 | EC30: =I30+M30+Q30+U30+Y30+AC30+AG30+AK30+AO30+AS30+AW30+BA30+BE30+BI30+BM30+BQ30+BU30+BY30+CC30+CG30+CK30+CO30+CS30+CW30+DA30+DE30+DI30+DM30+DQ30+DU30+DY30 -> 0
B31: 49 TO 20 BEDS HCFs
A32: 20 | B32: VAISH503001TSBH06135 | C32: VAISHNAVI HOSPITAL | D32: H.No. 5-6-180/B, SARASWATINAGAR, BEHIND PRAGATHI HOSPITAL, NIZAMABAD - 503001. | E32: 35 | F32: 2 | J32: 3 | N32: 2 | S32: 2 | W32: 3 | Z32: 3 | AD32: 3 | AE32: 2 | AH32: 2 | AM32: 2 | AQ32: 2 | AT32: 3 | AY32: 2 | BG32: 2 | BJ32: 3 | BN32: 2 | BS32: 2 | BV32: 3 | BZ32: 3 | CH32: 2 | CL32: 3 | CP32: 4 | CU32: 4 | CX32: 4 | DB32: 3 | DC32: 3 | DF32: 4 | DJ32: 4 | DN32: 4 | DO32: 3 | DR32: 3 | DV32: 2 | DZ32: =F32+J32+N32+R32+V32+Z32+AD32+AH32+AL32+AP32+AT32+AX32+BB32+BF32+BJ32+BN32+BR32+BV32+BZ32+CD32+CH32+CL32+CP32+CT32+CX32+DB32+DF32+DJ32+DN32+DR32+DV32 -> 62 | EA32: =G32+K32+O32+S32+W32+AA32+AE32+AI32+AM32+AQ32+AU32+AY32+BC32+BG32+BK32+BO32+BS32+BW32+CA32+CE32+CI32+CM32+CQ32+CU32+CY32+DC32+DG32+DK32+DO32+DS32+DW32 -> 27 | EB32: =H32+L32+P32+T32+X32+AB32+AF32+AJ32+AN32+AR32+AV32+AZ32+BD32+BH32+BL32+BP32+BT32+BX32+CB32+CF32+CJ32+CN32+CR32+CV32+CZ32+DD32+DH32+DL32+DP32+DT32+DX32 -> 0 | EC32: =I32+M32+Q32+U32+Y32+AC32+AG32+AK32+AO32+AS32+AW32+BA32+BE32+BI32+BM32+BQ32+BU32+BY32+CC32+CG32+CK32+CO32+CS32+CW32+DA32+DE32+DI32+DM32+DQ32+DU32+DY32 -> 0
A33: 21 | B33: SRICH503001TSBH17451 | C33: SRI CHAKRA HOSPITALS | D33: BESIDE SYNDICATE BANK, KHALEELWADI, NIZAMABAD - 503001. | E33: 30 | F33: 2 | J33: 3 | N33: 2 | S33: 2 | W33: 3 | Z33: 3 | AD33: 2 | AE33: 2 | AI33: 2 | AM33: 2 | AQ33: 2 | AU33: 2 | AX33: 2 | BG33: 2 | BJ33: 3 | BN33: 2 | BS33: 2 | BV33: 3 | BZ33: 3 | CH33: 2 | CL33: 3 | CP33: 3 | CT33: 3 | CX33: 3 | DC33: 3 | DF33: 3 | DJ33: 3 | DO33: 2 | DR33: 3 | DZ33: =F33+J33+N33+R33+V33+Z33+AD33+AH33+AL33+AP33+AT33+AX33+BB33+BF33+BJ33+BN33+BR33+BV33+BZ33+CD33+CH33+CL33+CP33+CT33+CX33+DB33+DF33+DJ33+DN33+DR33+DV33 -> 48 | EA33: =G33+K33+O33+S33+W33+AA33+AE33+AI33+AM33+AQ33+AU33+AY33+BC33+BG33+BK33+BO33+BS33+BW33+CA33+CE33+CI33+CM33+CQ33+CU33+CY33+DC33+DG33+DK33+DO33+DS33+DW33 -> 24 | EB33: =H33+L33+P33+T33+X33+AB33+AF33+AJ33+AN33+AR33+AV33+AZ33+BD33+BH33+BL33+BP33+BT33+BX33+CB33+CF33+CJ33+CN33+CR33+CV33+CZ33+DD33+DH33+DL33+DP33+DT33+DX33 -> 0 | EC33: =I33+M33+Q33+U33+Y33+AC33+AG33+AK33+AO33+AS33+AW33+BA33+BE33+BI33+BM33+BQ33+BU33+BY33+CC33+CG33+CK33+CO33+CS33+CW33+DA33+DE33+DI33+DM33+DQ33+DU33+DY33 -> 0
A34: 22 | B34: SRIRA503001TSBH00950 | C34: SRI RAKSHA HOSPITAL | D34: PRAGATHI HOSPITAL BACKSIDE LANE, DWARAKA NAGAR, NIZAMABAD - 503001. | E34: 30 | F34: 2 | J34: 3 | N34: 2 | S34: 2 | W34: 3 | AA34: 2 | AD34: 3 | AE34: 2 | AH34: 2 | AL34: 3 | AY34: 2 | BG34: 2 | BJ34: 3 | BN34: 2 | BS34: 2 | BV34: 3 | BZ34: 3 | CH34: 2 | CL34: 3 | CP34: 4 | CU34: 2 | CY34: 2 | DB34: 3 | DG34: 2 | DK34: 2 | DN34: 3 | DR34: 3 | DV34: 2 | DZ34: =F34+J34+N34+R34+V34+Z34+AD34+AH34+AL34+AP34+AT34+AX34+BB34+BF34+BJ34+BN34+BR34+BV34+BZ34+CD34+CH34+CL34+CP34+CT34+CX34+DB34+DF34+DJ34+DN34+DR34+DV34 -> 46 | EA34: =G34+K34+O34+S34+W34+AA34+AE34+AI34+AM34+AQ34+AU34+AY34+BC34+BG34+BK34+BO34+BS34+BW34+CA34+CE34+CI34+CM34+CQ34+CU34+CY34+DC34+DG34+DK34+DO34+DS34+DW34 -> 23 | EB34: =H34+L34+P34+T34+X34+AB34+AF34+AJ34+AN34+AR34+AV34+AZ34+BD34+BH34+BL34+BP34+BT34+BX34+CB34+CF34+CJ34+CN34+CR34+CV34+CZ34+DD34+DH34+DL34+DP34+DT34+DX34 -> 0 | EC34: =I34+M34+Q34+U34+Y34+AC34+AG34+AK34+AO34+AS34+AW34+BA34+BE34+BI34+BM34+BQ34+BU34+BY34+CC34+CG34+CK34+CO34+CS34+CW34+DA34+DE34+DI34+DM34+DQ34+DU34+DY34 -> 0
A35: 23 | B35: LIONS503001TSBH01124 | C35: LIONS EYE HOSPITAL | D35: OPP: RAJEEV GANDHI AUDITORIUM, KHALEEL WADI, NIZAMABAD - 503001. | E35: 25 | F35: 2 | J35: 3 | N35: 2 | S35: 2 | W35: 3 | Z35: 3 | AE35: 2 | AH35: 2 | AL35: 3 | AQ35: 2 | AU35: 3 | BG35: 2 | BJ35: 3 | BN35: 2 | BS35: 2 | BV35: 3 | BZ35: 3 | CH35: 2 | CL35: 3 | CP35: 4 | CT35: 3 | CY35: 2 | DB35: 3 | DG35: 2 | DK35: 2 | DN35: 3 | DR35: 3 | DV35: 2 | DZ35: =F35+J35+N35+R35+V35+Z35+AD35+AH35+AL35+AP35+AT35+AX35+BB35+BF35+BJ35+BN35+BR35+BV35+BZ35+CD35+CH35+CL35+CP35+CT35+CX35+DB35+DF35+DJ35+DN35+DR35+DV35 -> 49 | EA35: =G35+K35+O35+S35+W35+AA35+AE35+AI35+AM35+AQ35+AU35+AY35+BC35+BG35+BK35+BO35+BS35+BW35+CA35+CE35+CI35+CM35+CQ35+CU35+CY35+DC35+DG35+DK35+DO35+DS35+DW35 -> 22 | EB35: =H35+L35+P35+T35+X35+AB35+AF35+AJ35+AN35+AR35+AV35+AZ35+BD35+BH35+BL35+BP35+BT35+BX35+CB35+CF35+CJ35+CN35+CR35+CV35+CZ35+DD35+DH35+DL35+DP35+DT35+DX35 -> 0 | EC35: =I35+M35+Q35+U35+Y35+AC35+AG35+AK35+AO35+AS35+AW35+BA35+BE35+BI35+BM35+BQ35+BU35+BY35+CC35+CG35+CK35+CO35+CS35+CW35+DA35+DE35+DI35+DM35+DQ35+DU35+DY35 -> 0
A36: 24 | B36: RITVI503002TSBH09855 | C36: RITVIK HOSPITAL | D36: OPP: SHESHANK HOSPITAL, OPP: BUS STAND ROAD, KHALEELWADI, NIZAMABAD - 503001. | E36: 25 | F36: 2 | J36: 3 | N36: 2 | S36: 2 | W36: 3 | AA36: 2 | AD36: 3 | AH36: 2 | AL36: 3 | AP36: 3 | AT36: 2 | AY36: 2 | BG36: 2 | BJ36: 3 | BS36: 2 | BV36: 3 | BZ36: 3 | CH36: 2 | CL36: 3 | CP36: 3 | CT36: 3 | CX36: 3 | DB36: 3 | DF36: 3 | DJ36: 3 | DO36: 3 | DR36: 3 | DV36: 2 | DZ36: =F36+J36+N36+R36+V36+Z36+AD36+AH36+AL36+AP36+AT36+AX36+BB36+BF36+BJ36+BN36+BR36+BV36+BZ36+CD36+CH36+CL36+CP36+CT36+CX36+DB36+DF36+DJ36+DN36+DR36+DV36 -> 57 | EA36: =G36+K36+O36+S36+W36+AA36+AE36+AI36+AM36+AQ36+AU36+AY36+BC36+BG36+BK36+BO36+BS36+BW36+CA36+CE36+CI36+CM36+CQ36+CU36+CY36+DC36+DG36+DK36+DO36+DS36+DW36 -> 16 | EB36: =H36+L36+P36+T36+X36+AB36+AF36+AJ36+AN36+AR36+AV36+AZ36+BD36+BH36+BL36+BP36+BT36+BX36+CB36+CF36+CJ36+CN36+CR36+CV36+CZ36+DD36+DH36+DL36+DP36+DT36+DX36 -> 0 | EC36: =I36+M36+Q36+U36+Y36+AC36+AG36+AK36+AO36+AS36+AW36+BA36+BE36+BI36+BM36+BQ36+BU36+BY36+CC36+CG36+CK36+CO36+CS36+CW36+DA36+DE36+DI36+DM36+DQ36+DU36+DY36 -> 0
A37: 25 | B37: SAIAS503001TSBH09856 | C37: SAI ASHWINI HOSPITAL | D37: KHALEELWADI, NIZAMABAD - 503001. | E37: 25 | F37: 2 | J37: 3 | N37: 2 | S37: 2 | W37: 3 | Z37: 3 | AE37: 2 | AH37: 3 | AL37: 3 | AP37: 3 | AT37: 3 | AX37: 2 | BG37: 2 | BJ37: 3 | BN37: 2 | BS37: 2 | BV37: 3 | BZ37: 3 | CH37: 2 | CM37: 3 | CU37: 2 | CY37: 2 | DB37: 3 | DG37: 2 | DK37: 2 | DN37: 4 | DR37: 3 | DV37: 2 | DZ37: =F37+J37+N37+R37+V37+Z37+AD37+AH37+AL37+AP37+AT37+AX37+BB37+BF37+BJ37+BN37+BR37+BV37+BZ37+CD37+CH37+CL37+CP37+CT37+CX37+DB37+DF37+DJ37+DN37+DR37+DV37 -> 49 | EA37: =G37+K37+O37+S37+W37+AA37+AE37+AI37+AM37+AQ37+AU37+AY37+BC37+BG37+BK37+BO37+BS37+BW37+CA37+CE37+CI37+CM37+CQ37+CU37+CY37+DC37+DG37+DK37+DO37+DS37+DW37 -> 22 | EB37: =H37+L37+P37+T37+X37+AB37+AF37+AJ37+AN37+AR37+AV37+AZ37+BD37+BH37+BL37+BP37+BT37+BX37+CB37+CF37+CJ37+CN37+CR37+CV37+CZ37+DD37+DH37+DL37+DP37+DT37+DX37 -> 0 | EC37: =I37+M37+Q37+U37+Y37+AC37+AG37+AK37+AO37+AS37+AW37+BA37+BE37+BI37+BM37+BQ37+BU37+BY37+CC37+CG37+CK37+CO37+CS37+CW37+DA37+DE37+DI37+DM37+DQ37+DU37+DY37 -> 0
A38: 26 | B38: VIKRA503001TSBH09857 | C38: VIKRAM HOSPITAL | D38: D.No. 5-6-164, BESIDE Dr. LAXMA REDDY HOSPITAL, MEENAKSHI HOSPITAL LANE, DWARAKANAGAR, NIZAMABAD - 503001. | E38: 25 | F38: 2 | J38: 3 | N38: 2 | S38: 2 | W38: 3 | AA38: 2 | AD38: 3 | AH38: 2 | AL38: 3 | AQ38: 2 | AU38: 2 | BG38: 2 | BJ38: 3 | BN38: 2 | BS38: 2 | BV38: 3 | BZ38: 3 | CH38: 2 | CL38: 4 | CP38: 3 | CX38: 3 | DC38: 3 | DF38: 3 | DJ38: 3 | DO38: 4 | DR38: 3 | DV38: 2 | DZ38: =F38+J38+N38+R38+V38+Z38+AD38+AH38+AL38+AP38+AT38+AX38+BB38+BF38+BJ38+BN38+BR38+BV38+BZ38+CD38+CH38+CL38+CP38+CT38+CX38+DB38+DF38+DJ38+DN38+DR38+DV38 -> 49 | EA38: =G38+K38+O38+S38+W38+AA38+AE38+AI38+AM38+AQ38+AU38+AY38+BC38+BG38+BK38+BO38+BS38+BW38+CA38+CE38+CI38+CM38+CQ38+CU38+CY38+DC38+DG38+DK38+DO38+DS38+DW38 -> 22 | EB38: =H38+L38+P38+T38+X38+AB38+AF38+AJ38+AN38+AR38+AV38+AZ38+BD38+BH38+BL38+BP38+BT38+BX38+CB38+CF38+CJ38+CN38+CR38+CV38+CZ38+DD38+DH38+DL38+DP38+DT38+DX38 -> 0 | EC38: =I38+M38+Q38+U38+Y38+AC38+AG38+AK38+AO38+AS38+AW38+BA38+BE38+BI38+BM38+BQ38+BU38+BY38+CC38+CG38+CK38+CO38+CS38+CW38+DA38+DE38+DI38+DM38+DQ38+DU38+DY38 -> 0
A39: 27 | B39: GANGA503001TSBH06109 | C39: GANGA SARASWATHI CHILDRENS HOSPITAL | D39: DWARAKA NAGAR, NIZAMABAD - 503001. | E39: 25 | F39: 2 | J39: 3 | N39: 2 | S39: 2 | W39: 3 | Z39: 3 | AE39: 2 | AH39: 2 | AL39: 3 | AP39: 3 | AT39: 3 | AX39: 2 | BG39: 2 | BJ39: 3 | BN39: 2 | BS39: 2 | BV39: 3 | BZ39: 3 | CH39: 2 | CM39: 3 | CQ39: 3 | CT39: 3 | CX39: 3 | DC39: 3 | DF39: 3 | DJ39: 3 | DO39: 4 | DR39: 3 | DV39: 2 | DZ39: =F39+J39+N39+R39+V39+Z39+AD39+AH39+AL39+AP39+AT39+AX39+BB39+BF39+BJ39+BN39+BR39+BV39+BZ39+CD39+CH39+CL39+CP39+CT39+CX39+DB39+DF39+DJ39+DN39+DR39+DV39 -> 53 | EA39: =G39+K39+O39+S39+W39+AA39+AE39+AI39+AM39+AQ39+AU39+AY39+BC39+BG39+BK39+BO39+BS39+BW39+CA39+CE39+CI39+CM39+CQ39+CU39+CY39+DC39+DG39+DK39+DO39+DS39+DW39 -> 24 | EB39: =H39+L39+P39+T39+X39+AB39+AF39+AJ39+AN39+AR39+AV39+AZ39+BD39+BH39+BL39+BP39+BT39+BX39+CB39+CF39+CJ39+CN39+CR39+CV39+CZ39+DD39+DH39+DL39+DP39+DT39+DX39 -> 0 | EC39: =I39+M39+Q39+U39+Y39+AC39+AG39+AK39+AO39+AS39+AW39+BA39+BE39+BI39+BM39+BQ39+BU39+BY39+CC39+CG39+CK39+CO39+CS39+CW39+DA39+DE39+DI39+DM39+DQ39+DU39+DY39 -> 0
A40: 28 | B40: ADARS503001TSBH09854 | C40: ADARSH METERNITY NURSING HOME | D40: Dr. ANNAPURNA HOSPITAL, H.NO.5-7-624/12, KHALEELWADI, NIZAMABAD - 503001. | E40: 24 | F40: 2 | J40: 3 | N40: 2 | S40: 2 | W40: 3 | AA40: 2 | AD40: 3 | AH40: 2 | AL40: 3 | AP40: 3 | AU40: 2 | BG40: 2 | BJ40: 3 | BN40: 2 | BS40: 2 | BV40: 3 | BZ40: 3 | CH40: 2 | CP40: 3 | CY40: 3 | DB40: 4 | DG40: 2 | DK40: 2 | DN40: 4 | DR40: 3 | DV40: 2 | DZ40: =F40+J40+N40+R40+V40+Z40+AD40+AH40+AL40+AP40+AT40+AX40+BB40+BF40+BJ40+BN40+BR40+BV40+BZ40+CD40+CH40+CL40+CP40+CT40+CX40+DB40+DF40+DJ40+DN40+DR40+DV40 -> 47 | EA40: =G40+K40+O40+S40+W40+AA40+AE40+AI40+AM40+AQ40+AU40+AY40+BC40+BG40+BK40+BO40+BS40+BW40+CA40+CE40+CI40+CM40+CQ40+CU40+CY40+DC40+DG40+DK40+DO40+DS40+DW40 -> 20 | EB40: =H40+L40+P40+T40+X40+AB40+AF40+AJ40+AN40+AR40+AV40+AZ40+BD40+BH40+BL40+BP40+BT40+BX40+CB40+CF40+CJ40+CN40+CR40+CV40+CZ40+DD40+DH40+DL40+DP40+DT40+DX40 -> 0 | EC40: =I40+M40+Q40+U40+Y40+AC40+AG40+AK40+AO40+AS40+AW40+BA40+BE40+BI40+BM40+BQ40+BU40+BY40+CC40+CG40+CK40+CO40+CS40+CW40+DA40+DE40+DI40+DM40+DQ40+DU40+DY40 -> 0
A41: 29 | B41: ANKAM503001TSBH01037 | C41: ANKAM HOSPITAL | D41: H.No. 5-7-132, KHALEELWADI,NIZAMABAD - 503001. | E41: 24 | F41: 2 | J41: 3 | N41: 2 | S41: 2 | W41: 3 | Z41: 3 | AE41: 2 | AH41: 3 | AM41: 2 | AP41: 3 | AT41: 4 | AX41: 3 | BG41: 2 | BJ41: 3 | BN41: 2 | BS41: 2 | BZ41: 3 | CH41: 2 | CL41: 4 | CQ41: 4 | CT41: 4 | CX41: 4 | CY41: 4 | DB41: 4 | DF41: 4 | DG41: 4 | DJ41: 4 | DK41: 4 | DN41: 3 | DR41: 3 | DV41: 2 | DZ41: =F41+J41+N41+R41+V41+Z41+AD41+AH41+AL41+AP41+AT41+AX41+BB41+BF41+BJ41+BN41+BR41+BV41+BZ41+CD41+CH41+CL41+CP41+CT41+CX41+DB41+DF41+DJ41+DN41+DR41+DV41 -> 65 | EA41: =G41+K41+O41+S41+W41+AA41+AE41+AI41+AM41+AQ41+AU41+AY41+BC41+BG41+BK41+BO41+BS41+BW41+CA41+CE41+CI41+CM41+CQ41+CU41+CY41+DC41+DG41+DK41+DO41+DS41+DW41 -> 29 | EB41: =H41+L41+P41+T41+X41+AB41+AF41+AJ41+AN41+AR41+AV41+AZ41+BD41+BH41+BL41+BP41+BT41+BX41+CB41+CF41+CJ41+CN41+CR41+CV41+CZ41+DD41+DH41+DL41+DP41+DT41+DX41 -> 0 | EC41: =I41+M41+Q41+U41+Y41+AC41+AG41+AK41+AO41+AS41+AW41+BA41+BE41+BI41+BM41+BQ41+BU41+BY41+CC41+CG41+CK41+CO41+CS41+CW41+DA41+DE41+DI41+DM41+DQ41+DU41+DY41 -> 0
A42: 30 | B42: CHAND503001TSBH08472 | C42: CHANDRASHILA CHILD CARE HOME | D42: OPP. DECCAN GRAMEENA BANK, KHALEEL WADI, NIZAMABAD - 503001. | E42: 24 | F42: 2 | J42: 3 | N42: 2 | S42: 2 | W42: 3 | AA42: 2 | AD42: 3 | AI42: 3 | AM42: 2 | AQ42: 2 | AT42: 4 | AX42: 2 | BG42: 2 | BJ42: 3 | BN42: 2 | BS42: 2 | BV42: 3 | BZ42: 3 | CH42: 2 | CP42: 4 | CT42: 4 | CY42: 4 | DB42: 4 | DF42: 4 | DJ42: 4 | DO42: 2 | DR42: 3 | DV42: 2 | DZ42: =F42+J42+N42+R42+V42+Z42+AD42+AH42+AL42+AP42+AT42+AX42+BB42+BF42+BJ42+BN42+BR42+BV42+BZ42+CD42+CH42+CL42+CP42+CT42+CX42+DB42+DF42+DJ42+DN42+DR42+DV42 -> 54 | EA42: =G42+K42+O42+S42+W42+AA42+AE42+AI42+AM42+AQ42+AU42+AY42+BC42+BG42+BK42+BO42+BS42+BW42+CA42+CE42+CI42+CM42+CQ42+CU42+CY42+DC42+DG42+DK42+DO42+DS42+DW42 -> 24 | EB42: =H42+L42+P42+T42+X42+AB42+AF42+AJ42+AN42+AR42+AV42+AZ42+BD42+BH42+BL42+BP42+BT42+BX42+CB42+CF42+CJ42+CN42+CR42+CV42+CZ42+DD42+DH42+DL42+DP42+DT42+DX42 -> 0 | EC42: =I42+M42+Q42+U42+Y42+AC42+AG42+AK42+AO42+AS42+AW42+BA42+BE42+BI42+BM42+BQ42+BU42+BY42+CC42+CG42+CK42+CO42+CS42+CW42+DA42+DE42+DI42+DM42+DQ42+DU42+DY42 -> 0
A43: 31 | B43: MEENA503001TSBH02590 | C43: MEENAKSHI NURSING HOME | D43: BACKSIDE PRAGATHI HOSPITAL, SARASWATHI NAGAR, NIZAMABAD - 503001. | E43: 24 | F43: 2 | J43: 3 | N43: 2 | S43: 2 | W43: 3 | Z43: 3 | AD43: 3 | AH43: 3 | AL43: 3 | AQ43: 2 | AU43: 3 | AX43: 5 | BG43: 2 | BJ43: 3 | BN43: 2 | BS43: 2 | BV43: 3 | BZ43: 3 | CL43: 4 | CT43: 4 | CX43: 3 | CY43: 4 | DC43: 2 | DF43: 3 | DJ43: 3 | DN43: 4 | DO43: 4 | DR43: 3 | DV43: 2 | DZ43: =F43+J43+N43+R43+V43+Z43+AD43+AH43+AL43+AP43+AT43+AX43+BB43+BF43+BJ43+BN43+BR43+BV43+BZ43+CD43+CH43+CL43+CP43+CT43+CX43+DB43+DF43+DJ43+DN43+DR43+DV43 -> 61 | EA43: =G43+K43+O43+S43+W43+AA43+AE43+AI43+AM43+AQ43+AU43+AY43+BC43+BG43+BK43+BO43+BS43+BW43+CA43+CE43+CI43+CM43+CQ43+CU43+CY43+DC43+DG43+DK43+DO43+DS43+DW43 -> 24 | EB43: =H43+L43+P43+T43+X43+AB43+AF43+AJ43+AN43+AR43+AV43+AZ43+BD43+BH43+BL43+BP43+BT43+BX43+CB43+CF43+CJ43+CN43+CR43+CV43+CZ43+DD43+DH43+DL43+DP43+DT43+DX43 -> 0 | EC43: =I43+M43+Q43+U43+Y43+AC43+AG43+AK43+AO43+AS43+AW43+BA43+BE43+BI43+BM43+BQ43+BU43+BY43+CC43+CG43+CK43+CO43+CS43+CW43+DA43+DE43+DI43+DM43+DQ43+DU43+DY43 -> 0
A44: 32 | B44: SAIAY503001TSBH06137 | C44: SAI AYUSH CHILDRENS HOSPITAL | D44: BHARATHI RANI HOSPITAL LANE, BESIDE PRAGATHI HOSPITAL, SARASWATHI NAGAR, NIZAMABAD - 503001. | E44: 22 | F44: 2 | N44: 2 | S44: 2 | W44: 3 | Z44: 3 | AE44: 2 | AH44: 2 | AL44: 3 | AP44: 3 | AT44: 4 | AX44: 3 | BG44: 2 | BJ44: 3 | BN44: 2 | BS44: 2 | BV44: 3 | BZ44: 3 | CH44: 2 | CM44: 2 | CQ44: 4 | CU44: 2 | CX44: 3 | DB44: 3 | DG44: 2 | DK44: 2 | DN44: 3 | DR44: 3 | DV44: 2 | DZ44: =F44+J44+N44+R44+V44+Z44+AD44+AH44+AL44+AP44+AT44+AX44+BB44+BF44+BJ44+BN44+BR44+BV44+BZ44+CD44+CH44+CL44+CP44+CT44+CX44+DB44+DF44+DJ44+DN44+DR44+DV44 -> 49 | EA44: =G44+K44+O44+S44+W44+AA44+AE44+AI44+AM44+AQ44+AU44+AY44+BC44+BG44+BK44+BO44+BS44+BW44+CA44+CE44+CI44+CM44+CQ44+CU44+CY44+DC44+DG44+DK44+DO44+DS44+DW44 -> 23 | EB44: =H44+L44+P44+T44+X44+AB44+AF44+AJ44+AN44+AR44+AV44+AZ44+BD44+BH44+BL44+BP44+BT44+BX44+CB44+CF44+CJ44+CN44+CR44+CV44+CZ44+DD44+DH44+DL44+DP44+DT44+DX44 -> 0 | EC44: =I44+M44+Q44+U44+Y44+AC44+AG44+AK44+AO44+AS44+AW44+BA44+BE44+BI44+BM44+BQ44+BU44+BY44+CC44+CG44+CK44+CO44+CS44+CW44+DA44+DE44+DI44+DM44+DQ44+DU44+DY44 -> 0
A45: 33 | B45: NARAS503001TSBH06161 | C45: NARASIMHA MATERNITY CHILDRENS HOSPITAL | D45: OLD J J BUILDING, KHALEEL WADI, NIZAMABAD - 503001. | E45: 21 | F45: 2 | J45: 3 | N45: 2 | S45: 2 | W45: 3 | AA45: 2 | AD45: 3 | AH45: 3 | AM45: 2 | AQ45: 2 | AU45: 2 | AX45: 3 | BG45: 2 | BJ45: 3 | BN45: 2 | BS45: 2 | BV45: 3 | BZ45: 3 | CH45: 2 | CL45: 3 | CP45: 3 | CT45: 3 | CY45: 2 | DB45: 3 | DF45: 2 | DJ45: 2 | DN45: 3 | DR45: 3 | DV45: 2 | DZ45: =F45+J45+N45+R45+V45+Z45+AD45+AH45+AL45+AP45+AT45+AX45+BB45+BF45+BJ45+BN45+BR45+BV45+BZ45+CD45+CH45+CL45+CP45+CT45+CX45+DB45+DF45+DJ45+DN45+DR45+DV45 -> 53 | EA45: =G45+K45+O45+S45+W45+AA45+AE45+AI45+AM45+AQ45+AU45+AY45+BC45+BG45+BK45+BO45+BS45+BW45+CA45+CE45+CI45+CM45+CQ45+CU45+CY45+DC45+DG45+DK45+DO45+DS45+DW45 -> 19 | EB45: =H45+L45+P45+T45+X45+AB45+AF45+AJ45+AN45+AR45+AV45+AZ45+BD45+BH45+BL45+BP45+BT45+BX45+CB45+CF45+CJ45+CN45+CR45+CV45+CZ45+DD45+DH45+DL45+DP45+DT45+DX45 -> 0 | EC45: =I45+M45+Q45+U45+Y45+AC45+AG45+AK45+AO45+AS45+AW45+BA45+BE45+BI45+BM45+BQ45+BU45+BY45+CC45+CG45+CK45+CO45+CS45+CW45+DA45+DE45+DI45+DM45+DQ45+DU45+DY45 -> 0
A46: 34 | B46: ANSHU503001TSBH08519 | C46: ANSHUL HOSPITAL | D46: OPP. INDIAN BANK, KHALEELWADI, NIZAMABAD - 503001. | E46: 20 | F46: 2 | J46: 3 | N46: 2 | S46: 2 | W46: 3 | AA46: 2 | AD46: 3 | AI46: 3 | AX46: 3 | BG46: 2 | BJ46: 3 | BN46: 2 | BS46: 2 | BV46: 3 | BZ46: 3 | CL46: 3 | CP46: 3 | CT46: 3 | DB46: 4 | DF46: 2 | DJ46: 2 | DN46: 3 | DR46: 3 | DV46: 2 | DZ46: =F46+J46+N46+R46+V46+Z46+AD46+AH46+AL46+AP46+AT46+AX46+BB46+BF46+BJ46+BN46+BR46+BV46+BZ46+CD46+CH46+CL46+CP46+CT46+CX46+DB46+DF46+DJ46+DN46+DR46+DV46 -> 49 | EA46: =G46+K46+O46+S46+W46+AA46+AE46+AI46+AM46+AQ46+AU46+AY46+BC46+BG46+BK46+BO46+BS46+BW46+CA46+CE46+CI46+CM46+CQ46+CU46+CY46+DC46+DG46+DK46+DO46+DS46+DW46 -> 14 | EB46: =H46+L46+P46+T46+X46+AB46+AF46+AJ46+AN46+AR46+AV46+AZ46+BD46+BH46+BL46+BP46+BT46+BX46+CB46+CF46+CJ46+CN46+CR46+CV46+CZ46+DD46+DH46+DL46+DP46+DT46+DX46 -> 0 | EC46: =I46+M46+Q46+U46+Y46+AC46+AG46+AK46+AO46+AS46+AW46+BA46+BE46+BI46+BM46+BQ46+BU46+BY46+CC46+CG46+CK46+CO46+CS46+CW46+DA46+DE46+DI46+DM46+DQ46+DU46+DY46 -> 0
A47: 35 | B47: AROGY503001TSBH08471 | C47: AROGYA HOSPITAL NIZAMABAD | D47: BESIDE S.V.R. HOSPITAL, OPP: MODERN PUBLIC SCHOOL, KHALEELWADI, NIZAMABAD | E47: 20 | F47: 2 | J47: 3 | N47: 2 | S47: 2 | W47: 3 | Z47: 3 | AD47: 2 | AE47: 1 | AH47: 3 | AL47: 3 | AQ47: 2 | AU47: 2 | AX47: 3 | BG47: 2 | BJ47: 3 | BN47: 2 | BS47: 2 | BV47: 3 | BZ47: 3 | CH47: 2 | CT47: 3 | DC47: 2 | DF47: 3 | DJ47: 3 | DN47: 3 | DR47: 3 | DV47: 2 | DZ47: =F47+J47+N47+R47+V47+Z47+AD47+AH47+AL47+AP47+AT47+AX47+BB47+BF47+BJ47+BN47+BR47+BV47+BZ47+CD47+CH47+CL47+CP47+CT47+CX47+DB47+DF47+DJ47+DN47+DR47+DV47 -> 51 | EA47: =G47+K47+O47+S47+W47+AA47+AE47+AI47+AM47+AQ47+AU47+AY47+BC47+BG47+BK47+BO47+BS47+BW47+CA47+CE47+CI47+CM47+CQ47+CU47+CY47+DC47+DG47+DK47+DO47+DS47+DW47 -> 16 | EB47: =H47+L47+P47+T47+X47+AB47+AF47+AJ47+AN47+AR47+AV47+AZ47+BD47+BH47+BL47+BP47+BT47+BX47+CB47+CF47+CJ47+CN47+CR47+CV47+CZ47+DD47+DH47+DL47+DP47+DT47+DX47 -> 0 | EC47: =I47+M47+Q47+U47+Y47+AC47+AG47+AK47+AO47+AS47+AW47+BA47+BE47+BI47+BM47+BQ47+BU47+BY47+CC47+CG47+CK47+CO47+CS47+CW47+DA47+DE47+DI47+DM47+DQ47+DU47+DY47 -> 0
A48: 36 | B48: ESIHO503001TSBH09860 | C48: ESI HOSPITAL | D48: NEAR P F OFFICE, SEETHARAM NAGAR COLONY, ANAND NAGAR, NIZAMABAD - 503001. | E48: 20 | F48: 2 | J48: 3 | N48: 2 | S48: 2 | W48: 3 | Z48: 2 | AE48: 2 | AX48: 3 | BG48: 2 | BJ48: 3 | BN48: 2 | BS48: 2 | BV48: 3 | BZ48: 3 | CH48: 2 | CL48: 2 | CP48: 3 | CX48: 2 | DC48: 3 | DF48: 3 | DJ48: 3 | DR48: 3 | DZ48: =F48+J48+N48+R48+V48+Z48+AD48+AH48+AL48+AP48+AT48+AX48+BB48+BF48+BJ48+BN48+BR48+BV48+BZ48+CD48+CH48+CL48+CP48+CT48+CX48+DB48+DF48+DJ48+DN48+DR48+DV48 -> 41 | EA48: =G48+K48+O48+S48+W48+AA48+AE48+AI48+AM48+AQ48+AU48+AY48+BC48+BG48+BK48+BO48+BS48+BW48+CA48+CE48+CI48+CM48+CQ48+CU48+CY48+DC48+DG48+DK48+DO48+DS48+DW48 -> 14 | EB48: =H48+L48+P48+T48+X48+AB48+AF48+AJ48+AN48+AR48+AV48+AZ48+BD48+BH48+BL48+BP48+BT48+BX48+CB48+CF48+CJ48+CN48+CR48+CV48+CZ48+DD48+DH48+DL48+DP48+DT48+DX48 -> 0 | EC48: =I48+M48+Q48+U48+Y48+AC48+AG48+AK48+AO48+AS48+AW48+BA48+BE48+BI48+BM48+BQ48+BU48+BY48+CC48+CG48+CK48+CO48+CS48+CW48+DA48+DE48+DI48+DM48+DQ48+DU48+DY48 -> 0
A49: 37 | B49: FLOWE503001TSBH10083 | C49: FLOWER HOSPITAL | D49: NEAR LIMRA GARDEN FUNCTION HALL, QUILLA ROAD, BODHAN ROAD, NIZAMABAD - 503001. | E49: 20 | F49: 2 | J49: 3 | Z49: 2 | AD49: 2 | BF49: 2 | DN49: 2 | DZ49: =F49+J49+N49+R49+V49+Z49+AD49+AH49+AL49+AP49+AT49+AX49+BB49+BF49+BJ49+BN49+BR49+BV49+BZ49+CD49+CH49+CL49+CP49+CT49+CX49+DB49+DF49+DJ49+DN49+DR49+DV49 -> 13 | EA49: =G49+K49+O49+S49+W49+AA49+AE49+AI49+AM49+AQ49+AU49+AY49+BC49+BG49+BK49+BO49+BS49+BW49+CA49+CE49+CI49+CM49+CQ49+CU49+CY49+DC49+DG49+DK49+DO49+DS49+DW49 -> 0 | EB49: =H49+L49+P49+T49+X49+AB49+AF49+AJ49+AN49+AR49+AV49+AZ49+BD49+BH49+BL49+BP49+BT49+BX49+CB49+CF49+CJ49+CN49+CR49+CV49+CZ49+DD49+DH49+DL49+DP49+DT49+DX49 -> 0 | EC49: =I49+M49+Q49+U49+Y49+AC49+AG49+AK49+AO49+AS49+AW49+BA49+BE49+BI49+BM49+BQ49+BU49+BY49+CC49+CG49+CK49+CO49+CS49+CW49+DA49+DE49+DI49+DM49+DQ49+DU49+DY49 -> 0
A50: 38 | B50: HARIK503001TSBH00963 | C50: HARIKA HOSPITAL | D50: BESIDE BALAJI LAB, KHALEEL WADI, NIZAMABAD - 503001. | E50: 20 | F50: 2 | J50: 3 | N50: 2 | S50: 2 | W50: 3 | AA50: 2 | AH50: 3 | AL50: 3 | AT50: 3 | AY50: 2 | BG50: 2 | BJ50: 3 | BN50: 2 | BS50: 2 | BV50: 3 | CH50: 2 | CM50: 2 | CP50: 3 | CU50: 2 | CY50: 2 | DB50: 3 | DG50: 2 | DK50: 2 | DN50: 3 | DR50: 3 | DV50: 2 | DZ50: =F50+J50+N50+R50+V50+Z50+AD50+AH50+AL50+AP50+AT50+AX50+BB50+BF50+BJ50+BN50+BR50+BV50+BZ50+CD50+CH50+CL50+CP50+CT50+CX50+DB50+DF50+DJ50+DN50+DR50+DV50 -> 40 | EA50: =G50+K50+O50+S50+W50+AA50+AE50+AI50+AM50+AQ50+AU50+AY50+BC50+BG50+BK50+BO50+BS50+BW50+CA50+CE50+CI50+CM50+CQ50+CU50+CY50+DC50+DG50+DK50+DO50+DS50+DW50 -> 23 | EB50: =H50+L50+P50+T50+X50+AB50+AF50+AJ50+AN50+AR50+AV50+AZ50+BD50+BH50+BL50+BP50+BT50+BX50+CB50+CF50+CJ50+CN50+CR50+CV50+CZ50+DD50+DH50+DL50+DP50+DT50+DX50 -> 0 | EC50: =I50+M50+Q50+U50+Y50+AC50+AG50+AK50+AO50+AS50+AW50+BA50+BE50+BI50+BM50+BQ50+BU50+BY50+CC50+CG50+CK50+CO50+CS50+CW50+DA50+DE50+DI50+DM50+DQ50+DU50+DY50 -> 0
A51: 39 | B51: HARIT503001TSBH07066 | C51: HARITHA CHILDRENS HOSPITAL | D51: H.No:-5-6-11, DWARAKA NAGAR, NIZAMABAD - 503001. | E51: 20 | F51: 2 | J51: 3 | N51: 2 | S51: 2 | W51: 3 | Z51: 3 | AE51: 2 | AH51: 3 | AM51: 2 | AQ51: 2 | AU51: 2 | BG51: 2 | BJ51: 3 | BS51: 2 | BV51: 3 | BZ51: 3 | CH51: 2 | CL51: 3 | CP51: 3 | CT51: 3 | CX51: 3 | DC51: 2 | DF51: 3 | DJ51: 3 | DO51: 2 | DR51: 3 | DV51: 2 | DZ51: =F51+J51+N51+R51+V51+Z51+AD51+AH51+AL51+AP51+AT51+AX51+BB51+BF51+BJ51+BN51+BR51+BV51+BZ51+CD51+CH51+CL51+CP51+CT51+CX51+DB51+DF51+DJ51+DN51+DR51+DV51 -> 47 | EA51: =G51+K51+O51+S51+W51+AA51+AE51+AI51+AM51+AQ51+AU51+AY51+BC51+BG51+BK51+BO51+BS51+BW51+CA51+CE51+CI51+CM51+CQ51+CU51+CY51+DC51+DG51+DK51+DO51+DS51+DW51 -> 21 | EB51: =H51+L51+P51+T51+X51+AB51+AF51+AJ51+AN51+AR51+AV51+AZ51+BD51+BH51+BL51+BP51+BT51+BX51+CB51+CF51+CJ51+CN51+CR51+CV51+CZ51+DD51+DH51+DL51+DP51+DT51+DX51 -> 0 | EC51: =I51+M51+Q51+U51+Y51+AC51+AG51+AK51+AO51+AS51+AW51+BA51+BE51+BI51+BM51+BQ51+BU51+BY51+CC51+CG51+CK51+CO51+CS51+CW51+DA51+DE51+DI51+DM51+DQ51+DU51+DY51 -> 0
A52: 40 | B52: HARSH503001TSBH11586 | C52: HARSHA SAI EYE HOSPTIAL | D52: BESIDE OLD J J REDDY HOSPITAL, DWARAKA NAGAR, NIZAMABAD - 503001. | E52: 20 | F52: 2 | J52: 3 | N52: 2 | S52: 2 | W52: 3 | AA52: 2 | AD52: 3 | AH52: 3 | AL52: 3 | AQ52: 3 | AX52: 3 | BG52: 2 | BJ52: 3 | BN52: 2 | BS52: 2 | BV52: 3 | BZ52: 3 | CH52: 2 | CQ52: 2 | CU52: 2 | CY52: 2 | DB52: 3 | DF52: 3 | DJ52: 3 | DN52: 3 | DR52: 3 | DV52: 2 | DZ52: =F52+J52+N52+R52+V52+Z52+AD52+AH52+AL52+AP52+AT52+AX52+BB52+BF52+BJ52+BN52+BR52+BV52+BZ52+CD52+CH52+CL52+CP52+CT52+CX52+DB52+DF52+DJ52+DN52+DR52+DV52 -> 49 | EA52: =G52+K52+O52+S52+W52+AA52+AE52+AI52+AM52+AQ52+AU52+AY52+BC52+BG52+BK52+BO52+BS52+BW52+CA52+CE52+CI52+CM52+CQ52+CU52+CY52+DC52+DG52+DK52+DO52+DS52+DW52 -> 20 | EB52: =H52+L52+P52+T52+X52+AB52+AF52+AJ52+AN52+AR52+AV52+AZ52+BD52+BH52+BL52+BP52+BT52+BX52+CB52+CF52+CJ52+CN52+CR52+CV52+CZ52+DD52+DH52+DL52+DP52+DT52+DX52 -> 0 | EC52: =I52+M52+Q52+U52+Y52+AC52+AG52+AK52+AO52+AS52+AW52+BA52+BE52+BI52+BM52+BQ52+BU52+BY52+CC52+CG52+CK52+CO52+CS52+CW52+DA52+DE52+DI52+DM52+DQ52+DU52+DY52 -> 0
A53: 41 | B53: HAYAT503001TSBH08505 | C53: HAYATT HOSPITAL | D53: OPP. BUS STAND LANE, NIZAMABD - 503001. | E53: 20 | F53: 2 | J53: 3 | N53: 2 | CM53: 3 | DZ53: =F53+J53+N53+R53+V53+Z53+AD53+AH53+AL53+AP53+AT53+AX53+BB53+BF53+BJ53+BN53+BR53+BV53+BZ53+CD53+CH53+CL53+CP53+CT53+CX53+DB53+DF53+DJ53+DN53+DR53+DV53 -> 7 | EA53: =G53+K53+O53+S53+W53+AA53+AE53+AI53+AM53+AQ53+AU53+AY53+BC53+BG53+BK53+BO53+BS53+BW53+CA53+CE53+CI53+CM53+CQ53+CU53+CY53+DC53+DG53+DK53+DO53+DS53+DW53 -> 3 | EB53: =H53+L53+P53+T53+X53+AB53+AF53+AJ53+AN53+AR53+AV53+AZ53+BD53+BH53+BL53+BP53+BT53+BX53+CB53+CF53+CJ53+CN53+CR53+CV53+CZ53+DD53+DH53+DL53+DP53+DT53+DX53 -> 0 | EC53: =I53+M53+Q53+U53+Y53+AC53+AG53+AK53+AO53+AS53+AW53+BA53+BE53+BI53+BM53+BQ53+BU53+BY53+CC53+CG53+CK53+CO53+CS53+CW53+DA53+DE53+DI53+DM53+DQ53+DU53+DY53 -> 0
A54: 42 | B54: INDUR503001TSBH01025 | C54: INDUR NURSING HOME | D54: Dr. P BHARATHI RANI HOSPITAL, SARSWATHI NAGAR, KHALEELWADI, NIZAMABAD - 503001. | E54: 20 | F54: 2 | J54: 3 | N54: 2 | S54: 2 | W54: 3 | Z54: 3 | AE54: 2 | AM54: 2 | AQ54: 3 | AU54: 4 | AX54: 3 | BG54: 2 | BJ54: 3 | BN54: 2 | BS54: 2 | BZ54: 3 | CL54: 3 | CP54: 3 | CT54: 3 | CX54: 3 | DC54: 2 | DF54: 3 | DJ54: 3 | DR54: 3 | DV54: 2 | DZ54: =F54+J54+N54+R54+V54+Z54+AD54+AH54+AL54+AP54+AT54+AX54+BB54+BF54+BJ54+BN54+BR54+BV54+BZ54+CD54+CH54+CL54+CP54+CT54+CX54+DB54+DF54+DJ54+DN54+DR54+DV54 -> 44 | EA54: =G54+K54+O54+S54+W54+AA54+AE54+AI54+AM54+AQ54+AU54+AY54+BC54+BG54+BK54+BO54+BS54+BW54+CA54+CE54+CI54+CM54+CQ54+CU54+CY54+DC54+DG54+DK54+DO54+DS54+DW54 -> 22 | EB54: =H54+L54+P54+T54+X54+AB54+AF54+AJ54+AN54+AR54+AV54+AZ54+BD54+BH54+BL54+BP54+BT54+BX54+CB54+CF54+CJ54+CN54+CR54+CV54+CZ54+DD54+DH54+DL54+DP54+DT54+DX54 -> 0 | EC54: =I54+M54+Q54+U54+Y54+AC54+AG54+AK54+AO54+AS54+AW54+BA54+BE54+BI54+BM54+BQ54+BU54+BY54+CC54+CG54+CK54+CO54+CS54+CW54+DA54+DE54+DI54+DM54+DQ54+DU54+DY54 -> 0
A55: 43 | B55: KAVER503001TSBH13008 | C55: KAVERI HOSPITALS | D55: DWARAKANAGAR, KAHLEELWADI, NIZAMABAD - 503001. | E55: 20 | F55: 4 | J55: 6 | N55: 4 | S55: 4 | W55: 6 | AA55: 2 | AD55: 3 | AH55: 8 | AP55: 8 | AT55: 8 | AY55: 4 | BG55: 4 | BJ55: 6 | BN55: 4 | BS55: 4 | BV55: 6 | BZ55: 6 | CH55: 4 | CM55: 8 | CP55: 6 | CU55: 6 | CX55: 8 | DB55: 6 | DF55: 8 | DJ55: 8 | DO55: 4 | DR55: 6 | DV55: 2 | DZ55: =F55+J55+N55+R55+V55+Z55+AD55+AH55+AL55+AP55+AT55+AX55+BB55+BF55+BJ55+BN55+BR55+BV55+BZ55+CD55+CH55+CL55+CP55+CT55+CX55+DB55+DF55+DJ55+DN55+DR55+DV55 -> 111 | EA55: =G55+K55+O55+S55+W55+AA55+AE55+AI55+AM55+AQ55+AU55+AY55+BC55+BG55+BK55+BO55+BS55+BW55+CA55+CE55+CI55+CM55+CQ55+CU55+CY55+DC55+DG55+DK55+DO55+DS55+DW55 -> 42 | EB55: =H55+L55+P55+T55+X55+AB55+AF55+AJ55+AN55+AR55+AV55+AZ55+BD55+BH55+BL55+BP55+BT55+BX55+CB55+CF55+CJ55+CN55+CR55+CV55+CZ55+DD55+DH55+DL55+DP55+DT55+DX55 -> 0 | EC55: =I55+M55+Q55+U55+Y55+AC55+AG55+AK55+AO55+AS55+AW55+BA55+BE55+BI55+BM55+BQ55+BU55+BY55+CC55+CG55+CK55+CO55+CS55+CW55+DA55+DE55+DI55+DM55+DQ55+DU55+DY55 -> 0
A56: 44 | B56: KEERT503001TSBH09861 | C56: KEERTHI SAI NURSING HOME | D56: DOOR No.5-2-141, 5-2-55, KHALEELWADI, NIZAMABAD - 503001. | E56: 20 | DZ56: =F56+J56+N56+R56+V56+Z56+AD56+AH56+AL56+AP56+AT56+AX56+BB56+BF56+BJ56+BN56+BR56+BV56+BZ56+CD56+CH56+CL56+CP56+CT56+CX56+DB56+DF56+DJ56+DN56+DR56+DV56 -> 0 | EA56: =G56+K56+O56+S56+W56+AA56+AE56+AI56+AM56+AQ56+AU56+AY56+BC56+BG56+BK56+BO56+BS56+BW56+CA56+CE56+CI56+CM56+CQ56+CU56+CY56+DC56+DG56+DK56+DO56+DS56+DW56 -> 0 | EB56: =H56+L56+P56+T56+X56+AB56+AF56+AJ56+AN56+AR56+AV56+AZ56+BD56+BH56+BL56+BP56+BT56+BX56+CB56+CF56+CJ56+CN56+CR56+CV56+CZ56+DD56+DH56+DL56+DP56+DT56+DX56 -> 0 | EC56: =I56+M56+Q56+U56+Y56+AC56+AG56+AK56+AO56+AS56+AW56+BA56+BE56+BI56+BM56+BQ56+BU56+BY56+CC56+CG56+CK56+CO56+CS56+CW56+DA56+DE56+DI56+DM56+DQ56+DU56+DY56 -> 0
A57: 45 | B57: MAAAR503001TSBH07088 | C57: MAA AROGYA HOSPITAL | D57: KHALEELWADI, NIZAMABAD - 503001. | E57: 20 | F57: 2 | J57: 3 | N57: 2 | S57: 2 | W57: 3 | Z57: 3 | AE57: 2 | AH57: 4 | AL57: 3 | AQ57: 4 | AU57: 4 | AX57: 3 | BG57: 2 | BJ57: 3 | BN57: 2 | BS57: 2 | BV57: 3 | BZ57: 3 | CH57: 2 | CL57: 3 | CT57: 3 | CX57: 3 | DB57: 4 | DF57: 4 | DJ57: 4 | DO57: 4 | DR57: 3 | DV57: 2 | DZ57: =F57+J57+N57+R57+V57+Z57+AD57+AH57+AL57+AP57+AT57+AX57+BB57+BF57+BJ57+BN57+BR57+BV57+BZ57+CD57+CH57+CL57+CP57+CT57+CX57+DB57+DF57+DJ57+DN57+DR57+DV57 -> 59 | EA57: =G57+K57+O57+S57+W57+AA57+AE57+AI57+AM57+AQ57+AU57+AY57+BC57+BG57+BK57+BO57+BS57+BW57+CA57+CE57+CI57+CM57+CQ57+CU57+CY57+DC57+DG57+DK57+DO57+DS57+DW57 -> 23 | EB57: =H57+L57+P57+T57+X57+AB57+AF57+AJ57+AN57+AR57+AV57+AZ57+BD57+BH57+BL57+BP57+BT57+BX57+CB57+CF57+CJ57+CN57+CR57+CV57+CZ57+DD57+DH57+DL57+DP57+DT57+DX57 -> 0 | EC57: =I57+M57+Q57+U57+Y57+AC57+AG57+AK57+AO57+AS57+AW57+BA57+BE57+BI57+BM57+BQ57+BU57+BY57+CC57+CG57+CK57+CO57+CS57+CW57+DA57+DE57+DI57+DM57+DQ57+DU57+DY57 -> 0
A58: 46 | B58: MRMUL504106TSBH08455 | C58: MR MULTI SPECIALITY HOSPITAL | D58: OPP: RDO OFFICE, KHALEELWADI, NIZAMABAD - 503001. | E58: 20 | F58: 2 | J58: 3 | N58: 2 | S58: 2 | W58: 3 | AA58: 2 | AD58: 3 | AH58: 4 | AL58: 3 | AP58: 4 | AT58: 4 | AY58: 4 | BG58: 2 | BJ58: 3 | BN58: 2 | BS58: 2 | BV58: 3 | BZ58: 3 | CH58: 5 | CM58: 2 | CP58: 3 | CU58: 2 | CY58: 4 | DB58: 4 | DF58: 4 | DJ58: 4 | DN58: 3 | DO58: 2 | DR58: 3 | DV58: 2 | DZ58: =F58+J58+N58+R58+V58+Z58+AD58+AH58+AL58+AP58+AT58+AX58+BB58+BF58+BJ58+BN58+BR58+BV58+BZ58+CD58+CH58+CL58+CP58+CT58+CX58+DB58+DF58+DJ58+DN58+DR58+DV58 -> 64 | EA58: =G58+K58+O58+S58+W58+AA58+AE58+AI58+AM58+AQ58+AU58+AY58+BC58+BG58+BK58+BO58+BS58+BW58+CA58+CE58+CI58+CM58+CQ58+CU58+CY58+DC58+DG58+DK58+DO58+DS58+DW58 -> 25 | EB58: =H58+L58+P58+T58+X58+AB58+AF58+AJ58+AN58+AR58+AV58+AZ58+BD58+BH58+BL58+BP58+BT58+BX58+CB58+CF58+CJ58+CN58+CR58+CV58+CZ58+DD58+DH58+DL58+DP58+DT58+DX58 -> 0 | EC58: =I58+M58+Q58+U58+Y58+AC58+AG58+AK58+AO58+AS58+AW58+BA58+BE58+BI58+BM58+BQ58+BU58+BY58+CC58+CG58+CK58+CO58+CS58+CW58+DA58+DE58+DI58+DM58+DQ58+DU58+DY58 -> 0
A59: 47 | B59: SHYLA503001TSBH06134 | C59: SHYLAJA HOSPITAL | D59: BESIDE POCHAMMA TEMPLE, POCHAMMMAGALLI, NIZAMBAD - 503001. | E59: 20 | F59: 2 | J59: 3 | N59: 2 | S59: 2 | W59: 3 | Z59: 3 | AE59: 2 | AI59: 2 | AL59: 3 | AP59: 4 | AT59: 3 | AY59: 4 | BG59: 2 | BN59: 2 | BS59: 2 | BV59: 3 | BZ59: 3 | CQ59: 2 | CT59: 3 | CX59: 2 | DB59: 3 | DG59: 2 | DK59: 2 | DN59: 3 | DR59: 3 | DV59: 2 | DZ59: =F59+J59+N59+R59+V59+Z59+AD59+AH59+AL59+AP59+AT59+AX59+BB59+BF59+BJ59+BN59+BR59+BV59+BZ59+CD59+CH59+CL59+CP59+CT59+CX59+DB59+DF59+DJ59+DN59+DR59+DV59 -> 44 | EA59: =G59+K59+O59+S59+W59+AA59+AE59+AI59+AM59+AQ59+AU59+AY59+BC59+BG59+BK59+BO59+BS59+BW59+CA59+CE59+CI59+CM59+CQ59+CU59+CY59+DC59+DG59+DK59+DO59+DS59+DW59 -> 23 | EB59: =H59+L59+P59+T59+X59+AB59+AF59+AJ59+AN59+AR59+AV59+AZ59+BD59+BH59+BL59+BP59+BT59+BX59+CB59+CF59+CJ59+CN59+CR59+CV59+CZ59+DD59+DH59+DL59+DP59+DT59+DX59 -> 0 | EC59: =I59+M59+Q59+U59+Y59+AC59+AG59+AK59+AO59+AS59+AW59+BA59+BE59+BI59+BM59+BQ59+BU59+BY59+CC59+CG59+CK59+CO59+CS59+CW59+DA59+DE59+DI59+DM59+DQ59+DU59+DY59 -> 0
A60: 48 | B60: SRIDA503001TSBH11590 | C60: SRI DATTA MULTI SPECIALITY HOSPITAL | D60: H.NO. 5-6-238, OPP:DRO OFFICE, KHALEELWADI, NIZAMABAD - 503001. | E60: 20 | F60: 2 | J60: 3 | N60: 2 | S60: 2 | W60: 3 | AE60: 2 | AH60: 3 | AM60: 2 | AQ60: 3 | AU60: 2 | AX60: 3 | BG60: 2 | BJ60: 3 | BN60: 2 | BS60: 2 | BV60: 3 | BZ60: 3 | CH60: 2 | CL60: 3 | CT60: 3 | CX60: 3 | DC60: 2 | DF60: 3 | DJ60: 3 | DO60: 2 | DR60: 3 | DV60: 2 | DZ60: =F60+J60+N60+R60+V60+Z60+AD60+AH60+AL60+AP60+AT60+AX60+BB60+BF60+BJ60+BN60+BR60+BV60+BZ60+CD60+CH60+CL60+CP60+CT60+CX60+DB60+DF60+DJ60+DN60+DR60+DV60 -> 46 | EA60: =G60+K60+O60+S60+W60+AA60+AE60+AI60+AM60+AQ60+AU60+AY60+BC60+BG60+BK60+BO60+BS60+BW60+CA60+CE60+CI60+CM60+CQ60+CU60+CY60+DC60+DG60+DK60+DO60+DS60+DW60 -> 22 | EB60: =H60+L60+P60+T60+X60+AB60+AF60+AJ60+AN60+AR60+AV60+AZ60+BD60+BH60+BL60+BP60+BT60+BX60+CB60+CF60+CJ60+CN60+CR60+CV60+CZ60+DD60+DH60+DL60+DP60+DT60+DX60 -> 0 | EC60: =I60+M60+Q60+U60+Y60+AC60+AG60+AK60+AO60+AS60+AW60+BA60+BE60+BI60+BM60+BQ60+BU60+BY60+CC60+CG60+CK60+CO60+CS60+CW60+DA60+DE60+DI60+DM60+DQ60+DU60+DY60 -> 0
A61: 49 | B61: SSBAL503001TSBH06119 | C61: SS BALAJI HOSPITAL | D61: H.No: 5-6-162, BEHIND SYNDICATE BANK, OPP. KAPILA HOTEL, HYD ROAD, NIZAMABAD - 503001. | E61: 20 | F61: 2 | J61: 3 | N61: 2 | S61: 2 | W61: 3 | Z61: 3 | AD61: 3 | AH61: 4 | AL61: 3 | AQ61: 4 | AU61: 3 | AX61: 3 | BG61: 2 | BJ61: 3 | BN61: 2 | BS61: 2 | BV61: 3 | BZ61: 3 | CH61: 2 | CL61: 4 | CP61: 3 | CT61: 3 | CY61: 2 | DB61: 3 | DG61: 2 | DK61: 2 | DN61: 3 | DR61: 3 | DV61: 2 | DZ61: =F61+J61+N61+R61+V61+Z61+AD61+AH61+AL61+AP61+AT61+AX61+BB61+BF61+BJ61+BN61+BR61+BV61+BZ61+CD61+CH61+CL61+CP61+CT61+CX61+DB61+DF61+DJ61+DN61+DR61+DV61 -> 57 | EA61: =G61+K61+O61+S61+W61+AA61+AE61+AI61+AM61+AQ61+AU61+AY61+BC61+BG61+BK61+BO61+BS61+BW61+CA61+CE61+CI61+CM61+CQ61+CU61+CY61+DC61+DG61+DK61+DO61+DS61+DW61 -> 22 | EB61: =H61+L61+P61+T61+X61+AB61+AF61+AJ61+AN61+AR61+AV61+AZ61+BD61+BH61+BL61+BP61+BT61+BX61+CB61+CF61+CJ61+CN61+CR61+CV61+CZ61+DD61+DH61+DL61+DP61+DT61+DX61 -> 0 | EC61: =I61+M61+Q61+U61+Y61+AC61+AG61+AK61+AO61+AS61+AW61+BA61+BE61+BI61+BM61+BQ61+BU61+BY61+CC61+CG61+CK61+CO61+CS61+CW61+DA61+DE61+DI61+DM61+DQ61+DU61+DY61 -> 0
A62: 50 | B62: TAKSH503001TSBH09863 | C62: TAKSH MULTI SPECIALITY HOSPITAL | D62: IN LANE OPP: SUNFLOWER SCHOOL, WEEKLY MARKET, NIZAMABAD - 503001. | E62: 20 | F62: 2 | J62: 3 | N62: 2 | S62: 2 | W62: 3 | Z62: 3 | AE62: 3 | AH62: 4 | AL62: 3 | AP62: 3 | AT62: 3 | AX62: 3 | BG62: 2 | BJ62: 3 | BS62: 2 | BV62: 3 | BZ62: 3 | CH62: 2 | CM62: 3 | CQ62: 2 | CT62: 3 | CX62: 3 | DC62: 2 | DF62: 3 | DJ62: 3 | DN62: 3 | DR62: 3 | DV62: 2 | DZ62: =F62+J62+N62+R62+V62+Z62+AD62+AH62+AL62+AP62+AT62+AX62+BB62+BF62+BJ62+BN62+BR62+BV62+BZ62+CD62+CH62+CL62+CP62+CT62+CX62+DB62+DF62+DJ62+DN62+DR62+DV62 -> 57 | EA62: =G62+K62+O62+S62+W62+AA62+AE62+AI62+AM62+AQ62+AU62+AY62+BC62+BG62+BK62+BO62+BS62+BW62+CA62+CE62+CI62+CM62+CQ62+CU62+CY62+DC62+DG62+DK62+DO62+DS62+DW62 -> 19 | EB62: =H62+L62+P62+T62+X62+AB62+AF62+AJ62+AN62+AR62+AV62+AZ62+BD62+BH62+BL62+BP62+BT62+BX62+CB62+CF62+CJ62+CN62+CR62+CV62+CZ62+DD62+DH62+DL62+DP62+DT62+DX62 -> 0 | EC62: =I62+M62+Q62+U62+Y62+AC62+AG62+AK62+AO62+AS62+AW62+BA62+BE62+BI62+BM62+BQ62+BU62+BY62+CC62+CG62+CK62+CO62+CS62+CW62+DA62+DE62+DI62+DM62+DQ62+DU62+DY62 -> 0
A63: 51 | B63: TIRUM503001TSBH07828 | C63: THIRUMALA NURSING HOME | D63: H.No:5-7-99, DOCTOR'S LANE, KHALEELWADI, NIZAMABAD - 503001. | E63: 20 | F63: 2 | J63: 3 | N63: 2 | S63: 2 | W63: 3 | Z63: 5 | AE63: 3 | AI63: 3 | AM63: 2 | AQ63: 3 | AU63: 2 | AX63: 3 | BG63: 2 | BJ63: 3 | BN63: 5 | BS63: 2 | BV63: 3 | BZ63: 3 | CH63: 2 | CL63: 4 | CP63: 3 | CT63: 3 | CX63: 3 | DB63: 3 | DN63: 3 | DO63: 2 | DR63: 3 | DV63: 2 | DZ63: =F63+J63+N63+R63+V63+Z63+AD63+AH63+AL63+AP63+AT63+AX63+BB63+BF63+BJ63+BN63+BR63+BV63+BZ63+CD63+CH63+CL63+CP63+CT63+CX63+DB63+DF63+DJ63+DN63+DR63+DV63 -> 55 | EA63: =G63+K63+O63+S63+W63+AA63+AE63+AI63+AM63+AQ63+AU63+AY63+BC63+BG63+BK63+BO63+BS63+BW63+CA63+CE63+CI63+CM63+CQ63+CU63+CY63+DC63+DG63+DK63+DO63+DS63+DW63 -> 24 | EB63: =H63+L63+P63+T63+X63+AB63+AF63+AJ63+AN63+AR63+AV63+AZ63+BD63+BH63+BL63+BP63+BT63+BX63+CB63+CF63+CJ63+CN63+CR63+CV63+CZ63+DD63+DH63+DL63+DP63+DT63+DX63 -> 0 | EC63: =I63+M63+Q63+U63+Y63+AC63+AG63+AK63+AO63+AS63+AW63+BA63+BE63+BI63+BM63+BQ63+BU63+BY63+CC63+CG63+CK63+CO63+CS63+CW63+DA63+DE63+DI63+DM63+DQ63+DU63+DY63 -> 0
A64: 52 | B64: VASAV503001TSBH00977 | C64: VASAVI EYE HOSPITAL | D64: H.No.5-7-17, KHALELWADI, NIZAMABAD - 503001. | E64: 20 | F64: 2 | J64: 3 | N64: 2 | S64: 2 | W64: 3 | Z64: 5 | AE64: 2 | AH64: 3 | AL64: 3 | AX64: 3 | BG64: 2 | BJ64: 3 | BN64: 5 | BS64: 2 | BV64: 3 | BZ64: 3 | CH64: 2 | CM64: 2 | CP64: 3 | CU64: 3 | CY64: 2 | DB64: 3 | DG64: 2 | DK64: 2 | DR64: 3 | DV64: 2 | DZ64: =F64+J64+N64+R64+V64+Z64+AD64+AH64+AL64+AP64+AT64+AX64+BB64+BF64+BJ64+BN64+BR64+BV64+BZ64+CD64+CH64+CL64+CP64+CT64+CX64+DB64+DF64+DJ64+DN64+DR64+DV64 -> 48 | EA64: =G64+K64+O64+S64+W64+AA64+AE64+AI64+AM64+AQ64+AU64+AY64+BC64+BG64+BK64+BO64+BS64+BW64+CA64+CE64+CI64+CM64+CQ64+CU64+CY64+DC64+DG64+DK64+DO64+DS64+DW64 -> 22 | EB64: =H64+L64+P64+T64+X64+AB64+AF64+AJ64+AN64+AR64+AV64+AZ64+BD64+BH64+BL64+BP64+BT64+BX64+CB64+CF64+CJ64+CN64+CR64+CV64+CZ64+DD64+DH64+DL64+DP64+DT64+DX64 -> 0 | EC64: =I64+M64+Q64+U64+Y64+AC64+AG64+AK64+AO64+AS64+AW64+BA64+BE64+BI64+BM64+BQ64+BU64+BY64+CC64+CG64+CK64+CO64+CS64+CW64+DA64+DE64+DI64+DM64+DQ64+DU64+DY64 -> 0
A65: 53 | B65: VEDAN503001TSBH09864 | C65: VEDANSH HOSPITAL | D65: BEHIND PRAGATHI HOSPITAL, SARASWATHI NAGAR, NIZAMABAD - 503001. | E65: 20 | F65: 2 | J65: 3 | N65: 2 | S65: 5 | W65: 3 | AA65: 2 | AD65: 3 | AH65: 3 | AL65: 3 | AP65: 5 | AY65: 5 | BG65: 5 | BJ65: 3 | BN65: 5 | BS65: 2 | BV65: 3 | CH65: 2 | CL65: 3 | CP65: 3 | CU65: 3 | CX65: 3 | DC65: 2 | DF65: 3 | DJ65: 3 | DO65: 2 | DR65: 3 | DV65: 2 | DZ65: =F65+J65+N65+R65+V65+Z65+AD65+AH65+AL65+AP65+AT65+AX65+BB65+BF65+BJ65+BN65+BR65+BV65+BZ65+CD65+CH65+CL65+CP65+CT65+CX65+DB65+DF65+DJ65+DN65+DR65+DV65 -> 54 | EA65: =G65+K65+O65+S65+W65+AA65+AE65+AI65+AM65+AQ65+AU65+AY65+BC65+BG65+BK65+BO65+BS65+BW65+CA65+CE65+CI65+CM65+CQ65+CU65+CY65+DC65+DG65+DK65+DO65+DS65+DW65 -> 29 | EB65: =H65+L65+P65+T65+X65+AB65+AF65+AJ65+AN65+AR65+AV65+AZ65+BD65+BH65+BL65+BP65+BT65+BX65+CB65+CF65+CJ65+CN65+CR65+CV65+CZ65+DD65+DH65+DL65+DP65+DT65+DX65 -> 0 | EC65: =I65+M65+Q65+U65+Y65+AC65+AG65+AK65+AO65+AS65+AW65+BA65+BE65+BI65+BM65+BQ65+BU65+BY65+CC65+CG65+CK65+CO65+CS65+CW65+DA65+DE65+DI65+DM65+DQ65+DU65+DY65 -> 0
B66: 19 TO 1 BEDS HCFs
A67: 54 | B67: ARPIT503001TSBH11560 | C67: ARPITHA HOSPITAL | D67: RAJEEV GANDHI AUDITORIUM LANE, KHALEELWADI, NIZAMABAD,Nizamabad,Nizamabad South,NIZAMABAD,503001 | E67: 18 | F67: 2 | N67: 2 | V67: 3 | AD67: 2 | AH67: 3 | AP67: 3 | AY67: 4 | BF67: 2 | BK67: 3 | BW67: 2 | CI67: 2 | CQ67: 2 | CY67: 2 | DB67: 3 | DG67: 3 | DK67: 3 | DN67: 3 | DS67: 2 | DY67: 2 | DZ67: =F67+J67+N67+R67+V67+Z67+AD67+AH67+AL67+AP67+AT67+AX67+BB67+BF67+BJ67+BN67+BR67+BV67+BZ67+CD67+CH67+CL67+CP67+CT67+CX67+DB67+DF67+DJ67+DN67+DR67+DV67 -> 23 | EA67: =G67+K67+O67+S67+W67+AA67+AE67+AI67+AM67+AQ67+AU67+AY67+BC67+BG67+BK67+BO67+BS67+BW67+CA67+CE67+CI67+CM67+CQ67+CU67+CY67+DC67+DG67+DK67+DO67+DS67+DW67 -> 23 | EB67: =H67+L67+P67+T67+X67+AB67+AF67+AJ67+AN67+AR67+AV67+AZ67+BD67+BH67+BL67+BP67+BT67+BX67+CB67+CF67+CJ67+CN67+CR67+CV67+CZ67+DD67+DH67+DL67+DP67+DT67+DX67 -> 0 | EC67: =I67+M67+Q67+U67+Y67+AC67+AG67+AK67+AO67+AS67+AW67+BA67+BE67+BI67+BM67+BQ67+BU67+BY67+CC67+CG67+CK67+CO67+CS67+CW67+DA67+DE67+DI67+DM67+DQ67+DU67+DY67 -> 2
A68: 55 | B68: AASHI503001TSBH07081 | C68: AASHIRWAD HOSPITAL | D68: ROAD No.2, SARASWATHI NAGAR, NIZAMABAD - 503003. | E68: 15 | F68: 2 | N68: 2 | R68: 2 | V68: 3 | AD68: 2 | AH68: 3 | AI68: 2 | AL68: 3 | AQ68: 3 | AT68: 3 | AX68: 4 | BG68: 2 | BK68: 3 | BR68: 2 | BW68: 2 | CI68: 2 | CP68: 3 | CT68: 3 | CX68: 3 | DC68: 3 | DF68: 3 | DJ68: 3 | DO68: 3 | DS68: 2 | DZ68: =F68+J68+N68+R68+V68+Z68+AD68+AH68+AL68+AP68+AT68+AX68+BB68+BF68+BJ68+BN68+BR68+BV68+BZ68+CD68+CH68+CL68+CP68+CT68+CX68+DB68+DF68+DJ68+DN68+DR68+DV68 -> 41 | EA68: =G68+K68+O68+S68+W68+AA68+AE68+AI68+AM68+AQ68+AU68+AY68+BC68+BG68+BK68+BO68+BS68+BW68+CA68+CE68+CI68+CM68+CQ68+CU68+CY68+DC68+DG68+DK68+DO68+DS68+DW68 -> 22 | EB68: =H68+L68+P68+T68+X68+AB68+AF68+AJ68+AN68+AR68+AV68+AZ68+BD68+BH68+BL68+BP68+BT68+BX68+CB68+CF68+CJ68+CN68+CR68+CV68+CZ68+DD68+DH68+DL68+DP68+DT68+DX68 -> 0 | EC68: =I68+M68+Q68+U68+Y68+AC68+AG68+AK68+AO68+AS68+AW68+BA68+BE68+BI68+BM68+BQ68+BU68+BY68+CC68+CG68+CK68+CO68+CS68+CW68+DA68+DE68+DI68+DM68+DQ68+DU68+DY68 -> 0
A69: 56 | B69: CHAKR503001TSBH09866 | C69: CHAKRAPANI NEURO CARE HOSPITAL | D69: OPP:SANDHYA RANI HOSPITAL, BUS STAND LANE, KHALEELWADI, NIZAMABAD - 503001. | E69: 15 | F69: 2 | N69: 2 | R69: 2 | V69: 3 | AD69: 2 | AH69: 3 | AL69: 3 | AX69: 4 | BF69: 2 | BK69: 3 | BR69: 2 | BW69: 2 | CI69: 2 | CL69: 3 | CP69: 3 | CU69: 2 | CX69: 3 | DB69: 3 | DO69: 2 | DS69: 2 | DV69: 2 | DZ69: =F69+J69+N69+R69+V69+Z69+AD69+AH69+AL69+AP69+AT69+AX69+BB69+BF69+BJ69+BN69+BR69+BV69+BZ69+CD69+CH69+CL69+CP69+CT69+CX69+DB69+DF69+DJ69+DN69+DR69+DV69 -> 39 | EA69: =G69+K69+O69+S69+W69+AA69+AE69+AI69+AM69+AQ69+AU69+AY69+BC69+BG69+BK69+BO69+BS69+BW69+CA69+CE69+CI69+CM69+CQ69+CU69+CY69+DC69+DG69+DK69+DO69+DS69+DW69 -> 13 | EB69: =H69+L69+P69+T69+X69+AB69+AF69+AJ69+AN69+AR69+AV69+AZ69+BD69+BH69+BL69+BP69+BT69+BX69+CB69+CF69+CJ69+CN69+CR69+CV69+CZ69+DD69+DH69+DL69+DP69+DT69+DX69 -> 0 | EC69: =I69+M69+Q69+U69+Y69+AC69+AG69+AK69+AO69+AS69+AW69+BA69+BE69+BI69+BM69+BQ69+BU69+BY69+CC69+CG69+CK69+CO69+CS69+CW69+DA69+DE69+DI69+DM69+DQ69+DU69+DY69 -> 0
A70: 57 | B70: CHAND503001TSBH00959 | C70: CHANDRASHEKAR ORTHOPAEDIC HOSPITAL | D70: OPP. BALAJI LAB, KHALEEL WADI, NIZAMABAD - 503001. | E70: 15 | F70: 2 | N70: 2 | R70: 2 | V70: 3 | AD70: 2 | AL70: 3 | AP70: 3 | AU70: 3 | BF70: 2 | BK70: 3 | BR70: 2 | BW70: 2 | CI70: 2 | CL70: 3 | CP70: 3 | DB70: 2 | DF70: 3 | DJ70: 3 | DN70: 3 | DS70: 2 | DV70: 2 | DZ70: =F70+J70+N70+R70+V70+Z70+AD70+AH70+AL70+AP70+AT70+AX70+BB70+BF70+BJ70+BN70+BR70+BV70+BZ70+CD70+CH70+CL70+CP70+CT70+CX70+DB70+DF70+DJ70+DN70+DR70+DV70 -> 40 | EA70: =G70+K70+O70+S70+W70+AA70+AE70+AI70+AM70+AQ70+AU70+AY70+BC70+BG70+BK70+BO70+BS70+BW70+CA70+CE70+CI70+CM70+CQ70+CU70+CY70+DC70+DG70+DK70+DO70+DS70+DW70 -> 12 | EB70: =H70+L70+P70+T70+X70+AB70+AF70+AJ70+AN70+AR70+AV70+AZ70+BD70+BH70+BL70+BP70+BT70+BX70+CB70+CF70+CJ70+CN70+CR70+CV70+CZ70+DD70+DH70+DL70+DP70+DT70+DX70 -> 0 | EC70: =I70+M70+Q70+U70+Y70+AC70+AG70+AK70+AO70+AS70+AW70+BA70+BE70+BI70+BM70+BQ70+BU70+BY70+CC70+CG70+CK70+CO70+CS70+CW70+DA70+DE70+DI70+DM70+DQ70+DU70+DY70 -> 0
A71: 58 | B71: DWARA503001TSBH01041 | C71: DWARAKAMAI CHILDRENS HOSPITAL | D71: J.J.REDDY X ROAD, KHALEELWADI, NIZAMABAD - 503001. | E71: 15 | F71: 2 | N71: 2 | R71: 2 | V71: 3 | AD71: 2 | AH71: 3 | AP71: 3 | AT71: 3 | AX71: 4 | BF71: 2 | BK71: 3 | BR71: 2 | BW71: 2 | CI71: 2 | CM71: 2 | CQ71: 2 | CT71: 3 | CY71: 2 | DG71: 2 | DK71: 2 | DS71: 2 | DV71: 2 | DZ71: =F71+J71+N71+R71+V71+Z71+AD71+AH71+AL71+AP71+AT71+AX71+BB71+BF71+BJ71+BN71+BR71+BV71+BZ71+CD71+CH71+CL71+CP71+CT71+CX71+DB71+DF71+DJ71+DN71+DR71+DV71 -> 33 | EA71: =G71+K71+O71+S71+W71+AA71+AE71+AI71+AM71+AQ71+AU71+AY71+BC71+BG71+BK71+BO71+BS71+BW71+CA71+CE71+CI71+CM71+CQ71+CU71+CY71+DC71+DG71+DK71+DO71+DS71+DW71 -> 19 | EB71: =H71+L71+P71+T71+X71+AB71+AF71+AJ71+AN71+AR71+AV71+AZ71+BD71+BH71+BL71+BP71+BT71+BX71+CB71+CF71+CJ71+CN71+CR71+CV71+CZ71+DD71+DH71+DL71+DP71+DT71+DX71 -> 0 | EC71: =I71+M71+Q71+U71+Y71+AC71+AG71+AK71+AO71+AS71+AW71+BA71+BE71+BI71+BM71+BQ71+BU71+BY71+CC71+CG71+CK71+CO71+CS71+CW71+DA71+DE71+DI71+DM71+DQ71+DU71+DY71 -> 0
A72: 59 | B72: LATHA503001TSBH08537 | C72: LATHA NURSING HOME | D72: (Dr.M.BHOOMA REDDY) H.NO: 5-7-160, KHALEELWADI, NIZAMABAD - 503001. | E72: 15 | F72: 2 | N72: 2 | R72: 2 | V72: 3 | AD72: 2 | AI72: 2 | AM72: 2 | AP72: 3 | AT72: 3 | AX72: 3 | BF72: 2 | BK72: 3 | BW72: 2 | CI72: 2 | CT72: 3 | DB72: 3 | DG72: 2 | DK72: 2 | DN72: 3 | DO72: 2 | DS72: 2 | DY72: 2 | DZ72: =F72+J72+N72+R72+V72+Z72+AD72+AH72+AL72+AP72+AT72+AX72+BB72+BF72+BJ72+BN72+BR72+BV72+BZ72+CD72+CH72+CL72+CP72+CT72+CX72+DB72+DF72+DJ72+DN72+DR72+DV72 -> 31 | EA72: =G72+K72+O72+S72+W72+AA72+AE72+AI72+AM72+AQ72+AU72+AY72+BC72+BG72+BK72+BO72+BS72+BW72+CA72+CE72+CI72+CM72+CQ72+CU72+CY72+DC72+DG72+DK72+DO72+DS72+DW72 -> 19 | EB72: =H72+L72+P72+T72+X72+AB72+AF72+AJ72+AN72+AR72+AV72+AZ72+BD72+BH72+BL72+BP72+BT72+BX72+CB72+CF72+CJ72+CN72+CR72+CV72+CZ72+DD72+DH72+DL72+DP72+DT72+DX72 -> 0 | EC72: =I72+M72+Q72+U72+Y72+AC72+AG72+AK72+AO72+AS72+AW72+BA72+BE72+BI72+BM72+BQ72+BU72+BY72+CC72+CG72+CK72+CO72+CS72+CW72+DA72+DE72+DI72+DM72+DQ72+DU72+DY72 -> 2
A73: 60 | B73: MAHAL503001TSBH09862 | C73: MAHALAXMI NURSING HOME | D73: H.NO:5-7-76, KHALEELWADI, NIZAMABAD - 503001. | E73: 15 | F73: 2 | N73: 2 | R73: 2 | V73: 3 | AD73: 2 | AL73: 3 | AP73: 3 | AT73: 3 | BF73: 2 | BR73: 2 | CI73: 2 | CL73: 3 | CP73: 3 | CU73: 2 | CX73: 3 | DC73: 3 | DF73: 2 | DJ73: 2 | DO73: 2 | DS73: 2 | DY73: 2 | DZ73: =F73+J73+N73+R73+V73+Z73+AD73+AH73+AL73+AP73+AT73+AX73+BB73+BF73+BJ73+BN73+BR73+BV73+BZ73+CD73+CH73+CL73+CP73+CT73+CX73+DB73+DF73+DJ73+DN73+DR73+DV73 -> 37 | EA73: =G73+K73+O73+S73+W73+AA73+AE73+AI73+AM73+AQ73+AU73+AY73+BC73+BG73+BK73+BO73+BS73+BW73+CA73+CE73+CI73+CM73+CQ73+CU73+CY73+DC73+DG73+DK73+DO73+DS73+DW73 -> 11 | EB73: =H73+L73+P73+T73+X73+AB73+AF73+AJ73+AN73+AR73+AV73+AZ73+BD73+BH73+BL73+BP73+BT73+BX73+CB73+CF73+CJ73+CN73+CR73+CV73+CZ73+DD73+DH73+DL73+DP73+DT73+DX73 -> 0 | EC73: =I73+M73+Q73+U73+Y73+AC73+AG73+AK73+AO73+AS73+AW73+BA73+BE73+BI73+BM73+BQ73+BU73+BY73+CC73+CG73+CK73+CO73+CS73+CW73+DA73+DE73+DI73+DM73+DQ73+DU73+DY73 -> 2
A74: 61 | B74: MANOR503001TSBH06133 | C74: MANORAMA HOSPITAL | D74: OPP. BUSTAND, KHALEEL WADI, NIZAMABAD - 503001. | E74: 15 | F74: 2 | N74: 2 | R74: 2 | V74: 3 | AD74: 2 | AH74: 3 | AL74: 3 | AQ74: 3 | AU74: 3 | AX74: 3 | BF74: 2 | BK74: 3 | BR74: 2 | BW74: 2 | CI74: 2 | CL74: 3 | CP74: 3 | CX74: 3 | DC74: 3 | DF74: 2 | DJ74: 2 | DO74: 2 | DS74: 2 | DV74: 2 | DZ74: =F74+J74+N74+R74+V74+Z74+AD74+AH74+AL74+AP74+AT74+AX74+BB74+BF74+BJ74+BN74+BR74+BV74+BZ74+CD74+CH74+CL74+CP74+CT74+CX74+DB74+DF74+DJ74+DN74+DR74+DV74 -> 39 | EA74: =G74+K74+O74+S74+W74+AA74+AE74+AI74+AM74+AQ74+AU74+AY74+BC74+BG74+BK74+BO74+BS74+BW74+CA74+CE74+CI74+CM74+CQ74+CU74+CY74+DC74+DG74+DK74+DO74+DS74+DW74 -> 20 | EB74: =H74+L74+P74+T74+X74+AB74+AF74+AJ74+AN74+AR74+AV74+AZ74+BD74+BH74+BL74+BP74+BT74+BX74+CB74+CF74+CJ74+CN74+CR74+CV74+CZ74+DD74+DH74+DL74+DP74+DT74+DX74 -> 0 | EC74: =I74+M74+Q74+U74+Y74+AC74+AG74+AK74+AO74+AS74+AW74+BA74+BE74+BI74+BM74+BQ74+BU74+BY74+CC74+CG74+CK74+CO74+CS74+CW74+DA74+DE74+DI74+DM74+DQ74+DU74+DY74 -> 0
A75: 62 | B75: PAVAN503001TSBH07053 | C75: PAVAN NEURO HOSPITAL | D75: H.NO. 5-6-92, J J REDDY HOSPITAL LINE, BESIDE TEJA HOSPITAL, DWARAKA NAGAR, KHALEELWADI, NIZAMABAD - 503001. | E75: 15 | F75: 2 | N75: 2 | R75: 2 | V75: 3 | AD75: 2 | AH75: 3 | AL75: 3 | AY75: 3 | BF75: 2 | BK75: 3 | BR75: 2 | BW75: 2 | CI75: 2 | CL75: 3 | CP75: 3 | CU75: 2 | CX75: 3 | DB75: 3 | DG75: 3 | DK75: 3 | DN75: 3 | DS75: 2 | DV75: 2 | DZ75: =F75+J75+N75+R75+V75+Z75+AD75+AH75+AL75+AP75+AT75+AX75+BB75+BF75+BJ75+BN75+BR75+BV75+BZ75+CD75+CH75+CL75+CP75+CT75+CX75+DB75+DF75+DJ75+DN75+DR75+DV75 -> 38 | EA75: =G75+K75+O75+S75+W75+AA75+AE75+AI75+AM75+AQ75+AU75+AY75+BC75+BG75+BK75+BO75+BS75+BW75+CA75+CE75+CI75+CM75+CQ75+CU75+CY75+DC75+DG75+DK75+DO75+DS75+DW75 -> 20 | EB75: =H75+L75+P75+T75+X75+AB75+AF75+AJ75+AN75+AR75+AV75+AZ75+BD75+BH75+BL75+BP75+BT75+BX75+CB75+CF75+CJ75+CN75+CR75+CV75+CZ75+DD75+DH75+DL75+DP75+DT75+DX75 -> 0 | EC75: =I75+M75+Q75+U75+Y75+AC75+AG75+AK75+AO75+AS75+AW75+BA75+BE75+BI75+BM75+BQ75+BU75+BY75+CC75+CG75+CK75+CO75+CS75+CW75+DA75+DE75+DI75+DM75+DQ75+DU75+DY75 -> 0
A76: 63 | B76: SAADH503001TSBH08525 | C76: SAADHYA MULTISPECIALITY HOSPITAL | D76: BEHIND BHARATHI RANI HOSPITAL, OPP: DWARAKA ENT HOSPITAL, KHALEELWADI, NIZAMABAD - 503001. | E76: 15 | F76: 2 | N76: 2 | R76: 2 | V76: 3 | AD76: 2 | AQ76: 2 | AT76: 3 | AX76: 3 | BF76: 2 | BK76: 3 | BR76: 2 | BW76: 2 | CI76: 2 | CL76: 3 | CP76: 3 | CY76: 2 | DG76: 2 | DK76: 2 | DN76: 3 | DS76: 2 | DV76: 2 | DZ76: =F76+J76+N76+R76+V76+Z76+AD76+AH76+AL76+AP76+AT76+AX76+BB76+BF76+BJ76+BN76+BR76+BV76+BZ76+CD76+CH76+CL76+CP76+CT76+CX76+DB76+DF76+DJ76+DN76+DR76+DV76 -> 32 | EA76: =G76+K76+O76+S76+W76+AA76+AE76+AI76+AM76+AQ76+AU76+AY76+BC76+BG76+BK76+BO76+BS76+BW76+CA76+CE76+CI76+CM76+CQ76+CU76+CY76+DC76+DG76+DK76+DO76+DS76+DW76 -> 17 | EB76: =H76+L76+P76+T76+X76+AB76+AF76+AJ76+AN76+AR76+AV76+AZ76+BD76+BH76+BL76+BP76+BT76+BX76+CB76+CF76+CJ76+CN76+CR76+CV76+CZ76+DD76+DH76+DL76+DP76+DT76+DX76 -> 0 | EC76: =I76+M76+Q76+U76+Y76+AC76+AG76+AK76+AO76+AS76+AW76+BA76+BE76+BI76+BM76+BQ76+BU76+BY76+CC76+CG76+CK76+CO76+CS76+CW76+DA76+DE76+DI76+DM76+DQ76+DU76+DY76 -> 0
A77: 64 | B77: SHASH503001TSBH00930 | C77: SHASHANK HOSPITAL | D77: OPP: BUSTAND LANE, KHALEELWADI, NIZAMABAD - 503001. | E77: 15 | F77: 2 | N77: 2 | V77: 3 | AD77: 2 | AI77: 2 | AL77: 3 | AP77: 3 | AT77: 3 | AX77: 3 | BF77: 2 | BK77: 3 | BR77: 2 | BW77: 2 | CI77: 2 | CQ77: 2 | CT77: 3 | DB77: 3 | DN77: 3 | DS77: 2 | DV77: 2 | DZ77: =F77+J77+N77+R77+V77+Z77+AD77+AH77+AL77+AP77+AT77+AX77+BB77+BF77+BJ77+BN77+BR77+BV77+BZ77+CD77+CH77+CL77+CP77+CT77+CX77+DB77+DF77+DJ77+DN77+DR77+DV77 -> 36 | EA77: =G77+K77+O77+S77+W77+AA77+AE77+AI77+AM77+AQ77+AU77+AY77+BC77+BG77+BK77+BO77+BS77+BW77+CA77+CE77+CI77+CM77+CQ77+CU77+CY77+DC77+DG77+DK77+DO77+DS77+DW77 -> 13 | EB77: =H77+L77+P77+T77+X77+AB77+AF77+AJ77+AN77+AR77+AV77+AZ77+BD77+BH77+BL77+BP77+BT77+BX77+CB77+CF77+CJ77+CN77+CR77+CV77+CZ77+DD77+DH77+DL77+DP77+DT77+DX77 -> 0 | EC77: =I77+M77+Q77+U77+Y77+AC77+AG77+AK77+AO77+AS77+AW77+BA77+BE77+BI77+BM77+BQ77+BU77+BY77+CC77+CG77+CK77+CO77+CS77+CW77+DA77+DE77+DI77+DM77+DQ77+DU77+DY77 -> 0
A78: 65 | B78: SILVE503001TSBH08526 | C78: SILVERLINE HOSPITALS | D78: OPP: DR BHARATHI RANI HOSPITAL, SARASWATHI NAGAR, KHALEELWADI, NIZAMABAD - 503001. Telangana-503001 | E78: 15 | F78: 2 | N78: 2 | R78: 2 | V78: 3 | AD78: 2 | AH78: 3 | AL78: 3 | AY78: 3 | BF78: 2 | BK78: 3 | BR78: 2 | BW78: 2 | CI78: 2 | CL78: 3 | CP78: 3 | CU78: 2 | CY78: 2 | DB78: 3 | DG78: 2 | DK78: 2 | DN78: 3 | DS78: 2 | DV78: 2 | DZ78: =F78+J78+N78+R78+V78+Z78+AD78+AH78+AL78+AP78+AT78+AX78+BB78+BF78+BJ78+BN78+BR78+BV78+BZ78+CD78+CH78+CL78+CP78+CT78+CX78+DB78+DF78+DJ78+DN78+DR78+DV78 -> 35 | EA78: =G78+K78+O78+S78+W78+AA78+AE78+AI78+AM78+AQ78+AU78+AY78+BC78+BG78+BK78+BO78+BS78+BW78+CA78+CE78+CI78+CM78+CQ78+CU78+CY78+DC78+DG78+DK78+DO78+DS78+DW78 -> 20 | EB78: =H78+L78+P78+T78+X78+AB78+AF78+AJ78+AN78+AR78+AV78+AZ78+BD78+BH78+BL78+BP78+BT78+BX78+CB78+CF78+CJ78+CN78+CR78+CV78+CZ78+DD78+DH78+DL78+DP78+DT78+DX78 -> 0 | EC78: =I78+M78+Q78+U78+Y78+AC78+AG78+AK78+AO78+AS78+AW78+BA78+BE78+BI78+BM78+BQ78+BU78+BY78+CC78+CG78+CK78+CO78+CS78+CW78+DA78+DE78+DI78+DM78+DQ78+DU78+DY78 -> 0
A79: 66 | B79: SRIHA503001TSBH00960 | C79: SRI HARSHA KIDNEY & URO CENTRE | D79: H.NO. 5-6-92, DWARAKA NAGAR, KHALEELWADI, NIZAMABAD - 503001. | E79: 15 | F79: 2 | N79: 2 | R79: 2 | V79: 3 | AD79: 2 | AP79: 3 | AT79: 3 | AX79: 3 | BF79: 2 | BK79: 3 | BR79: 2 | BW79: 2 | CI79: 2 | CL79: 3 | CT79: 3 | CX79: 3 | DB79: 3 | DF79: 3 | DJ79: 3 | DO79: 2 | DS79: 2 | DV79: 2 | DZ79: =F79+J79+N79+R79+V79+Z79+AD79+AH79+AL79+AP79+AT79+AX79+BB79+BF79+BJ79+BN79+BR79+BV79+BZ79+CD79+CH79+CL79+CP79+CT79+CX79+DB79+DF79+DJ79+DN79+DR79+DV79 -> 44 | EA79: =G79+K79+O79+S79+W79+AA79+AE79+AI79+AM79+AQ79+AU79+AY79+BC79+BG79+BK79+BO79+BS79+BW79+CA79+CE79+CI79+CM79+CQ79+CU79+CY79+DC79+DG79+DK79+DO79+DS79+DW79 -> 11 | EB79: =H79+L79+P79+T79+X79+AB79+AF79+AJ79+AN79+AR79+AV79+AZ79+BD79+BH79+BL79+BP79+BT79+BX79+CB79+CF79+CJ79+CN79+CR79+CV79+CZ79+DD79+DH79+DL79+DP79+DT79+DX79 -> 0 | EC79: =I79+M79+Q79+U79+Y79+AC79+AG79+AK79+AO79+AS79+AW79+BA79+BE79+BI79+BM79+BQ79+BU79+BY79+CC79+CG79+CK79+CO79+CS79+CW79+DA79+DE79+DI79+DM79+DQ79+DU79+DY79 -> 0
A80: 67 | B80: SWETH503001TSBH08530 | C80: SWETHA KIDNEY CENTRE & MATERNITY NURSING HOME | D80: OPP: DESAI BEEDI GODOWN, HYDERABAD ROAD, NIZAMABAD - 503001. | E80: 15 | F80: 2 | N80: 2 | R80: 4 | V80: 3 | AD80: 2 | AM80: 2 | AP80: 3 | AT80: 3 | BF80: 2 | BK80: 3 | BR80: 2 | CI80: 2 | CL80: 3 | CQ80: 2 | CT80: 3 | CX80: 3 | DC80: 2 | DO80: 2 | DS80: 2 | DV80: 2 | DZ80: =F80+J80+N80+R80+V80+Z80+AD80+AH80+AL80+AP80+AT80+AX80+BB80+BF80+BJ80+BN80+BR80+BV80+BZ80+CD80+CH80+CL80+CP80+CT80+CX80+DB80+DF80+DJ80+DN80+DR80+DV80 -> 34 | EA80: =G80+K80+O80+S80+W80+AA80+AE80+AI80+AM80+AQ80+AU80+AY80+BC80+BG80+BK80+BO80+BS80+BW80+CA80+CE80+CI80+CM80+CQ80+CU80+CY80+DC80+DG80+DK80+DO80+DS80+DW80 -> 15 | EB80: =H80+L80+P80+T80+X80+AB80+AF80+AJ80+AN80+AR80+AV80+AZ80+BD80+BH80+BL80+BP80+BT80+BX80+CB80+CF80+CJ80+CN80+CR80+CV80+CZ80+DD80+DH80+DL80+DP80+DT80+DX80 -> 0 | EC80: =I80+M80+Q80+U80+Y80+AC80+AG80+AK80+AO80+AS80+AW80+BA80+BE80+BI80+BM80+BQ80+BU80+BY80+CC80+CG80+CK80+CO80+CS80+CW80+DA80+DE80+DI80+DM80+DQ80+DU80+DY80 -> 0
A81: 68 | B81: VENKA503001TSBH00962 | C81: VENKAT CHILDREN'S HOSPITAL | D81: NEAR INDIAN BANK, KHALEEL WADI, NIZAMABAD - 503001. | E81: 15 | N81: 2 | R81: 2 | V81: 3 | AD81: 2 | AH81: 2 | AP81: 3 | AU81: 3 | BF81: 2 | BR81: 2 | BW81: 2 | CI81: 2 | CL81: 2 | CP81: 3 | CY81: 2 | DB81: 3 | DF81: 3 | DJ81: 3 | DS81: 2 | DV81: 2 | DZ81: =F81+J81+N81+R81+V81+Z81+AD81+AH81+AL81+AP81+AT81+AX81+BB81+BF81+BJ81+BN81+BR81+BV81+BZ81+CD81+CH81+CL81+CP81+CT81+CX81+DB81+DF81+DJ81+DN81+DR81+DV81 -> 34 | EA81: =G81+K81+O81+S81+W81+AA81+AE81+AI81+AM81+AQ81+AU81+AY81+BC81+BG81+BK81+BO81+BS81+BW81+CA81+CE81+CI81+CM81+CQ81+CU81+CY81+DC81+DG81+DK81+DO81+DS81+DW81 -> 11 | EB81: =H81+L81+P81+T81+X81+AB81+AF81+AJ81+AN81+AR81+AV81+AZ81+BD81+BH81+BL81+BP81+BT81+BX81+CB81+CF81+CJ81+CN81+CR81+CV81+CZ81+DD81+DH81+DL81+DP81+DT81+DX81 -> 0 | EC81: =I81+M81+Q81+U81+Y81+AC81+AG81+AK81+AO81+AS81+AW81+BA81+BE81+BI81+BM81+BQ81+BU81+BY81+CC81+CG81+CK81+CO81+CS81+CW81+DA81+DE81+DI81+DM81+DQ81+DU81+DY81 -> 0
A82: 69 | B82: VENKA503001TSBH01918 | C82: VENKATA SAI NEW BORN CHILDRENS HOSPITAL | D82: ROAD NO. 3, OPP: R.D.O OFFICE, SARASWATHI NAGAR, NIZAMBAD - 503001. | E82: 15 | F82: 2 | R82: 2 | V82: 3 | AD82: 2 | AL82: 3 | AU82: 3 | AX82: 3 | BF82: 2 | BR82: 2 | BW82: 2 | CI82: 2 | CT82: 3 | CX82: 3 | CY82: 2 | DG82: 2 | DK82: 2 | DN82: 3 | DS82: 2 | DV82: 2 | DZ82: =F82+J82+N82+R82+V82+Z82+AD82+AH82+AL82+AP82+AT82+AX82+BB82+BF82+BJ82+BN82+BR82+BV82+BZ82+CD82+CH82+CL82+CP82+CT82+CX82+DB82+DF82+DJ82+DN82+DR82+DV82 -> 30 | EA82: =G82+K82+O82+S82+W82+AA82+AE82+AI82+AM82+AQ82+AU82+AY82+BC82+BG82+BK82+BO82+BS82+BW82+CA82+CE82+CI82+CM82+CQ82+CU82+CY82+DC82+DG82+DK82+DO82+DS82+DW82 -> 15 | EB82: =H82+L82+P82+T82+X82+AB82+AF82+AJ82+AN82+AR82+AV82+AZ82+BD82+BH82+BL82+BP82+BT82+BX82+CB82+CF82+CJ82+CN82+CR82+CV82+CZ82+DD82+DH82+DL82+DP82+DT82+DX82 -> 0 | EC82: =I82+M82+Q82+U82+Y82+AC82+AG82+AK82+AO82+AS82+AW82+BA82+BE82+BI82+BM82+BQ82+BU82+BY82+CC82+CG82+CK82+CO82+CS82+CW82+DA82+DE82+DI82+DM82+DQ82+DU82+DY82 -> 0
A83: 70 | B83: NIROO503001TSBH16240 | C83: NIROOP CHILDRENS HOSPITAL | D83: 5-4-335, SHAILAJA DIAGNOSTIC BUILDING, NEAR NARAYAN REDDY COMPLEX,OPP: VASAVI EYE HOSPITAL, KHALEELWADI, NIZAMABAD | E83: 13 | F83: 2 | I83: 2 | Q83: 2 | R83: 2 | V83: 3 | AD83: 2 | AH83: 3 | AL83: 3 | AP83: 3 | AY83: 3 | BF83: 2 | BK83: 3 | BR83: 2 | BW83: 2 | CI83: 2 | CL83: 2 | CP83: 3 | CU83: 2 | DB83: 3 | DF83: 3 | DJ83: 3 | DO83: 2 | DS83: 2 | DV83: 2 | DZ83: =F83+J83+N83+R83+V83+Z83+AD83+AH83+AL83+AP83+AT83+AX83+BB83+BF83+BJ83+BN83+BR83+BV83+BZ83+CD83+CH83+CL83+CP83+CT83+CX83+DB83+DF83+DJ83+DN83+DR83+DV83 -> 38 | EA83: =G83+K83+O83+S83+W83+AA83+AE83+AI83+AM83+AQ83+AU83+AY83+BC83+BG83+BK83+BO83+BS83+BW83+CA83+CE83+CI83+CM83+CQ83+CU83+CY83+DC83+DG83+DK83+DO83+DS83+DW83 -> 16 | EB83: =H83+L83+P83+T83+X83+AB83+AF83+AJ83+AN83+AR83+AV83+AZ83+BD83+BH83+BL83+BP83+BT83+BX83+CB83+CF83+CJ83+CN83+CR83+CV83+CZ83+DD83+DH83+DL83+DP83+DT83+DX83 -> 0 | EC83: =I83+M83+Q83+U83+Y83+AC83+AG83+AK83+AO83+AS83+AW83+BA83+BE83+BI83+BM83+BQ83+BU83+BY83+CC83+CG83+CK83+CO83+CS83+CW83+DA83+DE83+DI83+DM83+DQ83+DU83+DY83 -> 4
A84: 71 | B84: SWAMY503001TSBH08027 | C84: SWAMY CHILDREN'S HOSPITAL | D84: H.NO: 5-7-48, OPP. MODEM PUBLIC SCHOOL , KHALEELWADI, NIZAMABAD - 503001. | E84: 13 | F84: 2 | N84: 2 | R84: 2 | V84: 3 | AD84: 2 | AH84: 3 | AL84: 3 | AQ84: 3 | AU84: 3 | BI84: 2 | BK84: 3 | BU84: 2 | BW84: 2 | CI84: 2 | CL84: 3 | CP84: 3 | CX84: 3 | DB84: 3 | DO84: 2 | DS84: 2 | DX84: 2 | DZ84: =F84+J84+N84+R84+V84+Z84+AD84+AH84+AL84+AP84+AT84+AX84+BB84+BF84+BJ84+BN84+BR84+BV84+BZ84+CD84+CH84+CL84+CP84+CT84+CX84+DB84+DF84+DJ84+DN84+DR84+DV84 -> 29 | EA84: =G84+K84+O84+S84+W84+AA84+AE84+AI84+AM84+AQ84+AU84+AY84+BC84+BG84+BK84+BO84+BS84+BW84+CA84+CE84+CI84+CM84+CQ84+CU84+CY84+DC84+DG84+DK84+DO84+DS84+DW84 -> 17 | EB84: =H84+L84+P84+T84+X84+AB84+AF84+AJ84+AN84+AR84+AV84+AZ84+BD84+BH84+BL84+BP84+BT84+BX84+CB84+CF84+CJ84+CN84+CR84+CV84+CZ84+DD84+DH84+DL84+DP84+DT84+DX84 -> 2 | EC84: =I84+M84+Q84+U84+Y84+AC84+AG84+AK84+AO84+AS84+AW84+BA84+BE84+BI84+BM84+BQ84+BU84+BY84+CC84+CG84+CK84+CO84+CS84+CW84+DA84+DE84+DI84+DM84+DQ84+DU84+DY84 -> 4
A85: 72 | B85: RKLAX503001TSBH09882 | C85: RK LAXMI CHILDRENS HOSPITAL | D85: BUILDING No.N12A, OPP: CHAKRAPANI HOSPITAL, BANK OF INDIA ROAD, KHALEELWADI, NIZAMABAD - 503001. | E85: 12 | F85: 2 | N85: 2 | R85: 2 | V85: 3 | AD85: 2 | AH85: 3 | AY85: 3 | BF85: 2 | BK85: 3 | BW85: 2 | CI85: 2 | CL85: 3 | CP85: 3 | CT85: 3 | CY85: 2 | DB85: 3 | DG85: 2 | DK85: 2 | DN85: 3 | DS85: 2 | DY85: 2 | DZ85: =F85+J85+N85+R85+V85+Z85+AD85+AH85+AL85+AP85+AT85+AX85+BB85+BF85+BJ85+BN85+BR85+BV85+BZ85+CD85+CH85+CL85+CP85+CT85+CX85+DB85+DF85+DJ85+DN85+DR85+DV85 -> 31 | EA85: =G85+K85+O85+S85+W85+AA85+AE85+AI85+AM85+AQ85+AU85+AY85+BC85+BG85+BK85+BO85+BS85+BW85+CA85+CE85+CI85+CM85+CQ85+CU85+CY85+DC85+DG85+DK85+DO85+DS85+DW85 -> 18 | EB85: =H85+L85+P85+T85+X85+AB85+AF85+AJ85+AN85+AR85+AV85+AZ85+BD85+BH85+BL85+BP85+BT85+BX85+CB85+CF85+CJ85+CN85+CR85+CV85+CZ85+DD85+DH85+DL85+DP85+DT85+DX85 -> 0 | EC85: =I85+M85+Q85+U85+Y85+AC85+AG85+AK85+AO85+AS85+AW85+BA85+BE85+BI85+BM85+BQ85+BU85+BY85+CC85+CG85+CK85+CO85+CS85+CW85+DA85+DE85+DI85+DM85+DQ85+DU85+DY85 -> 2
A86: 73 | B86: SRISU503001TSBH09871 | C86: SRI SURYA HOSPITAL | D86: BESIDE GOUTHAMI DEGREE COLLEGE, KHALEELWADI, NIZAMABAD - 503001. | E86: 12 | F86: 2 | R86: 2 | V86: 3 | AD86: 2 | AL86: 3 | AP86: 3 | AT86: 3 | AX86: 3 | BF86: 2 | BR86: 2 | BW86: 2 | CI86: 2 | CT86: 3 | DB86: 3 | DO86: 2 | DS86: 2 | DV86: 2 | DZ86: =F86+J86+N86+R86+V86+Z86+AD86+AH86+AL86+AP86+AT86+AX86+BB86+BF86+BJ86+BN86+BR86+BV86+BZ86+CD86+CH86+CL86+CP86+CT86+CX86+DB86+DF86+DJ86+DN86+DR86+DV86 -> 33 | EA86: =G86+K86+O86+S86+W86+AA86+AE86+AI86+AM86+AQ86+AU86+AY86+BC86+BG86+BK86+BO86+BS86+BW86+CA86+CE86+CI86+CM86+CQ86+CU86+CY86+DC86+DG86+DK86+DO86+DS86+DW86 -> 8 | EB86: =H86+L86+P86+T86+X86+AB86+AF86+AJ86+AN86+AR86+AV86+AZ86+BD86+BH86+BL86+BP86+BT86+BX86+CB86+CF86+CJ86+CN86+CR86+CV86+CZ86+DD86+DH86+DL86+DP86+DT86+DX86 -> 0 | EC86: =I86+M86+Q86+U86+Y86+AC86+AG86+AK86+AO86+AS86+AW86+BA86+BE86+BI86+BM86+BQ86+BU86+BY86+CC86+CG86+CK86+CO86+CS86+CW86+DA86+DE86+DI86+DM86+DQ86+DU86+DY86 -> 0
A87: 74 | B87: AAYUK503001TSBH09873 | C87: AAYUKSHA HOSPITAL | D87: ROAD NO.1, OPP: RDO OFFICE, DWARAKA NAGAR, KHALEELWADI, NIZAMABAD - 503001. | E87: 10 | F87: 2 | N87: 2 | R87: 2 | V87: 3 | AD87: 2 | AP87: 3 | AT87: 3 | BF87: 2 | BK87: 3 | BR87: 2 | BW87: 2 | CI87: 2 | CL87: 3 | CP87: 3 | CX87: 2 | CY87: 2 | DF87: 3 | DJ87: 3 | DO87: 2 | DS87: 2 | DV87: 2 | DZ87: =F87+J87+N87+R87+V87+Z87+AD87+AH87+AL87+AP87+AT87+AX87+BB87+BF87+BJ87+BN87+BR87+BV87+BZ87+CD87+CH87+CL87+CP87+CT87+CX87+DB87+DF87+DJ87+DN87+DR87+DV87 -> 37 | EA87: =G87+K87+O87+S87+W87+AA87+AE87+AI87+AM87+AQ87+AU87+AY87+BC87+BG87+BK87+BO87+BS87+BW87+CA87+CE87+CI87+CM87+CQ87+CU87+CY87+DC87+DG87+DK87+DO87+DS87+DW87 -> 13 | EB87: =H87+L87+P87+T87+X87+AB87+AF87+AJ87+AN87+AR87+AV87+AZ87+BD87+BH87+BL87+BP87+BT87+BX87+CB87+CF87+CJ87+CN87+CR87+CV87+CZ87+DD87+DH87+DL87+DP87+DT87+DX87 -> 0 | EC87: =I87+M87+Q87+U87+Y87+AC87+AG87+AK87+AO87+AS87+AW87+BA87+BE87+BI87+BM87+BQ87+BU87+BY87+CC87+CG87+CK87+CO87+CS87+CW87+DA87+DE87+DI87+DM87+DQ87+DU87+DY87 -> 0
A88: 75 | B88: APOOR503001TSBH07054 | C88: APOORVA NETHRALAYA & DIAGNOSTIC CENTER | D88: H.NO. 5-7-7/8, NEAR NALANDA WOMEN'S COLLEGE, KHALEELWADI, NIZAMABAD - 503001. | E88: 10 | F88: 2 | N88: 2 | U88: 2 | Y88: 3 | AD88: 2 | AH88: 6 | AL88: 3 | AX88: 3 | BF88: 2 | BU88: 2 | BW88: 2 | CI88: 2 | CT88: 3 | CX88: 3 | DB88: 3 | DG88: 2 | DK88: 2 | DS88: 2 | DZ88: =F88+J88+N88+R88+V88+Z88+AD88+AH88+AL88+AP88+AT88+AX88+BB88+BF88+BJ88+BN88+BR88+BV88+BZ88+CD88+CH88+CL88+CP88+CT88+CX88+DB88+DF88+DJ88+DN88+DR88+DV88 -> 29 | EA88: =G88+K88+O88+S88+W88+AA88+AE88+AI88+AM88+AQ88+AU88+AY88+BC88+BG88+BK88+BO88+BS88+BW88+CA88+CE88+CI88+CM88+CQ88+CU88+CY88+DC88+DG88+DK88+DO88+DS88+DW88 -> 10 | EB88: =H88+L88+P88+T88+X88+AB88+AF88+AJ88+AN88+AR88+AV88+AZ88+BD88+BH88+BL88+BP88+BT88+BX88+CB88+CF88+CJ88+CN88+CR88+CV88+CZ88+DD88+DH88+DL88+DP88+DT88+DX88 -> 0 | EC88: =I88+M88+Q88+U88+Y88+AC88+AG88+AK88+AO88+AS88+AW88+BA88+BE88+BI88+BM88+BQ88+BU88+BY88+CC88+CG88+CK88+CO88+CS88+CW88+DA88+DE88+DI88+DM88+DQ88+DU88+DY88 -> 7
A89: 76 | B89: DEEPA503001TSBH09874 | C89: DEEPA HOSPITAL | D89: H.No. 5-4-36/16, BESIDE BJP OFFICE, BESIDE TEJA HOSPITAL, DWARAKA NAGAR, NIZAMABAD - 503001. | E89: 10 | DZ89: =F89+J89+N89+R89+V89+Z89+AD89+AH89+AL89+AP89+AT89+AX89+BB89+BF89+BJ89+BN89+BR89+BV89+BZ89+CD89+CH89+CL89+CP89+CT89+CX89+DB89+DF89+DJ89+DN89+DR89+DV89 -> 0 | EA89: =G89+K89+O89+S89+W89+AA89+AE89+AI89+AM89+AQ89+AU89+AY89+BC89+BG89+BK89+BO89+BS89+BW89+CA89+CE89+CI89+CM89+CQ89+CU89+CY89+DC89+DG89+DK89+DO89+DS89+DW89 -> 0 | EB89: =H89+L89+P89+T89+X89+AB89+AF89+AJ89+AN89+AR89+AV89+AZ89+BD89+BH89+BL89+BP89+BT89+BX89+CB89+CF89+CJ89+CN89+CR89+CV89+CZ89+DD89+DH89+DL89+DP89+DT89+DX89 -> 0 | EC89: =I89+M89+Q89+U89+Y89+AC89+AG89+AK89+AO89+AS89+AW89+BA89+BE89+BI89+BM89+BQ89+BU89+BY89+CC89+CG89+CK89+CO89+CS89+CW89+DA89+DE89+DI89+DM89+DQ89+DU89+DY89 -> 0
A90: 77 | B90: GANGA503001TSBH09875 | C90: GANGA BHAVANI HOSPITAL | D90: ROAD No.1, SARASWATHI NAGAR, NIZAMABAD - 503001. | E90: 10 | F90: 2 | N90: 2 | R90: 2 | V90: 3 | AD90: 2 | AX90: 3 | BF90: 2 | BK90: 3 | BR90: 2 | BW90: 2 | CI90: 2 | CL90: 3 | CP90: 3 | CT90: 3 | DG90: 2 | DK90: 2 | DN90: 3 | DS90: 2 | DV90: 2 | DZ90: =F90+J90+N90+R90+V90+Z90+AD90+AH90+AL90+AP90+AT90+AX90+BB90+BF90+BJ90+BN90+BR90+BV90+BZ90+CD90+CH90+CL90+CP90+CT90+CX90+DB90+DF90+DJ90+DN90+DR90+DV90 -> 32 | EA90: =G90+K90+O90+S90+W90+AA90+AE90+AI90+AM90+AQ90+AU90+AY90+BC90+BG90+BK90+BO90+BS90+BW90+CA90+CE90+CI90+CM90+CQ90+CU90+CY90+DC90+DG90+DK90+DO90+DS90+DW90 -> 13 | EB90: =H90+L90+P90+T90+X90+AB90+AF90+AJ90+AN90+AR90+AV90+AZ90+BD90+BH90+BL90+BP90+BT90+BX90+CB90+CF90+CJ90+CN90+CR90+CV90+CZ90+DD90+DH90+DL90+DP90+DT90+DX90 -> 0 | EC90: =I90+M90+Q90+U90+Y90+AC90+AG90+AK90+AO90+AS90+AW90+BA90+BE90+BI90+BM90+BQ90+BU90+BY90+CC90+CG90+CK90+CO90+CS90+CW90+DA90+DE90+DI90+DM90+DQ90+DU90+DY90 -> 0
A91: 78 | B91: GAYAT503001TSBH00861 | C91: GAYATRI HOSPITAL | D91: Dr SUMALATHA HOSPITAL BUILDING, NEAR J.J. REDDY HOSPITAL, DWARAKA NAGAR, 1ST LANE, NIZAMABAD - 503001. | E91: 10 | F91: 2 | N91: 2 | R91: 2 | V91: 3 | AD91: 2 | AI91: 2 | AM91: 2 | AP91: 3 | AT91: 3 | BF91: 2 | BK91: 3 | BU91: 2 | BW91: 2 | CI91: 2 | CL91: 3 | CP91: 3 | CT91: 3 | CX91: 3 | DB91: 3 | DG91: 2 | DK91: 2 | DN91: 3 | DS91: 2 | DY91: 2 | DZ91: =F91+J91+N91+R91+V91+Z91+AD91+AH91+AL91+AP91+AT91+AX91+BB91+BF91+BJ91+BN91+BR91+BV91+BZ91+CD91+CH91+CL91+CP91+CT91+CX91+DB91+DF91+DJ91+DN91+DR91+DV91 -> 37 | EA91: =G91+K91+O91+S91+W91+AA91+AE91+AI91+AM91+AQ91+AU91+AY91+BC91+BG91+BK91+BO91+BS91+BW91+CA91+CE91+CI91+CM91+CQ91+CU91+CY91+DC91+DG91+DK91+DO91+DS91+DW91 -> 17 | EB91: =H91+L91+P91+T91+X91+AB91+AF91+AJ91+AN91+AR91+AV91+AZ91+BD91+BH91+BL91+BP91+BT91+BX91+CB91+CF91+CJ91+CN91+CR91+CV91+CZ91+DD91+DH91+DL91+DP91+DT91+DX91 -> 0 | EC91: =I91+M91+Q91+U91+Y91+AC91+AG91+AK91+AO91+AS91+AW91+BA91+BE91+BI91+BM91+BQ91+BU91+BY91+CC91+CG91+CK91+CO91+CS91+CW91+DA91+DE91+DI91+DM91+DQ91+DU91+DY91 -> 4
A92: 79 | B92: KGSCH503001TSBH09876 | C92: KGS CHILDRENS HOSPITAL | D92: H.No. 5-7-204, BESIDE TIRUMALA HOSPITAL, TILAK GARDEN, KHALLELWADI, NIZAMABAD - 503001. | E92: 10 | F92: 2 | N92: 2 | U92: 2 | V92: 3 | AD92: 2 | AH92: 3 | AL92: 3 | AP92: 3 | AT92: 3 | BF92: 2 | BK92: 3 | BR92: 2 | BW92: 2 | CI92: 2 | CY92: 2 | DC92: 2 | DF92: 3 | DJ92: 3 | DS92: 2 | DZ92: =F92+J92+N92+R92+V92+Z92+AD92+AH92+AL92+AP92+AT92+AX92+BB92+BF92+BJ92+BN92+BR92+BV92+BZ92+CD92+CH92+CL92+CP92+CT92+CX92+DB92+DF92+DJ92+DN92+DR92+DV92 -> 31 | EA92: =G92+K92+O92+S92+W92+AA92+AE92+AI92+AM92+AQ92+AU92+AY92+BC92+BG92+BK92+BO92+BS92+BW92+CA92+CE92+CI92+CM92+CQ92+CU92+CY92+DC92+DG92+DK92+DO92+DS92+DW92 -> 13 | EB92: =H92+L92+P92+T92+X92+AB92+AF92+AJ92+AN92+AR92+AV92+AZ92+BD92+BH92+BL92+BP92+BT92+BX92+CB92+CF92+CJ92+CN92+CR92+CV92+CZ92+DD92+DH92+DL92+DP92+DT92+DX92 -> 0 | EC92: =I92+M92+Q92+U92+Y92+AC92+AG92+AK92+AO92+AS92+AW92+BA92+BE92+BI92+BM92+BQ92+BU92+BY92+CC92+CG92+CK92+CO92+CS92+CW92+DA92+DE92+DI92+DM92+DQ92+DU92+DY92 -> 2
A93: 80 | B93: KIDSC503001TSBH09878 | C93: KIDS CARE EMERGENCY CHILDRENS HOSPITAL | D93: OPP.TELANGANA GRAMEENA BANK, DWARAKANAGAR, KHALEELWADI, NIZAMABAD - 503001. | E93: 10 | DZ93: =F93+J93+N93+R93+V93+Z93+AD93+AH93+AL93+AP93+AT93+AX93+BB93+BF93+BJ93+BN93+BR93+BV93+BZ93+CD93+CH93+CL93+CP93+CT93+CX93+DB93+DF93+DJ93+DN93+DR93+DV93 -> 0 | EA93: =G93+K93+O93+S93+W93+AA93+AE93+AI93+AM93+AQ93+AU93+AY93+BC93+BG93+BK93+BO93+BS93+BW93+CA93+CE93+CI93+CM93+CQ93+CU93+CY93+DC93+DG93+DK93+DO93+DS93+DW93 -> 0 | EB93: =H93+L93+P93+T93+X93+AB93+AF93+AJ93+AN93+AR93+AV93+AZ93+BD93+BH93+BL93+BP93+BT93+BX93+CB93+CF93+CJ93+CN93+CR93+CV93+CZ93+DD93+DH93+DL93+DP93+DT93+DX93 -> 0 | EC93: =I93+M93+Q93+U93+Y93+AC93+AG93+AK93+AO93+AS93+AW93+BA93+BE93+BI93+BM93+BQ93+BU93+BY93+CC93+CG93+CK93+CO93+CS93+CW93+DA93+DE93+DI93+DM93+DQ93+DU93+DY93 -> 0
A94: 81 | B94: LIFEL503001TSBH11655 | C94: LIFE LINE HOSPITAL NIZAMABAD | D94: BESIDE SANA GARDEN FUNCTION HALL, FAHAD TOWER, OPP: BODHAN BUS STAND, NIZAMABAD - 503001. | E94: 10 | F94: 2 | AD94: 2 | DZ94: =F94+J94+N94+R94+V94+Z94+AD94+AH94+AL94+AP94+AT94+AX94+BB94+BF94+BJ94+BN94+BR94+BV94+BZ94+CD94+CH94+CL94+CP94+CT94+CX94+DB94+DF94+DJ94+DN94+DR94+DV94 -> 4 | EA94: =G94+K94+O94+S94+W94+AA94+AE94+AI94+AM94+AQ94+AU94+AY94+BC94+BG94+BK94+BO94+BS94+BW94+CA94+CE94+CI94+CM94+CQ94+CU94+CY94+DC94+DG94+DK94+DO94+DS94+DW94 -> 0 | EB94: =H94+L94+P94+T94+X94+AB94+AF94+AJ94+AN94+AR94+AV94+AZ94+BD94+BH94+BL94+BP94+BT94+BX94+CB94+CF94+CJ94+CN94+CR94+CV94+CZ94+DD94+DH94+DL94+DP94+DT94+DX94 -> 0 | EC94: =I94+M94+Q94+U94+Y94+AC94+AG94+AK94+AO94+AS94+AW94+BA94+BE94+BI94+BM94+BQ94+BU94+BY94+CC94+CG94+CK94+CO94+CS94+CW94+DA94+DE94+DI94+DM94+DQ94+DU94+DY94 -> 0
A95: 82 | B95: MAHES503001TSBH00981 | C95: MAHESHWARI MULTI SPECIALITY HOSPITAL | D95: KHALEELWADI, NIZAMABAD - 503001. | E95: 10 | R95: 2 | Y95: 3 | AD95: 2 | AP95: 3 | AT95: 3 | AX95: 3 | BF95: 2 | BK95: 3 | BU95: 2 | BW95: 2 | CI95: 2 | CM95: 2 | CQ95: 2 | CT95: 3 | CX95: 3 | DC95: 2 | DF95: 3 | DJ95: 3 | DO95: 2 | DS95: 2 | DX95: 2 | DZ95: =F95+J95+N95+R95+V95+Z95+AD95+AH95+AL95+AP95+AT95+AX95+BB95+BF95+BJ95+BN95+BR95+BV95+BZ95+CD95+CH95+CL95+CP95+CT95+CX95+DB95+DF95+DJ95+DN95+DR95+DV95 -> 27 | EA95: =G95+K95+O95+S95+W95+AA95+AE95+AI95+AM95+AQ95+AU95+AY95+BC95+BG95+BK95+BO95+BS95+BW95+CA95+CE95+CI95+CM95+CQ95+CU95+CY95+DC95+DG95+DK95+DO95+DS95+DW95 -> 17 | EB95: =H95+L95+P95+T95+X95+AB95+AF95+AJ95+AN95+AR95+AV95+AZ95+BD95+BH95+BL95+BP95+BT95+BX95+CB95+CF95+CJ95+CN95+CR95+CV95+CZ95+DD95+DH95+DL95+DP95+DT95+DX95 -> 2 | EC95: =I95+M95+Q95+U95+Y95+AC95+AG95+AK95+AO95+AS95+AW95+BA95+BE95+BI95+BM95+BQ95+BU95+BY95+CC95+CG95+CK95+CO95+CS95+CW95+DA95+DE95+DI95+DM95+DQ95+DU95+DY95 -> 5
A96: 83 | B96: NEOLI503001TSBH00907 | C96: NEOLIFE CHILDREN'S HOSPITAL | D96: KHALEELWADI, NIZAMABAD - 503001. | E96: 10 | F96: 2 | N96: 2 | R96: 2 | V96: 3 | AD96: 2 | AP96: 3 | AT96: 2 | BF96: 2 | BK96: 3 | BW96: 2 | CI96: 2 | CL96: 3 | CQ96: 2 | CT96: 3 | DB96: 3 | DF96: 3 | DJ96: 3 | DO96: 2 | DS96: 2 | DV96: 2 | DZ96: =F96+J96+N96+R96+V96+Z96+AD96+AH96+AL96+AP96+AT96+AX96+BB96+BF96+BJ96+BN96+BR96+BV96+BZ96+CD96+CH96+CL96+CP96+CT96+CX96+DB96+DF96+DJ96+DN96+DR96+DV96 -> 35 | EA96: =G96+K96+O96+S96+W96+AA96+AE96+AI96+AM96+AQ96+AU96+AY96+BC96+BG96+BK96+BO96+BS96+BW96+CA96+CE96+CI96+CM96+CQ96+CU96+CY96+DC96+DG96+DK96+DO96+DS96+DW96 -> 13 | EB96: =H96+L96+P96+T96+X96+AB96+AF96+AJ96+AN96+AR96+AV96+AZ96+BD96+BH96+BL96+BP96+BT96+BX96+CB96+CF96+CJ96+CN96+CR96+CV96+CZ96+DD96+DH96+DL96+DP96+DT96+DX96 -> 0 | EC96: =I96+M96+Q96+U96+Y96+AC96+AG96+AK96+AO96+AS96+AW96+BA96+BE96+BI96+BM96+BQ96+BU96+BY96+CC96+CG96+CK96+CO96+CS96+CW96+DA96+DE96+DI96+DM96+DQ96+DU96+DY96 -> 0
A97: 84 | B97: NILOU503001TSBH08492 | C97: NILOUFER CHILD CARE HOSPITAL | D97: J.J.REDDY X ROAD, KHALEELWADI, NIZAMABAD - 503001. | E97: 10 | F97: 2 | N97: 2 | R97: 2 | V97: 3 | AD97: 2 | AH97: 3 | AL97: 3 | AX97: 3 | BF97: 2 | BR97: 2 | CI97: 2 | CY97: 2 | DC97: 2 | DF97: 3 | DJ97: 3 | DO97: 2 | DS97: 2 | DY97: 2 | DZ97: =F97+J97+N97+R97+V97+Z97+AD97+AH97+AL97+AP97+AT97+AX97+BB97+BF97+BJ97+BN97+BR97+BV97+BZ97+CD97+CH97+CL97+CP97+CT97+CX97+DB97+DF97+DJ97+DN97+DR97+DV97 -> 30 | EA97: =G97+K97+O97+S97+W97+AA97+AE97+AI97+AM97+AQ97+AU97+AY97+BC97+BG97+BK97+BO97+BS97+BW97+CA97+CE97+CI97+CM97+CQ97+CU97+CY97+DC97+DG97+DK97+DO97+DS97+DW97 -> 10 | EB97: =H97+L97+P97+T97+X97+AB97+AF97+AJ97+AN97+AR97+AV97+AZ97+BD97+BH97+BL97+BP97+BT97+BX97+CB97+CF97+CJ97+CN97+CR97+CV97+CZ97+DD97+DH97+DL97+DP97+DT97+DX97 -> 0 | EC97: =I97+M97+Q97+U97+Y97+AC97+AG97+AK97+AO97+AS97+AW97+BA97+BE97+BI97+BM97+BQ97+BU97+BY97+CC97+CG97+CK97+CO97+CS97+CW97+DA97+DE97+DI97+DM97+DQ97+DU97+DY97 -> 2
A98: 85 | B98: NISHK503001TSBH11587 | C98: NISHKAL NEURO HOSPITAL | D98: OPP: BUS STAND LANE, KHALEELWADI,Nizamabad,Nizamabad South,NIZAMABAD,503001 | E98: 10 | N98: 2 | R98: 2 | V98: 3 | AD98: 2 | AX98: 3 | BF98: 2 | BK98: 3 | BR98: 2 | BW98: 2 | CI98: 2 | CL98: 3 | CP98: 3 | CT98: 3 | CX98: 3 | DB98: 2 | DF98: 3 | DJ98: 3 | DO98: 2 | DS98: 2 | DV98: 2 | DZ98: =F98+J98+N98+R98+V98+Z98+AD98+AH98+AL98+AP98+AT98+AX98+BB98+BF98+BJ98+BN98+BR98+BV98+BZ98+CD98+CH98+CL98+CP98+CT98+CX98+DB98+DF98+DJ98+DN98+DR98+DV98 -> 38 | EA98: =G98+K98+O98+S98+W98+AA98+AE98+AI98+AM98+AQ98+AU98+AY98+BC98+BG98+BK98+BO98+BS98+BW98+CA98+CE98+CI98+CM98+CQ98+CU98+CY98+DC98+DG98+DK98+DO98+DS98+DW98 -> 11 | EB98: =H98+L98+P98+T98+X98+AB98+AF98+AJ98+AN98+AR98+AV98+AZ98+BD98+BH98+BL98+BP98+BT98+BX98+CB98+CF98+CJ98+CN98+CR98+CV98+CZ98+DD98+DH98+DL98+DP98+DT98+DX98 -> 0 | EC98: =I98+M98+Q98+U98+Y98+AC98+AG98+AK98+AO98+AS98+AW98+BA98+BE98+BI98+BM98+BQ98+BU98+BY98+CC98+CG98+CK98+CO98+CS98+CW98+DA98+DE98+DI98+DM98+DQ98+DU98+DY98 -> 0
A99: 86 | B99: NIZAM503001TSBH09879 | C99: NIZAMABAD NEURO SUPER SPECIALITY HOSPITAL | D99: H.NO: 5-7-35, KHALEELWADI, NIZAMABAD - 503001. | E99: 10 | N99: 2 | R99: 2 | V99: 3 | AD99: 2 | AI99: 2 | AM99: 2 | AP99: 3 | AT99: 2 | AX99: 3 | BF99: 2 | BK99: 3 | BR99: 2 | BW99: 2 | CI99: 2 | CY99: 2 | DC99: 2 | DF99: 3 | DJ99: 3 | DS99: 2 | DV99: 2 | DZ99: =F99+J99+N99+R99+V99+Z99+AD99+AH99+AL99+AP99+AT99+AX99+BB99+BF99+BJ99+BN99+BR99+BV99+BZ99+CD99+CH99+CL99+CP99+CT99+CX99+DB99+DF99+DJ99+DN99+DR99+DV99 -> 29 | EA99: =G99+K99+O99+S99+W99+AA99+AE99+AI99+AM99+AQ99+AU99+AY99+BC99+BG99+BK99+BO99+BS99+BW99+CA99+CE99+CI99+CM99+CQ99+CU99+CY99+DC99+DG99+DK99+DO99+DS99+DW99 -> 17 | EB99: =H99+L99+P99+T99+X99+AB99+AF99+AJ99+AN99+AR99+AV99+AZ99+BD99+BH99+BL99+BP99+BT99+BX99+CB99+CF99+CJ99+CN99+CR99+CV99+CZ99+DD99+DH99+DL99+DP99+DT99+DX99 -> 0 | EC99: =I99+M99+Q99+U99+Y99+AC99+AG99+AK99+AO99+AS99+AW99+BA99+BE99+BI99+BM99+BQ99+BU99+BY99+CC99+CG99+CK99+CO99+CS99+CW99+DA99+DE99+DI99+DM99+DQ99+DU99+DY99 -> 0
A100: 87 | B100: PADMA503001TSBH01076 | C100: PADMAVATHI GASTRO HOSPITAL | D100: H.No:5-6-806 & 807, OPP. RAJIVGANDHI AUDITORIUM, KHALEELWADI, NIZAMABAD - 503001. | E100: 10 | F100: 2 | N100: 2 | R100: 2 | V100: 3 | AD100: 2 | AH100: 2 | AL100: 3 | AP100: 3 | AT100: 2 | BI100: 2 | BK100: 3 | BU100: 2 | BW100: 2 | CI100: 2 | CY100: 2 | DG100: 2 | DK100: 2 | DN100: 3 | DS100: 2 | DX100: 2 | DZ100: =F100+J100+N100+R100+V100+Z100+AD100+AH100+AL100+AP100+AT100+AX100+BB100+BF100+BJ100+BN100+BR100+BV100+BZ100+CD100+CH100+CL100+CP100+CT100+CX100+DB100+DF100+DJ100+DN100+DR100+DV100 -> 24 | EA100: =G100+K100+O100+S100+W100+AA100+AE100+AI100+AM100+AQ100+AU100+AY100+BC100+BG100+BK100+BO100+BS100+BW100+CA100+CE100+CI100+CM100+CQ100+CU100+CY100+DC100+DG100+DK100+DO100+DS100+DW100 -> 15 | EB100: =H100+L100+P100+T100+X100+AB100+AF100+AJ100+AN100+AR100+AV100+AZ100+BD100+BH100+BL100+BP100+BT100+BX100+CB100+CF100+CJ100+CN100+CR100+CV100+CZ100+DD100+DH100+DL100+DP100+DT100+DX100 -> 2 | EC100: =I100+M100+Q100+U100+Y100+AC100+AG100+AK100+AO100+AS100+AW100+BA100+BE100+BI100+BM100+BQ100+BU100+BY100+CC100+CG100+CK100+CO100+CS100+CW100+DA100+DE100+DI100+DM100+DQ100+DU100+DY100 -> 4
...

Sheet Kamareddy
A1: =Nizamabad!A1 -> AUGUST - 2023 MONTH REPORT | F1: =Nizamabad!F1 -> 45139 | J1: =Nizamabad!J1 -> 45140 | N1: =Nizamabad!N1 -> 45141 | R1: =Nizamabad!R1 -> 45142 | V1: =Nizamabad!V1 -> 45143 | Z1: =Nizamabad!Z1 -> 45144 | AD1: =Nizamabad!AD1 -> 45145 | AH1: =Nizamabad!AH1 -> 45146 | AL1: =Nizamabad!AL1 -> 45147 | AP1: =Nizamabad!AP1 -> 45148 | AT1: =Nizamabad!AT1 -> 45149 | AX1: =Nizamabad!AX1 -> 45150 | BB1: =Nizamabad!BB1 -> 45151 | BF1: =Nizamabad!BF1 -> 45152 | BJ1: =Nizamabad!BJ1 -> 45153 | BN1: =Nizamabad!BN1 -> 45154 | BR1: =Nizamabad!BR1 -> 45155 | BV1: =Nizamabad!BV1 -> 45156 | BZ1: =Nizamabad!BZ1 -> 45157 | CD1: =Nizamabad!CD1 -> 45158 | CH1: =Nizamabad!CH1 -> 45159 | CL1: =Nizamabad!CL1 -> 45160 | CP1: =Nizamabad!CP1 -> 45161 | CT1: =Nizamabad!CT1 -> 45162 | CX1: =Nizamabad!CX1 -> 45163 | DB1: =Nizamabad!DB1 -> 45164 | DF1: =Nizamabad!DF1 -> 45165 | DJ1: =Nizamabad!DJ1 -> 45166 | DN1: =Nizamabad!DN1 -> 45167 | DR1: =Nizamabad!DR1 -> 45168 | DV1: =Nizamabad!DV1 -> 45169 | DZ1: TOTAL
A2: SNO | B2: HCF ID | C2: NAME OF THE HCF | D2: ADDRESS OF THE HCFS | E2: NO.OF BEDS | F2: Yellow | G2: Red | H2: Blue | I2: White | J2: Yellow | K2: Red | L2: Blue | M2: White | N2: Yellow | O2: Red | P2: Blue | Q2: White | R2: Yellow | S2: Red | T2: Blue | U2: White | V2: Yellow | W2: Red | X2: Blue | Y2: White | Z2: Yellow | AA2: Red | AB2: Blue | AC2: White | AD2: Yellow | AE2: Red | AF2: Blue | AG2: White | AH2: Yellow | AI2: Red | AJ2: Blue | AK2: White | AL2: Yellow | AM2: Red | AN2: Blue | AO2: White | AP2: Yellow | AQ2: Red | AR2: Blue | AS2: White | AT2: Yellow | AU2: Red | AV2: Blue | AW2: White | AX2: Yellow | AY2: Red | AZ2: Blue | BA2: White | BB2: Yellow | BC2: Red | BD2: Blue | BE2: White | BF2: Yellow | BG2: Red | BH2: Blue | BI2: White | BJ2: Yellow | BK2: Red | BL2: Blue | BM2: White | BN2: Yellow | BO2: Red | BP2: Blue | BQ2: White | BR2: Yellow | BS2: Red | BT2: Blue | BU2: White | BV2: Yellow | BW2: Red | BX2: Blue | BY2: White | BZ2: Yellow | CA2: Red | CB2: Blue | CC2: White | CD2: Yellow | CE2: Red | CF2: Blue | CG2: White | CH2: Yellow | CI2: Red | CJ2: Blue | CK2: White | CL2: Yellow | CM2: Red | CN2: Blue | CO2: White | CP2: Yellow | CQ2: Red | CR2: Blue | CS2: White | CT2: Yellow | CU2: Red | CV2: Blue | CW2: White | CX2: Yellow | CY2: Red | CZ2: Blue | DA2: White | DB2: Yellow | DC2: Red | DD2: Blue | DE2: White | DF2: Yellow | DG2: Red | DH2: Blue | DI2: White | DJ2: Yellow | DK2: Red | DL2: Blue | DM2: White | DN2: Yellow | DO2: Red | DP2: Blue | DQ2: White | DR2: Yellow | DS2: Red | DT2: Blue | DU2: White | DV2: Yellow | DW2: Red | DX2: Blue | DY2: White | DZ2: Yellow | EA2: Red | EB2: Blue | EC2: White
A3: KAMAREDDY 100 AND ABOVE BEDS HCFs
A4: 1 | B4: AREAH503111TSBH06149 | C4: AREA HOSPITAL, KAMAREDDY | D4: STATION ROAD, KAMAREDDY - 503111. | E4: 100 | F4: 5 | G4: 5 | J4: 5 | K4: 5 | N4: 5 | O4: 5 | R4: 5 | S4: 5 | V4: 5 | W4: 5 | Z4: 5 | AA4: 5 | AB4: 1 | AC4: 1 | AD4: 6 | AE4: 4 | AF4: 2 | AG4: 1 | AH4: 5 | AI4: 5 | AL4: 5 | AM4: 5 | AP4: 5 | AQ4: 5 | AT4: 5 | AU4: 5 | AX4: 6 | AY4: 4 | BF4: 5 | BG4: 5 | BJ4: 7 | BK4: 4 | BN4: 6 | BO4: 4 | BR4: 5 | BS4: 5 | BV4: 4 | BW4: 4 | BZ4: 5 | CA4: 5 | CH4: 5 | CI4: 5 | CJ4: 2 | CK4: 1 | CL4: 4 | CM4: 4 | CP4: 5 | CQ4: 5 | CT4: 5 | CU4: 4 | CX4: 4 | CY4: 4 | DB4: 4 | DC4: 3 | DF4: 4 | DG4: 3 | DJ4: 4 | DK4: 3 | DN4: 5 | DO4: 5 | DR4: 4 | DS4: 4 | DV4: 5 | DW4: 5 | DZ4: =F4+J4+N4+R4+V4+Z4+AD4+AH4+AL4+AP4+AT4+AX4+BB4+BF4+BJ4+BN4+BR4+BV4+BZ4+CD4+CH4+CL4+CP4+CT4+CX4+DB4+DF4+DJ4+DN4+DR4+DV4 -> 143 | EA4: =G4+K4+O4+S4+W4+AA4+AE4+AI4+AM4+AQ4+AU4+AY4+BC4+BG4+BK4+BO4+BS4+BW4+CA4+CE4+CI4+CM4+CQ4+CU4+CY4+DC4+DG4+DK4+DO4+DS4+DW4 -> 130 | EB4: =H4+L4+P4+T4+X4+AB4+AF4+AJ4+AN4+AR4+AV4+AZ4+BD4+BH4+BL4+BP4+BT4+BX4+CB4+CF4+CJ4+CN4+CR4+CV4+CZ4+DD4+DH4+DL4+DP4+DT4+DX4 -> 5 | EC4: =I4+M4+Q4+U4+Y4+AC4+AG4+AK4+AO4+AS4+AW4+BA4+BE4+BI4+BM4+BQ4+BU4+BY4+CC4+CG4+CK4+CO4+CS4+CW4+DA4+DE4+DI4+DM4+DQ4+DU4+DY4 -> 3
A5: 2 | B5: JEEVA503111TSBH06112 | C5: JEEVADAN HOSPITAL | D5: NIZAM SAGAR ROAD, KAMAREDDY - 503111. | E5: 100 | F5: 5 | G5: 5 | J5: 5 | K5: 5 | N5: 4 | O5: 4 | R5: 4 | S5: 4 | V5: 5 | W5: 4 | Z5: 5 | AA5: 4 | AB5: 1 | AD5: 4 | AE5: 4 | AH5: 4 | AI5: 4 | AL5: 4 | AM5: 4 | AP5: 4 | AQ5: 4 | AT5: 5 | AU5: 3 | AX5: 4 | AY5: 4 | BF5: 5 | BG5: 5 | BJ5: 5 | BK5: 4 | BN5: 4 | BO5: 4 | BR5: 4 | BS5: 4 | BV5: 4 | BW5: 4 | BZ5: 5 | CA5: 5 | CH5: 4 | CI5: 4 | CL5: 4 | CM5: 3 | CP5: 4 | CQ5: 4 | CT5: 4 | CU5: 4 | CX5: 4 | CY5: 4 | DB5: 4 | DC5: 3 | DF5: 4 | DG5: 3 | DJ5: 4 | DK5: 3 | DN5: 4 | DO5: 4 | DR5: 3 | DS5: 3 | DV5: 4 | DW5: 4 | DZ5: =F5+J5+N5+R5+V5+Z5+AD5+AH5+AL5+AP5+AT5+AX5+BB5+BF5+BJ5+BN5+BR5+BV5+BZ5+CD5+CH5+CL5+CP5+CT5+CX5+DB5+DF5+DJ5+DN5+DR5+DV5 -> 123 | EA5: =G5+K5+O5+S5+W5+AA5+AE5+AI5+AM5+AQ5+AU5+AY5+BC5+BG5+BK5+BO5+BS5+BW5+CA5+CE5+CI5+CM5+CQ5+CU5+CY5+DC5+DG5+DK5+DO5+DS5+DW5 -> 114 | EB5: =H5+L5+P5+T5+X5+AB5+AF5+AJ5+AN5+AR5+AV5+AZ5+BD5+BH5+BL5+BP5+BT5+BX5+CB5+CF5+CJ5+CN5+CR5+CV5+CZ5+DD5+DH5+DL5+DP5+DT5+DX5 -> 1 | EC5: =I5+M5+Q5+U5+Y5+AC5+AG5+AK5+AO5+AS5+AW5+BA5+BE5+BI5+BM5+BQ5+BU5+BY5+CC5+CG5+CK5+CO5+CS5+CW5+DA5+DE5+DI5+DM5+DQ5+DU5+DY5 -> 0
A6: 3 | B6: AREAH503187TSBH08193 | C6: AREA HOSPITAL, BANSWADA | D6: BESIDE POST OFFFICE, BANSWADA - 503187 | E6: 100 | F6: 5 | G6: 5 | J6: 5 | K6: 5 | N6: 5 | O6: 5 | R6: 4 | S6: 4 | V6: 5 | W6: 5 | Z6: 5 | AA6: 5 | AB6: 1 | AC6: 1 | AD6: 5 | AE6: 3 | AF6: 1 | AG6: 1 | AH6: 5 | AI6: 5 | AL6: 5 | AP6: 5 | AQ6: 5 | AT6: 5 | AU6: 5 | AX6: 5 | AY6: 4 | BF6: 5 | BG6: 5 | BJ6: 5 | BK6: 5 | BN6: 5 | BO6: 5 | BR6: 4 | BS6: 4 | BV6: 4 | BW6: 3 | BZ6: 5 | CA6: 4 | CH6: 4 | CI6: 4 | CJ6: 1 | CK6: 1 | CL6: 4 | CM6: 4 | CP6: 5 | CQ6: 5 | CT6: 5 | CU6: 4 | CX6: 5 | CY6: 4 | DB6: 5 | DC6: 2 | DF6: 5 | DG6: 2 | DJ6: 5 | DK6: 2 | DN6: 5 | DO6: 5 | DR6: 5 | DV6: 5 | DW6: 5 | DZ6: =F6+J6+N6+R6+V6+Z6+AD6+AH6+AL6+AP6+AT6+AX6+BB6+BF6+BJ6+BN6+BR6+BV6+BZ6+CD6+CH6+CL6+CP6+CT6+CX6+DB6+DF6+DJ6+DN6+DR6+DV6 -> 140 | EA6: =G6+K6+O6+S6+W6+AA6+AE6+AI6+AM6+AQ6+AU6+AY6+BC6+BG6+BK6+BO6+BS6+BW6+CA6+CE6+CI6+CM6+CQ6+CU6+CY6+DC6+DG6+DK6+DO6+DS6+DW6 -> 114 | EB6: =H6+L6+P6+T6+X6+AB6+AF6+AJ6+AN6+AR6+AV6+AZ6+BD6+BH6+BL6+BP6+BT6+BX6+CB6+CF6+CJ6+CN6+CR6+CV6+CZ6+DD6+DH6+DL6+DP6+DT6+DX6 -> 3 | EC6: =I6+M6+Q6+U6+Y6+AC6+AG6+AK6+AO6+AS6+AW6+BA6+BE6+BI6+BM6+BQ6+BU6+BY6+CC6+CG6+CK6+CO6+CS6+CW6+DA6+DE6+DI6+DM6+DQ6+DU6+DY6 -> 3
A7: BELOW 100 BEDS HCFs
A8: KAMAREDDY
A9: 1 | B9: LIFEH503111TSBH10120 | C9: LIFE HOSPITAL | D9: H.NO.1-5-518/7, OPP: RAJEEV PARK, SIRICILLA ROAD, KAMAREDDY - 503111. | E9: 50 | F9: 5 | G9: 5 | J9: 5 | K9: 5 | N9: 5 | O9: 3 | R9: 5 | S9: 2 | V9: 5 | W9: 3 | Z9: 5 | AA9: 3 | AB9: 1 | AD9: 5 | AE9: 5 | AF9: 2 | AG9: 1 | AH9: 5 | AI9: 2 | AL9: 3 | AM9: 2 | AP9: 3 | AQ9: 1 | AT9: 3 | AU9: 2 | AX9: 4 | AY9: 1 | BF9: 3 | BG9: 2 | BJ9: 3 | BK9: 2 | BN9: 3 | BO9: 2 | BR9: 4 | BS9: 3 | BV9: 3 | BW9: 2 | BZ9: 2 | CA9: 2 | CH9: 3 | CI9: 2 | CL9: 3 | CP9: 3 | CQ9: 2 | CT9: 3 | CX9: 3 | CY9: 1 | DB9: 3 | DF9: 3 | DJ9: 3 | DN9: 2 | DO9: 1 | DR9: 3 | DS9: 1 | DV9: 3 | DW9: 2 | DZ9: =F9+J9+N9+R9+V9+Z9+AD9+AH9+AL9+AP9+AT9+AX9+BB9+BF9+BJ9+BN9+BR9+BV9+BZ9+CD9+CH9+CL9+CP9+CT9+CX9+DB9+DF9+DJ9+DN9+DR9+DV9 -> 103 | EA9: =G9+K9+O9+S9+W9+AA9+AE9+AI9+AM9+AQ9+AU9+AY9+BC9+BG9+BK9+BO9+BS9+BW9+CA9+CE9+CI9+CM9+CQ9+CU9+CY9+DC9+DG9+DK9+DO9+DS9+DW9 -> 56 | EB9: =H9+L9+P9+T9+X9+AB9+AF9+AJ9+AN9+AR9+AV9+AZ9+BD9+BH9+BL9+BP9+BT9+BX9+CB9+CF9+CJ9+CN9+CR9+CV9+CZ9+DD9+DH9+DL9+DP9+DT9+DX9 -> 3 | EC9: =I9+M9+Q9+U9+Y9+AC9+AG9+AK9+AO9+AS9+AW9+BA9+BE9+BI9+BM9+BQ9+BU9+BY9+CC9+CG9+CK9+CO9+CS9+CW9+DA9+DE9+DI9+DM9+DQ9+DU9+DY9 -> 1
A10: 2 | B10: SHISH503111TSBH11233 | C10: SHISHURAKSHA THIRUMALA CHILDREN'S HOSPITAL | D10: H.No. 1-7-68, SIRICILLA ROAD, KAMAREDDY - 503111 | E10: 50 | F10: 5 | G10: 5 | J10: 5 | K10: 5 | N10: 5 | O10: 2 | R10: 5 | S10: 2 | V10: 5 | W10: 3 | Z10: 5 | AA10: 3 | AB10: 1 | AD10: 5 | AE10: 5 | AF10: 2 | AG10: 1 | AH10: 5 | AI10: 2 | AL10: 3 | AM10: 2 | AP10: 3 | AQ10: 1 | AT10: 3 | AU10: 2 | AX10: 4 | AY10: 1 | BF10: 3 | BG10: 2 | BJ10: 4 | BK10: 1 | BN10: 4 | BO10: 1 | BR10: 4 | BS10: 2 | BV10: 3 | BW10: 2 | BZ10: 2 | CA10: 2 | CH10: 3 | CI10: 2 | CL10: 3 | CP10: 3 | CQ10: 2 | CT10: 3 | CX10: 2 | CY10: 1 | DB10: 2 | DF10: 2 | DJ10: 2 | DN10: 2 | DO10: 1 | DR10: 3 | DS10: 1 | DV10: 4 | DW10: 1 | DZ10: =F10+J10+N10+R10+V10+Z10+AD10+AH10+AL10+AP10+AT10+AX10+BB10+BF10+BJ10+BN10+BR10+BV10+BZ10+CD10+CH10+CL10+CP10+CT10+CX10+DB10+DF10+DJ10+DN10+DR10+DV10 -> 102 | EA10: =G10+K10+O10+S10+W10+AA10+AE10+AI10+AM10+AQ10+AU10+AY10+BC10+BG10+BK10+BO10+BS10+BW10+CA10+CE10+CI10+CM10+CQ10+CU10+CY10+DC10+DG10+DK10+DO10+DS10+DW10 -> 51 | EB10: =H10+L10+P10+T10+X10+AB10+AF10+AJ10+AN10+AR10+AV10+AZ10+BD10+BH10+BL10+BP10+BT10+BX10+CB10+CF10+CJ10+CN10+CR10+CV10+CZ10+DD10+DH10+DL10+DP10+DT10+DX10 -> 3 | EC10: =I10+M10+Q10+U10+Y10+AC10+AG10+AK10+AO10+AS10+AW10+BA10+BE10+BI10+BM10+BQ10+BU10+BY10+CC10+CG10+CK10+CO10+CS10+CW10+DA10+DE10+DI10+DM10+DQ10+DU10+DY10 -> 1
A11: 3 | B11: SRIME503111TSBH16237 | C11: SRI MEDICARE HOSPITAL | D11: H.No: 5-3-69/1, KOUNDINYA BUILDING, OPP: R & B GUEST HOUSE, KAMAREDDY - 503111. | E11: 50 | F11: 5 | G11: 4 | J11: 5 | K11: 4 | N11: 5 | O11: 3 | R11: 5 | S11: 2 | V11: 5 | W11: 3 | Z11: 5 | AA11: 3 | AB11: 1 | AD11: 5 | AE11: 5 | AF11: 2 | AG11: 1 | AH11: 5 | AI11: 2 | AL11: 3 | AM11: 2 | AP11: 3 | AQ11: 1 | AT11: 4 | AU11: 1 | AX11: 4 | AY11: 1 | BF11: 3 | BG11: 2 | BJ11: 3 | BK11: 2 | BN11: 3 | BO11: 2 | BR11: 3 | BS11: 2 | BV11: 3 | BW11: 2 | BZ11: 3 | CA11: 2 | CH11: 4 | CI11: 1 | CL11: 4 | CP11: 4 | CQ11: 1 | CT11: 3 | CX11: 3 | CY11: 2 | DB11: 3 | DF11: 3 | DJ11: 3 | DN11: 2 | DO11: 1 | DR11: 3 | DS11: 1 | DV11: 3 | DW11: 2 | DZ11: =F11+J11+N11+R11+V11+Z11+AD11+AH11+AL11+AP11+AT11+AX11+BB11+BF11+BJ11+BN11+BR11+BV11+BZ11+CD11+CH11+CL11+CP11+CT11+CX11+DB11+DF11+DJ11+DN11+DR11+DV11 -> 107 | EA11: =G11+K11+O11+S11+W11+AA11+AE11+AI11+AM11+AQ11+AU11+AY11+BC11+BG11+BK11+BO11+BS11+BW11+CA11+CE11+CI11+CM11+CQ11+CU11+CY11+DC11+DG11+DK11+DO11+DS11+DW11 -> 51 | EB11: =H11+L11+P11+T11+X11+AB11+AF11+AJ11+AN11+AR11+AV11+AZ11+BD11+BH11+BL11+BP11+BT11+BX11+CB11+CF11+CJ11+CN11+CR11+CV11+CZ11+DD11+DH11+DL11+DP11+DT11+DX11 -> 3 | EC11: =I11+M11+Q11+U11+Y11+AC11+AG11+AK11+AO11+AS11+AW11+BA11+BE11+BI11+BM11+BQ11+BU11+BY11+CC11+CG11+CK11+CO11+CS11+CW11+DA11+DE11+DI11+DM11+DQ11+DU11+DY11 -> 1
A12: 4 | B12: DRKAN503001TSBH00942 | C12: Dr. K ANJAL REDDY MEMORIAL HOSPITAL | D12: NETHAJI ROAD, KAMAREDDY - 503111. | E12: 30 | F12: 3 | G12: 2 | J12: 3 | K12: 2 | N12: 3 | O12: 2 | R12: 3 | S12: 2 | V12: 3 | W12: 2 | Z12: 3 | AA12: 2 | AD12: 3 | AE12: 2 | AH12: 5 | AI12: 1 | AL12: 3 | AM12: 2 | AP12: 3 | AQ12: 1 | AT12: 3 | AU12: 2 | AX12: 3 | AY12: 1 | BF12: 3 | BG12: 2 | BJ12: 3 | BK12: 3 | BN12: 3 | BO12: 2 | BR12: 4 | BS12: 1 | BV12: 3 | BW12: 1 | BZ12: 2 | CA12: 1 | CH12: 2 | CI12: 1 | CL12: 2 | CP12: 2 | CQ12: 2 | CT12: 2 | CX12: 2 | CY12: 1 | DB12: 2 | DF12: 2 | DJ12: 2 | DN12: 2 | DO12: 1 | DR12: 2 | DS12: 1 | DV12: 2 | DW12: 1 | DZ12: =F12+J12+N12+R12+V12+Z12+AD12+AH12+AL12+AP12+AT12+AX12+BB12+BF12+BJ12+BN12+BR12+BV12+BZ12+CD12+CH12+CL12+CP12+CT12+CX12+DB12+DF12+DJ12+DN12+DR12+DV12 -> 78 | EA12: =G12+K12+O12+S12+W12+AA12+AE12+AI12+AM12+AQ12+AU12+AY12+BC12+BG12+BK12+BO12+BS12+BW12+CA12+CE12+CI12+CM12+CQ12+CU12+CY12+DC12+DG12+DK12+DO12+DS12+DW12 -> 38 | EB12: =H12+L12+P12+T12+X12+AB12+AF12+AJ12+AN12+AR12+AV12+AZ12+BD12+BH12+BL12+BP12+BT12+BX12+CB12+CF12+CJ12+CN12+CR12+CV12+CZ12+DD12+DH12+DL12+DP12+DT12+DX12 -> 0 | EC12: =I12+M12+Q12+U12+Y12+AC12+AG12+AK12+AO12+AS12+AW12+BA12+BE12+BI12+BM12+BQ12+BU12+BY12+CC12+CG12+CK12+CO12+CS12+CW12+DA12+DE12+DI12+DM12+DQ12+DU12+DY12 -> 0
A13: 5 | B13: DEVIH503111TSBH08368 | C13: DEVI HOSPITAL | D13: H.No.5-6-417, BESIDE ANDHRA BANK, R.K. LODGE ROAD, NGO'S COLONY, KAMAREDDY - 503111. | E13: 25 | F13: 2 | G13: 1 | J13: 2 | K13: 1 | N13: 3 | O13: 1 | R13: 3 | S13: 1 | V13: 3 | W13: 1 | Z13: 3 | AA13: 1 | AC13: 1 | AD13: 3 | AE13: 1 | AH13: 3 | AI13: 2 | AL13: 2 | AM13: 1 | AP13: 2 | AT13: 3 | AX13: 2 | BF13: 2 | BG13: 1 | BJ13: 2 | BK13: 1 | BN13: 2 | BO13: 1 | BR13: 3 | BS13: 2 | BV13: 3 | BW13: 2 | BZ13: 2 | CH13: 2 | CL13: 2 | CP13: 2 | CQ13: 1 | CU13: 1 | CX13: 1 | CY13: 1 | DB13: 1 | DF13: 1 | DJ13: 1 | DN13: 1 | DO13: 1 | DR13: 2 | DV13: 2 | DZ13: =F13+J13+N13+R13+V13+Z13+AD13+AH13+AL13+AP13+AT13+AX13+BB13+BF13+BJ13+BN13+BR13+BV13+BZ13+CD13+CH13+CL13+CP13+CT13+CX13+DB13+DF13+DJ13+DN13+DR13+DV13 -> 60 | EA13: =G13+K13+O13+S13+W13+AA13+AE13+AI13+AM13+AQ13+AU13+AY13+BC13+BG13+BK13+BO13+BS13+BW13+CA13+CE13+CI13+CM13+CQ13+CU13+CY13+DC13+DG13+DK13+DO13+DS13+DW13 -> 21 | EB13: =H13+L13+P13+T13+X13+AB13+AF13+AJ13+AN13+AR13+AV13+AZ13+BD13+BH13+BL13+BP13+BT13+BX13+CB13+CF13+CJ13+CN13+CR13+CV13+CZ13+DD13+DH13+DL13+DP13+DT13+DX13 -> 0 | EC13: =I13+M13+Q13+U13+Y13+AC13+AG13+AK13+AO13+AS13+AW13+BA13+BE13+BI13+BM13+BQ13+BU13+BY13+CC13+CG13+CK13+CO13+CS13+CW13+DA13+DE13+DI13+DM13+DQ13+DU13+DY13 -> 1
A14: 6 | B14: JAYAM503111TSBH00986 | C14: JAYA MULTI SPECIALITY HOSPITAL | D14: BESIDE ARYABATTA JUNIOR COLLEGE, KAMAREDDY - 503111. | E14: 25 | F14: 2 | G14: 1 | J14: 2 | K14: 1 | N14: 3 | O14: 1 | R14: 3 | S14: 1 | V14: 3 | W14: 1 | Z14: 3 | AA14: 1 | AB14: 1 | AD14: 3 | AE14: 1 | AH14: 3 | AI14: 1 | AL14: 2 | AM14: 1 | AP14: 2 | AT14: 3 | AX14: 2 | BF14: 2 | BG14: 1 | BJ14: 2 | BK14: 1 | BN14: 3 | BO14: 1 | BR14: 3 | BS14: 2 | BV14: 3 | BW14: 2 | BZ14: 2 | CH14: 2 | CL14: 2 | CP14: 2 | CT14: 2 | CX14: 2 | DB14: 2 | DF14: 2 | DJ14: 2 | DN14: 2 | DO14: 1 | DR14: 2 | DS14: 1 | DV14: 2 | DW14: 1 | DZ14: =F14+J14+N14+R14+V14+Z14+AD14+AH14+AL14+AP14+AT14+AX14+BB14+BF14+BJ14+BN14+BR14+BV14+BZ14+CD14+CH14+CL14+CP14+CT14+CX14+DB14+DF14+DJ14+DN14+DR14+DV14 -> 68 | EA14: =G14+K14+O14+S14+W14+AA14+AE14+AI14+AM14+AQ14+AU14+AY14+BC14+BG14+BK14+BO14+BS14+BW14+CA14+CE14+CI14+CM14+CQ14+CU14+CY14+DC14+DG14+DK14+DO14+DS14+DW14 -> 19 | EB14: =H14+L14+P14+T14+X14+AB14+AF14+AJ14+AN14+AR14+AV14+AZ14+BD14+BH14+BL14+BP14+BT14+BX14+CB14+CF14+CJ14+CN14+CR14+CV14+CZ14+DD14+DH14+DL14+DP14+DT14+DX14 -> 1 | EC14: =I14+M14+Q14+U14+Y14+AC14+AG14+AK14+AO14+AS14+AW14+BA14+BE14+BI14+BM14+BQ14+BU14+BY14+CC14+CG14+CK14+CO14+CS14+CW14+DA14+DE14+DI14+DM14+DQ14+DU14+DY14 -> 0
A15: 7 | B15: AKHIL503111TSBH09690 | C15: AKHILA HOSPITAL | D15: N.H.7 ROAD, VIKASNAGAR COLONY, I.B.P. OPP: PETROL BUNK, KAMAREDDY - 503111. | E15: 20 | F15: 2 | G15: 1 | J15: 2 | K15: 1 | N15: 2 | O15: 1 | R15: 3 | S15: 1 | V15: 3 | W15: 1 | Z15: 2 | AA15: 1 | AD15: 2 | AE15: 1 | AH15: 2 | AI15: 1 | AL15: 2 | AM15: 1 | AP15: 2 | AT15: 2 | AX15: 2 | BF15: 2 | BG15: 1 | BJ15: 2 | BK15: 1 | BN15: 2 | BO15: 1 | BR15: 2 | BS15: 1 | BV15: 2 | BW15: 1 | BZ15: 2 | CH15: 2 | CL15: 2 | CP15: 2 | CU15: 1 | CX15: 1 | CY15: 1 | DB15: 1 | DF15: 1 | DJ15: 1 | DO15: 1 | DZ15: =F15+J15+N15+R15+V15+Z15+AD15+AH15+AL15+AP15+AT15+AX15+BB15+BF15+BJ15+BN15+BR15+BV15+BZ15+CD15+CH15+CL15+CP15+CT15+CX15+DB15+DF15+DJ15+DN15+DR15+DV15 -> 48 | EA15: =G15+K15+O15+S15+W15+AA15+AE15+AI15+AM15+AQ15+AU15+AY15+BC15+BG15+BK15+BO15+BS15+BW15+CA15+CE15+CI15+CM15+CQ15+CU15+CY15+DC15+DG15+DK15+DO15+DS15+DW15 -> 17 | EB15: =H15+L15+P15+T15+X15+AB15+AF15+AJ15+AN15+AR15+AV15+AZ15+BD15+BH15+BL15+BP15+BT15+BX15+CB15+CF15+CJ15+CN15+CR15+CV15+CZ15+DD15+DH15+DL15+DP15+DT15+DX15 -> 0 | EC15: =I15+M15+Q15+U15+Y15+AC15+AG15+AK15+AO15+AS15+AW15+BA15+BE15+BI15+BM15+BQ15+BU15+BY15+CC15+CG15+CK15+CO15+CS15+CW15+DA15+DE15+DI15+DM15+DQ15+DU15+DY15 -> 0
A16: 8 | B16: APEXM503111TSBH11727 | C16: APEX MULTISPECIALTY HOSPITAL | D16: OPPOSITE R & B GUEST HOUSE, OLD NH-7 ROAD, KAMAREDDY - 503111. | E16: 20 | F16: 2 | G16: 1 | J16: 2 | K16: 1 | N16: 2 | O16: 1 | R16: 3 | S16: 1 | V16: 3 | W16: 1 | Z16: 2 | AA16: 1 | AB16: 1 | AC16: 1 | AD16: 2 | AH16: 2 | AL16: 2 | AP16: 2 | AU16: 1 | AX16: 2 | AY16: 1 | BF16: 2 | BG16: 1 | BJ16: 2 | BK16: 1 | BN16: 3 | BO16: 1 | BR16: 2 | BS16: 1 | BV16: 2 | BW16: 1 | BZ16: 2 | CH16: 2 | CL16: 2 | CP16: 2 | CQ16: 1 | CT16: 2 | CU16: 1 | CX16: 2 | CY16: 1 | DB16: 2 | DF16: 2 | DJ16: 2 | DN16: 2 | DR16: 2 | DV16: 2 | DZ16: =F16+J16+N16+R16+V16+Z16+AD16+AH16+AL16+AP16+AT16+AX16+BB16+BF16+BJ16+BN16+BR16+BV16+BZ16+CD16+CH16+CL16+CP16+CT16+CX16+DB16+DF16+DJ16+DN16+DR16+DV16 -> 59 | EA16: =G16+K16+O16+S16+W16+AA16+AE16+AI16+AM16+AQ16+AU16+AY16+BC16+BG16+BK16+BO16+BS16+BW16+CA16+CE16+CI16+CM16+CQ16+CU16+CY16+DC16+DG16+DK16+DO16+DS16+DW16 -> 16 | EB16: =H16+L16+P16+T16+X16+AB16+AF16+AJ16+AN16+AR16+AV16+AZ16+BD16+BH16+BL16+BP16+BT16+BX16+CB16+CF16+CJ16+CN16+CR16+CV16+CZ16+DD16+DH16+DL16+DP16+DT16+DX16 -> 1 | EC16: =I16+M16+Q16+U16+Y16+AC16+AG16+AK16+AO16+AS16+AW16+BA16+BE16+BI16+BM16+BQ16+BU16+BY16+CC16+CG16+CK16+CO16+CS16+CW16+DA16+DE16+DI16+DM16+DQ16+DU16+DY16 -> 1
A17: 9 | B17: MAATR503111TSBH14019 | C17: MAATRUSRI HOSPITAL MATERNITY & SURGICAL, KAMAREDDY | D17: H.NO. 1-5-209, SIRICILLA ROAD, OPP: ROAD OF GUNJ GATE, BESIDE SRIRAM CT SCAN, NETHAJI ROAD, KAMAREDDY,Kamareddy ( U ),Kamareddy,KAMAREDDY,503111 | E17: 20 | F17: 2 | G17: 1 | J17: 2 | K17: 1 | N17: 2 | O17: 1 | R17: 3 | S17: 1 | V17: 3 | W17: 1 | Z17: 2 | AA17: 1 | AD17: 2 | AE17: 1 | AH17: 2 | AI17: 1 | AL17: 2 | AM17: 1 | AP17: 2 | AT17: 2 | AX17: 2 | BF17: 2 | BG17: 1 | BJ17: 2 | BK17: 1 | BN17: 3 | BO17: 1 | BR17: 2 | BS17: 1 | BV17: 2 | BW17: 1 | BZ17: 2 | CH17: 2 | CL17: 2 | CP17: 2 | CU17: 1 | CX17: 1 | CY17: 1 | DB17: 1 | DF17: 1 | DJ17: 1 | DN17: 2 | DR17: 1 | DV17: 1 | DZ17: =F17+J17+N17+R17+V17+Z17+AD17+AH17+AL17+AP17+AT17+AX17+BB17+BF17+BJ17+BN17+BR17+BV17+BZ17+CD17+CH17+CL17+CP17+CT17+CX17+DB17+DF17+DJ17+DN17+DR17+DV17 -> 53 | EA17: =G17+K17+O17+S17+W17+AA17+AE17+AI17+AM17+AQ17+AU17+AY17+BC17+BG17+BK17+BO17+BS17+BW17+CA17+CE17+CI17+CM17+CQ17+CU17+CY17+DC17+DG17+DK17+DO17+DS17+DW17 -> 16 | EB17: =H17+L17+P17+T17+X17+AB17+AF17+AJ17+AN17+AR17+AV17+AZ17+BD17+BH17+BL17+BP17+BT17+BX17+CB17+CF17+CJ17+CN17+CR17+CV17+CZ17+DD17+DH17+DL17+DP17+DT17+DX17 -> 0 | EC17: =I17+M17+Q17+U17+Y17+AC17+AG17+AK17+AO17+AS17+AW17+BA17+BE17+BI17+BM17+BQ17+BU17+BY17+CC17+CG17+CK17+CO17+CS17+CW17+DA17+DE17+DI17+DM17+DQ17+DU17+DY17 -> 0
A18: 10 | B18: RAJYA503111TSBH02589 | C18: RAJYALAKSHMI NURSING HOME | D18: H.No.1-5-124/10, OPP: BHOOPUTHRAMMA FUNCTION HALL, KAMAREDDY - 503111. | E18: 20 | F18: 2 | G18: 1 | J18: 2 | K18: 1 | N18: 2 | O18: 1 | R18: 3 | S18: 1 | V18: 3 | W18: 1 | Z18: 2 | AA18: 1 | AD18: 2 | AE18: 1 | AH18: 2 | AI18: 1 | AL18: 2 | AM18: 1 | AP18: 2 | AU18: 1 | AX18: 2 | AY18: 1 | BF18: 2 | BG18: 1 | BJ18: 2 | BK18: 1 | BN18: 2 | BO18: 1 | BR18: 2 | BS18: 1 | BV18: 2 | BW18: 1 | BZ18: 2 | CH18: 2 | CL18: 2 | CP18: 2 | CT18: 2 | CU18: 1 | CX18: 2 | CY18: 1 | DB18: 2 | DF18: 2 | DJ18: 2 | DO18: 1 | DZ18: =F18+J18+N18+R18+V18+Z18+AD18+AH18+AL18+AP18+AT18+AX18+BB18+BF18+BJ18+BN18+BR18+BV18+BZ18+CD18+CH18+CL18+CP18+CT18+CX18+DB18+DF18+DJ18+DN18+DR18+DV18 -> 52 | EA18: =G18+K18+O18+S18+W18+AA18+AE18+AI18+AM18+AQ18+AU18+AY18+BC18+BG18+BK18+BO18+BS18+BW18+CA18+CE18+CI18+CM18+CQ18+CU18+CY18+DC18+DG18+DK18+DO18+DS18+DW18 -> 19 | EB18: =H18+L18+P18+T18+X18+AB18+AF18+AJ18+AN18+AR18+AV18+AZ18+BD18+BH18+BL18+BP18+BT18+BX18+CB18+CF18+CJ18+CN18+CR18+CV18+CZ18+DD18+DH18+DL18+DP18+DT18+DX18 -> 0 | EC18: =I18+M18+Q18+U18+Y18+AC18+AG18+AK18+AO18+AS18+AW18+BA18+BE18+BI18+BM18+BQ18+BU18+BY18+CC18+CG18+CK18+CO18+CS18+CW18+DA18+DE18+DI18+DM18+DQ18+DU18+DY18 -> 0
A19: 11 | B19: SHRAV503111TSBH09936 | C19: SHRAVANI EYE HOSPITAL | D19: BESIDE T. BAIRAIAH MEMORIAL HOSPITAL, GODOWN ROAD, KAMAREDDY - 503111. | E19: 20 | F19: 1 | G19: 1 | J19: 1 | K19: 1 | N19: 1 | R19: 1 | V19: 1 | Z19: 1 | AD19: 1 | AH19: 1 | AL19: 1 | AP19: 1 | AT19: 1 | AX19: 1 | BF19: 1 | BJ19: 1 | BO19: 1 | BR19: 1 | BV19: 1 | CH19: 1 | CL19: 1 | CP19: 1 | CT19: 1 | CX19: 2 | DB19: 2 | DF19: 2 | DJ19: 2 | DZ19: =F19+J19+N19+R19+V19+Z19+AD19+AH19+AL19+AP19+AT19+AX19+BB19+BF19+BJ19+BN19+BR19+BV19+BZ19+CD19+CH19+CL19+CP19+CT19+CX19+DB19+DF19+DJ19+DN19+DR19+DV19 -> 28 | EA19: =G19+K19+O19+S19+W19+AA19+AE19+AI19+AM19+AQ19+AU19+AY19+BC19+BG19+BK19+BO19+BS19+BW19+CA19+CE19+CI19+CM19+CQ19+CU19+CY19+DC19+DG19+DK19+DO19+DS19+DW19 -> 3 | EB19: =H19+L19+P19+T19+X19+AB19+AF19+AJ19+AN19+AR19+AV19+AZ19+BD19+BH19+BL19+BP19+BT19+BX19+CB19+CF19+CJ19+CN19+CR19+CV19+CZ19+DD19+DH19+DL19+DP19+DT19+DX19 -> 0 | EC19: =I19+M19+Q19+U19+Y19+AC19+AG19+AK19+AO19+AS19+AW19+BA19+BE19+BI19+BM19+BQ19+BU19+BY19+CC19+CG19+CK19+CO19+CS19+CW19+DA19+DE19+DI19+DM19+DQ19+DU19+DY19 -> 0
A20: 12 | B20: SREEG503111TSBH00895 | C20: SREE GANESHA MULTI SPECIALITY HOSPITAL | D20: H.No.1-7-73, DAILY MARKET, THILAK ROAD, KAMAREDDY - 503111. | E20: 20 | F20: 2 | G20: 1 | J20: 2 | K20: 1 | N20: 2 | O20: 1 | R20: 3 | S20: 1 | V20: 3 | W20: 1 | Z20: 2 | AA20: 1 | AD20: 2 | AH20: 2 | AL20: 2 | AP20: 2 | AT20: 2 | AX20: 2 | BF20: 2 | BG20: 1 | BJ20: 2 | BK20: 1 | BN20: 2 | BO20: 1 | BR20: 2 | BS20: 1 | BV20: 2 | BW20: 1 | BZ20: 2 | CH20: 2 | CL20: 2 | CP20: 2 | CQ20: 1 | CU20: 1 | CY20: 1 | DZ20: =F20+J20+N20+R20+V20+Z20+AD20+AH20+AL20+AP20+AT20+AX20+BB20+BF20+BJ20+BN20+BR20+BV20+BZ20+CD20+CH20+CL20+CP20+CT20+CX20+DB20+DF20+DJ20+DN20+DR20+DV20 -> 44 | EA20: =G20+K20+O20+S20+W20+AA20+AE20+AI20+AM20+AQ20+AU20+AY20+BC20+BG20+BK20+BO20+BS20+BW20+CA20+CE20+CI20+CM20+CQ20+CU20+CY20+DC20+DG20+DK20+DO20+DS20+DW20 -> 14 | EB20: =H20+L20+P20+T20+X20+AB20+AF20+AJ20+AN20+AR20+AV20+AZ20+BD20+BH20+BL20+BP20+BT20+BX20+CB20+CF20+CJ20+CN20+CR20+CV20+CZ20+DD20+DH20+DL20+DP20+DT20+DX20 -> 0 | EC20: =I20+M20+Q20+U20+Y20+AC20+AG20+AK20+AO20+AS20+AW20+BA20+BE20+BI20+BM20+BQ20+BU20+BY20+CC20+CG20+CK20+CO20+CS20+CW20+DA20+DE20+DI20+DM20+DQ20+DU20+DY20 -> 0
A21: 13 | B21: SRIJA503111TSBH06130 | C21: SRI JANANI MOTHER & CHILD HOPSITAL | D21: GOWDOWN ROAD, BEHIND GANGA CHILDRENS HOSPITAL, NEAR POOJA DIAGNOSTICS CENTRE , KAMAREDDY - 503111. | E21: 20 | F21: 2 | G21: 1 | J21: 2 | K21: 1 | N21: 2 | O21: 1 | R21: 3 | S21: 1 | V21: 3 | W21: 1 | Z21: 2 | AA21: 1 | AD21: 2 | AE21: 1 | AH21: 2 | AI21: 1 | AL21: 2 | AM21: 1 | AP21: 2 | AU21: 1 | AX21: 2 | AY21: 1 | BF21: 2 | BG21: 1 | BJ21: 2 | BK21: 1 | BN21: 3 | BO21: 1 | BR21: 2 | BS21: 1 | BV21: 2 | BW21: 1 | BZ21: 2 | CH21: 2 | CL21: 2 | CP21: 2 | CT21: 1 | CX21: 1 | DB21: 1 | DF21: 1 | DJ21: 1 | DO21: 1 | DS21: 1 | DW21: 1 | DZ21: =F21+J21+N21+R21+V21+Z21+AD21+AH21+AL21+AP21+AT21+AX21+BB21+BF21+BJ21+BN21+BR21+BV21+BZ21+CD21+CH21+CL21+CP21+CT21+CX21+DB21+DF21+DJ21+DN21+DR21+DV21 -> 48 | EA21: =G21+K21+O21+S21+W21+AA21+AE21+AI21+AM21+AQ21+AU21+AY21+BC21+BG21+BK21+BO21+BS21+BW21+CA21+CE21+CI21+CM21+CQ21+CU21+CY21+DC21+DG21+DK21+DO21+DS21+DW21 -> 19 | EB21: =H21+L21+P21+T21+X21+AB21+AF21+AJ21+AN21+AR21+AV21+AZ21+BD21+BH21+BL21+BP21+BT21+BX21+CB21+CF21+CJ21+CN21+CR21+CV21+CZ21+DD21+DH21+DL21+DP21+DT21+DX21 -> 0 | EC21: =I21+M21+Q21+U21+Y21+AC21+AG21+AK21+AO21+AS21+AW21+BA21+BE21+BI21+BM21+BQ21+BU21+BY21+CC21+CG21+CK21+CO21+CS21+CW21+DA21+DE21+DI21+DM21+DQ21+DU21+DY21 -> 0
A22: 14 | B22: SRISA503111TSBH07063 | C22: SRI SAI SIMHA MULTI SPECIALITY HOME | D22: H.NO. 1-5-192, NETHAJI ROAD, OLD BUS STAND, KAMAREDDY - 503111. | E22: 20 | F22: 2 | G22: 1 | J22: 2 | K22: 1 | N22: 2 | O22: 1 | R22: 3 | S22: 1 | V22: 3 | W22: 1 | Z22: 2 | AA22: 1 | AD22: 2 | AE22: 1 | AH22: 2 | AI22: 1 | AL22: 2 | AM22: 1 | AP22: 2 | AT22: 2 | AX22: 2 | BF22: 2 | BJ22: 2 | BK22: 1 | BN22: 2 | BO22: 1 | BR22: 2 | BS22: 1 | BV22: 2 | BW22: 1 | BZ22: 2 | CH22: 2 | CL22: 2 | CP22: 2 | CT22: 1 | CY22: 1 | DC22: 1 | DG22: 1 | DK22: 1 | DN22: 1 | DR22: 1 | DV22: 1 | DZ22: =F22+J22+N22+R22+V22+Z22+AD22+AH22+AL22+AP22+AT22+AX22+BB22+BF22+BJ22+BN22+BR22+BV22+BZ22+CD22+CH22+CL22+CP22+CT22+CX22+DB22+DF22+DJ22+DN22+DR22+DV22 -> 48 | EA22: =G22+K22+O22+S22+W22+AA22+AE22+AI22+AM22+AQ22+AU22+AY22+BC22+BG22+BK22+BO22+BS22+BW22+CA22+CE22+CI22+CM22+CQ22+CU22+CY22+DC22+DG22+DK22+DO22+DS22+DW22 -> 17 | EB22: =H22+L22+P22+T22+X22+AB22+AF22+AJ22+AN22+AR22+AV22+AZ22+BD22+BH22+BL22+BP22+BT22+BX22+CB22+CF22+CJ22+CN22+CR22+CV22+CZ22+DD22+DH22+DL22+DP22+DT22+DX22 -> 0 | EC22: =I22+M22+Q22+U22+Y22+AC22+AG22+AK22+AO22+AS22+AW22+BA22+BE22+BI22+BM22+BQ22+BU22+BY22+CC22+CG22+CK22+CO22+CS22+CW22+DA22+DE22+DI22+DM22+DQ22+DU22+DY22 -> 0
A23: 15 | B23: SRISA503001TSBH08370 | C23: SRI SAI SRINIVASA HOSPITAL | D23: NEAR PRAKASH RAO EYE HOSPITAL, RAMAREDDY ROAD, KAMAREDDY - 503111. | E23: 20 | F23: 2 | G23: 1 | J23: 2 | K23: 1 | N23: 2 | O23: 1 | R23: 3 | S23: 1 | V23: 3 | W23: 1 | Z23: 2 | AA23: 1 | AD23: 2 | AE23: 1 | AH23: 2 | AI23: 1 | AL23: 2 | AM23: 1 | AP23: 2 | AU23: 1 | AX23: 1 | AY23: 1 | BF23: 1 | BG23: 1 | BJ23: 2 | BK23: 1 | BN23: 2 | BO23: 1 | BR23: 2 | BS23: 1 | BV23: 2 | BW23: 1 | BZ23: 2 | CH23: 2 | CL23: 2 | CP23: 2 | CQ23: 1 | CU23: 1 | CX23: 1 | DB23: 1 | DF23: 1 | DJ23: 1 | DO23: 1 | DS23: 1 | DW23: 1 | DZ23: =F23+J23+N23+R23+V23+Z23+AD23+AH23+AL23+AP23+AT23+AX23+BB23+BF23+BJ23+BN23+BR23+BV23+BZ23+CD23+CH23+CL23+CP23+CT23+CX23+DB23+DF23+DJ23+DN23+DR23+DV23 -> 44 | EA23: =G23+K23+O23+S23+W23+AA23+AE23+AI23+AM23+AQ23+AU23+AY23+BC23+BG23+BK23+BO23+BS23+BW23+CA23+CE23+CI23+CM23+CQ23+CU23+CY23+DC23+DG23+DK23+DO23+DS23+DW23 -> 21 | EB23: =H23+L23+P23+T23+X23+AB23+AF23+AJ23+AN23+AR23+AV23+AZ23+BD23+BH23+BL23+BP23+BT23+BX23+CB23+CF23+CJ23+CN23+CR23+CV23+CZ23+DD23+DH23+DL23+DP23+DT23+DX23 -> 0 | EC23: =I23+M23+Q23+U23+Y23+AC23+AG23+AK23+AO23+AS23+AW23+BA23+BE23+BI23+BM23+BQ23+BU23+BY23+CC23+CG23+CK23+CO23+CS23+CW23+DA23+DE23+DI23+DM23+DQ23+DU23+DY23 -> 0
A24: 16 | B24: THIRU503111TSBH00893 | C24: THIRUMALA NURSING HOME | D24: OPPOSITE LANE OF BUS STATION, AHSOK NAGAR COLONY, KAMAREDDY - 503111. | E24: 20 | F24: 2 | G24: 1 | J24: 2 | K24: 1 | N24: 2 | O24: 1 | R24: 3 | S24: 1 | V24: 3 | W24: 1 | Z24: 2 | AA24: 1 | AD24: 2 | AH24: 2 | AL24: 2 | AP24: 2 | AT24: 2 | AX24: 2 | BF24: 2 | BJ24: 2 | BN24: 1 | BO24: 1 | BR24: 2 | BS24: 1 | BV24: 2 | BW24: 1 | BZ24: 2 | CH24: 2 | CL24: 2 | CP24: 2 | CT24: 2 | CY24: 1 | DC24: 1 | DG24: 1 | DK24: 1 | DN24: 1 | DR24: 1 | DV24: 1 | DZ24: =F24+J24+N24+R24+V24+Z24+AD24+AH24+AL24+AP24+AT24+AX24+BB24+BF24+BJ24+BN24+BR24+BV24+BZ24+CD24+CH24+CL24+CP24+CT24+CX24+DB24+DF24+DJ24+DN24+DR24+DV24 -> 48 | EA24: =G24+K24+O24+S24+W24+AA24+AE24+AI24+AM24+AQ24+AU24+AY24+BC24+BG24+BK24+BO24+BS24+BW24+CA24+CE24+CI24+CM24+CQ24+CU24+CY24+DC24+DG24+DK24+DO24+DS24+DW24 -> 13 | EB24: =H24+L24+P24+T24+X24+AB24+AF24+AJ24+AN24+AR24+AV24+AZ24+BD24+BH24+BL24+BP24+BT24+BX24+CB24+CF24+CJ24+CN24+CR24+CV24+CZ24+DD24+DH24+DL24+DP24+DT24+DX24 -> 0 | EC24: =I24+M24+Q24+U24+Y24+AC24+AG24+AK24+AO24+AS24+AW24+BA24+BE24+BI24+BM24+BQ24+BU24+BY24+CC24+CG24+CK24+CO24+CS24+CW24+DA24+DE24+DI24+DM24+DQ24+DU24+DY24 -> 0
A25: 17 | B25: DRBIS503111TSBH00941 | C25: B. ISHWAR DAS HOSPITAL | D25: H.No. 2-1-2, NEAR RAILWAY BRIDGE, KAMAREDDY - 503111. | E25: 18 | F25: 2 | G25: 1 | J25: 2 | K25: 1 | N25: 2 | O25: 1 | R25: 3 | S25: 1 | V25: 3 | W25: 1 | Z25: 2 | AA25: 1 | AD25: 2 | AE25: 1 | AH25: 2 | AI25: 1 | AL25: 2 | AM25: 1 | AP25: 2 | AU25: 1 | AY25: 1 | BG25: 1 | BK25: 1 | BN25: 1 | BO25: 1 | BR25: 1 | BS25: 1 | BV25: 2 | BW25: 1 | BZ25: 2 | CH25: 2 | CL25: 2 | CP25: 2 | CT25: 1 | CX25: 1 | DB25: 1 | DF25: 1 | DJ25: 1 | DO25: 1 | DV25: 1 | DZ25: =F25+J25+N25+R25+V25+Z25+AD25+AH25+AL25+AP25+AT25+AX25+BB25+BF25+BJ25+BN25+BR25+BV25+BZ25+CD25+CH25+CL25+CP25+CT25+CX25+DB25+DF25+DJ25+DN25+DR25+DV25 -> 40 | EA25: =G25+K25+O25+S25+W25+AA25+AE25+AI25+AM25+AQ25+AU25+AY25+BC25+BG25+BK25+BO25+BS25+BW25+CA25+CE25+CI25+CM25+CQ25+CU25+CY25+DC25+DG25+DK25+DO25+DS25+DW25 -> 17 | EB25: =H25+L25+P25+T25+X25+AB25+AF25+AJ25+AN25+AR25+AV25+AZ25+BD25+BH25+BL25+BP25+BT25+BX25+CB25+CF25+CJ25+CN25+CR25+CV25+CZ25+DD25+DH25+DL25+DP25+DT25+DX25 -> 0 | EC25: =I25+M25+Q25+U25+Y25+AC25+AG25+AK25+AO25+AS25+AW25+BA25+BE25+BI25+BM25+BQ25+BU25+BY25+CC25+CG25+CK25+CO25+CS25+CW25+DA25+DE25+DI25+DM25+DQ25+DU25+DY25 -> 0
A26: 18 | B26: RAJAM503110TSBH01045 | C26: RAJAMPET MULTISPECIALITY HOSPITAL | D26: BUS STAND, RAJAMPET, KAMAREDDY - 503110. | E26: 18 | F26: 2 | G26: 1 | J26: 2 | K26: 1 | N26: 2 | O26: 1 | R26: 2 | S26: 1 | V26: 2 | W26: 1 | Z26: 2 | AA26: 1 | AD26: 2 | AE26: 1 | AH26: 2 | AI26: 1 | AL26: 2 | AM26: 1 | AP26: 2 | AT26: 2 | AX26: 2 | BF26: 2 | BJ26: 2 | BN26: 2 | BO26: 1 | BR26: 2 | BS26: 1 | BV26: 2 | BW26: 1 | BZ26: 2 | CH26: 2 | CL26: 2 | CP26: 2 | CQ26: 1 | CU26: 1 | CY26: 1 | DC26: 1 | DG26: 1 | DK26: 1 | DN26: 1 | DR26: 1 | DV26: 1 | DZ26: =F26+J26+N26+R26+V26+Z26+AD26+AH26+AL26+AP26+AT26+AX26+BB26+BF26+BJ26+BN26+BR26+BV26+BZ26+CD26+CH26+CL26+CP26+CT26+CX26+DB26+DF26+DJ26+DN26+DR26+DV26 -> 45 | EA26: =G26+K26+O26+S26+W26+AA26+AE26+AI26+AM26+AQ26+AU26+AY26+BC26+BG26+BK26+BO26+BS26+BW26+CA26+CE26+CI26+CM26+CQ26+CU26+CY26+DC26+DG26+DK26+DO26+DS26+DW26 -> 18 | EB26: =H26+L26+P26+T26+X26+AB26+AF26+AJ26+AN26+AR26+AV26+AZ26+BD26+BH26+BL26+BP26+BT26+BX26+CB26+CF26+CJ26+CN26+CR26+CV26+CZ26+DD26+DH26+DL26+DP26+DT26+DX26 -> 0 | EC26: =I26+M26+Q26+U26+Y26+AC26+AG26+AK26+AO26+AS26+AW26+BA26+BE26+BI26+BM26+BQ26+BU26+BY26+CC26+CG26+CK26+CO26+CS26+CW26+DA26+DE26+DI26+DM26+DQ26+DU26+DY26 -> 0
A27: 19 | B27: DWARA503111TSBH01022 | C27: DWARAKA CHEST & CHILDREN'S | D27: H.NO.4-1-40, NEAR AMBEDKAR STATUE, RAILWAY BRIDGE, PEDDA BAZAR, KAMAREDDY - 503111. | E27: 15 | F27: 2 | G27: 1 | J27: 2 | K27: 1 | N27: 2 | O27: 1 | R27: 3 | S27: 1 | V27: 3 | W27: 1 | Z27: 2 | AA27: 1 | AD27: 2 | AH27: 2 | AL27: 2 | AP27: 2 | AU27: 1 | AY27: 1 | BG27: 1 | BJ27: 1 | BK27: 1 | BN27: 1 | BO27: 1 | BR27: 1 | BS27: 1 | BV27: 1 | BW27: 1 | BZ27: 1 | CH27: 1 | CL27: 1 | CP27: 1 | CT27: 1 | CX27: 1 | DB27: 1 | DF27: 1 | DJ27: 1 | DO27: 1 | DS27: 1 | DW27: 1 | DZ27: =F27+J27+N27+R27+V27+Z27+AD27+AH27+AL27+AP27+AT27+AX27+BB27+BF27+BJ27+BN27+BR27+BV27+BZ27+CD27+CH27+CL27+CP27+CT27+CX27+DB27+DF27+DJ27+DN27+DR27+DV27 -> 35 | EA27: =G27+K27+O27+S27+W27+AA27+AE27+AI27+AM27+AQ27+AU27+AY27+BC27+BG27+BK27+BO27+BS27+BW27+CA27+CE27+CI27+CM27+CQ27+CU27+CY27+DC27+DG27+DK27+DO27+DS27+DW27 -> 16 | EB27: =H27+L27+P27+T27+X27+AB27+AF27+AJ27+AN27+AR27+AV27+AZ27+BD27+BH27+BL27+BP27+BT27+BX27+CB27+CF27+CJ27+CN27+CR27+CV27+CZ27+DD27+DH27+DL27+DP27+DT27+DX27 -> 0 | EC27: =I27+M27+Q27+U27+Y27+AC27+AG27+AK27+AO27+AS27+AW27+BA27+BE27+BI27+BM27+BQ27+BU27+BY27+CC27+CG27+CK27+CO27+CS27+CW27+DA27+DE27+DI27+DM27+DQ27+DU27+DY27 -> 0
A28: 20 | B28: MYTHR503111TSBH09937 | C28: MYTHRI MULTI SPECIALITY HOSPITAL | D28: BESIDE BALAJI HOSPITAL, NEAR BHUPUTRAMMA KALYANA MANDAPAM, GODOWN ROAD, KAMAREDDY - 503111. | E28: 15 | F28: 2 | G28: 1 | J28: 2 | K28: 1 | N28: 2 | O28: 1 | R28: 2 | S28: 1 | V28: 2 | W28: 1 | Z28: 2 | AA28: 1 | AD28: 2 | AE28: 1 | AH28: 2 | AI28: 1 | AL28: 2 | AM28: 1 | AP28: 2 | AT28: 2 | AX28: 2 | BF28: 2 | BJ28: 2 | BN28: 2 | BR28: 2 | BV28: 2 | BZ28: 2 | CH28: 2 | CL28: 2 | CP28: 2 | CT28: 2 | CY28: 1 | DC28: 1 | DG28: 1 | DK28: 1 | DN28: 1 | DR28: 1 | DV28: 1 | DZ28: =F28+J28+N28+R28+V28+Z28+AD28+AH28+AL28+AP28+AT28+AX28+BB28+BF28+BJ28+BN28+BR28+BV28+BZ28+CD28+CH28+CL28+CP28+CT28+CX28+DB28+DF28+DJ28+DN28+DR28+DV28 -> 47 | EA28: =G28+K28+O28+S28+W28+AA28+AE28+AI28+AM28+AQ28+AU28+AY28+BC28+BG28+BK28+BO28+BS28+BW28+CA28+CE28+CI28+CM28+CQ28+CU28+CY28+DC28+DG28+DK28+DO28+DS28+DW28 -> 13 | EB28: =H28+L28+P28+T28+X28+AB28+AF28+AJ28+AN28+AR28+AV28+AZ28+BD28+BH28+BL28+BP28+BT28+BX28+CB28+CF28+CJ28+CN28+CR28+CV28+CZ28+DD28+DH28+DL28+DP28+DT28+DX28 -> 0 | EC28: =I28+M28+Q28+U28+Y28+AC28+AG28+AK28+AO28+AS28+AW28+BA28+BE28+BI28+BM28+BQ28+BU28+BY28+CC28+CG28+CK28+CO28+CS28+CW28+DA28+DE28+DI28+DM28+DQ28+DU28+DY28 -> 0
A29: 21 | B29: NEWST503111TSBH17392 | C29: NEW STAR HOSPITAL | D29: OPP: SRI KRISHNA NETRALAYA EYE HOSPITAL, GODOWN ROAD, KAMAREDDY | E29: 15 | F29: 2 | G29: 1 | J29: 2 | K29: 1 | N29: 2 | O29: 1 | R29: 2 | S29: 1 | V29: 2 | W29: 1 | Z29: 2 | AA29: 1 | AD29: 2 | AE29: 1 | AH29: 2 | AI29: 1 | AL29: 2 | AM29: 1 | AP29: 2 | AU29: 1 | AY29: 1 | BG29: 1 | BJ29: 1 | BK29: 1 | BN29: 1 | BO29: 1 | BR29: 1 | BS29: 1 | BV29: 1 | BW29: 1 | BZ29: 1 | CH29: 1 | CL29: 1 | CQ29: 1 | CU29: 1 | CX29: 1 | DB29: 1 | DF29: 1 | DJ29: 1 | DO29: 1 | DR29: 1 | DV29: 1 | DZ29: =F29+J29+N29+R29+V29+Z29+AD29+AH29+AL29+AP29+AT29+AX29+BB29+BF29+BJ29+BN29+BR29+BV29+BZ29+CD29+CH29+CL29+CP29+CT29+CX29+DB29+DF29+DJ29+DN29+DR29+DV29 -> 33 | EA29: =G29+K29+O29+S29+W29+AA29+AE29+AI29+AM29+AQ29+AU29+AY29+BC29+BG29+BK29+BO29+BS29+BW29+CA29+CE29+CI29+CM29+CQ29+CU29+CY29+DC29+DG29+DK29+DO29+DS29+DW29 -> 19 | EB29: =H29+L29+P29+T29+X29+AB29+AF29+AJ29+AN29+AR29+AV29+AZ29+BD29+BH29+BL29+BP29+BT29+BX29+CB29+CF29+CJ29+CN29+CR29+CV29+CZ29+DD29+DH29+DL29+DP29+DT29+DX29 -> 0 | EC29: =I29+M29+Q29+U29+Y29+AC29+AG29+AK29+AO29+AS29+AW29+BA29+BE29+BI29+BM29+BQ29+BU29+BY29+CC29+CG29+CK29+CO29+CS29+CW29+DA29+DE29+DI29+DM29+DQ29+DU29+DY29 -> 0
A30: 22 | B30: PARVA503111TSBH06129 | C30: PARVATHI CHILDRENS HOSPITAL | D30: NEAR OLD BUS STAND, SIRCILLA ROAD, KAMAREDDY - 503111. | E30: 15 | F30: 2 | G30: 1 | J30: 2 | K30: 1 | N30: 2 | O30: 1 | R30: 2 | S30: 1 | V30: 2 | W30: 1 | Z30: 2 | AA30: 1 | AD30: 2 | AH30: 2 | AL30: 2 | AP30: 2 | AT30: 2 | AX30: 2 | BF30: 2 | BJ30: 2 | BN30: 2 | BS30: 1 | BV30: 1 | BW30: 1 | BZ30: 1 | CH30: 1 | CL30: 1 | CQ30: 1 | CU30: 1 | CY30: 1 | DC30: 1 | DG30: 1 | DK30: 1 | DN30: 1 | DS30: 1 | DW30: 1 | DZ30: =F30+J30+N30+R30+V30+Z30+AD30+AH30+AL30+AP30+AT30+AX30+BB30+BF30+BJ30+BN30+BR30+BV30+BZ30+CD30+CH30+CL30+CP30+CT30+CX30+DB30+DF30+DJ30+DN30+DR30+DV30 -> 35 | EA30: =G30+K30+O30+S30+W30+AA30+AE30+AI30+AM30+AQ30+AU30+AY30+BC30+BG30+BK30+BO30+BS30+BW30+CA30+CE30+CI30+CM30+CQ30+CU30+CY30+DC30+DG30+DK30+DO30+DS30+DW30 -> 16 | EB30: =H30+L30+P30+T30+X30+AB30+AF30+AJ30+AN30+AR30+AV30+AZ30+BD30+BH30+BL30+BP30+BT30+BX30+CB30+CF30+CJ30+CN30+CR30+CV30+CZ30+DD30+DH30+DL30+DP30+DT30+DX30 -> 0 | EC30: =I30+M30+Q30+U30+Y30+AC30+AG30+AK30+AO30+AS30+AW30+BA30+BE30+BI30+BM30+BQ30+BU30+BY30+CC30+CG30+CK30+CO30+CS30+CW30+DA30+DE30+DI30+DM30+DQ30+DU30+DY30 -> 0
A31: 23 | B31: RRHOS503111TSBH02591 | C31: R R HOSPITAL | D31: RAMAREDDY ROAD, KAMAREDDY - 503111. | E31: 15 | F31: 2 | G31: 1 | J31: 2 | K31: 1 | N31: 2 | O31: 1 | R31: 3 | S31: 1 | V31: 3 | W31: 1 | Z31: 2 | AA31: 1 | AD31: 2 | AE31: 1 | AH31: 2 | AI31: 1 | AL31: 2 | AM31: 1 | AP31: 2 | AU31: 1 | AY31: 1 | BG31: 1 | BK31: 1 | BN31: 1 | BS31: 1 | BW31: 1 | BZ31: 1 | CH31: 1 | CQ31: 1 | CU31: 1 | CX31: 1 | DB31: 1 | DF31: 1 | DJ31: 1 | DO31: 1 | DR31: 1 | DV31: 1 | DZ31: =F31+J31+N31+R31+V31+Z31+AD31+AH31+AL31+AP31+AT31+AX31+BB31+BF31+BJ31+BN31+BR31+BV31+BZ31+CD31+CH31+CL31+CP31+CT31+CX31+DB31+DF31+DJ31+DN31+DR31+DV31 -> 31 | EA31: =G31+K31+O31+S31+W31+AA31+AE31+AI31+AM31+AQ31+AU31+AY31+BC31+BG31+BK31+BO31+BS31+BW31+CA31+CE31+CI31+CM31+CQ31+CU31+CY31+DC31+DG31+DK31+DO31+DS31+DW31 -> 18 | EB31: =H31+L31+P31+T31+X31+AB31+AF31+AJ31+AN31+AR31+AV31+AZ31+BD31+BH31+BL31+BP31+BT31+BX31+CB31+CF31+CJ31+CN31+CR31+CV31+CZ31+DD31+DH31+DL31+DP31+DT31+DX31 -> 0 | EC31: =I31+M31+Q31+U31+Y31+AC31+AG31+AK31+AO31+AS31+AW31+BA31+BE31+BI31+BM31+BQ31+BU31+BY31+CC31+CG31+CK31+CO31+CS31+CW31+DA31+DE31+DI31+DM31+DQ31+DU31+DY31 -> 0
A32: 24 | B32: SRIGA503111TSBH02588 | C32: SRI GANGA CHILDRENS HOSPITAL | D32: BEHIND SRI JANANI HOSPITAL, OPP: GANDHI HOSPITAL, SIRCILLA ROAD, STATION ROAD, KAMAREDDY - 503111. | E32: 15 | F32: 2 | G32: 1 | J32: 2 | K32: 1 | N32: 2 | O32: 1 | R32: 2 | S32: 1 | V32: 2 | W32: 1 | Z32: 2 | AA32: 1 | AD32: 2 | AE32: 1 | AH32: 2 | AI32: 1 | AL32: 2 | AM32: 1 | AP32: 2 | AT32: 2 | AX32: 2 | BF32: 2 | BJ32: 2 | BO32: 1 | BR32: 1 | BW32: 1 | BZ32: 1 | CH32: 1 | CL32: 1 | CP32: 1 | CT32: 1 | CY32: 1 | DC32: 1 | DG32: 1 | DK32: 1 | DN32: 1 | DR32: 1 | DV32: 1 | DZ32: =F32+J32+N32+R32+V32+Z32+AD32+AH32+AL32+AP32+AT32+AX32+BB32+BF32+BJ32+BN32+BR32+BV32+BZ32+CD32+CH32+CL32+CP32+CT32+CX32+DB32+DF32+DJ32+DN32+DR32+DV32 -> 37 | EA32: =G32+K32+O32+S32+W32+AA32+AE32+AI32+AM32+AQ32+AU32+AY32+BC32+BG32+BK32+BO32+BS32+BW32+CA32+CE32+CI32+CM32+CQ32+CU32+CY32+DC32+DG32+DK32+DO32+DS32+DW32 -> 15 | EB32: =H32+L32+P32+T32+X32+AB32+AF32+AJ32+AN32+AR32+AV32+AZ32+BD32+BH32+BL32+BP32+BT32+BX32+CB32+CF32+CJ32+CN32+CR32+CV32+CZ32+DD32+DH32+DL32+DP32+DT32+DX32 -> 0 | EC32: =I32+M32+Q32+U32+Y32+AC32+AG32+AK32+AO32+AS32+AW32+BA32+BE32+BI32+BM32+BQ32+BU32+BY32+CC32+CG32+CK32+CO32+CS32+CW32+DA32+DE32+DI32+DM32+DQ32+DU32+DY32 -> 0
A33: 25 | B33: SRISA503111TSBH06156 | C33: SRI SAI KRISHNA HOSPITAL | D33: OPP: NAKSHATRA HOSPITAL, AHSOK NAGAR COLONY, OPPOSITE LINE OF TSRTC BUS STATION, KAMAREDDY - 503111. | E33: 15 | F33: 2 | G33: 1 | J33: 2 | K33: 1 | N33: 2 | O33: 1 | R33: 2 | S33: 1 | V33: 2 | W33: 1 | Z33: 2 | AA33: 1 | AD33: 2 | AE33: 1 | AH33: 2 | AI33: 1 | AL33: 2 | AM33: 1 | AP33: 2 | AU33: 1 | AY33: 1 | BG33: 1 | BK33: 1 | BN33: 1 | BS33: 1 | BV33: 1 | BZ33: 1 | CH33: 1 | CL33: 1 | CQ33: 1 | CU33: 1 | CX33: 1 | DB33: 1 | DF33: 1 | DJ33: 1 | DO33: 1 | DR33: 1 | DV33: 1 | DZ33: =F33+J33+N33+R33+V33+Z33+AD33+AH33+AL33+AP33+AT33+AX33+BB33+BF33+BJ33+BN33+BR33+BV33+BZ33+CD33+CH33+CL33+CP33+CT33+CX33+DB33+DF33+DJ33+DN33+DR33+DV33 -> 31 | EA33: =G33+K33+O33+S33+W33+AA33+AE33+AI33+AM33+AQ33+AU33+AY33+BC33+BG33+BK33+BO33+BS33+BW33+CA33+CE33+CI33+CM33+CQ33+CU33+CY33+DC33+DG33+DK33+DO33+DS33+DW33 -> 17 | EB33: =H33+L33+P33+T33+X33+AB33+AF33+AJ33+AN33+AR33+AV33+AZ33+BD33+BH33+BL33+BP33+BT33+BX33+CB33+CF33+CJ33+CN33+CR33+CV33+CZ33+DD33+DH33+DL33+DP33+DT33+DX33 -> 0 | EC33: =I33+M33+Q33+U33+Y33+AC33+AG33+AK33+AO33+AS33+AW33+BA33+BE33+BI33+BM33+BQ33+BU33+BY33+CC33+CG33+CK33+CO33+CS33+CW33+DA33+DE33+DI33+DM33+DQ33+DU33+DY33 -> 0
A34: 26 | B34: ADITY503111TSBH09686 | C34: ADITYA HOSPITAL | D34: H.No.1-7-57/1, SIRCILLA ROAD, NEAR POTTI SRIRAMULU STATUE, KAMAREDDY - 503111. | E34: 10 | F34: 1 | G34: 1 | J34: 1 | K34: 1 | N34: 1 | R34: 1 | V34: 1 | W34: 1 | Z34: 1 | AA34: 1 | AD34: 1 | AE34: 1 | AH34: 1 | AI34: 1 | AL34: 1 | AM34: 1 | AP34: 1 | AU34: 1 | AY34: 1 | BG34: 1 | BK34: 1 | BN34: 1 | BS34: 1 | BV34: 1 | CH34: 1 | CQ34: 1 | CU34: 1 | CY34: 1 | DC34: 1 | DG34: 1 | DK34: 1 | DN34: 1 | DR34: 1 | DV34: 1 | DZ34: =F34+J34+N34+R34+V34+Z34+AD34+AH34+AL34+AP34+AT34+AX34+BB34+BF34+BJ34+BN34+BR34+BV34+BZ34+CD34+CH34+CL34+CP34+CT34+CX34+DB34+DF34+DJ34+DN34+DR34+DV34 -> 16 | EA34: =G34+K34+O34+S34+W34+AA34+AE34+AI34+AM34+AQ34+AU34+AY34+BC34+BG34+BK34+BO34+BS34+BW34+CA34+CE34+CI34+CM34+CQ34+CU34+CY34+DC34+DG34+DK34+DO34+DS34+DW34 -> 18 | EB34: =H34+L34+P34+T34+X34+AB34+AF34+AJ34+AN34+AR34+AV34+AZ34+BD34+BH34+BL34+BP34+BT34+BX34+CB34+CF34+CJ34+CN34+CR34+CV34+CZ34+DD34+DH34+DL34+DP34+DT34+DX34 -> 0 | EC34: =I34+M34+Q34+U34+Y34+AC34+AG34+AK34+AO34+AS34+AW34+BA34+BE34+BI34+BM34+BQ34+BU34+BY34+CC34+CG34+CK34+CO34+CS34+CW34+DA34+DE34+DI34+DM34+DQ34+DU34+DY34 -> 0
A35: 27 | B35: ASHWI503111TSBH09939 | C35: ASHWINI CLINIC | D35: GODOWN ROAD, KAMAREDDY | E35: 10 | F35: 1 | G35: 1 | J35: 1 | K35: 1 | N35: 1 | R35: 1 | V35: 1 | W35: 1 | Z35: 1 | AA35: 1 | AD35: 1 | AE35: 1 | AH35: 1 | AI35: 1 | AL35: 1 | AM35: 1 | AQ35: 1 | AT35: 1 | AX35: 1 | BF35: 1 | BJ35: 1 | BO35: 1 | BR35: 1 | BW35: 1 | CA35: 1 | CH35: 1 | CL35: 1 | CP35: 1 | CT35: 1 | CX35: 1 | DB35: 1 | DF35: 1 | DJ35: 1 | DO35: 1 | DR35: 1 | DV35: 1 | DZ35: =F35+J35+N35+R35+V35+Z35+AD35+AH35+AL35+AP35+AT35+AX35+BB35+BF35+BJ35+BN35+BR35+BV35+BZ35+CD35+CH35+CL35+CP35+CT35+CX35+DB35+DF35+DJ35+DN35+DR35+DV35 -> 24 | EA35: =G35+K35+O35+S35+W35+AA35+AE35+AI35+AM35+AQ35+AU35+AY35+BC35+BG35+BK35+BO35+BS35+BW35+CA35+CE35+CI35+CM35+CQ35+CU35+CY35+DC35+DG35+DK35+DO35+DS35+DW35 -> 12 | EB35: =H35+L35+P35+T35+X35+AB35+AF35+AJ35+AN35+AR35+AV35+AZ35+BD35+BH35+BL35+BP35+BT35+BX35+CB35+CF35+CJ35+CN35+CR35+CV35+CZ35+DD35+DH35+DL35+DP35+DT35+DX35 -> 0 | EC35: =I35+M35+Q35+U35+Y35+AC35+AG35+AK35+AO35+AS35+AW35+BA35+BE35+BI35+BM35+BQ35+BU35+BY35+CC35+CG35+CK35+CO35+CS35+CW35+DA35+DE35+DI35+DM35+DQ35+DU35+DY35 -> 0
A36: 28 | B36: BALAJ503111TSBH00904 | C36: BALAJI HOSPITAL | D36: DOOR NO.1-5-64, GODAM ROAD, KAMAREDDY - 503111. | E36: 10 | F36: 1 | G36: 1 | J36: 1 | K36: 1 | N36: 1 | R36: 1 | V36: 1 | Z36: 1 | AD36: 1 | AH36: 1 | AL36: 1 | AP36: 1 | AU36: 1 | AY36: 1 | BG36: 1 | BK36: 1 | BN36: 1 | BS36: 1 | BV36: 1 | CH36: 1 | CL36: 1 | CP36: 1 | CT36: 1 | CY36: 1 | DC36: 1 | DG36: 1 | DK36: 1 | DN36: 1 | DS36: 1 | DW36: 1 | DZ36: =F36+J36+N36+R36+V36+Z36+AD36+AH36+AL36+AP36+AT36+AX36+BB36+BF36+BJ36+BN36+BR36+BV36+BZ36+CD36+CH36+CL36+CP36+CT36+CX36+DB36+DF36+DJ36+DN36+DR36+DV36 -> 17 | EA36: =G36+K36+O36+S36+W36+AA36+AE36+AI36+AM36+AQ36+AU36+AY36+BC36+BG36+BK36+BO36+BS36+BW36+CA36+CE36+CI36+CM36+CQ36+CU36+CY36+DC36+DG36+DK36+DO36+DS36+DW36 -> 13 | EB36: =H36+L36+P36+T36+X36+AB36+AF36+AJ36+AN36+AR36+AV36+AZ36+BD36+BH36+BL36+BP36+BT36+BX36+CB36+CF36+CJ36+CN36+CR36+CV36+CZ36+DD36+DH36+DL36+DP36+DT36+DX36 -> 0 | EC36: =I36+M36+Q36+U36+Y36+AC36+AG36+AK36+AO36+AS36+AW36+BA36+BE36+BI36+BM36+BQ36+BU36+BY36+CC36+CG36+CK36+CO36+CS36+CW36+DA36+DE36+DI36+DM36+DQ36+DU36+DY36 -> 0
A37: 29 | B37: DR.PR503111TSBH07038 | C37: Dr. PRAKASH RAO EYE HOSPITAL | D37: H.NO.1-5-442/9, RAMAREDDY ROAD, KAMAREDDY - 503111. | E37: 10 | F37: 1 | G37: 1 | J37: 1 | K37: 1 | N37: 1 | R37: 1 | V37: 1 | Z37: 1 | AD37: 1 | AH37: 1 | AL37: 1 | AP37: 1 | AT37: 1 | AX37: 1 | BF37: 1 | BJ37: 1 | BO37: 1 | BR37: 1 | BW37: 1 | CA37: 1 | CQ37: 1 | CU37: 1 | CX37: 1 | DB37: 1 | DF37: 1 | DJ37: 1 | DO37: 1 | DS37: 1 | DW37: 1 | DZ37: =F37+J37+N37+R37+V37+Z37+AD37+AH37+AL37+AP37+AT37+AX37+BB37+BF37+BJ37+BN37+BR37+BV37+BZ37+CD37+CH37+CL37+CP37+CT37+CX37+DB37+DF37+DJ37+DN37+DR37+DV37 -> 19 | EA37: =G37+K37+O37+S37+W37+AA37+AE37+AI37+AM37+AQ37+AU37+AY37+BC37+BG37+BK37+BO37+BS37+BW37+CA37+CE37+CI37+CM37+CQ37+CU37+CY37+DC37+DG37+DK37+DO37+DS37+DW37 -> 10 | EB37: =H37+L37+P37+T37+X37+AB37+AF37+AJ37+AN37+AR37+AV37+AZ37+BD37+BH37+BL37+BP37+BT37+BX37+CB37+CF37+CJ37+CN37+CR37+CV37+CZ37+DD37+DH37+DL37+DP37+DT37+DX37 -> 0 | EC37: =I37+M37+Q37+U37+Y37+AC37+AG37+AK37+AO37+AS37+AW37+BA37+BE37+BI37+BM37+BQ37+BU37+BY37+CC37+CG37+CK37+CO37+CS37+CW37+DA37+DE37+DI37+DM37+DQ37+DU37+DY37 -> 0
A38: 30 | B38: GANDH503111TSBH09696 | C38: GANDHI HOSPITAL | D38: Opp: DHARMASHALA, NEAR OLD BUS STAND, SIRICILLA ROAD, KAMAREDDY - 503111. | E38: 10 | F38: 1 | G38: 1 | J38: 1 | K38: 1 | N38: 1 | R38: 1 | V38: 1 | W38: 1 | Z38: 1 | AA38: 1 | AD38: 1 | AH38: 1 | AM38: 1 | AP38: 1 | AU38: 1 | AY38: 1 | BG38: 1 | BK38: 1 | BN38: 1 | BS38: 1 | BV38: 1 | CH38: 1 | CL38: 1 | CP38: 1 | CT38: 1 | CX38: 1 | DB38: 1 | DF38: 1 | DJ38: 1 | DN38: 1 | DS38: 1 | DW38: 1 | DZ38: =F38+J38+N38+R38+V38+Z38+AD38+AH38+AL38+AP38+AT38+AX38+BB38+BF38+BJ38+BN38+BR38+BV38+BZ38+CD38+CH38+CL38+CP38+CT38+CX38+DB38+DF38+DJ38+DN38+DR38+DV38 -> 20 | EA38: =G38+K38+O38+S38+W38+AA38+AE38+AI38+AM38+AQ38+AU38+AY38+BC38+BG38+BK38+BO38+BS38+BW38+CA38+CE38+CI38+CM38+CQ38+CU38+CY38+DC38+DG38+DK38+DO38+DS38+DW38 -> 12 | EB38: =H38+L38+P38+T38+X38+AB38+AF38+AJ38+AN38+AR38+AV38+AZ38+BD38+BH38+BL38+BP38+BT38+BX38+CB38+CF38+CJ38+CN38+CR38+CV38+CZ38+DD38+DH38+DL38+DP38+DT38+DX38 -> 0 | EC38: =I38+M38+Q38+U38+Y38+AC38+AG38+AK38+AO38+AS38+AW38+BA38+BE38+BI38+BM38+BQ38+BU38+BY38+CC38+CG38+CK38+CO38+CS38+CW38+DA38+DE38+DI38+DM38+DQ38+DU38+DY38 -> 0
A39: 31 | B39: GEERE503111TSBH06128 | C39: GEEREDDY RAVINDER REDDY NEURO SUPER SPECIALITY HOSPITAL | D39: H.No.1-5-56, OPP: JAGRUTHI HOSPIITAL, GOWDOWN ROAD, KAMAREDDY - 503111. | E39: 10 | F39: 1 | G39: 1 | J39: 1 | K39: 1 | N39: 1 | R39: 1 | V39: 1 | Z39: 1 | AD39: 1 | AH39: 1 | AL39: 1 | AP39: 1 | AT39: 1 | AX39: 1 | BF39: 1 | BJ39: 1 | BO39: 1 | BR39: 1 | BW39: 1 | CA39: 1 | CP39: 1 | CT39: 1 | CY39: 1 | DC39: 1 | DG39: 1 | DK39: 1 | DO39: 1 | DS39: 1 | DW39: 1 | DZ39: =F39+J39+N39+R39+V39+Z39+AD39+AH39+AL39+AP39+AT39+AX39+BB39+BF39+BJ39+BN39+BR39+BV39+BZ39+CD39+CH39+CL39+CP39+CT39+CX39+DB39+DF39+DJ39+DN39+DR39+DV39 -> 17 | EA39: =G39+K39+O39+S39+W39+AA39+AE39+AI39+AM39+AQ39+AU39+AY39+BC39+BG39+BK39+BO39+BS39+BW39+CA39+CE39+CI39+CM39+CQ39+CU39+CY39+DC39+DG39+DK39+DO39+DS39+DW39 -> 12 | EB39: =H39+L39+P39+T39+X39+AB39+AF39+AJ39+AN39+AR39+AV39+AZ39+BD39+BH39+BL39+BP39+BT39+BX39+CB39+CF39+CJ39+CN39+CR39+CV39+CZ39+DD39+DH39+DL39+DP39+DT39+DX39 -> 0 | EC39: =I39+M39+Q39+U39+Y39+AC39+AG39+AK39+AO39+AS39+AW39+BA39+BE39+BI39+BM39+BQ39+BU39+BY39+CC39+CG39+CK39+CO39+CS39+CW39+DA39+DE39+DI39+DM39+DQ39+DU39+DY39 -> 0
A40: 32 | B40: KRISH503111TSBH07065 | C40: KRISHNAVENI CHILDRENS & NEONATAL HOSPITAL | D40: NETAJI ROAD, KAMAREDDY - 503111. | E40: 10 | F40: 1 | G40: 1 | J40: 1 | K40: 1 | N40: 1 | R40: 1 | V40: 1 | Z40: 1 | AD40: 1 | AH40: 1 | AL40: 1 | AP40: 1 | AU40: 1 | AY40: 1 | BG40: 1 | BK40: 1 | BN40: 1 | BS40: 1 | BV40: 1 | CH40: 1 | CL40: 1 | CP40: 1 | CT40: 1 | CX40: 1 | DB40: 1 | DF40: 1 | DJ40: 1 | DN40: 1 | DR40: 1 | DV40: 1 | DZ40: =F40+J40+N40+R40+V40+Z40+AD40+AH40+AL40+AP40+AT40+AX40+BB40+BF40+BJ40+BN40+BR40+BV40+BZ40+CD40+CH40+CL40+CP40+CT40+CX40+DB40+DF40+DJ40+DN40+DR40+DV40 -> 23 | EA40: =G40+K40+O40+S40+W40+AA40+AE40+AI40+AM40+AQ40+AU40+AY40+BC40+BG40+BK40+BO40+BS40+BW40+CA40+CE40+CI40+CM40+CQ40+CU40+CY40+DC40+DG40+DK40+DO40+DS40+DW40 -> 7 | EB40: =H40+L40+P40+T40+X40+AB40+AF40+AJ40+AN40+AR40+AV40+AZ40+BD40+BH40+BL40+BP40+BT40+BX40+CB40+CF40+CJ40+CN40+CR40+CV40+CZ40+DD40+DH40+DL40+DP40+DT40+DX40 -> 0 | EC40: =I40+M40+Q40+U40+Y40+AC40+AG40+AK40+AO40+AS40+AW40+BA40+BE40+BI40+BM40+BQ40+BU40+BY40+CC40+CG40+CK40+CO40+CS40+CW40+DA40+DE40+DI40+DM40+DQ40+DU40+DY40 -> 0
A41: 33 | B41: LIONS503111TSBH09978 | C41: LIONS EYE HOSPITAL (V.T. THAKUR MEMORIAL) | D41: BESIDE KAMAREDDY EYE HOSPITAL & V.T. THAKUR BLOOD BANK, BATUKAMMA KUNTA, GODOWN ROAD, KAMAREDDY - 503111. | E41: 10 | F41: 1 | G41: 1 | J41: 1 | K41: 1 | N41: 1 | R41: 1 | V41: 1 | Z41: 1 | AD41: 1 | AH41: 1 | AM41: 1 | AP41: 1 | AT41: 1 | AX41: 1 | BF41: 1 | BJ41: 1 | BO41: 1 | BR41: 1 | BW41: 1 | CA41: 1 | CQ41: 1 | CU41: 1 | CY41: 1 | DC41: 1 | DG41: 1 | DK41: 1 | DO41: 1 | DS41: 1 | DW41: 1 | DZ41: =F41+J41+N41+R41+V41+Z41+AD41+AH41+AL41+AP41+AT41+AX41+BB41+BF41+BJ41+BN41+BR41+BV41+BZ41+CD41+CH41+CL41+CP41+CT41+CX41+DB41+DF41+DJ41+DN41+DR41+DV41 -> 14 | EA41: =G41+K41+O41+S41+W41+AA41+AE41+AI41+AM41+AQ41+AU41+AY41+BC41+BG41+BK41+BO41+BS41+BW41+CA41+CE41+CI41+CM41+CQ41+CU41+CY41+DC41+DG41+DK41+DO41+DS41+DW41 -> 15 | EB41: =H41+L41+P41+T41+X41+AB41+AF41+AJ41+AN41+AR41+AV41+AZ41+BD41+BH41+BL41+BP41+BT41+BX41+CB41+CF41+CJ41+CN41+CR41+CV41+CZ41+DD41+DH41+DL41+DP41+DT41+DX41 -> 0 | EC41: =I41+M41+Q41+U41+Y41+AC41+AG41+AK41+AO41+AS41+AW41+BA41+BE41+BI41+BM41+BQ41+BU41+BY41+CC41+CG41+CK41+CO41+CS41+CW41+DA41+DE41+DI41+DM41+DQ41+DU41+DY41 -> 0
A42: 34 | B42: RKHOS503111TSBH09979 | C42: R K HOSPITAL (CHILDREN & DENTAL), KAMAREDDY | D42: BESIDE ANJAL REDDY HOSPITAL, NETHAJI ROAD, KAMAREDDY - 503111. | E42: 10 | F42: 1 | G42: 1 | J42: 1 | K42: 1 | N42: 1 | R42: 1 | V42: 1 | Z42: 1 | AD42: 1 | AH42: 1 | AL42: 1 | AP42: 1 | AT42: 1 | AX42: 1 | BF42: 1 | BJ42: 1 | BO42: 1 | BR42: 1 | BW42: 1 | CA42: 1 | CP42: 1 | CT42: 1 | CX42: 1 | DB42: 1 | DF42: 1 | DJ42: 1 | DN42: 1 | DR42: 1 | DV42: 1 | DZ42: =F42+J42+N42+R42+V42+Z42+AD42+AH42+AL42+AP42+AT42+AX42+BB42+BF42+BJ42+BN42+BR42+BV42+BZ42+CD42+CH42+CL42+CP42+CT42+CX42+DB42+DF42+DJ42+DN42+DR42+DV42 -> 24 | EA42: =G42+K42+O42+S42+W42+AA42+AE42+AI42+AM42+AQ42+AU42+AY42+BC42+BG42+BK42+BO42+BS42+BW42+CA42+CE42+CI42+CM42+CQ42+CU42+CY42+DC42+DG42+DK42+DO42+DS42+DW42 -> 5 | EB42: =H42+L42+P42+T42+X42+AB42+AF42+AJ42+AN42+AR42+AV42+AZ42+BD42+BH42+BL42+BP42+BT42+BX42+CB42+CF42+CJ42+CN42+CR42+CV42+CZ42+DD42+DH42+DL42+DP42+DT42+DX42 -> 0 | EC42: =I42+M42+Q42+U42+Y42+AC42+AG42+AK42+AO42+AS42+AW42+BA42+BE42+BI42+BM42+BQ42+BU42+BY42+CC42+CG42+CK42+CO42+CS42+CW42+DA42+DE42+DI42+DM42+DQ42+DU42+DY42 -> 0
A43: 35 | B43: SADHA503111TSBH09695 | C43: SADHANA HOSPITAL | D43: HIGH SCHOOL ROAD, KAMAREDDY - 503111. | E43: 10 | F43: 1 | G43: 1 | J43: 1 | K43: 1 | N43: 1 | R43: 1 | V43: 1 | Z43: 1 | AD43: 1 | AH43: 1 | AL43: 1 | AP43: 1 | AU43: 1 | AY43: 1 | BG43: 1 | BK43: 1 | BN43: 1 | BS43: 1 | BV43: 1 | CH43: 1 | CL43: 1 | CP43: 1 | CT43: 1 | CY43: 1 | DC43: 1 | DG43: 1 | DK43: 1 | DO43: 1 | DS43: 1 | DW43: 1 | DZ43: =F43+J43+N43+R43+V43+Z43+AD43+AH43+AL43+AP43+AT43+AX43+BB43+BF43+BJ43+BN43+BR43+BV43+BZ43+CD43+CH43+CL43+CP43+CT43+CX43+DB43+DF43+DJ43+DN43+DR43+DV43 -> 16 | EA43: =G43+K43+O43+S43+W43+AA43+AE43+AI43+AM43+AQ43+AU43+AY43+BC43+BG43+BK43+BO43+BS43+BW43+CA43+CE43+CI43+CM43+CQ43+CU43+CY43+DC43+DG43+DK43+DO43+DS43+DW43 -> 14 | EB43: =H43+L43+P43+T43+X43+AB43+AF43+AJ43+AN43+AR43+AV43+AZ43+BD43+BH43+BL43+BP43+BT43+BX43+CB43+CF43+CJ43+CN43+CR43+CV43+CZ43+DD43+DH43+DL43+DP43+DT43+DX43 -> 0 | EC43: =I43+M43+Q43+U43+Y43+AC43+AG43+AK43+AO43+AS43+AW43+BA43+BE43+BI43+BM43+BQ43+BU43+BY43+CC43+CG43+CK43+CO43+CS43+CW43+DA43+DE43+DI43+DM43+DQ43+DU43+DY43 -> 0
A44: 36 | B44: SRILA503111TSBH08488 | C44: SRI LAXMI HOSPITAL | D44: OPP: INDRA DIAGNOSTICS, GODOWN ROAD, KAMAREDDY - 503111. | E44: 10 | F44: 1 | G44: 1 | J44: 1 | K44: 1 | N44: 1 | R44: 1 | V44: 1 | Z44: 1 | AD44: 1 | AH44: 1 | AM44: 1 | AP44: 1 | AU44: 1 | AY44: 1 | BG44: 1 | BK44: 1 | BN44: 1 | BS44: 1 | BW44: 1 | CA44: 1 | CQ44: 1 | CU44: 1 | CY44: 1 | DC44: 1 | DG44: 1 | DK44: 1 | DO44: 1 | DS44: 1 | DW44: 1 | DZ44: =F44+J44+N44+R44+V44+Z44+AD44+AH44+AL44+AP44+AT44+AX44+BB44+BF44+BJ44+BN44+BR44+BV44+BZ44+CD44+CH44+CL44+CP44+CT44+CX44+DB44+DF44+DJ44+DN44+DR44+DV44 -> 10 | EA44: =G44+K44+O44+S44+W44+AA44+AE44+AI44+AM44+AQ44+AU44+AY44+BC44+BG44+BK44+BO44+BS44+BW44+CA44+CE44+CI44+CM44+CQ44+CU44+CY44+DC44+DG44+DK44+DO44+DS44+DW44 -> 19 | EB44: =H44+L44+P44+T44+X44+AB44+AF44+AJ44+AN44+AR44+AV44+AZ44+BD44+BH44+BL44+BP44+BT44+BX44+CB44+CF44+CJ44+CN44+CR44+CV44+CZ44+DD44+DH44+DL44+DP44+DT44+DX44 -> 0 | EC44: =I44+M44+Q44+U44+Y44+AC44+AG44+AK44+AO44+AS44+AW44+BA44+BE44+BI44+BM44+BQ44+BU44+BY44+CC44+CG44+CK44+CO44+CS44+CW44+DA44+DE44+DI44+DM44+DQ44+DU44+DY44 -> 0
A45: 37 | B45: SRIRA503111TSBH06131 | C45: SRI RAMA MULTI SPECIALITY HOSPITAL | D45: BESIDE: KAVYA MESS, OPP: R&B GUEST HOUSE, N.H.7 ROAD, KAMAREDDY - 503111. | E45: 10 | F45: 1 | G45: 1 | J45: 1 | K45: 1 | N45: 1 | R45: 1 | V45: 1 | Z45: 1 | AD45: 1 | AH45: 1 | AL45: 1 | AP45: 1 | AU45: 1 | AY45: 1 | BG45: 1 | BK45: 1 | BN45: 1 | BS45: 1 | BW45: 1 | CA45: 1 | CQ45: 1 | CU45: 1 | CX45: 1 | DB45: 1 | DF45: 1 | DJ45: 1 | DN45: 1 | DR45: 1 | DV45: 1 | DZ45: =F45+J45+N45+R45+V45+Z45+AD45+AH45+AL45+AP45+AT45+AX45+BB45+BF45+BJ45+BN45+BR45+BV45+BZ45+CD45+CH45+CL45+CP45+CT45+CX45+DB45+DF45+DJ45+DN45+DR45+DV45 -> 18 | EA45: =G45+K45+O45+S45+W45+AA45+AE45+AI45+AM45+AQ45+AU45+AY45+BC45+BG45+BK45+BO45+BS45+BW45+CA45+CE45+CI45+CM45+CQ45+CU45+CY45+DC45+DG45+DK45+DO45+DS45+DW45 -> 11 | EB45: =H45+L45+P45+T45+X45+AB45+AF45+AJ45+AN45+AR45+AV45+AZ45+BD45+BH45+BL45+BP45+BT45+BX45+CB45+CF45+CJ45+CN45+CR45+CV45+CZ45+DD45+DH45+DL45+DP45+DT45+DX45 -> 0 | EC45: =I45+M45+Q45+U45+Y45+AC45+AG45+AK45+AO45+AS45+AW45+BA45+BE45+BI45+BM45+BQ45+BU45+BY45+CC45+CG45+CK45+CO45+CS45+CW45+DA45+DE45+DI45+DM45+DQ45+DU45+DY45 -> 0
A46: 38 | B46: SRIVE503111TSBH06159 | C46: SRI VENKATESHWARA CHILDRENS & NEONATAL HOSPITAL, KAMAREDDY | D46: GODOWN ROAD, KAMAREDDY | E46: 10 | F46: 1 | G46: 1 | J46: 1 | K46: 1 | N46: 1 | R46: 1 | V46: 1 | Z46: 1 | AD46: 1 | AH46: 1 | AL46: 1 | AP46: 1 | AU46: 1 | AY46: 1 | BG46: 1 | BK46: 1 | BN46: 1 | BS46: 1 | BW46: 1 | CA46: 1 | CP46: 1 | CT46: 1 | CY46: 1 | DC46: 1 | DG46: 1 | DK46: 1 | DO46: 1 | DS46: 1 | DW46: 1 | DZ46: =F46+J46+N46+R46+V46+Z46+AD46+AH46+AL46+AP46+AT46+AX46+BB46+BF46+BJ46+BN46+BR46+BV46+BZ46+CD46+CH46+CL46+CP46+CT46+CX46+DB46+DF46+DJ46+DN46+DR46+DV46 -> 13 | EA46: =G46+K46+O46+S46+W46+AA46+AE46+AI46+AM46+AQ46+AU46+AY46+BC46+BG46+BK46+BO46+BS46+BW46+CA46+CE46+CI46+CM46+CQ46+CU46+CY46+DC46+DG46+DK46+DO46+DS46+DW46 -> 16 | EB46: =H46+L46+P46+T46+X46+AB46+AF46+AJ46+AN46+AR46+AV46+AZ46+BD46+BH46+BL46+BP46+BT46+BX46+CB46+CF46+CJ46+CN46+CR46+CV46+CZ46+DD46+DH46+DL46+DP46+DT46+DX46 -> 0 | EC46: =I46+M46+Q46+U46+Y46+AC46+AG46+AK46+AO46+AS46+AW46+BA46+BE46+BI46+BM46+BQ46+BU46+BY46+CC46+CG46+CK46+CO46+CS46+CW46+DA46+DE46+DI46+DM46+DQ46+DU46+DY46 -> 0
A47: 39 | B47: SVRHO503111TSBH09699 | C47: SVR CHILDRENS HOSPITAL | D47: OPP: SRI SAI SRINIVASA HOSPITAL, NEAR PRAKASH RAO EYE HOSPITAL, RAMAREDDY ROAD, KAMAREDDY - 503111. | E47: 10 | F47: 1 | G47: 1 | J47: 1 | K47: 1 | N47: 1 | R47: 1 | V47: 1 | Z47: 1 | AD47: 1 | AH47: 1 | AM47: 1 | AP47: 1 | AT47: 1 | AX47: 1 | BF47: 1 | BJ47: 1 | BO47: 1 | BR47: 1 | BV47: 1 | CH47: 1 | CL47: 1 | CP47: 1 | CU47: 1 | CX47: 1 | DB47: 1 | DF47: 1 | DJ47: 1 | DN47: 1 | DR47: 1 | DV47: 1 | DZ47: =F47+J47+N47+R47+V47+Z47+AD47+AH47+AL47+AP47+AT47+AX47+BB47+BF47+BJ47+BN47+BR47+BV47+BZ47+CD47+CH47+CL47+CP47+CT47+CX47+DB47+DF47+DJ47+DN47+DR47+DV47 -> 25 | EA47: =G47+K47+O47+S47+W47+AA47+AE47+AI47+AM47+AQ47+AU47+AY47+BC47+BG47+BK47+BO47+BS47+BW47+CA47+CE47+CI47+CM47+CQ47+CU47+CY47+DC47+DG47+DK47+DO47+DS47+DW47 -> 5 | EB47: =H47+L47+P47+T47+X47+AB47+AF47+AJ47+AN47+AR47+AV47+AZ47+BD47+BH47+BL47+BP47+BT47+BX47+CB47+CF47+CJ47+CN47+CR47+CV47+CZ47+DD47+DH47+DL47+DP47+DT47+DX47 -> 0 | EC47: =I47+M47+Q47+U47+Y47+AC47+AG47+AK47+AO47+AS47+AW47+BA47+BE47+BI47+BM47+BQ47+BU47+BY47+CC47+CG47+CK47+CO47+CS47+CW47+DA47+DE47+DI47+DM47+DQ47+DU47+DY47 -> 0
A48: 40 | B48: VAISH503111TSBH09700 | C48: VAISHNAVI HOSPITAL | D48: H.No.1-5-255/A, RAMAREDDY ROAD, KAMAREDDY - 503111. | E48: 10 | F48: 1 | G48: 1 | J48: 1 | K48: 1 | N48: 1 | R48: 1 | V48: 1 | Z48: 1 | AD48: 1 | AH48: 1 | AL48: 1 | AP48: 1 | AU48: 1 | AY48: 1 | BG48: 1 | BK48: 1 | BN48: 1 | BS48: 1 | BW48: 1 | CA48: 1 | CP48: 1 | CT48: 1 | CY48: 1 | DC48: 1 | DG48: 1 | DK48: 1 | DO48: 1 | DS48: 1 | DW48: 1 | DZ48: =F48+J48+N48+R48+V48+Z48+AD48+AH48+AL48+AP48+AT48+AX48+BB48+BF48+BJ48+BN48+BR48+BV48+BZ48+CD48+CH48+CL48+CP48+CT48+CX48+DB48+DF48+DJ48+DN48+DR48+DV48 -> 13 | EA48: =G48+K48+O48+S48+W48+AA48+AE48+AI48+AM48+AQ48+AU48+AY48+BC48+BG48+BK48+BO48+BS48+BW48+CA48+CE48+CI48+CM48+CQ48+CU48+CY48+DC48+DG48+DK48+DO48+DS48+DW48 -> 16 | EB48: =H48+L48+P48+T48+X48+AB48+AF48+AJ48+AN48+AR48+AV48+AZ48+BD48+BH48+BL48+BP48+BT48+BX48+CB48+CF48+CJ48+CN48+CR48+CV48+CZ48+DD48+DH48+DL48+DP48+DT48+DX48 -> 0 | EC48: =I48+M48+Q48+U48+Y48+AC48+AG48+AK48+AO48+AS48+AW48+BA48+BE48+BI48+BM48+BQ48+BU48+BY48+CC48+CG48+CK48+CO48+CS48+CW48+DA48+DE48+DI48+DM48+DQ48+DU48+DY48 -> 0
A49: 41 | B49: VARSH503111TSBH00947 | C49: VARSHA HOSPITAL | D49: NEAR NARENDER CHILDRENS HOSPITAL & KAMAREDDY CITY SCAN CENTRE, GOWDAN ROAD, KAMAREDDY - 503111 | E49: 10 | BV49: 1 | CX49: 1 | DB49: 1 | DF49: 1 | DJ49: 1 | DN49: 1 | DR49: 1 | DV49: 1 | DZ49: =F49+J49+N49+R49+V49+Z49+AD49+AH49+AL49+AP49+AT49+AX49+BB49+BF49+BJ49+BN49+BR49+BV49+BZ49+CD49+CH49+CL49+CP49+CT49+CX49+DB49+DF49+DJ49+DN49+DR49+DV49 -> 8 | EA49: =G49+K49+O49+S49+W49+AA49+AE49+AI49+AM49+AQ49+AU49+AY49+BC49+BG49+BK49+BO49+BS49+BW49+CA49+CE49+CI49+CM49+CQ49+CU49+CY49+DC49+DG49+DK49+DO49+DS49+DW49 -> 0 | EB49: =H49+L49+P49+T49+X49+AB49+AF49+AJ49+AN49+AR49+AV49+AZ49+BD49+BH49+BL49+BP49+BT49+BX49+CB49+CF49+CJ49+CN49+CR49+CV49+CZ49+DD49+DH49+DL49+DP49+DT49+DX49 -> 0 | EC49: =I49+M49+Q49+U49+Y49+AC49+AG49+AK49+AO49+AS49+AW49+BA49+BE49+BI49+BM49+BQ49+BU49+BY49+CC49+CG49+CK49+CO49+CS49+CW49+DA49+DE49+DI49+DM49+DQ49+DU49+DY49 -> 0
A50: 42 | B50: VASAV503111TSBH09970 | C50: VASAVI GASTRO & MULTISPECIALITY HOSPITAL, KAMAREDDY | D50: OPP: SBI BANK, NEAR RAILWAY STATION, SIRICILLA ROAD, KAMAREDDY - 503111. | E50: 10 | F50: 1 | G50: 1 | J50: 1 | K50: 1 | N50: 1 | O50: 1 | R50: 1 | S50: 1 | V50: 1 | W50: 1 | Z50: 1 | AA50: 1 | AD50: 1 | AH50: 1 | AL50: 1 | AP50: 1 | AU50: 1 | AY50: 1 | BG50: 1 | BK50: 1 | BN50: 1 | BS50: 1 | BW50: 1 | CA50: 1 | CP50: 1 | CT50: 1 | CY50: 1 | DC50: 1 | DG50: 1 | DK50: 1 | DO50: 1 | DS50: 1 | DW50: 1 | DZ50: =F50+J50+N50+R50+V50+Z50+AD50+AH50+AL50+AP50+AT50+AX50+BB50+BF50+BJ50+BN50+BR50+BV50+BZ50+CD50+CH50+CL50+CP50+CT50+CX50+DB50+DF50+DJ50+DN50+DR50+DV50 -> 13 | EA50: =G50+K50+O50+S50+W50+AA50+AE50+AI50+AM50+AQ50+AU50+AY50+BC50+BG50+BK50+BO50+BS50+BW50+CA50+CE50+CI50+CM50+CQ50+CU50+CY50+DC50+DG50+DK50+DO50+DS50+DW50 -> 20 | EB50: =H50+L50+P50+T50+X50+AB50+AF50+AJ50+AN50+AR50+AV50+AZ50+BD50+BH50+BL50+BP50+BT50+BX50+CB50+CF50+CJ50+CN50+CR50+CV50+CZ50+DD50+DH50+DL50+DP50+DT50+DX50 -> 0 | EC50: =I50+M50+Q50+U50+Y50+AC50+AG50+AK50+AO50+AS50+AW50+BA50+BE50+BI50+BM50+BQ50+BU50+BY50+CC50+CG50+CK50+CO50+CS50+CW50+DA50+DE50+DI50+DM50+DQ50+DU50+DY50 -> 0
A51: 43 | B51: VIKRA503111TSBH09698 | C51: VIKRAM LASER EYE CARE | D51: H.No.1-6-66, OPP: GAYATRI BANK & INDIAN OIL PETROL PUMP, SIRICILLA ROAD, KAMAREDDY - 503111. | E51: 10 | F51: 1 | G51: 1 | J51: 1 | K51: 1 | N51: 1 | O51: 1 | R51: 1 | S51: 1 | V51: 1 | W51: 1 | Z51: 1 | AA51: 1 | AD51: 1 | AH51: 1 | AL51: 1 | AP51: 1 | AT51: 1 | AX51: 1 | BF51: 1 | BJ51: 1 | BO51: 1 | BR51: 1 | BV51: 1 | CP51: 1 | CU51: 1 | CX51: 1 | DB51: 1 | DF51: 1 | DJ51: 1 | DN51: 1 | DR51: 1 | DV51: 1 | DZ51: =F51+J51+N51+R51+V51+Z51+AD51+AH51+AL51+AP51+AT51+AX51+BB51+BF51+BJ51+BN51+BR51+BV51+BZ51+CD51+CH51+CL51+CP51+CT51+CX51+DB51+DF51+DJ51+DN51+DR51+DV51 -> 24 | EA51: =G51+K51+O51+S51+W51+AA51+AE51+AI51+AM51+AQ51+AU51+AY51+BC51+BG51+BK51+BO51+BS51+BW51+CA51+CE51+CI51+CM51+CQ51+CU51+CY51+DC51+DG51+DK51+DO51+DS51+DW51 -> 8 | EB51: =H51+L51+P51+T51+X51+AB51+AF51+AJ51+AN51+AR51+AV51+AZ51+BD51+BH51+BL51+BP51+BT51+BX51+CB51+CF51+CJ51+CN51+CR51+CV51+CZ51+DD51+DH51+DL51+DP51+DT51+DX51 -> 0 | EC51: =I51+M51+Q51+U51+Y51+AC51+AG51+AK51+AO51+AS51+AW51+BA51+BE51+BI51+BM51+BQ51+BU51+BY51+CC51+CG51+CK51+CO51+CS51+CW51+DA51+DE51+DI51+DM51+DQ51+DU51+DY51 -> 0
A52: 44 | B52: AADHY503111TSBH14929 | C52: AADHYA HOSPITAL, KAMAREDDY | D52: DHARMASHALA BACKSIDE, GODOWN ROAD, DR. K. NARENDAR RAO CHILDREN'S HOSPITAL LANE, KAMAREDDY - 503111. | E52: 9 | CH52: 1 | CL52: 1 | CP52: 1 | CT52: 1 | CY52: 1 | DC52: 1 | DG52: 1 | DK52: 1 | DO52: 1 | DS52: 1 | DW52: 1 | DZ52: =F52+J52+N52+R52+V52+Z52+AD52+AH52+AL52+AP52+AT52+AX52+BB52+BF52+BJ52+BN52+BR52+BV52+BZ52+CD52+CH52+CL52+CP52+CT52+CX52+DB52+DF52+DJ52+DN52+DR52+DV52 -> 4 | EA52: =G52+K52+O52+S52+W52+AA52+AE52+AI52+AM52+AQ52+AU52+AY52+BC52+BG52+BK52+BO52+BS52+BW52+CA52+CE52+CI52+CM52+CQ52+CU52+CY52+DC52+DG52+DK52+DO52+DS52+DW52 -> 7 | EB52: =H52+L52+P52+T52+X52+AB52+AF52+AJ52+AN52+AR52+AV52+AZ52+BD52+BH52+BL52+BP52+BT52+BX52+CB52+CF52+CJ52+CN52+CR52+CV52+CZ52+DD52+DH52+DL52+DP52+DT52+DX52 -> 0 | EC52: =I52+M52+Q52+U52+Y52+AC52+AG52+AK52+AO52+AS52+AW52+BA52+BE52+BI52+BM52+BQ52+BU52+BY52+CC52+CG52+CK52+CO52+CS52+CW52+DA52+DE52+DI52+DM52+DQ52+DU52+DY52 -> 0
A53: 45 | B53: AJAYH503111TSBH09981 | C53: AJAY HOSPITAL (CHILDRENS & NEONATAL) KAMAREDDY | D53: BESIDE SPARSHA SKIN HOSPITAL & SRI LAXMI HOSPITAL, GODOWN ROAD, KAMAREDDY - 503111. | E53: 9 | F53: 1 | G53: 1 | J53: 1 | K53: 1 | N53: 1 | O53: 1 | R53: 1 | S53: 1 | V53: 1 | W53: 1 | Z53: 1 | AA53: 1 | AD53: 1 | AH53: 1 | AL53: 1 | AP53: 1 | AU53: 1 | AY53: 1 | BG53: 1 | BK53: 1 | BN53: 1 | BS53: 1 | BW53: 1 | CA53: 1 | CQ53: 1 | CU53: 1 | CX53: 1 | DB53: 1 | DF53: 1 | DJ53: 1 | DN53: 1 | DR53: 1 | DV53: 1 | DZ53: =F53+J53+N53+R53+V53+Z53+AD53+AH53+AL53+AP53+AT53+AX53+BB53+BF53+BJ53+BN53+BR53+BV53+BZ53+CD53+CH53+CL53+CP53+CT53+CX53+DB53+DF53+DJ53+DN53+DR53+DV53 -> 18 | EA53: =G53+K53+O53+S53+W53+AA53+AE53+AI53+AM53+AQ53+AU53+AY53+BC53+BG53+BK53+BO53+BS53+BW53+CA53+CE53+CI53+CM53+CQ53+CU53+CY53+DC53+DG53+DK53+DO53+DS53+DW53 -> 15 | EB53: =H53+L53+P53+T53+X53+AB53+AF53+AJ53+AN53+AR53+AV53+AZ53+BD53+BH53+BL53+BP53+BT53+BX53+CB53+CF53+CJ53+CN53+CR53+CV53+CZ53+DD53+DH53+DL53+DP53+DT53+DX53 -> 0 | EC53: =I53+M53+Q53+U53+Y53+AC53+AG53+AK53+AO53+AS53+AW53+BA53+BE53+BI53+BM53+BQ53+BU53+BY53+CC53+CG53+CK53+CO53+CS53+CW53+DA53+DE53+DI53+DM53+DQ53+DU53+DY53 -> 0
A54: 46 | B54: KAMAR503111TSBH08454 | C54: KAMAREDDY EYE HOSPITAL | D54: BESIDE SHRAVANI EYE HOSPITAL, GODOWN ROAD, KAMAREDDY - 503111. | E54: 9 | CY54: 1 | DC54: 1 | DG54: 1 | DK54: 1 | DO54: 1 | DS54: 1 | DW54: 1 | DZ54: =F54+J54+N54+R54+V54+Z54+AD54+AH54+AL54+AP54+AT54+AX54+BB54+BF54+BJ54+BN54+BR54+BV54+BZ54+CD54+CH54+CL54+CP54+CT54+CX54+DB54+DF54+DJ54+DN54+DR54+DV54 -> 0 | EA54: =G54+K54+O54+S54+W54+AA54+AE54+AI54+AM54+AQ54+AU54+AY54+BC54+BG54+BK54+BO54+BS54+BW54+CA54+CE54+CI54+CM54+CQ54+CU54+CY54+DC54+DG54+DK54+DO54+DS54+DW54 -> 7 | EB54: =H54+L54+P54+T54+X54+AB54+AF54+AJ54+AN54+AR54+AV54+AZ54+BD54+BH54+BL54+BP54+BT54+BX54+CB54+CF54+CJ54+CN54+CR54+CV54+CZ54+DD54+DH54+DL54+DP54+DT54+DX54 -> 0 | EC54: =I54+M54+Q54+U54+Y54+AC54+AG54+AK54+AO54+AS54+AW54+BA54+BE54+BI54+BM54+BQ54+BU54+BY54+CC54+CG54+CK54+CO54+CS54+CW54+DA54+DE54+DI54+DM54+DQ54+DU54+DY54 -> 0
A55: 47 | B55: NAKSH503111TSBH09942 | C55: NAKSHATRA HOSPITAL | D55: OPP: SRI SAI KRISHNA HOSPITAL, PARSHI RAMULU FUNCTION HALL ROAD, ASHOK NAGAR COLONY, OPPOSITE LANE OF BUS STAND, KAMAREDDY - 503111. | E55: 9 | F55: 1 | G55: 1 | J55: 1 | K55: 1 | N55: 1 | O55: 1 | R55: 1 | S55: 1 | V55: 1 | W55: 1 | Z55: 1 | AA55: 1 | AD55: 1 | AH55: 1 | AL55: 1 | AP55: 1 | AT55: 1 | AX55: 1 | BF55: 1 | BJ55: 1 | BO55: 1 | BR55: 1 | BV55: 1 | CH55: 1 | CL55: 1 | CP55: 1 | CT55: 1 | CX55: 1 | DB55: 1 | DF55: 1 | DJ55: 1 | DN55: 1 | DR55: 1 | DV55: 1 | DZ55: =F55+J55+N55+R55+V55+Z55+AD55+AH55+AL55+AP55+AT55+AX55+BB55+BF55+BJ55+BN55+BR55+BV55+BZ55+CD55+CH55+CL55+CP55+CT55+CX55+DB55+DF55+DJ55+DN55+DR55+DV55 -> 27 | EA55: =G55+K55+O55+S55+W55+AA55+AE55+AI55+AM55+AQ55+AU55+AY55+BC55+BG55+BK55+BO55+BS55+BW55+CA55+CE55+CI55+CM55+CQ55+CU55+CY55+DC55+DG55+DK55+DO55+DS55+DW55 -> 7 | EB55: =H55+L55+P55+T55+X55+AB55+AF55+AJ55+AN55+AR55+AV55+AZ55+BD55+BH55+BL55+BP55+BT55+BX55+CB55+CF55+CJ55+CN55+CR55+CV55+CZ55+DD55+DH55+DL55+DP55+DT55+DX55 -> 0 | EC55: =I55+M55+Q55+U55+Y55+AC55+AG55+AK55+AO55+AS55+AW55+BA55+BE55+BI55+BM55+BQ55+BU55+BY55+CC55+CG55+CK55+CO55+CS55+CW55+DA55+DE55+DI55+DM55+DQ55+DU55+DY55 -> 0
A56: 48 | B56: RJHOS503111TSBH09781 | C56: R J HOSPITAL | D56: JAMAL'S R J HOSPITAL, #1-5-Ra0004, KAMAREDDY - 503111. | E56: 9 | F56: 1 | G56: 1 | J56: 1 | K56: 1 | N56: 1 | O56: 1 | R56: 1 | S56: 1 | V56: 1 | W56: 1 | Z56: 1 | AA56: 1 | AD56: 1 | AH56: 1 | AL56: 1 | AP56: 1 | AT56: 1 | AX56: 1 | BF56: 1 | BJ56: 1 | BO56: 1 | BR56: 1 | BV56: 1 | CP56: 1 | CU56: 1 | CY56: 1 | DC56: 1 | DG56: 1 | DK56: 1 | DO56: 1 | DS56: 1 | DW56: 1 | DZ56: =F56+J56+N56+R56+V56+Z56+AD56+AH56+AL56+AP56+AT56+AX56+BB56+BF56+BJ56+BN56+BR56+BV56+BZ56+CD56+CH56+CL56+CP56+CT56+CX56+DB56+DF56+DJ56+DN56+DR56+DV56 -> 17 | EA56: =G56+K56+O56+S56+W56+AA56+AE56+AI56+AM56+AQ56+AU56+AY56+BC56+BG56+BK56+BO56+BS56+BW56+CA56+CE56+CI56+CM56+CQ56+CU56+CY56+DC56+DG56+DK56+DO56+DS56+DW56 -> 15 | EB56: =H56+L56+P56+T56+X56+AB56+AF56+AJ56+AN56+AR56+AV56+AZ56+BD56+BH56+BL56+BP56+BT56+BX56+CB56+CF56+CJ56+CN56+CR56+CV56+CZ56+DD56+DH56+DL56+DP56+DT56+DX56 -> 0 | EC56: =I56+M56+Q56+U56+Y56+AC56+AG56+AK56+AO56+AS56+AW56+BA56+BE56+BI56+BM56+BQ56+BU56+BY56+CC56+CG56+CK56+CO56+CS56+CW56+DA56+DE56+DI56+DM56+DQ56+DU56+DY56 -> 0
A57: 49 | B57: SRIKR503111TSBH09902 | C57: SRI KRISHNA NETHRALAYA EYE CARE HOSPITAL | D57: DR V. SURESH KUMAR, GODOWN ROAD, KAMAREDDY | E57: 9 | F57: 1 | G57: 1 | J57: 1 | K57: 1 | N57: 1 | O57: 1 | R57: 1 | S57: 1 | V57: 1 | W57: 1 | Z57: 1 | AA57: 1 | AD57: 1 | AH57: 1 | AL57: 1 | AP57: 1 | AU57: 1 | AY57: 1 | BG57: 1 | BK57: 1 | BN57: 1 | BS57: 1 | BW57: 1 | CA57: 1 | CP57: 1 | CU57: 1 | CX57: 1 | DB57: 1 | DF57: 1 | DJ57: 1 | DN57: 1 | DR57: 1 | DV57: 1 | DZ57: =F57+J57+N57+R57+V57+Z57+AD57+AH57+AL57+AP57+AT57+AX57+BB57+BF57+BJ57+BN57+BR57+BV57+BZ57+CD57+CH57+CL57+CP57+CT57+CX57+DB57+DF57+DJ57+DN57+DR57+DV57 -> 19 | EA57: =G57+K57+O57+S57+W57+AA57+AE57+AI57+AM57+AQ57+AU57+AY57+BC57+BG57+BK57+BO57+BS57+BW57+CA57+CE57+CI57+CM57+CQ57+CU57+CY57+DC57+DG57+DK57+DO57+DS57+DW57 -> 14 | EB57: =H57+L57+P57+T57+X57+AB57+AF57+AJ57+AN57+AR57+AV57+AZ57+BD57+BH57+BL57+BP57+BT57+BX57+CB57+CF57+CJ57+CN57+CR57+CV57+CZ57+DD57+DH57+DL57+DP57+DT57+DX57 -> 0 | EC57: =I57+M57+Q57+U57+Y57+AC57+AG57+AK57+AO57+AS57+AW57+BA57+BE57+BI57+BM57+BQ57+BU57+BY57+CC57+CG57+CK57+CO57+CS57+CW57+DA57+DE57+DI57+DM57+DQ57+DU57+DY57 -> 0
A58: 50 | B58: SRILA503111TSBH13903 | C58: SRI LAXMI VENKATESHWARA MULTISPECIALITY HOSPITAL (SRI LVR HOSPITAL) KAMAREDDY | D58: H.No. 1-5-173/1, NETAJI ROAD, KAMAREDDY - 503111. | E58: 9 | F58: 1 | J58: 1 | O58: 1 | S58: 1 | W58: 1 | AA58: 1 | AE58: 1 | AI58: 1 | AM58: 1 | AQ58: 1 | AT58: 1 | AX58: 1 | BF58: 1 | BJ58: 1 | BO58: 1 | BR58: 1 | BV58: 1 | CH58: 1 | CL58: 1 | CP58: 1 | CT58: 1 | CY58: 1 | DC58: 1 | DG58: 1 | DK58: 1 | DO58: 1 | DS58: 1 | DW58: 1 | DZ58: =F58+J58+N58+R58+V58+Z58+AD58+AH58+AL58+AP58+AT58+AX58+BB58+BF58+BJ58+BN58+BR58+BV58+BZ58+CD58+CH58+CL58+CP58+CT58+CX58+DB58+DF58+DJ58+DN58+DR58+DV58 -> 12 | EA58: =G58+K58+O58+S58+W58+AA58+AE58+AI58+AM58+AQ58+AU58+AY58+BC58+BG58+BK58+BO58+BS58+BW58+CA58+CE58+CI58+CM58+CQ58+CU58+CY58+DC58+DG58+DK58+DO58+DS58+DW58 -> 16 | EB58: =H58+L58+P58+T58+X58+AB58+AF58+AJ58+AN58+AR58+AV58+AZ58+BD58+BH58+BL58+BP58+BT58+BX58+CB58+CF58+CJ58+CN58+CR58+CV58+CZ58+DD58+DH58+DL58+DP58+DT58+DX58 -> 0 | EC58: =I58+M58+Q58+U58+Y58+AC58+AG58+AK58+AO58+AS58+AW58+BA58+BE58+BI58+BM58+BQ58+BU58+BY58+CC58+CG58+CK58+CO58+CS58+CW58+DA58+DE58+DI58+DM58+DQ58+DU58+DY58 -> 0
A59: 51 | B59: SRIPA503111TSBH14020 | C59: SRI PADMAVATHI MULTI SPECIALITY HOSPITAL | D59: DOCTOR JYOTHIRMAYI BUILDING, BESIDE R.K. LODGE, NEW BUS STAND, NGO'S COLONY, KAMAREDDY - 503111 | E59: 9 | F59: 1 | G59: 1 | J59: 1 | K59: 1 | O59: 1 | S59: 1 | W59: 1 | AA59: 1 | AE59: 1 | AI59: 1 | AM59: 1 | AQ59: 1 | AU59: 1 | AY59: 1 | BG59: 1 | BK59: 1 | CX59: 1 | DB59: 1 | DF59: 1 | DJ59: 1 | DN59: 1 | DR59: 1 | DV59: 1 | DZ59: =F59+J59+N59+R59+V59+Z59+AD59+AH59+AL59+AP59+AT59+AX59+BB59+BF59+BJ59+BN59+BR59+BV59+BZ59+CD59+CH59+CL59+CP59+CT59+CX59+DB59+DF59+DJ59+DN59+DR59+DV59 -> 9 | EA59: =G59+K59+O59+S59+W59+AA59+AE59+AI59+AM59+AQ59+AU59+AY59+BC59+BG59+BK59+BO59+BS59+BW59+CA59+CE59+CI59+CM59+CQ59+CU59+CY59+DC59+DG59+DK59+DO59+DS59+DW59 -> 14 | EB59: =H59+L59+P59+T59+X59+AB59+AF59+AJ59+AN59+AR59+AV59+AZ59+BD59+BH59+BL59+BP59+BT59+BX59+CB59+CF59+CJ59+CN59+CR59+CV59+CZ59+DD59+DH59+DL59+DP59+DT59+DX59 -> 0 | EC59: =I59+M59+Q59+U59+Y59+AC59+AG59+AK59+AO59+AS59+AW59+BA59+BE59+BI59+BM59+BQ59+BU59+BY59+CC59+CG59+CK59+CO59+CS59+CW59+DA59+DE59+DI59+DM59+DQ59+DU59+DY59 -> 0
A60: 52 | B60: SRIVE503111TSBH06155 | C60: SRI VENKATESHWARA MULTI SPECIALITY DENTAL & COSMETIC CLINIC | D60: H.No:5-3-447, SREE VENKATA NIVAASAM, VIDYA NAGAR COLONY, NEAR SAI BABA TEMPLE, KAMAREDDY - 503111. | E60: 9 | F60: 1 | G60: 1 | J60: 1 | K60: 1 | O60: 1 | S60: 1 | W60: 1 | AA60: 1 | AD60: 1 | AH60: 1 | AL60: 1 | AP60: 1 | AT60: 1 | AX60: 1 | BF60: 1 | BJ60: 1 | BO60: 1 | BR60: 1 | BV60: 1 | CH60: 1 | CL60: 1 | CP60: 1 | CT60: 1 | CY60: 1 | DC60: 1 | DG60: 1 | DK60: 1 | DO60: 1 | DS60: 1 | DW60: 1 | DZ60: =F60+J60+N60+R60+V60+Z60+AD60+AH60+AL60+AP60+AT60+AX60+BB60+BF60+BJ60+BN60+BR60+BV60+BZ60+CD60+CH60+CL60+CP60+CT60+CX60+DB60+DF60+DJ60+DN60+DR60+DV60 -> 16 | EA60: =G60+K60+O60+S60+W60+AA60+AE60+AI60+AM60+AQ60+AU60+AY60+BC60+BG60+BK60+BO60+BS60+BW60+CA60+CE60+CI60+CM60+CQ60+CU60+CY60+DC60+DG60+DK60+DO60+DS60+DW60 -> 14 | EB60: =H60+L60+P60+T60+X60+AB60+AF60+AJ60+AN60+AR60+AV60+AZ60+BD60+BH60+BL60+BP60+BT60+BX60+CB60+CF60+CJ60+CN60+CR60+CV60+CZ60+DD60+DH60+DL60+DP60+DT60+DX60 -> 0 | EC60: =I60+M60+Q60+U60+Y60+AC60+AG60+AK60+AO60+AS60+AW60+BA60+BE60+BI60+BM60+BQ60+BU60+BY60+CC60+CG60+CK60+CO60+CS60+CW60+DA60+DE60+DI60+DM60+DQ60+DU60+DY60 -> 0
A61: 53 | B61: SURAK503111TSBH14555 | C61: SURAKSHA HOSPITAL | D61: OPPOSITE DR. ANJALREDDY HOSPITAL, NETHAJI ROAD, KAMAREDDY - 503111 | E61: 9 | F61: 1 | G61: 1 | J61: 1 | K61: 1 | O61: 1 | S61: 1 | W61: 1 | AA61: 1 | AE61: 1 | AI61: 1 | AM61: 1 | AQ61: 1 | AU61: 1 | AY61: 1 | BG61: 1 | BK61: 1 | BN61: 1 | BS61: 1 | BW61: 1 | CA61: 1 | CH61: 1 | CL61: 1 | CP61: 1 | CT61: 1 | CX61: 1 | DB61: 1 | DF61: 1 | DJ61: 1 | DN61: 1 | DR61: 1 | DV61: 1 | DZ61: =F61+J61+N61+R61+V61+Z61+AD61+AH61+AL61+AP61+AT61+AX61+BB61+BF61+BJ61+BN61+BR61+BV61+BZ61+CD61+CH61+CL61+CP61+CT61+CX61+DB61+DF61+DJ61+DN61+DR61+DV61 -> 14 | EA61: =G61+K61+O61+S61+W61+AA61+AE61+AI61+AM61+AQ61+AU61+AY61+BC61+BG61+BK61+BO61+BS61+BW61+CA61+CE61+CI61+CM61+CQ61+CU61+CY61+DC61+DG61+DK61+DO61+DS61+DW61 -> 17 | EB61: =H61+L61+P61+T61+X61+AB61+AF61+AJ61+AN61+AR61+AV61+AZ61+BD61+BH61+BL61+BP61+BT61+BX61+CB61+CF61+CJ61+CN61+CR61+CV61+CZ61+DD61+DH61+DL61+DP61+DT61+DX61 -> 0 | EC61: =I61+M61+Q61+U61+Y61+AC61+AG61+AK61+AO61+AS61+AW61+BA61+BE61+BI61+BM61+BQ61+BU61+BY61+CC61+CG61+CK61+CO61+CS61+CW61+DA61+DE61+DI61+DM61+DQ61+DU61+DY61 -> 0
A62: 54 | B62: GHORI503302TSBH17316 | C62: GHORIS HOSPITAL | D62: H.No. 5-3-136/1, Ghoris Shopping complex, Nizamsagar Road, Kamareddy District,,Nizamsagar,KAMAREDDY,503302 | E62: 8 | F62: 1 | G62: 1 | J62: 1 | K62: 1 | O62: 1 | S62: 1 | W62: 1 | AA62: 1 | AE62: 1 | AI62: 1 | AM62: 1 | AQ62: 1 | AT62: 1 | AX62: 1 | BF62: 1 | BJ62: 1 | BO62: 1 | BR62: 1 | BV62: 1 | CQ62: 1 | CU62: 1 | CY62: 1 | DC62: 1 | DG62: 1 | DK62: 1 | DO62: 1 | DS62: 1 | DW62: 1 | DZ62: =F62+J62+N62+R62+V62+Z62+AD62+AH62+AL62+AP62+AT62+AX62+BB62+BF62+BJ62+BN62+BR62+BV62+BZ62+CD62+CH62+CL62+CP62+CT62+CX62+DB62+DF62+DJ62+DN62+DR62+DV62 -> 8 | EA62: =G62+K62+O62+S62+W62+AA62+AE62+AI62+AM62+AQ62+AU62+AY62+BC62+BG62+BK62+BO62+BS62+BW62+CA62+CE62+CI62+CM62+CQ62+CU62+CY62+DC62+DG62+DK62+DO62+DS62+DW62 -> 20 | EB62: =H62+L62+P62+T62+X62+AB62+AF62+AJ62+AN62+AR62+AV62+AZ62+BD62+BH62+BL62+BP62+BT62+BX62+CB62+CF62+CJ62+CN62+CR62+CV62+CZ62+DD62+DH62+DL62+DP62+DT62+DX62 -> 0 | EC62: =I62+M62+Q62+U62+Y62+AC62+AG62+AK62+AO62+AS62+AW62+BA62+BE62+BI62+BM62+BQ62+BU62+BY62+CC62+CG62+CK62+CO62+CS62+CW62+DA62+DE62+DI62+DM62+DQ62+DU62+DY62 -> 0
A63: 55 | B63: KAMAR503111TSBH09697 | C63: KAMAREDDY NEURO SUPERSPECIALITY HOSPITAL | D63: OPP: SWATHI HOTEL, SIRICILLA ROAD, KAMAREDDY - 503111. | E63: 8 | F63: 1 | G63: 1 | J63: 1 | K63: 1 | O63: 1 | S63: 1 | W63: 1 | AA63: 1 | AD63: 1 | AH63: 1 | AL63: 1 | AP63: 1 | AT63: 1 | AX63: 1 | BF63: 1 | BJ63: 1 | BO63: 1 | BR63: 1 | BV63: 1 | CH63: 1 | CL63: 1 | CP63: 1 | CT63: 1 | CX63: 1 | DB63: 1 | DF63: 1 | DJ63: 1 | DN63: 1 | DR63: 1 | DV63: 1 | DZ63: =F63+J63+N63+R63+V63+Z63+AD63+AH63+AL63+AP63+AT63+AX63+BB63+BF63+BJ63+BN63+BR63+BV63+BZ63+CD63+CH63+CL63+CP63+CT63+CX63+DB63+DF63+DJ63+DN63+DR63+DV63 -> 23 | EA63: =G63+K63+O63+S63+W63+AA63+AE63+AI63+AM63+AQ63+AU63+AY63+BC63+BG63+BK63+BO63+BS63+BW63+CA63+CE63+CI63+CM63+CQ63+CU63+CY63+DC63+DG63+DK63+DO63+DS63+DW63 -> 7 | EB63: =H63+L63+P63+T63+X63+AB63+AF63+AJ63+AN63+AR63+AV63+AZ63+BD63+BH63+BL63+BP63+BT63+BX63+CB63+CF63+CJ63+CN63+CR63+CV63+CZ63+DD63+DH63+DL63+DP63+DT63+DX63 -> 0 | EC63: =I63+M63+Q63+U63+Y63+AC63+AG63+AK63+AO63+AS63+AW63+BA63+BE63+BI63+BM63+BQ63+BU63+BY63+CC63+CG63+CK63+CO63+CS63+CW63+DA63+DE63+DI63+DM63+DQ63+DU63+DY63 -> 0
A64: 56 | B64: NETRA503111TSBH09940 | C64: NETRA JYOTHI VISION CARE CENTER | D64: GODWN ROAD, KAMAREDDY - 503111. | E64: 8 | F64: 1 | G64: 1 | J64: 1 | K64: 1 | O64: 1 | S64: 1 | W64: 1 | AA64: 1 | AE64: 1 | AI64: 1 | AM64: 1 | AQ64: 1 | AU64: 1 | AY64: 1 | BG64: 1 | BK64: 1 | BN64: 1 | BS64: 1 | BW64: 1 | CA64: 1 | CP64: 1 | CT64: 1 | CY64: 1 | DC64: 1 | DG64: 1 | DK64: 1 | DO64: 1 | DS64: 1 | DW64: 1 | DZ64: =F64+J64+N64+R64+V64+Z64+AD64+AH64+AL64+AP64+AT64+AX64+BB64+BF64+BJ64+BN64+BR64+BV64+BZ64+CD64+CH64+CL64+CP64+CT64+CX64+DB64+DF64+DJ64+DN64+DR64+DV64 -> 5 | EA64: =G64+K64+O64+S64+W64+AA64+AE64+AI64+AM64+AQ64+AU64+AY64+BC64+BG64+BK64+BO64+BS64+BW64+CA64+CE64+CI64+CM64+CQ64+CU64+CY64+DC64+DG64+DK64+DO64+DS64+DW64 -> 24 | EB64: =H64+L64+P64+T64+X64+AB64+AF64+AJ64+AN64+AR64+AV64+AZ64+BD64+BH64+BL64+BP64+BT64+BX64+CB64+CF64+CJ64+CN64+CR64+CV64+CZ64+DD64+DH64+DL64+DP64+DT64+DX64 -> 0 | EC64: =I64+M64+Q64+U64+Y64+AC64+AG64+AK64+AO64+AS64+AW64+BA64+BE64+BI64+BM64+BQ64+BU64+BY64+CC64+CG64+CK64+CO64+CS64+CW64+DA64+DE64+DI64+DM64+DQ64+DU64+DY64 -> 0
A65: 57 | B65: PULSE503111TSBH11651 | C65: PULSE HOSPITAL | D65: H.NO.5-3-678, BESIDE SREE VINAYAKA SKIN HOSPITAL, NEAR RAYMOND SHOWROOM, BUS STAND ROAD, KAMAREDDY | E65: 8 | F65: 1 | G65: 1 | J65: 1 | K65: 1 | O65: 1 | S65: 1 | W65: 1 | AA65: 1 | AD65: 1 | AH65: 1 | AL65: 1 | AP65: 1 | AT65: 1 | AX65: 1 | BF65: 1 | BJ65: 1 | BO65: 1 | BR65: 1 | BV65: 1 | CH65: 1 | CL65: 1 | CP65: 1 | CT65: 1 | CX65: 1 | DB65: 1 | DF65: 1 | DJ65: 1 | DN65: 1 | DR65: 1 | DV65: 1 | DZ65: =F65+J65+N65+R65+V65+Z65+AD65+AH65+AL65+AP65+AT65+AX65+BB65+BF65+BJ65+BN65+BR65+BV65+BZ65+CD65+CH65+CL65+CP65+CT65+CX65+DB65+DF65+DJ65+DN65+DR65+DV65 -> 23 | EA65: =G65+K65+O65+S65+W65+AA65+AE65+AI65+AM65+AQ65+AU65+AY65+BC65+BG65+BK65+BO65+BS65+BW65+CA65+CE65+CI65+CM65+CQ65+CU65+CY65+DC65+DG65+DK65+DO65+DS65+DW65 -> 7 | EB65: =H65+L65+P65+T65+X65+AB65+AF65+AJ65+AN65+AR65+AV65+AZ65+BD65+BH65+BL65+BP65+BT65+BX65+CB65+CF65+CJ65+CN65+CR65+CV65+CZ65+DD65+DH65+DL65+DP65+DT65+DX65 -> 0 | EC65: =I65+M65+Q65+U65+Y65+AC65+AG65+AK65+AO65+AS65+AW65+BA65+BE65+BI65+BM65+BQ65+BU65+BY65+CC65+CG65+CK65+CO65+CS65+CW65+DA65+DE65+DI65+DM65+DQ65+DU65+DY65 -> 0
A66: 58 | B66: SRINI503111TSBH01020 | C66: SRINIVASA CHILDRENS HOSPITAL | D66: H.NO. 5-4-125/1, N.H.7 ROAD, NEAR DSP OFFICE, RAMAREDDY ROAD, KAMAREDDY - 503111. | E66: 8 | F66: 1 | G66: 1 | J66: 1 | K66: 1 | O66: 1 | S66: 1 | W66: 1 | AA66: 1 | AE66: 1 | AI66: 1 | AM66: 1 | AQ66: 1 | AU66: 1 | AY66: 1 | BG66: 1 | BK66: 1 | BN66: 1 | BS66: 1 | BW66: 1 | CA66: 1 | CI66: 1 | CM66: 1 | CQ66: 1 | CU66: 1 | CY66: 1 | DC66: 1 | DG66: 1 | DK66: 1 | DO66: 1 | DS66: 1 | DW66: 1 | DZ66: =F66+J66+N66+R66+V66+Z66+AD66+AH66+AL66+AP66+AT66+AX66+BB66+BF66+BJ66+BN66+BR66+BV66+BZ66+CD66+CH66+CL66+CP66+CT66+CX66+DB66+DF66+DJ66+DN66+DR66+DV66 -> 3 | EA66: =G66+K66+O66+S66+W66+AA66+AE66+AI66+AM66+AQ66+AU66+AY66+BC66+BG66+BK66+BO66+BS66+BW66+CA66+CE66+CI66+CM66+CQ66+CU66+CY66+DC66+DG66+DK66+DO66+DS66+DW66 -> 28 | EB66: =H66+L66+P66+T66+X66+AB66+AF66+AJ66+AN66+AR66+AV66+AZ66+BD66+BH66+BL66+BP66+BT66+BX66+CB66+CF66+CJ66+CN66+CR66+CV66+CZ66+DD66+DH66+DL66+DP66+DT66+DX66 -> 0 | EC66: =I66+M66+Q66+U66+Y66+AC66+AG66+AK66+AO66+AS66+AW66+BA66+BE66+BI66+BM66+BQ66+BU66+BY66+CC66+CG66+CK66+CO66+CS66+CW66+DA66+DE66+DI66+DM66+DQ66+DU66+DY66 -> 0
A67: 59 | B67: CITYN503111TSBH09977 | C67: CITY NEURO SUPER SPECIALITY HOSPITAL | D67: NEAR SREE GANESHA MULTI SPECIALITY HOSPITAL, TILAK ROAD, GODOWN ROAD, KAMAREDDY - 503111. | E67: 7 | F67: 1 | G67: 1 | J67: 1 | K67: 1 | O67: 1 | S67: 1 | W67: 1 | AA67: 1 | AE67: 1 | AI67: 1 | AM67: 1 | AQ67: 1 | AU67: 1 | AY67: 1 | BG67: 1 | BK67: 1 | BN67: 1 | BS67: 1 | BW67: 1 | CA67: 1 | CH67: 1 | CL67: 1 | CP67: 1 | CT67: 1 | CX67: 1 | DB67: 1 | DF67: 1 | DJ67: 1 | DN67: 1 | DR67: 1 | DV67: 1 | DZ67: =F67+J67+N67+R67+V67+Z67+AD67+AH67+AL67+AP67+AT67+AX67+BB67+BF67+BJ67+BN67+BR67+BV67+BZ67+CD67+CH67+CL67+CP67+CT67+CX67+DB67+DF67+DJ67+DN67+DR67+DV67 -> 14 | EA67: =G67+K67+O67+S67+W67+AA67+AE67+AI67+AM67+AQ67+AU67+AY67+BC67+BG67+BK67+BO67+BS67+BW67+CA67+CE67+CI67+CM67+CQ67+CU67+CY67+DC67+DG67+DK67+DO67+DS67+DW67 -> 17 | EB67: =H67+L67+P67+T67+X67+AB67+AF67+AJ67+AN67+AR67+AV67+AZ67+BD67+BH67+BL67+BP67+BT67+BX67+CB67+CF67+CJ67+CN67+CR67+CV67+CZ67+DD67+DH67+DL67+DP67+DT67+DX67 -> 0 | EC67: =I67+M67+Q67+U67+Y67+AC67+AG67+AK67+AO67+AS67+AW67+BA67+BE67+BI67+BM67+BQ67+BU67+BY67+CC67+CG67+CK67+CO67+CS67+CW67+DA67+DE67+DI67+DM67+DQ67+DU67+DY67 -> 0
A68: 60 | B68: DRPSU503111TSBH07067 | C68: DR. P SUDARSHAN RAJ CLINIC | D68: H.NO. 1-9-53, MUSHRIF BHAGH, KAMAREDDY - 503111. | E68: 6 | F68: 1 | G68: 1 | J68: 1 | K68: 1 | O68: 1 | S68: 1 | W68: 1 | AA68: 1 | AD68: 1 | AH68: 1 | AL68: 1 | AP68: 1 | AT68: 1 | AX68: 1 | BF68: 1 | BJ68: 1 | BO68: 1 | BR68: 1 | BV68: 1 | BZ68: 1 | CQ68: 1 | CU68: 1 | CY68: 1 | DC68: 1 | DG68: 1 | DK68: 1 | DO68: 1 | DS68: 1 | DW68: 1 | DZ68: =F68+J68+N68+R68+V68+Z68+AD68+AH68+AL68+AP68+AT68+AX68+BB68+BF68+BJ68+BN68+BR68+BV68+BZ68+CD68+CH68+CL68+CP68+CT68+CX68+DB68+DF68+DJ68+DN68+DR68+DV68 -> 13 | EA68: =G68+K68+O68+S68+W68+AA68+AE68+AI68+AM68+AQ68+AU68+AY68+BC68+BG68+BK68+BO68+BS68+BW68+CA68+CE68+CI68+CM68+CQ68+CU68+CY68+DC68+DG68+DK68+DO68+DS68+DW68 -> 16 | EB68: =H68+L68+P68+T68+X68+AB68+AF68+AJ68+AN68+AR68+AV68+AZ68+BD68+BH68+BL68+BP68+BT68+BX68+CB68+CF68+CJ68+CN68+CR68+CV68+CZ68+DD68+DH68+DL68+DP68+DT68+DX68 -> 0 | EC68: =I68+M68+Q68+U68+Y68+AC68+AG68+AK68+AO68+AS68+AW68+BA68+BE68+BI68+BM68+BQ68+BU68+BY68+CC68+CG68+CK68+CO68+CS68+CW68+DA68+DE68+DI68+DM68+DQ68+DU68+DY68 -> 0
A69: 61 | B69: SURYA503111TSBH09941 | C69: SURYA HOSPITAL | D69: BESIDE SPARSHA SKIN HOSPITAL, NEAR T. BHAIRAIAH HOSPITAL, GODOWN ROAD, KAMAREDDY - 503111. | E69: 6 | F69: 1 | G69: 1 | J69: 1 | K69: 1 | O69: 1 | S69: 1 | W69: 1 | AA69: 1 | AE69: 1 | AI69: 1 | AM69: 1 | AQ69: 1 | AU69: 1 | AY69: 1 | BG69: 1 | BK69: 1 | BN69: 1 | BS69: 1 | BW69: 1 | CA69: 1 | CP69: 1 | CT69: 1 | CX69: 1 | DB69: 1 | DF69: 1 | DJ69: 1 | DN69: 1 | DR69: 1 | DV69: 1 | DZ69: =F69+J69+N69+R69+V69+Z69+AD69+AH69+AL69+AP69+AT69+AX69+BB69+BF69+BJ69+BN69+BR69+BV69+BZ69+CD69+CH69+CL69+CP69+CT69+CX69+DB69+DF69+DJ69+DN69+DR69+DV69 -> 12 | EA69: =G69+K69+O69+S69+W69+AA69+AE69+AI69+AM69+AQ69+AU69+AY69+BC69+BG69+BK69+BO69+BS69+BW69+CA69+CE69+CI69+CM69+CQ69+CU69+CY69+DC69+DG69+DK69+DO69+DS69+DW69 -> 17 | EB69: =H69+L69+P69+T69+X69+AB69+AF69+AJ69+AN69+AR69+AV69+AZ69+BD69+BH69+BL69+BP69+BT69+BX69+CB69+CF69+CJ69+CN69+CR69+CV69+CZ69+DD69+DH69+DL69+DP69+DT69+DX69 -> 0 | EC69: =I69+M69+Q69+U69+Y69+AC69+AG69+AK69+AO69+AS69+AW69+BA69+BE69+BI69+BM69+BQ69+BU69+BY69+CC69+CG69+CK69+CO69+CS69+CW69+DA69+DE69+DI69+DM69+DQ69+DU69+DY69 -> 0
A70: 62 | B70: AMRUT503111TSBH07827 | C70: AMRUTHA CHILDRENS & NEONATAL HOSPITAL | D70: BESIDE MUNICIPAL OFFICE, KAMAREDDY - 503111. | E70: 5 | F70: 1 | J70: 1 | O70: 1 | S70: 1 | W70: 1 | AA70: 1 | AE70: 1 | AI70: 1 | AM70: 1 | AQ70: 1 | AT70: 1 | AX70: 1 | BF70: 1 | BJ70: 1 | BO70: 1 | BR70: 1 | BV70: 1 | BZ70: 1 | CP70: 1 | CT70: 1 | CY70: 1 | DC70: 1 | DG70: 1 | DK70: 1 | DO70: 1 | DS70: 1 | DW70: 1 | DZ70: =F70+J70+N70+R70+V70+Z70+AD70+AH70+AL70+AP70+AT70+AX70+BB70+BF70+BJ70+BN70+BR70+BV70+BZ70+CD70+CH70+CL70+CP70+CT70+CX70+DB70+DF70+DJ70+DN70+DR70+DV70 -> 11 | EA70: =G70+K70+O70+S70+W70+AA70+AE70+AI70+AM70+AQ70+AU70+AY70+BC70+BG70+BK70+BO70+BS70+BW70+CA70+CE70+CI70+CM70+CQ70+CU70+CY70+DC70+DG70+DK70+DO70+DS70+DW70 -> 16 | EB70: =H70+L70+P70+T70+X70+AB70+AF70+AJ70+AN70+AR70+AV70+AZ70+BD70+BH70+BL70+BP70+BT70+BX70+CB70+CF70+CJ70+CN70+CR70+CV70+CZ70+DD70+DH70+DL70+DP70+DT70+DX70 -> 0 | EC70: =I70+M70+Q70+U70+Y70+AC70+AG70+AK70+AO70+AS70+AW70+BA70+BE70+BI70+BM70+BQ70+BU70+BY70+CC70+CG70+CK70+CO70+CS70+CW70+DA70+DE70+DI70+DM70+DQ70+DU70+DY70 -> 0
A71: 63 | B71: JAGRU503111TSBH09903 | C71: JAGRUTHI HOSPITAL | D71: H.No. 1-5-98, TILAK ROAD, NEAR SRI KRISHNA NETHRALAYA EYE CARE HOSPITAL, GODOWN ROAD, KAMAREDDY - 503111. | E71: 5 | G71: 1 | K71: 1 | O71: 1 | S71: 1 | W71: 1 | AA71: 1 | AE71: 1 | AI71: 1 | AM71: 1 | AQ71: 1 | AU71: 1 | AY71: 1 | BG71: 1 | BK71: 1 | BN71: 1 | BR71: 2 | BV71: 1 | BZ71: 1 | CQ71: 1 | CU71: 1 | CX71: 1 | DB71: 1 | DF71: 1 | DJ71: 1 | DN71: 1 | DR71: 1 | DV71: 1 | DZ71: =F71+J71+N71+R71+V71+Z71+AD71+AH71+AL71+AP71+AT71+AX71+BB71+BF71+BJ71+BN71+BR71+BV71+BZ71+CD71+CH71+CL71+CP71+CT71+CX71+DB71+DF71+DJ71+DN71+DR71+DV71 -> 12 | EA71: =G71+K71+O71+S71+W71+AA71+AE71+AI71+AM71+AQ71+AU71+AY71+BC71+BG71+BK71+BO71+BS71+BW71+CA71+CE71+CI71+CM71+CQ71+CU71+CY71+DC71+DG71+DK71+DO71+DS71+DW71 -> 16 | EB71: =H71+L71+P71+T71+X71+AB71+AF71+AJ71+AN71+AR71+AV71+AZ71+BD71+BH71+BL71+BP71+BT71+BX71+CB71+CF71+CJ71+CN71+CR71+CV71+CZ71+DD71+DH71+DL71+DP71+DT71+DX71 -> 0 | EC71: =I71+M71+Q71+U71+Y71+AC71+AG71+AK71+AO71+AS71+AW71+BA71+BE71+BI71+BM71+BQ71+BU71+BY71+CC71+CG71+CK71+CO71+CS71+CW71+DA71+DE71+DI71+DM71+DQ71+DU71+DY71 -> 0
A72: 64 | B72: SAIRA503111TSBH08388 | C72: SAIRAM GENERAL & SKIN HOSPITAL | D72: BESIDE DR. DATHAIAH CLINIC, NEAR RAILWAY BRIDGE, BESIDE AMBEDKAR STATUE, BIG BAZAR, KAMAREDDY - 503111. | E72: 5 | F72: 1 | J72: 1 | O72: 1 | S72: 1 | W72: 1 | AA72: 1 | AD72: 1 | AH72: 1 | AL72: 1 | AP72: 1 | AT72: 1 | AX72: 1 | BF72: 1 | BJ72: 1 | BO72: 1 | BR72: 1 | BV72: 1 | BZ72: 1 | CP72: 1 | CT72: 1 | CY72: 1 | DC72: 1 | DG72: 1 | DK72: 1 | DO72: 1 | DS72: 1 | DW72: 1 | DZ72: =F72+J72+N72+R72+V72+Z72+AD72+AH72+AL72+AP72+AT72+AX72+BB72+BF72+BJ72+BN72+BR72+BV72+BZ72+CD72+CH72+CL72+CP72+CT72+CX72+DB72+DF72+DJ72+DN72+DR72+DV72 -> 15 | EA72: =G72+K72+O72+S72+W72+AA72+AE72+AI72+AM72+AQ72+AU72+AY72+BC72+BG72+BK72+BO72+BS72+BW72+CA72+CE72+CI72+CM72+CQ72+CU72+CY72+DC72+DG72+DK72+DO72+DS72+DW72 -> 12 | EB72: =H72+L72+P72+T72+X72+AB72+AF72+AJ72+AN72+AR72+AV72+AZ72+BD72+BH72+BL72+BP72+BT72+BX72+CB72+CF72+CJ72+CN72+CR72+CV72+CZ72+DD72+DH72+DL72+DP72+DT72+DX72 -> 0 | EC72: =I72+M72+Q72+U72+Y72+AC72+AG72+AK72+AO72+AS72+AW72+BA72+BE72+BI72+BM72+BQ72+BU72+BY72+CC72+CG72+CK72+CO72+CS72+CW72+DA72+DE72+DI72+DM72+DQ72+DU72+DY72 -> 0
A73: 65 | B73: SRIRA503111TSBH09934 | C73: SRI RAMA MULTI SPECIALITY DENTAL HOSPITAL | D73: 5-3-218/A, II FLOOR, ABOVE THE CANARA BANK, OLD NH.7, OPP: NEW LIC BUILDING, NH-7 ROAD, KAMAREDDY - 503111. | E73: 5 | G73: 1 | K73: 1 | O73: 1 | S73: 1 | W73: 1 | AA73: 1 | AE73: 1 | AI73: 1 | AM73: 1 | AQ73: 1 | AU73: 1 | AY73: 1 | BG73: 1 | BK73: 1 | BN73: 1 | BS73: 1 | BW73: 1 | CA73: 1 | CP73: 1 | CT73: 1 | CX73: 1 | DB73: 1 | DF73: 1 | DJ73: 1 | DN73: 1 | DR73: 1 | DV73: 1 | DZ73: =F73+J73+N73+R73+V73+Z73+AD73+AH73+AL73+AP73+AT73+AX73+BB73+BF73+BJ73+BN73+BR73+BV73+BZ73+CD73+CH73+CL73+CP73+CT73+CX73+DB73+DF73+DJ73+DN73+DR73+DV73 -> 10 | EA73: =G73+K73+O73+S73+W73+AA73+AE73+AI73+AM73+AQ73+AU73+AY73+BC73+BG73+BK73+BO73+BS73+BW73+CA73+CE73+CI73+CM73+CQ73+CU73+CY73+DC73+DG73+DK73+DO73+DS73+DW73 -> 17 | EB73: =H73+L73+P73+T73+X73+AB73+AF73+AJ73+AN73+AR73+AV73+AZ73+BD73+BH73+BL73+BP73+BT73+BX73+CB73+CF73+CJ73+CN73+CR73+CV73+CZ73+DD73+DH73+DL73+DP73+DT73+DX73 -> 0 | EC73: =I73+M73+Q73+U73+Y73+AC73+AG73+AK73+AO73+AS73+AW73+BA73+BE73+BI73+BM73+BQ73+BU73+BY73+CC73+CG73+CK73+CO73+CS73+CW73+DA73+DE73+DI73+DM73+DQ73+DU73+DY73 -> 0
A74: 66 | B74: VISHN503111TSBH01099 | C74: VISHNU ENT HOSPITAL | D74: H.No. 1-5-255/B, BESIDE VAISHNAVI HOSPITAL, NEAR ANJAL REDDY HOSPITAL, RAMAREDDY ROAD, KAMAREDDY - 503111. | E74: 5 | F74: 1 | J74: 1 | V74: 1 | Z74: 1 | AD74: 1 | AH74: 1 | AL74: 1 | AP74: 1 | AT74: 1 | AX74: 1 | BF74: 1 | BJ74: 1 | BO74: 1 | BR74: 1 | BV74: 1 | BZ74: 1 | CQ74: 1 | CU74: 1 | CY74: 1 | DC74: 1 | DG74: 1 | DK74: 1 | DO74: 1 | DS74: 1 | DW74: 1 | DZ74: =F74+J74+N74+R74+V74+Z74+AD74+AH74+AL74+AP74+AT74+AX74+BB74+BF74+BJ74+BN74+BR74+BV74+BZ74+CD74+CH74+CL74+CP74+CT74+CX74+DB74+DF74+DJ74+DN74+DR74+DV74 -> 15 | EA74: =G74+K74+O74+S74+W74+AA74+AE74+AI74+AM74+AQ74+AU74+AY74+BC74+BG74+BK74+BO74+BS74+BW74+CA74+CE74+CI74+CM74+CQ74+CU74+CY74+DC74+DG74+DK74+DO74+DS74+DW74 -> 10 | EB74: =H74+L74+P74+T74+X74+AB74+AF74+AJ74+AN74+AR74+AV74+AZ74+BD74+BH74+BL74+BP74+BT74+BX74+CB74+CF74+CJ74+CN74+CR74+CV74+CZ74+DD74+DH74+DL74+DP74+DT74+DX74 -> 0 | EC74: =I74+M74+Q74+U74+Y74+AC74+AG74+AK74+AO74+AS74+AW74+BA74+BE74+BI74+BM74+BQ74+BU74+BY74+CC74+CG74+CK74+CO74+CS74+CW74+DA74+DE74+DI74+DM74+DQ74+DU74+DY74 -> 0
A75: 67 | B75: SHIVA503111TSBH00956 | C75: SHIVA SAI MULTISPECIALITY DENTAL CLINIC | D75: H.No:-1-7-73, NIZAMSAGAR X ROAD, THILAK ROAD, KAMAREDDY - 503111. | E75: 4 | G75: 1 | K75: 1 | N75: 1 | R75: 1 | V75: 1 | Z75: 1 | AE75: 1 | AI75: 1 | AM75: 1 | AQ75: 1 | AU75: 1 | AY75: 1 | BG75: 1 | BK75: 1 | BN75: 1 | BS75: 1 | BW75: 1 | CA75: 1 | CH75: 1 | CL75: 1 | CP75: 1 | CT75: 1 | CX75: 1 | DB75: 1 | DF75: 1 | DJ75: 1 | DN75: 1 | DR75: 1 | DV75: 1 | DZ75: =F75+J75+N75+R75+V75+Z75+AD75+AH75+AL75+AP75+AT75+AX75+BB75+BF75+BJ75+BN75+BR75+BV75+BZ75+CD75+CH75+CL75+CP75+CT75+CX75+DB75+DF75+DJ75+DN75+DR75+DV75 -> 16 | EA75: =G75+K75+O75+S75+W75+AA75+AE75+AI75+AM75+AQ75+AU75+AY75+BC75+BG75+BK75+BO75+BS75+BW75+CA75+CE75+CI75+CM75+CQ75+CU75+CY75+DC75+DG75+DK75+DO75+DS75+DW75 -> 13 | EB75: =H75+L75+P75+T75+X75+AB75+AF75+AJ75+AN75+AR75+AV75+AZ75+BD75+BH75+BL75+BP75+BT75+BX75+CB75+CF75+CJ75+CN75+CR75+CV75+CZ75+DD75+DH75+DL75+DP75+DT75+DX75 -> 0 | EC75: =I75+M75+Q75+U75+Y75+AC75+AG75+AK75+AO75+AS75+AW75+BA75+BE75+BI75+BM75+BQ75+BU75+BY75+CC75+CG75+CK75+CO75+CS75+CW75+DA75+DE75+DI75+DM75+DQ75+DU75+DY75 -> 0
A76: 68 | B76: APPLE503111TSDH17363 | C76: APPLE DENTAL CLINIC | D76: BESIDE RAMRAJ COTTON STORES, NH-7 BUS STAND ROAD, KAMAREDDY | E76: 2 | F76: 1 | J76: 1 | N76: 1 | R76: 1 | V76: 1 | Z76: 1 | AD76: 1 | AH76: 1 | AL76: 1 | AP76: 1 | AT76: 1 | BF76: 1 | BJ76: 1 | BO76: 1 | BR76: 1 | BV76: 1 | CH76: 1 | CL76: 1 | CP76: 1 | CY76: 1 | DC76: 1 | DG76: 1 | DK76: 1 | DO76: 1 | DS76: 1 | DW76: 1 | DZ76: =F76+J76+N76+R76+V76+Z76+AD76+AH76+AL76+AP76+AT76+AX76+BB76+BF76+BJ76+BN76+BR76+BV76+BZ76+CD76+CH76+CL76+CP76+CT76+CX76+DB76+DF76+DJ76+DN76+DR76+DV76 -> 18 | EA76: =G76+K76+O76+S76+W76+AA76+AE76+AI76+AM76+AQ76+AU76+AY76+BC76+BG76+BK76+BO76+BS76+BW76+CA76+CE76+CI76+CM76+CQ76+CU76+CY76+DC76+DG76+DK76+DO76+DS76+DW76 -> 8 | EB76: =H76+L76+P76+T76+X76+AB76+AF76+AJ76+AN76+AR76+AV76+AZ76+BD76+BH76+BL76+BP76+BT76+BX76+CB76+CF76+CJ76+CN76+CR76+CV76+CZ76+DD76+DH76+DL76+DP76+DT76+DX76 -> 0 | EC76: =I76+M76+Q76+U76+Y76+AC76+AG76+AK76+AO76+AS76+AW76+BA76+BE76+BI76+BM76+BQ76+BU76+BY76+CC76+CG76+CK76+CO76+CS76+CW76+DA76+DE76+DI76+DM76+DQ76+DU76+DY76 -> 0
A77: 69 | B77: NIZAM503111TSBH09953 | C77: NIZAMABAD SUPER SPECIALITY DENTAL HOSPITAL | D77: OPP: MUNICIPAL OFFICE, GOWTHAM MODEL SCHOOL COMPLEX, KAMAREDDY - 503111. | E77: 2 | G77: 1 | K77: 1 | O77: 1 | S77: 1 | W77: 1 | AA77: 1 | AE77: 1 | AI77: 1 | AM77: 1 | AQ77: 1 | AU77: 1 | BF77: 1 | BJ77: 1 | BO77: 1 | BR77: 1 | BV77: 1 | CQ77: 1 | CX77: 1 | DB77: 1 | DF77: 1 | DJ77: 1 | DN77: 1 | DW77: 1 | DZ77: =F77+J77+N77+R77+V77+Z77+AD77+AH77+AL77+AP77+AT77+AX77+BB77+BF77+BJ77+BN77+BR77+BV77+BZ77+CD77+CH77+CL77+CP77+CT77+CX77+DB77+DF77+DJ77+DN77+DR77+DV77 -> 9 | EA77: =G77+K77+O77+S77+W77+AA77+AE77+AI77+AM77+AQ77+AU77+AY77+BC77+BG77+BK77+BO77+BS77+BW77+CA77+CE77+CI77+CM77+CQ77+CU77+CY77+DC77+DG77+DK77+DO77+DS77+DW77 -> 14 | EB77: =H77+L77+P77+T77+X77+AB77+AF77+AJ77+AN77+AR77+AV77+AZ77+BD77+BH77+BL77+BP77+BT77+BX77+CB77+CF77+CJ77+CN77+CR77+CV77+CZ77+DD77+DH77+DL77+DP77+DT77+DX77 -> 0 | EC77: =I77+M77+Q77+U77+Y77+AC77+AG77+AK77+AO77+AS77+AW77+BA77+BE77+BI77+BM77+BQ77+BU77+BY77+CC77+CG77+CK77+CO77+CS77+CW77+DA77+DE77+DI77+DM77+DQ77+DU77+DY77 -> 0
A78: 70 | B78: SRIRA503111TSBH09975 | C78: SRI RAMANA MULTISPECIALITY DENTAL CLINIC | D78: DHARMASHALA COMPLEX, CONGRESS OFFICE ROAD, UNIQUE SCHOOL ROAD, GODOWN ROAD, KAMAREDDY - 503111. | E78: 2 | F78: 1 | J78: 1 | N78: 1 | R78: 1 | V78: 1 | Z78: 1 | AD78: 1 | AH78: 1 | AL78: 1 | AP78: 1 | AT78: 1 | BF78: 1 | BJ78: 1 | BO78: 1 | BR78: 1 | BV78: 1 | CI78: 1 | CM78: 1 | CQ78: 1 | CY78: 1 | DC78: 1 | DG78: 1 | DK78: 1 | DO78: 1 | DZ78: =F78+J78+N78+R78+V78+Z78+AD78+AH78+AL78+AP78+AT78+AX78+BB78+BF78+BJ78+BN78+BR78+BV78+BZ78+CD78+CH78+CL78+CP78+CT78+CX78+DB78+DF78+DJ78+DN78+DR78+DV78 -> 15 | EA78: =G78+K78+O78+S78+W78+AA78+AE78+AI78+AM78+AQ78+AU78+AY78+BC78+BG78+BK78+BO78+BS78+BW78+CA78+CE78+CI78+CM78+CQ78+CU78+CY78+DC78+DG78+DK78+DO78+DS78+DW78 -> 9 | EB78: =H78+L78+P78+T78+X78+AB78+AF78+AJ78+AN78+AR78+AV78+AZ78+BD78+BH78+BL78+BP78+BT78+BX78+CB78+CF78+CJ78+CN78+CR78+CV78+CZ78+DD78+DH78+DL78+DP78+DT78+DX78 -> 0 | EC78: =I78+M78+Q78+U78+Y78+AC78+AG78+AK78+AO78+AS78+AW78+BA78+BE78+BI78+BM78+BQ78+BU78+BY78+CC78+CG78+CK78+CO78+CS78+CW78+DA78+DE78+DI78+DM78+DQ78+DU78+DY78 -> 0
