Workbook

Sheet Total
B1: JANUARY - 2024 MONTH REPORT ABSTRACT
B2: DISTRICT | C2: NO.OF HCFs | D2: NO.OF BEDS | E2: YELLOW | F2: RED | G2: BLUE | H2: WHITE | I2: TOTAL
E3: Values are in Kilograms
B4: NIZAMABAD | C4: ='Area Wise Total'!D13 -> 433 | D4: ='Area Wise Total'!E13 -> 6007 | E4: ='Area Wise Total'!F13 -> 11516.2 | F4: ='Area Wise Total'!G13 -> 5734 | G4: ='Area Wise Total'!H13 -> 1678 | H4: ='Area Wise Total'!I13 -> 240 | I4: =SUM(E4:H4) -> 19168.2
B5: KAMAREDDY | C5: ='Area Wise Total'!D20 -> 216 | D5: ='Area Wise Total'!E20 -> 2146 | E5: ='Area Wise Total'!F20 -> 6739 | F5: ='Area Wise Total'!G20 -> 3537 | G5: ='Area Wise Total'!H20 -> 287 | H5: ='Area Wise Total'!I20 -> 108 | I5: =SUM(E5:H5) -> 10671
B6: NIRMAL | C6: ='Area Wise Total'!D26 -> 135 | D6: ='Area Wise Total'!E26 -> 1951 | E6: ='Area Wise Total'!F26 -> 4075.1 | F6: ='Area Wise Total'!G26 -> 2451.7 | G6: ='Area Wise Total'!H26 -> 758.5 | H6: ='Area Wise Total'!I26 -> 43 | I6: =SUM(E6:H6) -> 7328.3
B7: ADILABAD | C7: ='Area Wise Total'!D30 -> 149 | D7: ='Area Wise Total'!E30 -> 1857 | E7: ='Area Wise Total'!F30 -> 6472.3 | F7: ='Area Wise Total'!G30 -> 2109.5 | G7: ='Area Wise Total'!H30 -> 406 | H7: ='Area Wise Total'!I30 -> 106 | I7: =SUM(E7:H7) -> 9093.8
B8: ASIFABAD | C8: ='Area Wise Total'!D34 -> 55 | D8: ='Area Wise Total'!E34 -> 579 | E8: ='Area Wise Total'!F34 -> 2377 | F8: ='Area Wise Total'!G34 -> 1023 | G8: ='Area Wise Total'!H34 -> 0 | H8: ='Area Wise Total'!I34 -> 0 | I8: =SUM(E8:H8) -> 3400
B9: CLOSED HCFS | C9: ='Area Wise Total'!D36 -> 10 | D9: ='Area Wise Total'!E36 -> 72 | E9: ='Area Wise Total'!F36 -> 113 | F9: ='Area Wise Total'!G36 -> 132 | G9: ='Area Wise Total'!H36 -> 0 | H9: ='Area Wise Total'!H36 -> 0 | I9: =SUM(E9:H9) -> 245
B10: TOTAL | C10: =SUM(C4:C9) -> 998 | D10: =SUM(D4:D9) -> 12612 | E10: =SUM(E4:E9) -> 31292.6 | F10: =SUM(F4:F9) -> 14987.2 | G10: =SUM(G4:G9) -> 3129.5 | H10: =SUM(H4:H9) -> 497 | I10: =SUM(I4:I9) -> 49906.3
B12: DETAILS OF COLOURS
B13: YELLOW | C13: INCENERABLE WASTE
B14: RED | C14: AUTOCLAVE WASTE
B15: BLUE | C15: SHREDDING, BROKEN GLASS, METALIC BODY IMPLANTS
B16: WHITE | C16: SHARPENS, NEEDLES, BLADES, SCALPELS, NAILS, LANCETS

Sheet Area Wise Total
B2: STATEMENT SHOWING AREA WISE RECEIVED BIO - MEDICAL WASTE
B3: JANUARY - 2024
B4: District | C4: Areas | D4: HCF's | E4: Beds | F4: Yellow | G4: Red | H4: Blue | I4: White
B6: Nizamabad | C6: Nizamabad | D6: =COUNTIF(Nizamabad!A4:A9,">0")+COUNTIF(Nizamabad!A13:A291,">0") -> 281 | E6: =SUM(Nizamabad!E4:E9)+SUM(Nizamabad!E13:E291) -> 4263 | F6: =SUM(Nizamabad!DZ4:DZ9)+SUM(Nizamabad!DZ13:DZ291) -> 7636 | G6: =SUM(Nizamabad!EA4:EA9)+SUM(Nizamabad!EA13:EA291) -> 4586 | H6: =SUM(Nizamabad!EB4:EB9)+SUM(Nizamabad!EB13:EB291) -> 1597 | I6: =SUM(Nizamabad!EC4:EC9)+SUM(Nizamabad!EC13:EC291) -> 232
C7: Armoor | D7: =COUNTIF(Nizamabad!A293:A361,">0") -> 68 | E7: =SUM(Nizamabad!E293:E361) -> 812 | F7: =SUM(Nizamabad!DZ293:DZ361) -> 1856 | G7: =SUM(Nizamabad!EA293:EA361) -> 802 | H7: =SUM(Nizamabad!EB293:EB361) -> 23 | I7: =SUM(Nizamabad!EC293:EC361) -> 8
C8: Bodhan | D8: =COUNTIF(Nizamabad!A362:A405, ">0")+COUNTIF(Nizamabad!A10,">0") -> 45 | E8: =Nizamabad!E10+SUM(Nizamabad!E362:E405) -> 475 | F8: =Nizamabad!DZ10+SUM(Nizamabad!DZ362:DZ405) -> 290 | G8: =Nizamabad!EA10+SUM(Nizamabad!EA362:EA405) -> 296 | H8: =Nizamabad!EB10+SUM(Nizamabad!EB362:EB405) -> 58 | I8: =Nizamabad!EC10+SUM(Nizamabad!EC362:EC405) -> 0
C9: Dichpally | D9: =COUNTIF(Nizamabad!A407:A409, ">0") -> 3 | E9: =SUM(Nizamabad!E407:E409) -> 36 | F9: =SUM(Nizamabad!DZ407:DZ409) -> 82 | G9: =SUM(Nizamabad!EA407:EA409) -> 2 | H9: =SUM(Nizamabad!EB407:EB409) -> 0 | I9: =SUM(Nizamabad!EC407:EC409) -> 0
C10: Varni | D10: =COUNTIF(Nizamabad!A411:A413, ">0") -> 3 | E10: =SUM(Nizamabad!E411:E413) -> 36 | F10: =SUM(Nizamabad!DZ411:DZ413) -> 20 | G10: =SUM(Nizamabad!EA411:EA413) -> 0 | H10: =SUM(Nizamabad!EB411:EB413) -> 0 | I10: =SUM(Nizamabad!EC411:EC413) -> 0
C11: Navipet | D11: =COUNTIF(Nizamabad!A415:A416,">0") -> 2 | E11: =SUM(Nizamabad!E415:E416) -> 37 | F11: =SUM(Nizamabad!DZ415:DZ416) -> 20.2 | G11: =SUM(Nizamabad!EA415:EA416) -> 0 | H11: =SUM(Nizamabad!EB415:EB416) -> 0 | I11: =SUM(Nizamabad!EC415:EC416) -> 0
C12: Govt.HCFs. | D12: =COUNTIF(Nizamabad!A418:A448,">0") -> 31 | E12: =SUM(Nizamabad!E418:E448) -> 348 | F12: =SUM(Nizamabad!DZ418:DZ448) -> 1612 | G12: =SUM(Nizamabad!EA418:EA448) -> 48 | H12: =SUM(Nizamabad!EB418:EB448) -> 0 | I12: =SUM(Nizamabad!EC418:EC448) -> 0
C13: Total: | D13: =SUM(D6:D12) -> 433 | E13: =SUM(E6:E12) -> 6007 | F13: =SUM(F6:F12) -> 11516.2 | G13: =SUM(G6:G12) -> 5734 | H13: =SUM(H6:H12) -> 1678 | I13: =SUM(I6:I12) -> 240
B15: Kamareddy | C15: Kamareddy | D15: =COUNTIF(Kamareddy!A4:A5, ">0")+COUNTIF(Kamareddy!A9:A136, ">0") -> 130 | E15: =SUM(Kamareddy!E4:E5)+SUM(Kamareddy!E9:E136) -> 1226 | F15: =SUM(Kamareddy!DZ4:DZ5)+SUM(Kamareddy!DZ9:DZ136) -> 3134 | G15: =SUM(Kamareddy!EA4:EA5)+SUM(Kamareddy!EA9:EA136) -> 2392 | H15: =SUM(Kamareddy!EB4:EB5)+SUM(Kamareddy!EB9:EB136) -> 233 | I15: =SUM(Kamareddy!EC4:EC5)+SUM(Kamareddy!EC9:EC136) -> 81
C16: Banswada | D16: =COUNTIF(Kamareddy!A6,">0")+COUNTIF(Kamareddy!A138:A175, ">0") -> 39 | E16: =Kamareddy!E6+SUM(Kamareddy!E138:E175) -> 365 | F16: =Kamareddy!DZ6+SUM(Kamareddy!DZ138:DZ175) -> 929 | G16: =Kamareddy!EA6+SUM(Kamareddy!EA138:EA175) -> 368 | H16: =Kamareddy!EB6+SUM(Kamareddy!EB138:EB175) -> 54 | I16: =Kamareddy!EC6+SUM(Kamareddy!EC138:EC175) -> 27
C17: Gandhari | D17: =COUNTIF(Kamareddy!A177:A182,">0") -> 6 | E17: =SUM(Kamareddy!E177:E182) -> 64 | F17: =SUM(Kamareddy!DZ177:DZ182) -> 270 | G17: =SUM(Kamareddy!EA177:EA182) -> 27 | H17: =SUM(Kamareddy!EB177:EB182) -> 0 | I17: =SUM(Kamareddy!EC177:EC182) -> 0
C18: Yellareddy | D18: =COUNTIF(Kamareddy!A184:A198,">0") -> 15 | E18: =SUM(Kamareddy!E184:E198) -> 215 | F18: =SUM(Kamareddy!DZ184:DZ198) -> 300 | G18: =SUM(Kamareddy!EA184:EA198) -> 669 | H18: =SUM(Kamareddy!EB184:EB198) -> 0 | I18: =SUM(Kamareddy!EC184:EC198) -> 0
C19: Govt.HCFs. | D19: =COUNTIF(Kamareddy!A200:A225,">0") -> 26 | E19: =SUM(Kamareddy!E200:E225) -> 276 | F19: =SUM(Kamareddy!DZ200:DZ225) -> 2106 | G19: =SUM(Kamareddy!EA200:EA225) -> 81 | H19: =SUM(Kamareddy!EB200:EB225) -> 0 | I19: =SUM(Kamareddy!EC200:EC225) -> 0
C20: Total: | D20: =SUM(D15:D19) -> 216 | E20: =SUM(E15:E19) -> 2146 | F20: =SUM(F15:F19) -> 6739 | G20: =SUM(G15:G19) -> 3537 | H20: =SUM(H15:H19) -> 287 | I20: =SUM(I15:I19) -> 108
B22: Nirmal | C22: Nirmal | D22: =COUNTIF(Nirmal!A4:A5,">0")+COUNTIF(Nirmal!A9:A93,">0") -> 87 | E22: =SUM(Nirmal!E4:E5)+SUM(Nirmal!E9:E93) -> 1333 | F22: =SUM(Nirmal!DZ4:DZ5)+SUM(Nirmal!DZ9:DZ93) -> 1842.2 | G22: =SUM(Nirmal!EA4:EA5)+SUM(Nirmal!EA9:EA93) -> 1921 | H22: =SUM(Nirmal!EB4:EB5)+SUM(Nirmal!EB9:EB93) -> 693 | I22: =SUM(Nirmal!EC4:EC5)+SUM(Nirmal!EC9:EC93) -> 30
C23: Bhainsa | D23: =COUNTIF(Nirmal!A6,">0")+COUNTIF(Nirmal!A95:A118,">0") -> 25 | E23: =Nirmal!E6+SUM(Nirmal!E95:E118) -> 372 | F23: =Nirmal!DZ6+SUM(Nirmal!DZ95:DZ118) -> 544 | G23: =Nirmal!EA6+SUM(Nirmal!EA95:EA118) -> 356.6 | H23: =Nirmal!EB6+SUM(Nirmal!EB95:EB118) -> 65 | I23: =Nirmal!EC6+SUM(Nirmal!EC95:EC118) -> 13
C24: Mudhole | D24: =COUNTIF(Nirmal!A120:A125, ">0") -> 6 | E24: =SUM(Nirmal!E120:E125) -> 72 | F24: =SUM(Nirmal!DZ120:DZ125) -> 149.9 | G24: =SUM(Nirmal!EA120:EA125) -> 93.1 | H24: =SUM(Nirmal!EB120:EB125) -> 0.5 | I24: =SUM(Nirmal!EC120:EC125) -> 0
C25: Govt.HCFs. | D25: =COUNTIF(Nirmal!A127:A143, ">0") -> 17 | E25: =SUM(Nirmal!E127:E143) -> 174 | F25: =SUM(Nirmal!DZ127:DZ143) -> 1539 | G25: =SUM(Nirmal!EA127:EA143) -> 81 | H25: =SUM(Nirmal!EB127:EB143) -> 0 | I25: =SUM(Nirmal!EC127:EC143) -> 0
C26: Total: | D26: =SUM(D22:D25) -> 135 | E26: =SUM(E22:E25) -> 1951 | F26: =SUM(F22:F25) -> 4075.1 | G26: =SUM(G22:G25) -> 2451.7 | H26: =SUM(H22:H25) -> 758.5 | I26: =SUM(I22:I25) -> 43
B28: Adilabad | C28: Adilabad | D28: =COUNTIF(Adilabad!A3:A100,">0") -> 96 | E28: =SUM(Adilabad!E4:E100) -> 1610 | F28: =SUM(Adilabad!DZ4:DZ100) -> 2611.3 | G28: =SUM(Adilabad!EA4:EA100) -> 1974.5 | H28: =SUM(Adilabad!EB4:EB100) -> 406 | I28: =SUM(Adilabad!EC4:EC100) -> 106
C29: Govt.HCFs. | D29: =COUNTIF(Adilabad!A102:A154,">0") -> 53 | E29: =SUM(Adilabad!E102:E154) -> 247 | F29: =SUM(Adilabad!DZ102:DZ154) -> 3861 | G29: =SUM(Adilabad!EA102:EA154) -> 135 | H29: =SUM(Adilabad!EB102:EB154) -> 0 | I29: =SUM(Adilabad!EC102:EC154) -> 0
C30: Total | D30: =SUM(D28:D29) -> 149 | E30: =SUM(Adilabad!E4:E154) -> 1857 | F30: =SUM(F28:F29) -> 6472.3 | G30: =SUM(G28:G29) -> 2109.5 | H30: =SUM(H28:H29) -> 406 | I30: =SUM(I28:I29) -> 106
B32: Asifabad | C32: Asifabad | D32: =COUNTIF(Asifabad!A4:A36, ">0") -> 33 | E32: =SUM(Asifabad!E4:E36) -> 450 | F32: =SUM(Asifabad!DZ4:DZ36) -> 1016 | G32: =SUM(Asifabad!EA4:EA36) -> 861 | H32: =SUM(Asifabad!EB4:EB36) -> 0 | I32: =SUM(Asifabad!EC2:EC36) -> 0
C33: Govt.HCFs. | D33: =COUNTIF(Asifabad!A38:A59, ">0") -> 22 | E33: =SUM(Asifabad!E38:E59) -> 129 | F33: =SUM(Asifabad!DZ38:DZ59) -> 1361 | G33: =SUM(Asifabad!EA38:EA59) -> 162 | H33: =SUM(Asifabad!EB38:EB59) -> 0 | I33: =SUM(Asifabad!EC38:EC59) -> 0
B34: Asifabad | C34: Total | D34: =SUM(D32:D33) -> 55 | E34: =SUM(E32:E33) -> 579 | F34: =SUM(F32:F33) -> 2377 | G34: =SUM(G32:G33) -> 1023 | H34: =SUM(H32:H33) -> 0 | I34: =SUM(I32:I33) -> 0
B36: Closed HCFs | D36: =COUNTIF(Nizamabad!A450:A452, ">0")+COUNTIF(Kamareddy!A227:A232, ">0")+COUNTIF(Nirmal!A145, ">0") -> 10 | E36: =SUM(Nizamabad!E450:E452)+SUM(Kamareddy!E227:E232)+SUM(Nirmal!E145) -> 72 | F36: =SUM(Nizamabad!DZ450:DZ452)+SUM(Kamareddy!DZ227:DZ232)+(Nirmal!DZ145) -> 113 | G36: =SUM(Nizamabad!EA450:EA452)+SUM(Kamareddy!EA227:EA232)+(Nirmal!EA145) -> 132 | H36: =SUM(Nizamabad!EB450:EB452)+SUM(Kamareddy!EB227:EB232)+(Nirmal!EB145) -> 0 | I36: =SUM(Nizamabad!EC450:EC452)+SUM(Kamareddy!EC227:EC232)+(Nirmal!EC145) -> 0
B38: Grand Total | D38: =D13+D20+D26+D30+D34+D36 -> 998 | E38: =E13+E20+E26+E30+E34+E36 -> 12612 | F38: =F13+F20+F26+F30+F34+F36 -> 31292.6 | G38: =G13+G20+G26+G30+G34+G36 -> 14987.2 | H38: =H13+H20+H26+H30+H34+H36 -> 3129.5 | I38: =I13+I20+I26+I30+I34+I36 -> 497

Sheet Nizamabad
A1: JANUARY - 2024 MONTH REPORT | F1: 45292 | J1: 45293 | N1: 45294 | R1: 45295 | V1: 45296 | Z1: 45297 | AD1: 45298 | AH1: 45299 | AL1: 45300 | AP1: 45301 | AT1: 45302 | AX1: 45303 | BB1: 45304 | BF1: 45305 | BJ1: 45306 | BN1: 45307 | BR1: 45308 | BV1: 45309 | BZ1: 45310 | CD1: 45311 | CH1: 45312 | CL1: 45313 | CP1: 45314 | CT1: 45315 | CX1: 45316 | DB1: 45317 | DF1: 45318 | DJ1: 45319 | DN1: 45320 | DR1: 45321 | DV1: 45322 | DZ1: TOTAL
A2: SNO | B2: HCF ID | C2: NAME OF THE HCF | D2: ADDRESS OF THE HCFS | E2: NO.OF BEDS | F2: Yellow | G2: Red | H2: Blue | I2: White | J2: Yellow | K2: Red | L2: Blue | M2: White | N2: Yellow | O2: Red | P2: Blue | Q2: White | R2: Yellow | S2: Red | T2: Blue | U2: White | V2: Yellow | W2: Red | X2: Blue | Y2: White | Z2: Yellow | AA2: Red | AB2: Blue | AC2: White | AD2: Yellow | AE2: Red | AF2: Blue | AG2: White | AH2: Yellow | AI2: Red | AJ2: Blue | AK2: White | AL2: Yellow | AM2: Red | AN2: Blue | AO2: White | AP2: Yellow | AQ2: Red | AR2: Blue | AS2: White | AT2: Yellow | AU2: Red | AV2: Blue | AW2: White | AX2: Yellow | AY2: Red | AZ2: Blue | BA2: White | BB2: Yellow | BC2: Red | BD2: Blue | BE2: White | BF2: Yellow | BG2: Red | BH2: Blue | BI2: White | BJ2: Yellow | BK2: Red | BL2: Blue | BM2: White | BN2: Yellow | BO2: Red | BP2: Blue | BQ2: White | BR2: Yellow | BS2: Red | BT2: Blue | BU2: White | BV2: Yellow | BW2: Red | BX2: Blue | BY2: White | BZ2: Yellow | CA2: Red | CB2: Blue | CC2: White | CD2: Yellow | CE2: Red | CF2: Blue | CG2: White | CH2: Yellow | CI2: Red | CJ2: Blue | CK2: White | CL2: Yellow | CM2: Red | CN2: Blue | CO2: White | CP2: Yellow | CQ2: Red | CR2: Blue | CS2: White | CT2: Yellow | CU2: Red | CV2: Blue | CW2: White | CX2: Yellow | CY2: Red | CZ2: Blue | DA2: White | DB2: Yellow | DC2: Red | DD2: Blue | DE2: White | DF2: Yellow | DG2: Red | DH2: Blue | DI2: White | DJ2: Yellow | DK2: Red | DL2: Blue | DM2: White | DN2: Yellow | DO2: Red | DP2: Blue | DQ2: White | DR2: Yellow | DS2: Red | DT2: Blue | DU2: White | DV2: Yellow | DW2: Red | DX2: Blue | DY2: White | DZ2: Yellow | EA2: Red | EB2: Blue | EC2: White
A3: NIZAMABAD 100 AND ABOVE BEDS HCFs
A4: 1 | B4: GOVER503001TSBH00988 | C4: GOVT. DIST. HOSPITAL | D4: BESIDE NIZAMABAD BUS STATION, NIZAMABAD - 503001 | E4: 750 | F4: 16 | G4: 15 | H4: 5 | I4: 5 | J4: 15 | K4: 15 | L4: 2 | M4: 5 | N4: 15 | O4: 15 | P4: 2 | Q4: 5 | R4: 15 | S4: 15 | T4: 5 | U4: 5 | V4: 15 | W4: 15 | X4: 2 | Y4: 5 | Z4: 15 | AA4: 15 | AB4: 2 | AC4: 5 | AD4: 15 | AE4: 5 | AF4: 5 | AG4: 5 | AH4: 15 | AI4: 15 | AJ4: 5 | AK4: 5 | AL4: 15 | AM4: 15 | AN4: 2 | AO4: 5 | AP4: 20 | AQ4: 15 | AR4: 2 | AS4: 5 | AT4: 25 | AU4: 15 | AV4: 2 | AW4: 5 | AX4: 15 | AY4: 15 | AZ4: 2 | BA4: 5 | BB4: 15 | BC4: 15 | BD4: 2 | BE4: 5 | BJ4: 15 | BK4: 15 | BL4: 5 | BM4: 5 | BN4: 15 | BO4: 10 | BP4: 5 | BQ4: 5 | BR4: 15 | BS4: 5 | BT4: 5 | BU4: 5 | BV4: 15 | BW4: 16 | BX4: 8 | BY4: 5 | BZ4: 15 | CA4: 10 | CB4: 8 | CC4: 8 | CD4: 15 | CE4: 10 | CF4: 7 | CG4: 7 | CH4: 5 | CI4: 5 | CJ4: 2 | CK4: 5 | CL4: 15 | CM4: 5 | CN4: 5 | CO4: 5 | CP4: 20 | CQ4: 5 | CR4: 5 | CS4: 5 | CT4: 15 | CU4: 5 | CV4: 5 | CW4: 5 | CX4: 17 | CY4: 5 | CZ4: 5 | DA4: 5 | DB4: 15 | DC4: 5 | DD4: 5 | DE4: 5 | DF4: 10 | DG4: 8 | DH4: 5 | DI4: 5 | DN4: 15 | DO4: 5 | DP4: 7 | DQ4: 2 | DR4: 15 | DS4: 5 | DT4: 2 | DU4: 5 | DV4: 15 | DW4: 10 | DX4: 4 | DY4: 5 | DZ4: =F4+J4+N4+R4+V4+Z4+AD4+AH4+AL4+AP4+AT4+AX4+BB4+BF4+BJ4+BN4+BR4+BV4+BZ4+CD4+CH4+CL4+CP4+CT4+CX4+DB4+DF4+DJ4+DN4+DR4+DV4 -> 443 | EA4: =G4+K4+O4+S4+W4+AA4+AE4+AI4+AM4+AQ4+AU4+AY4+BC4+BG4+BK4+BO4+BS4+BW4+CA4+CE4+CI4+CM4+CQ4+CU4+CY4+DC4+DG4+DK4+DO4+DS4+DW4 -> 309 | EB4: =H4+L4+P4+T4+X4+AB4+AF4+AJ4+AN4+AR4+AV4+AZ4+BD4+BH4+BL4+BP4+BT4+BX4+CB4+CF4+CJ4+CN4+CR4+CV4+CZ4+DD4+DH4+DL4+DP4+DT4+DX4 -> 121 | EC4: =I4+M4+Q4+U4+Y4+AC4+AG4+AK4+AO4+AS4+AW4+BA4+BE4+BI4+BM4+BQ4+BU4+BY4+CC4+CG4+CK4+CO4+CS4+CW4+DA4+DE4+DI4+DM4+DQ4+DU4+DY4 -> 147
A5: 2 | B5: MEGHN503003TSBH00905 | C5: MEGHNA INSTITUTE OF DENTAL SCIENCES | D5: VARNI ROAD, MALLARAM VILLAGE, NIZAMABAD - 503001 | E5: 200 | F5: 5 | G5: 3 | H5: 2 | J5: 5 | K5: 2 | L5: 2 | M5: 1 | N5: 5 | O5: 3 | P5: 2 | R5: 5 | S5: 2 | T5: 2 | V5: 5 | X5: 2 | Z5: 5 | AA5: 2 | AB5: 2 | AD5: 5 | AE5: 3 | AF5: 2 | AH5: 5 | AJ5: 2 | AL5: 5 | AM5: 2 | AN5: 2 | AP5: 5 | AQ5: 3 | AR5: 2 | AT5: 5 | AU5: 2 | AV5: 2 | AX5: 5 | AY5: 2 | AZ5: 2 | BB5: 5 | BC5: 2 | BD5: 2 | BJ5: 5 | BK5: 2 | BL5: 2 | BN5: 5 | BO5: 2 | BP5: 2 | BR5: 5 | BS5: 2 | BT5: 2 | BV5: 5 | BW5: 2 | BX5: 2 | BZ5: 5 | CA5: 2 | CB5: 2 | CD5: 5 | CE5: 2 | CF5: 2 | CH5: 5 | CI5: 2 | CJ5: 2 | CL5: 5 | CM5: 3 | CN5: 2 | CP5: 5 | CR5: 2 | CT5: 5 | CU5: 2 | CV5: 2 | CX5: 5 | CY5: 1 | CZ5: 2 | DB5: 5 | DC5: 2 | DD5: 2 | DF5: 5 | DG5: 2 | DH5: 2 | DN5: 5 | DO5: 2 | DP5: 2 | DR5: 5 | DS5: 2 | DT5: 2 | DV5: 5 | DW5: 2 | DX5: 2 | DZ5: =F5+J5+N5+R5+V5+Z5+AD5+AH5+AL5+AP5+AT5+AX5+BB5+BF5+BJ5+BN5+BR5+BV5+BZ5+CD5+CH5+CL5+CP5+CT5+CX5+DB5+DF5+DJ5+DN5+DR5+DV5 -> 145 | EA5: =G5+K5+O5+S5+W5+AA5+AE5+AI5+AM5+AQ5+AU5+AY5+BC5+BG5+BK5+BO5+BS5+BW5+CA5+CE5+CI5+CM5+CQ5+CU5+CY5+DC5+DG5+DK5+DO5+DS5+DW5 -> 56 | EB5: =H5+L5+P5+T5+X5+AB5+AF5+AJ5+AN5+AR5+AV5+AZ5+BD5+BH5+BL5+BP5+BT5+BX5+CB5+CF5+CJ5+CN5+CR5+CV5+CZ5+DD5+DH5+DL5+DP5+DT5+DX5 -> 58 | EC5: =I5+M5+Q5+U5+Y5+AC5+AG5+AK5+AO5+AS5+AW5+BA5+BE5+BI5+BM5+BQ5+BU5+BY5+CC5+CG5+CK5+CO5+CS5+CW5+DA5+DE5+DI5+DM5+DQ5+DU5+DY5 -> 1
A6: 3 | B6: PRAGA503001TSBH06142 | C6: PRAGATHI HOSPITAL | D6: HYDERABAD ROAD, PRAGATHI NAGAR, NIZAMABAD - 503001 | E6: 150 | F6: 5 | G6: 5 | H6: 2 | I6: 1 | J6: 5 | K6: 2 | L6: 2 | M6: 2 | N6: 5 | O6: 5 | P6: 2 | Q6: 2 | R6: 5 | S6: 5 | T6: 2 | U6: 2 | V6: 5 | W6: 5 | X6: 2 | Y6: 2 | Z6: 5 | AA6: 5 | AB6: 2 | AC6: 2 | AD6: 5 | AE6: 5 | AF6: 2 | AG6: 2 | AH6: 5 | AI6: 5 | AJ6: 2 | AK6: 2 | AL6: 5 | AM6: 5 | AN6: 2 | AO6: 2 | AP6: 5 | AQ6: 5 | AR6: 2 | AS6: 2 | AT6: 5 | AU6: 5 | AV6: 2 | AW6: 2 | AX6: 5 | AY6: 5 | AZ6: 2 | BA6: 2 | BB6: 5 | BC6: 5 | BD6: 2 | BE6: 2 | BJ6: 5 | BK6: 5 | BL6: 2 | BM6: 2 | BN6: 5 | BO6: 5 | BP6: 2 | BQ6: 2 | BR6: 5 | BS6: 5 | BT6: 2 | BU6: 2 | BV6: 5 | BW6: 5 | BX6: 2 | BY6: 2 | BZ6: 5 | CA6: 5 | CB6: 5 | CC6: 5 | CD6: 5 | CE6: 5 | CF6: 2 | CG6: 2 | CH6: 5 | CI6: 5 | CJ6: 2 | CK6: 2 | CL6: 5 | CM6: 5 | CN6: 2 | CO6: 2 | CP6: 5 | CQ6: 5 | CR6: 2 | CS6: 2 | CT6: 5 | CU6: 5 | CV6: 2 | CW6: 2 | CX6: 5 | CY6: 5 | CZ6: 2 | DA6: 2 | DB6: 5 | DC6: 5 | DD6: 2 | DE6: 2 | DF6: 5 | DG6: 5 | DH6: 2 | DI6: 2 | DN6: 5 | DO6: 5 | DP6: 2 | DQ6: 2 | DR6: 5 | DS6: 5 | DT6: 2 | DU6: 2 | DV6: 5 | DW6: 5 | DX6: 2 | DY6: 2 | DZ6: =F6+J6+N6+R6+V6+Z6+AD6+AH6+AL6+AP6+AT6+AX6+BB6+BF6+BJ6+BN6+BR6+BV6+BZ6+CD6+CH6+CL6+CP6+CT6+CX6+DB6+DF6+DJ6+DN6+DR6+DV6 -> 145 | EA6: =G6+K6+O6+S6+W6+AA6+AE6+AI6+AM6+AQ6+AU6+AY6+BC6+BG6+BK6+BO6+BS6+BW6+CA6+CE6+CI6+CM6+CQ6+CU6+CY6+DC6+DG6+DK6+DO6+DS6+DW6 -> 142 | EB6: =H6+L6+P6+T6+X6+AB6+AF6+AJ6+AN6+AR6+AV6+AZ6+BD6+BH6+BL6+BP6+BT6+BX6+CB6+CF6+CJ6+CN6+CR6+CV6+CZ6+DD6+DH6+DL6+DP6+DT6+DX6 -> 61 | EC6: =I6+M6+Q6+U6+Y6+AC6+AG6+AK6+AO6+AS6+AW6+BA6+BE6+BI6+BM6+BQ6+BU6+BY6+CC6+CG6+CK6+CO6+CS6+CW6+DA6+DE6+DI6+DM6+DQ6+DU6+DY6 -> 60
A7: 4 | B7: PRUDE503002TSBH17373 | C7: PRUDENCE HOSPITALS | D7: H.NO. 1-12-121/A, OPP: YENDALA TOWERS, PRAGATHI NAGAR, NIZAMABAD | E7: 100 | F7: 5 | G7: 3 | H7: 2 | J7: 5 | K7: 3 | L7: 2 | N7: 5 | O7: 3 | P7: 2 | R7: 5 | S7: 3 | T7: 2 | V7: 5 | W7: 3 | X7: 2 | Z7: 5 | AA7: 3 | AB7: 2 | AD7: 5 | AE7: 3 | AF7: 2 | AH7: 5 | AI7: 3 | AJ7: 2 | AL7: 5 | AM7: 3 | AN7: 2 | AP7: 5 | AQ7: 3 | AR7: 2 | AT7: 5 | AU7: 3 | AV7: 2 | AX7: 5 | AY7: 3 | AZ7: 2 | BB7: 5 | BC7: 3 | BD7: 2 | BJ7: 5 | BK7: 3 | BL7: 2 | BN7: 5 | BO7: 5 | BP7: 2 | BR7: 5 | BS7: 5 | BT7: 2 | BV7: 5 | BW7: 5 | BX7: 2 | BZ7: 5 | CA7: 5 | CB7: 2 | CD7: 5 | CE7: 5 | CF7: 2 | CH7: 5 | CI7: 5 | CJ7: 2 | CL7: 5 | CM7: 5 | CN7: 2 | CP7: 5 | CQ7: 5 | CR7: 2 | CT7: 5 | CU7: 5 | CV7: 2 | CX7: 5 | CY7: 5 | CZ7: 2 | DB7: 5 | DC7: 5 | DD7: 2 | DF7: 5 | DG7: 5 | DH7: 2 | DN7: 5 | DO7: 5 | DP7: 2 | DR7: 5 | DS7: 5 | DT7: 2 | DV7: 5 | DW7: 5 | DX7: 2 | DZ7: =F7+J7+N7+R7+V7+Z7+AD7+AH7+AL7+AP7+AT7+AX7+BB7+BF7+BJ7+BN7+BR7+BV7+BZ7+CD7+CH7+CL7+CP7+CT7+CX7+DB7+DF7+DJ7+DN7+DR7+DV7 -> 145 | EA7: =G7+K7+O7+S7+W7+AA7+AE7+AI7+AM7+AQ7+AU7+AY7+BC7+BG7+BK7+BO7+BS7+BW7+CA7+CE7+CI7+CM7+CQ7+CU7+CY7+DC7+DG7+DK7+DO7+DS7+DW7 -> 117 | EB7: =H7+L7+P7+T7+X7+AB7+AF7+AJ7+AN7+AR7+AV7+AZ7+BD7+BH7+BL7+BP7+BT7+BX7+CB7+CF7+CJ7+CN7+CR7+CV7+CZ7+DD7+DH7+DL7+DP7+DT7+DX7 -> 58 | EC7: =I7+M7+Q7+U7+Y7+AC7+AG7+AK7+AO7+AS7+AW7+BA7+BE7+BI7+BM7+BQ7+BU7+BY7+CC7+CG7+CK7+CO7+CS7+CW7+DA7+DE7+DI7+DM7+DQ7+DU7+DY7 -> 0
A8: 5 | B8: MANOR503001TSBH01042 | C8: MANORAMA SUPER SPECIALITY HOSPITAL | D8: SARASWATHI NAGAR, KHALEELWADI, HYDERABAD ROAD, NIZAMABAD - 503001. | E8: 100 | F8: 5 | G8: 5 | H8: 2 | J8: 5 | K8: 2 | L8: 2 | N8: 5 | O8: 5 | P8: 2 | R8: 5 | S8: 5 | T8: 2 | V8: 5 | W8: 5 | X8: 2 | Z8: 5 | AA8: 5 | AB8: 2 | AD8: 5 | AE8: 5 | AF8: 2 | AH8: 5 | AI8: 5 | AJ8: 2 | AL8: 5 | AM8: 5 | AN8: 2 | AP8: 5 | AQ8: 5 | AR8: 2 | AT8: 5 | AU8: 5 | AV8: 2 | AX8: 5 | AY8: 5 | AZ8: 2 | BB8: 5 | BC8: 5 | BD8: 2 | BJ8: 5 | BK8: 5 | BL8: 2 | BN8: 5 | BO8: 5 | BP8: 2 | BR8: 5 | BS8: 5 | BT8: 2 | BV8: 5 | BW8: 5 | BX8: 2 | BZ8: 5 | CA8: 5 | CB8: 2 | CD8: 5 | CE8: 5 | CF8: 2 | CH8: 5 | CI8: 5 | CJ8: 2 | CL8: 5 | CM8: 5 | CN8: 2 | CP8: 5 | CQ8: 5 | CR8: 2 | CT8: 5 | CU8: 5 | CV8: 2 | CX8: 5 | CY8: 5 | CZ8: 2 | DB8: 5 | DC8: 5 | DD8: 2 | DF8: 5 | DG8: 5 | DH8: 2 | DN8: 5 | DO8: 5 | DP8: 2 | DR8: 5 | DS8: 5 | DT8: 2 | DV8: 5 | DW8: 5 | DX8: 2 | DZ8: =F8+J8+N8+R8+V8+Z8+AD8+AH8+AL8+AP8+AT8+AX8+BB8+BF8+BJ8+BN8+BR8+BV8+BZ8+CD8+CH8+CL8+CP8+CT8+CX8+DB8+DF8+DJ8+DN8+DR8+DV8 -> 145 | EA8: =G8+K8+O8+S8+W8+AA8+AE8+AI8+AM8+AQ8+AU8+AY8+BC8+BG8+BK8+BO8+BS8+BW8+CA8+CE8+CI8+CM8+CQ8+CU8+CY8+DC8+DG8+DK8+DO8+DS8+DW8 -> 142 | EB8: =H8+L8+P8+T8+X8+AB8+AF8+AJ8+AN8+AR8+AV8+AZ8+BD8+BH8+BL8+BP8+BT8+BX8+CB8+CF8+CJ8+CN8+CR8+CV8+CZ8+DD8+DH8+DL8+DP8+DT8+DX8 -> 58 | EC8: =I8+M8+Q8+U8+Y8+AC8+AG8+AK8+AO8+AS8+AW8+BA8+BE8+BI8+BM8+BQ8+BU8+BY8+CC8+CG8+CK8+CO8+CS8+CW8+DA8+DE8+DI8+DM8+DQ8+DU8+DY8 -> 0
A9: 6 | B9: MEDIC503001TSBH09849 | C9: MEDICOVER HOSPITAL | D9: H.No. 5-11-744, BESIDE LIC OF INDIA, YELLAMMA GUTTA X ROAD, HYDERABAD ROAD, NIZAMABAD - 503001 | E9: 100 | F9: 5 | G9: 5 | H9: 2 | J9: 5 | K9: 5 | L9: 2 | N9: 5 | O9: 5 | P9: 2 | R9: 5 | S9: 5 | T9: 2 | V9: 5 | W9: 5 | X9: 2 | Z9: 8 | AA9: 5 | AB9: 2 | AD9: 5 | AE9: 5 | AF9: 2 | AH9: 5 | AJ9: 2 | AL9: 5 | AM9: 5 | AN9: 2 | AP9: 5 | AQ9: 5 | AR9: 2 | AT9: 5 | AU9: 5 | AV9: 2 | AX9: 5 | AY9: 5 | AZ9: 2 | BB9: 5 | BC9: 5 | BD9: 2 | BJ9: 5 | BK9: 5 | BL9: 2 | BN9: 5 | BO9: 5 | BP9: 2 | BR9: 5 | BS9: 5 | BT9: 2 | BV9: 5 | BW9: 5 | BX9: 2 | BZ9: 8 | CA9: 8 | CB9: 2 | CD9: 5 | CE9: 5 | CF9: 2 | CH9: 5 | CI9: 5 | CJ9: 2 | CL9: 5 | CM9: 5 | CN9: 2 | CP9: 5 | CQ9: 5 | CR9: 2 | CT9: 5 | CU9: 5 | CV9: 2 | CX9: 5 | CY9: 5 | CZ9: 2 | DB9: 5 | DC9: 5 | DD9: 2 | DF9: 5 | DG9: 5 | DH9: 2 | DN9: 5 | DO9: 5 | DP9: 2 | DR9: 5 | DS9: 5 | DT9: 2 | DV9: 5 | DW9: 5 | DX9: 2 | DZ9: =F9+J9+N9+R9+V9+Z9+AD9+AH9+AL9+AP9+AT9+AX9+BB9+BF9+BJ9+BN9+BR9+BV9+BZ9+CD9+CH9+CL9+CP9+CT9+CX9+DB9+DF9+DJ9+DN9+DR9+DV9 -> 151 | EA9: =G9+K9+O9+S9+W9+AA9+AE9+AI9+AM9+AQ9+AU9+AY9+BC9+BG9+BK9+BO9+BS9+BW9+CA9+CE9+CI9+CM9+CQ9+CU9+CY9+DC9+DG9+DK9+DO9+DS9+DW9 -> 143 | EB9: =H9+L9+P9+T9+X9+AB9+AF9+AJ9+AN9+AR9+AV9+AZ9+BD9+BH9+BL9+BP9+BT9+BX9+CB9+CF9+CJ9+CN9+CR9+CV9+CZ9+DD9+DH9+DL9+DP9+DT9+DX9 -> 58 | EC9: =I9+M9+Q9+U9+Y9+AC9+AG9+AK9+AO9+AS9+AW9+BA9+BE9+BI9+BM9+BQ9+BU9+BY9+CC9+CG9+CK9+CO9+CS9+CW9+DA9+DE9+DI9+DM9+DQ9+DU9+DY9 -> 0
A10: 7 | B10: DISTR503185TSBH08531 | C10: AREA HOSPITAL, BODHAN | D10: NEAR AMBEDKAR CHOWRASTA, BODHAN - 503185 | E10: 100 | F10: 5 | G10: 5 | H10: 2 | J10: 5 | K10: 2 | L10: 2 | N10: 5 | O10: 5 | P10: 2 | R10: 5 | S10: 5 | T10: 2 | V10: 5 | W10: 5 | X10: 2 | Z10: 7 | AA10: 2 | AB10: 2 | AD10: 5 | AE10: 5 | AF10: 2 | AH10: 7 | AI10: 2 | AJ10: 2 | AL10: 5 | AM10: 5 | AN10: 2 | AP10: 5 | AQ10: 5 | AR10: 2 | AT10: 5 | AU10: 5 | AV10: 2 | AX10: 5 | AY10: 5 | AZ10: 2 | BB10: 5 | BC10: 5 | BD10: 2 | BJ10: 5 | BK10: 5 | BL10: 2 | BN10: 5 | BO10: 5 | BP10: 2 | BR10: 5 | BS10: 5 | BT10: 2 | BV10: 5 | BW10: 5 | BX10: 2 | BZ10: 5 | CA10: 8 | CB10: 2 | CD10: 5 | CE10: 5 | CF10: 2 | CH10: 5 | CI10: 5 | CJ10: 2 | CL10: 5 | CM10: 5 | CN10: 2 | CP10: 5 | CQ10: 5 | CR10: 2 | CT10: 5 | CU10: 5 | CV10: 2 | CX10: 5 | CY10: 5 | CZ10: 2 | DB10: 5 | DC10: 3 | DD10: 2 | DF10: 5 | DG10: 5 | DH10: 2 | DN10: 5 | DO10: 5 | DP10: 2 | DR10: 5 | DS10: 5 | DT10: 2 | DV10: 5 | DW10: 5 | DX10: 2 | DZ10: =F10+J10+N10+R10+V10+Z10+AD10+AH10+AL10+AP10+AT10+AX10+BB10+BF10+BJ10+BN10+BR10+BV10+BZ10+CD10+CH10+CL10+CP10+CT10+CX10+DB10+DF10+DJ10+DN10+DR10+DV10 -> 149 | EA10: =G10+K10+O10+S10+W10+AA10+AE10+AI10+AM10+AQ10+AU10+AY10+BC10+BG10+BK10+BO10+BS10+BW10+CA10+CE10+CI10+CM10+CQ10+CU10+CY10+DC10+DG10+DK10+DO10+DS10+DW10 -> 137 | EB10: =H10+L10+P10+T10+X10+AB10+AF10+AJ10+AN10+AR10+AV10+AZ10+BD10+BH10+BL10+BP10+BT10+BX10+CB10+CF10+CJ10+CN10+CR10+CV10+CZ10+DD10+DH10+DL10+DP10+DT10+DX10 -> 58 | EC10: =I10+M10+Q10+U10+Y10+AC10+AG10+AK10+AO10+AS10+AW10+BA10+BE10+BI10+BM10+BQ10+BU10+BY10+CC10+CG10+CK10+CO10+CS10+CW10+DA10+DE10+DI10+DM10+DQ10+DU10+DY10 -> 0
B11: 80 TO 50 BEDS HCFs
B12: NIZAMABAD
A13: 1 | B13: PRATI503001TSBH00889 | C13: PRATHIBHA SUPER SPECIALITY HOSPITAL | D13: BESIDE LANE OF JOYALLUKKAS JEWELLERS, HYDERABAD ROAD, KAKATIYA STREET, NIZAMABAD - 503001. | E13: 80 | F13: 6 | G13: 5 | H13: 5 | J13: 6 | K13: 5 | L13: 3 | N13: 6 | O13: 5 | P13: 3 | R13: 6 | S13: 5 | T13: 3 | V13: 6 | W13: 5 | X13: 3 | Z13: 6 | AA13: 5 | AB13: 3 | AD13: 6 | AE13: 5 | AF13: 3 | AH13: 6 | AI13: 5 | AJ13: 3 | AL13: 6 | AM13: 5 | AN13: 3 | AP13: 6 | AQ13: 5 | AR13: 3 | AT13: 6 | AU13: 5 | AV13: 3 | AX13: 6 | AY13: 5 | AZ13: 3 | BB13: 6 | BC13: 5 | BD13: 3 | BJ13: 6 | BK13: 5 | BL13: 3 | BN13: 6 | BO13: 5 | BP13: 3 | BR13: 6 | BS13: 5 | BT13: 3 | BV13: 6 | BW13: 5 | BX13: 3 | BZ13: 6 | CA13: 5 | CB13: 3 | CD13: 6 | CE13: 5 | CF13: 3 | CH13: 6 | CI13: 5 | CJ13: 3 | CL13: 6 | CM13: 5 | CN13: 3 | CP13: 6 | CQ13: 5 | CR13: 3 | CT13: 6 | CU13: 5 | CV13: 3 | CX13: 6 | CY13: 5 | CZ13: 3 | DB13: 6 | DC13: 5 | DD13: 3 | DF13: 6 | DG13: 5 | DH13: 3 | DN13: 6 | DO13: 5 | DP13: 3 | DR13: 6 | DS13: 5 | DT13: 3 | DV13: 6 | DW13: 5 | DX13: 3 | DZ13: =F13+J13+N13+R13+V13+Z13+AD13+AH13+AL13+AP13+AT13+AX13+BB13+BF13+BJ13+BN13+BR13+BV13+BZ13+CD13+CH13+CL13+CP13+CT13+CX13+DB13+DF13+DJ13+DN13+DR13+DV13 -> 174 | EA13: =G13+K13+O13+S13+W13+AA13+AE13+AI13+AM13+AQ13+AU13+AY13+BC13+BG13+BK13+BO13+BS13+BW13+CA13+CE13+CI13+CM13+CQ13+CU13+CY13+DC13+DG13+DK13+DO13+DS13+DW13 -> 145 | EB13: =H13+L13+P13+T13+X13+AB13+AF13+AJ13+AN13+AR13+AV13+AZ13+BD13+BH13+BL13+BP13+BT13+BX13+CB13+CF13+CJ13+CN13+CR13+CV13+CZ13+DD13+DH13+DL13+DP13+DT13+DX13 -> 89 | EC13: =I13+M13+Q13+U13+Y13+AC13+AG13+AK13+AO13+AS13+AW13+BA13+BE13+BI13+BM13+BQ13+BU13+BY13+CC13+CG13+CK13+CO13+CS13+CW13+DA13+DE13+DI13+DM13+DQ13+DU13+DY13 -> 0
A14: 2 | B14: SHIVA503001TSBH00427 | C14: SHIVA SAI EMERGENCY AND MULTI SPECIALITY HOSPITAL | D14: OPP: TELANGANA GRAMEENA BANK, KHALEEL WADI, NIZAMABAD - 503001 | E14: 53 | F14: 5 | G14: 5 | H14: 2 | J14: 5 | K14: 5 | L14: 2 | N14: 5 | O14: 5 | P14: 2 | R14: 5 | S14: 5 | T14: 2 | V14: 5 | W14: 5 | X14: 2 | Z14: 5 | AA14: 5 | AB14: 2 | AD14: 5 | AE14: 5 | AF14: 2 | AH14: 5 | AI14: 5 | AJ14: 2 | AL14: 5 | AM14: 5 | AN14: 2 | AP14: 5 | AQ14: 5 | AR14: 2 | AT14: 5 | AU14: 5 | AV14: 2 | AX14: 5 | AY14: 5 | AZ14: 2 | BB14: 5 | BC14: 5 | BD14: 2 | BJ14: 5 | BK14: 5 | BL14: 2 | BN14: 5 | BO14: 5 | BP14: 2 | BR14: 5 | BS14: 5 | BT14: 2 | BV14: 5 | BW14: 5 | BX14: 2 | BZ14: 5 | CA14: 5 | CB14: 2 | CD14: 5 | CE14: 5 | CF14: 2 | CH14: 5 | CI14: 5 | CJ14: 2 | CL14: 5 | CM14: 5 | CN14: 2 | CP14: 5 | CQ14: 5 | CR14: 2 | CT14: 5 | CU14: 5 | CV14: 2 | CX14: 5 | CY14: 5 | CZ14: 2 | DB14: 5 | DC14: 5 | DD14: 2 | DF14: 5 | DG14: 5 | DH14: 2 | DN14: 5 | DO14: 5 | DP14: 2 | DR14: 5 | DS14: 5 | DT14: 2 | DV14: 5 | DW14: 5 | DX14: 2 | DZ14: =F14+J14+N14+R14+V14+Z14+AD14+AH14+AL14+AP14+AT14+AX14+BB14+BF14+BJ14+BN14+BR14+BV14+BZ14+CD14+CH14+CL14+CP14+CT14+CX14+DB14+DF14+DJ14+DN14+DR14+DV14 -> 145 | EA14: =G14+K14+O14+S14+W14+AA14+AE14+AI14+AM14+AQ14+AU14+AY14+BC14+BG14+BK14+BO14+BS14+BW14+CA14+CE14+CI14+CM14+CQ14+CU14+CY14+DC14+DG14+DK14+DO14+DS14+DW14 -> 145 | EB14: =H14+L14+P14+T14+X14+AB14+AF14+AJ14+AN14+AR14+AV14+AZ14+BD14+BH14+BL14+BP14+BT14+BX14+CB14+CF14+CJ14+CN14+CR14+CV14+CZ14+DD14+DH14+DL14+DP14+DT14+DX14 -> 58 | EC14: =I14+M14+Q14+U14+Y14+AC14+AG14+AK14+AO14+AS14+AW14+BA14+BE14+BI14+BM14+BQ14+BU14+BY14+CC14+CG14+CK14+CO14+CS14+CW14+DA14+DE14+DI14+DM14+DQ14+DU14+DY14 -> 0
A15: 3 | B15: BOMBA503001TSBH00885 | C15: BOMBAY NURSING HOME | D15: YELLAMMA GUTTA X ROAD, HYDERABAD ROAD, NIZAMABAD - 503001 | E15: 50 | F15: 5 | G15: 5 | H15: 2 | J15: 5 | K15: 5 | L15: 2 | N15: 5 | O15: 5 | P15: 2 | R15: 5 | T15: 2 | V15: 5 | X15: 2 | Z15: 5 | AB15: 2 | AD15: 5 | AF15: 2 | AH15: 5 | AJ15: 2 | AL15: 5 | AN15: 2 | AP15: 5 | AR15: 2 | AT15: 5 | AV15: 2 | AX15: 5 | AY15: 2 | AZ15: 2 | BB15: 5 | BC15: 2 | BD15: 2 | BJ15: 5 | BK15: 1 | BL15: 2 | BN15: 5 | BO15: 2 | BP15: 2 | BR15: 5 | BS15: 2 | BT15: 2 | BV15: 5 | BW15: 2 | BX15: 2 | BZ15: 5 | CA15: 2 | CB15: 2 | CD15: 5 | CE15: 2 | CF15: 2 | CH15: 5 | CI15: 2 | CJ15: 2 | CL15: 5 | CM15: 2 | CN15: 2 | CP15: 5 | CQ15: 2 | CR15: 2 | CT15: 5 | CU15: 2 | CV15: 2 | CX15: 5 | CY15: 2 | CZ15: 2 | DB15: 5 | DC15: 2 | DD15: 2 | DF15: 5 | DG15: 1 | DH15: 2 | DN15: 5 | DO15: 2 | DP15: 2 | DR15: 5 | DS15: 2 | DT15: 2 | DV15: 5 | DW15: 2 | DX15: 2 | DZ15: =F15+J15+N15+R15+V15+Z15+AD15+AH15+AL15+AP15+AT15+AX15+BB15+BF15+BJ15+BN15+BR15+BV15+BZ15+CD15+CH15+CL15+CP15+CT15+CX15+DB15+DF15+DJ15+DN15+DR15+DV15 -> 145 | EA15: =G15+K15+O15+S15+W15+AA15+AE15+AI15+AM15+AQ15+AU15+AY15+BC15+BG15+BK15+BO15+BS15+BW15+CA15+CE15+CI15+CM15+CQ15+CU15+CY15+DC15+DG15+DK15+DO15+DS15+DW15 -> 49 | EB15: =H15+L15+P15+T15+X15+AB15+AF15+AJ15+AN15+AR15+AV15+AZ15+BD15+BH15+BL15+BP15+BT15+BX15+CB15+CF15+CJ15+CN15+CR15+CV15+CZ15+DD15+DH15+DL15+DP15+DT15+DX15 -> 58 | EC15: =I15+M15+Q15+U15+Y15+AC15+AG15+AK15+AO15+AS15+AW15+BA15+BE15+BI15+BM15+BQ15+BU15+BY15+CC15+CG15+CK15+CO15+CS15+CW15+DA15+DE15+DI15+DM15+DQ15+DU15+DY15 -> 0
A16: 4 | B16: BRIND503001TSBH00922 | C16: BRINDAVAN HOSPITAL | D16: OPP: RED CROSS BOLLD BANK, BEHIND DR. PRABHAKAR CHILDREN HOSPITAL, KHALEELWADI, NIZAMABAD - 503001. | E16: 50 | F16: 5 | G16: 5 | H16: 2 | J16: 5 | K16: 5 | L16: 2 | N16: 5 | O16: 5 | P16: 2 | R16: 5 | S16: 5 | T16: 2 | V16: 5 | X16: 2 | Z16: 5 | AB16: 2 | AF16: 2 | AH16: 5 | AI16: 5 | AJ16: 2 | AL16: 5 | AM16: 5 | AN16: 2 | AP16: 5 | AQ16: 5 | AR16: 2 | AT16: 5 | AU16: 5 | AV16: 2 | AX16: 5 | AY16: 2 | AZ16: 2 | BB16: 5 | BC16: 5 | BD16: 2 | BJ16: 5 | BK16: 2 | BL16: 2 | BN16: 5 | BO16: 5 | BP16: 2 | BR16: 5 | BT16: 2 | BV16: 5 | BX16: 2 | BZ16: 5 | CB16: 3 | CC16: 3 | CD16: 5 | CF16: 2 | CH16: 5 | CJ16: 2 | CL16: 5 | CN16: 2 | CP16: 5 | CQ16: 5 | CR16: 2 | CT16: 5 | CU16: 2 | CV16: 2 | CX16: 5 | CY16: 5 | CZ16: 2 | DB16: 5 | DC16: 5 | DD16: 2 | DF16: 5 | DG16: 5 | DH16: 2 | DN16: 5 | DO16: 5 | DP16: 2 | DR16: 5 | DS16: 5 | DT16: 2 | DV16: 5 | DW16: 5 | DX16: 2 | DZ16: =F16+J16+N16+R16+V16+Z16+AD16+AH16+AL16+AP16+AT16+AX16+BB16+BF16+BJ16+BN16+BR16+BV16+BZ16+CD16+CH16+CL16+CP16+CT16+CX16+DB16+DF16+DJ16+DN16+DR16+DV16 -> 140 | EA16: =G16+K16+O16+S16+W16+AA16+AE16+AI16+AM16+AQ16+AU16+AY16+BC16+BG16+BK16+BO16+BS16+BW16+CA16+CE16+CI16+CM16+CQ16+CU16+CY16+DC16+DG16+DK16+DO16+DS16+DW16 -> 91 | EB16: =H16+L16+P16+T16+X16+AB16+AF16+AJ16+AN16+AR16+AV16+AZ16+BD16+BH16+BL16+BP16+BT16+BX16+CB16+CF16+CJ16+CN16+CR16+CV16+CZ16+DD16+DH16+DL16+DP16+DT16+DX16 -> 59 | EC16: =I16+M16+Q16+U16+Y16+AC16+AG16+AK16+AO16+AS16+AW16+BA16+BE16+BI16+BM16+BQ16+BU16+BY16+CC16+CG16+CK16+CO16+CS16+CW16+DA16+DE16+DI16+DM16+DQ16+DU16+DY16 -> 3
A17: 5 | B17: CITYM503001TSBH16522 | C17: CITY MULTISPECIALITY HOSPITAL | D17: H.No.7-11-723/3, KHOJA COLONY, BODHAN ROAD, NIZAMABAD | E17: 50 | F17: 5 | G17: 5 | H17: 2 | J17: 5 | K17: 3 | L17: 2 | N17: 5 | O17: 2 | P17: 2 | R17: 5 | S17: 2 | T17: 2 | V17: 5 | W17: 2 | X17: 2 | Z17: 5 | AA17: 2 | AB17: 2 | AD17: 5 | AE17: 2 | AF17: 2 | AH17: 5 | AI17: 2 | AJ17: 2 | AL17: 5 | AM17: 2 | AN17: 2 | AP17: 5 | AQ17: 2 | AR17: 2 | AT17: 5 | AU17: 2 | AV17: 2 | AX17: 5 | AY17: 2 | AZ17: 2 | BB17: 5 | BC17: 2 | BD17: 2 | BJ17: 5 | BK17: 2 | BL17: 2 | BN17: 5 | BO17: 2 | BP17: 2 | BR17: 5 | BS17: 2 | BT17: 2 | BV17: 5 | BW17: 2 | BX17: 2 | BZ17: 5 | CA17: 2 | CB17: 2 | CD17: 5 | CE17: 2 | CF17: 2 | CH17: 5 | CI17: 2 | CJ17: 2 | CL17: 5 | CM17: 2 | CN17: 2 | CP17: 5 | CQ17: 2 | CR17: 2 | CT17: 5 | CU17: 2 | CV17: 2 | CX17: 5 | CY17: 2 | CZ17: 2 | DB17: 5 | DC17: 2 | DD17: 2 | DF17: 5 | DG17: 2 | DH17: 2 | DN17: 5 | DO17: 2 | DP17: 2 | DR17: 5 | DS17: 2 | DT17: 2 | DV17: 5 | DW17: 2 | DX17: 2 | DZ17: =F17+J17+N17+R17+V17+Z17+AD17+AH17+AL17+AP17+AT17+AX17+BB17+BF17+BJ17+BN17+BR17+BV17+BZ17+CD17+CH17+CL17+CP17+CT17+CX17+DB17+DF17+DJ17+DN17+DR17+DV17 -> 145 | EA17: =G17+K17+O17+S17+W17+AA17+AE17+AI17+AM17+AQ17+AU17+AY17+BC17+BG17+BK17+BO17+BS17+BW17+CA17+CE17+CI17+CM17+CQ17+CU17+CY17+DC17+DG17+DK17+DO17+DS17+DW17 -> 62 | EB17: =H17+L17+P17+T17+X17+AB17+AF17+AJ17+AN17+AR17+AV17+AZ17+BD17+BH17+BL17+BP17+BT17+BX17+CB17+CF17+CJ17+CN17+CR17+CV17+CZ17+DD17+DH17+DL17+DP17+DT17+DX17 -> 58 | EC17: =I17+M17+Q17+U17+Y17+AC17+AG17+AK17+AO17+AS17+AW17+BA17+BE17+BI17+BM17+BQ17+BU17+BY17+CC17+CG17+CK17+CO17+CS17+CW17+DA17+DE17+DI17+DM17+DQ17+DU17+DY17 -> 0
A18: 6 | B18: DREAM503001TSBH06107 | C18: DREAMLAND HOPE HOSPITAL | D18: H.No. 5-4-387/3, OPP.OLD JJ HOSPITAL, POCHAMMA GALLY, NIZAMABAD - 503001. | E18: 50 | F18: 5 | G18: 5 | H18: 2 | J18: 5 | K18: 2 | L18: 2 | N18: 5 | O18: 2 | P18: 2 | R18: 5 | T18: 2 | V18: 5 | W18: 5 | X18: 2 | Z18: 5 | AA18: 5 | AB18: 2 | AF18: 2 | AH18: 5 | AI18: 5 | AJ18: 2 | AL18: 5 | AM18: 5 | AN18: 2 | AP18: 5 | AQ18: 5 | AR18: 2 | AT18: 5 | AU18: 2 | AV18: 2 | AX18: 5 | AZ18: 2 | BB18: 5 | BC18: 2 | BD18: 2 | BJ18: 5 | BK18: 2 | BL18: 2 | BN18: 5 | BO18: 2 | BP18: 2 | BR18: 5 | BT18: 2 | BV18: 5 | BX18: 2 | BZ18: 5 | CA18: 5 | CD18: 5 | CF18: 2 | CH18: 5 | CJ18: 2 | CL18: 5 | CN18: 2 | CP18: 5 | CQ18: 5 | CR18: 2 | CT18: 5 | CU18: 2 | CV18: 2 | CX18: 5 | CY18: 5 | CZ18: 2 | DB18: 5 | DD18: 2 | DF18: 5 | DG18: 5 | DH18: 2 | DN18: 5 | DP18: 2 | DR18: 5 | DS18: 5 | DT18: 2 | DV18: 5 | DW18: 5 | DX18: 2 | DZ18: =F18+J18+N18+R18+V18+Z18+AD18+AH18+AL18+AP18+AT18+AX18+BB18+BF18+BJ18+BN18+BR18+BV18+BZ18+CD18+CH18+CL18+CP18+CT18+CX18+DB18+DF18+DJ18+DN18+DR18+DV18 -> 140 | EA18: =G18+K18+O18+S18+W18+AA18+AE18+AI18+AM18+AQ18+AU18+AY18+BC18+BG18+BK18+BO18+BS18+BW18+CA18+CE18+CI18+CM18+CQ18+CU18+CY18+DC18+DG18+DK18+DO18+DS18+DW18 -> 74 | EB18: =H18+L18+P18+T18+X18+AB18+AF18+AJ18+AN18+AR18+AV18+AZ18+BD18+BH18+BL18+BP18+BT18+BX18+CB18+CF18+CJ18+CN18+CR18+CV18+CZ18+DD18+DH18+DL18+DP18+DT18+DX18 -> 56 | EC18: =I18+M18+Q18+U18+Y18+AC18+AG18+AK18+AO18+AS18+AW18+BA18+BE18+BI18+BM18+BQ18+BU18+BY18+CC18+CG18+CK18+CO18+CS18+CW18+DA18+DE18+DI18+DM18+DQ18+DU18+DY18 -> 0
A19: 7 | B19: GSBVM503001TSBH07045 | C19: GSBV MEMORIAL MULTI SPECIALTY HOSPITAL | D19: OPP. RAJEEV GANDHI AUDITORUM, KHALEELWADI, NIZAMABAD - 503001. | E19: 50 | F19: 5 | G19: 5 | H19: 2 | J19: 5 | K19: 2 | L19: 2 | N19: 5 | O19: 2 | P19: 2 | R19: 5 | S19: 5 | T19: 2 | V19: 5 | W19: 5 | X19: 2 | Z19: 5 | AA19: 5 | AB19: 2 | AF19: 2 | AH19: 5 | AI19: 2 | AJ19: 2 | AL19: 5 | AM19: 2 | AN19: 2 | AP19: 5 | AQ19: 5 | AR19: 2 | AT19: 5 | AU19: 2 | AV19: 2 | AX19: 5 | AY19: 2 | AZ19: 2 | BB19: 5 | BC19: 2 | BD19: 2 | BJ19: 5 | BK19: 2 | BL19: 2 | BN19: 5 | BO19: 2 | BP19: 2 | BR19: 5 | BS19: 5 | BT19: 2 | BV19: 5 | BX19: 2 | BZ19: 5 | CB19: 10 | CD19: 5 | CF19: 2 | CH19: 5 | CJ19: 2 | CL19: 25 | CN19: 2 | CP19: 5 | CQ19: 5 | CR19: 2 | CT19: 5 | CU19: 2 | CV19: 2 | CX19: 5 | CY19: 5 | CZ19: 2 | DB19: 5 | DC19: 5 | DD19: 2 | DF19: 5 | DG19: 5 | DH19: 2 | DN19: 5 | DO19: 5 | DP19: 2 | DR19: 5 | DT19: 2 | DV19: 5 | DW19: 5 | DX19: 2 | DZ19: =F19+J19+N19+R19+V19+Z19+AD19+AH19+AL19+AP19+AT19+AX19+BB19+BF19+BJ19+BN19+BR19+BV19+BZ19+CD19+CH19+CL19+CP19+CT19+CX19+DB19+DF19+DJ19+DN19+DR19+DV19 -> 160 | EA19: =G19+K19+O19+S19+W19+AA19+AE19+AI19+AM19+AQ19+AU19+AY19+BC19+BG19+BK19+BO19+BS19+BW19+CA19+CE19+CI19+CM19+CQ19+CU19+CY19+DC19+DG19+DK19+DO19+DS19+DW19 -> 80 | EB19: =H19+L19+P19+T19+X19+AB19+AF19+AJ19+AN19+AR19+AV19+AZ19+BD19+BH19+BL19+BP19+BT19+BX19+CB19+CF19+CJ19+CN19+CR19+CV19+CZ19+DD19+DH19+DL19+DP19+DT19+DX19 -> 66 | EC19: =I19+M19+Q19+U19+Y19+AC19+AG19+AK19+AO19+AS19+AW19+BA19+BE19+BI19+BM19+BQ19+BU19+BY19+CC19+CG19+CK19+CO19+CS19+CW19+DA19+DE19+DI19+DM19+DQ19+DU19+DY19 -> 0
A20: 8 | B20: INDUR503001TSBH09851 | C20: INDUR CANCER HOSPITAL | D20: PANGRA, MADHAVA NAGAR, HYDERABAD ROAD, NIZAMABAD - 503001. | E20: 50 | F20: 5 | G20: 5 | H20: 2 | J20: 5 | L20: 2 | N20: 5 | O20: 2 | P20: 2 | R20: 5 | T20: 2 | V20: 5 | X20: 2 | Z20: 5 | AB20: 2 | AF20: 2 | AH20: 5 | AI20: 2 | AJ20: 2 | AL20: 5 | AM20: 2 | AN20: 2 | AP20: 5 | AQ20: 5 | AR20: 2 | AT20: 5 | AV20: 2 | AX20: 5 | AZ20: 2 | BB20: 5 | BD20: 2 | BJ20: 5 | BK20: 2 | BL20: 2 | BN20: 5 | BP20: 2 | BR20: 5 | BT20: 2 | BV20: 5 | BW20: 7 | BX20: 2 | BZ20: 5 | CA20: 7 | CD20: 5 | CF20: 2 | CH20: 5 | CJ20: 2 | CL20: 5 | CN20: 2 | CP20: 5 | CR20: 2 | CT20: 5 | CU20: 2 | CV20: 2 | CX20: 5 | CZ20: 2 | DD20: 2 | DF20: 5 | DH20: 2 | DN20: 5 | DP20: 2 | DR20: 5 | DT20: 2 | DV20: 5 | DX20: 2 | DZ20: =F20+J20+N20+R20+V20+Z20+AD20+AH20+AL20+AP20+AT20+AX20+BB20+BF20+BJ20+BN20+BR20+BV20+BZ20+CD20+CH20+CL20+CP20+CT20+CX20+DB20+DF20+DJ20+DN20+DR20+DV20 -> 135 | EA20: =G20+K20+O20+S20+W20+AA20+AE20+AI20+AM20+AQ20+AU20+AY20+BC20+BG20+BK20+BO20+BS20+BW20+CA20+CE20+CI20+CM20+CQ20+CU20+CY20+DC20+DG20+DK20+DO20+DS20+DW20 -> 34 | EB20: =H20+L20+P20+T20+X20+AB20+AF20+AJ20+AN20+AR20+AV20+AZ20+BD20+BH20+BL20+BP20+BT20+BX20+CB20+CF20+CJ20+CN20+CR20+CV20+CZ20+DD20+DH20+DL20+DP20+DT20+DX20 -> 56 | EC20: =I20+M20+Q20+U20+Y20+AC20+AG20+AK20+AO20+AS20+AW20+BA20+BE20+BI20+BM20+BQ20+BU20+BY20+CC20+CG20+CK20+CO20+CS20+CW20+DA20+DE20+DI20+DM20+DQ20+DU20+DY20 -> 0
A21: 9 | B21: INDUS503001TSBH08523 | C21: INDUS SUPER SPECIALITY HOSPITAL | D21: H.No. 5-6-192/194, SARASWATHI NAGAR, HYDERABAD ROAD, NIZAMABAD - 503001. | E21: 50 | F21: 5 | G21: 5 | H21: 2 | J21: 5 | L21: 2 | N21: 5 | O21: 2 | P21: 2 | R21: 5 | T21: 2 | V21: 5 | W21: 5 | X21: 2 | Z21: 5 | AA21: 5 | AB21: 2 | AF21: 2 | AH21: 5 | AI21: 2 | AJ21: 2 | AL21: 5 | AM21: 2 | AN21: 2 | AP21: 5 | AQ21: 5 | AR21: 2 | AT21: 5 | AV21: 2 | AX21: 5 | AY21: 2 | AZ21: 2 | BB21: 5 | BD21: 2 | BJ21: 5 | BK21: 2 | BL21: 2 | BN21: 5 | BO21: 5 | BP21: 2 | BR21: 5 | BS21: 2 | BT21: 2 | BV21: 5 | BW21: 5 | BX21: 2 | BZ21: 5 | CD21: 5 | CE21: 5 | CF21: 2 | CH21: 5 | CJ21: 2 | CL21: 5 | CM21: 5 | CN21: 2 | CP21: 5 | CR21: 2 | CT21: 5 | CU21: 2 | CV21: 2 | CX21: 5 | CZ21: 2 | DB21: 5 | DC21: 5 | DD21: 2 | DF21: 5 | DH21: 2 | DN21: 5 | DO21: 5 | DP21: 2 | DR21: 5 | DT21: 2 | DV21: 5 | DX21: 2 | DZ21: =F21+J21+N21+R21+V21+Z21+AD21+AH21+AL21+AP21+AT21+AX21+BB21+BF21+BJ21+BN21+BR21+BV21+BZ21+CD21+CH21+CL21+CP21+CT21+CX21+DB21+DF21+DJ21+DN21+DR21+DV21 -> 140 | EA21: =G21+K21+O21+S21+W21+AA21+AE21+AI21+AM21+AQ21+AU21+AY21+BC21+BG21+BK21+BO21+BS21+BW21+CA21+CE21+CI21+CM21+CQ21+CU21+CY21+DC21+DG21+DK21+DO21+DS21+DW21 -> 64 | EB21: =H21+L21+P21+T21+X21+AB21+AF21+AJ21+AN21+AR21+AV21+AZ21+BD21+BH21+BL21+BP21+BT21+BX21+CB21+CF21+CJ21+CN21+CR21+CV21+CZ21+DD21+DH21+DL21+DP21+DT21+DX21 -> 56 | EC21: =I21+M21+Q21+U21+Y21+AC21+AG21+AK21+AO21+AS21+AW21+BA21+BE21+BI21+BM21+BQ21+BU21+BY21+CC21+CG21+CK21+CO21+CS21+CW21+DA21+DE21+DI21+DM21+DQ21+DU21+DY21 -> 0
A22: 10 | C22: METRO MULTISPECIALITY HOSPITAL | D22: H.No. 5-6-111, Near Teja Hospital, Dwarakanagar, Nizamabad | E22: 50 | F22: 5 | G22: 5 | H22: 2 | J22: 5 | L22: 2 | N22: 5 | O22: 2 | P22: 2 | R22: 5 | T22: 2 | V22: 5 | W22: 5 | X22: 2 | Z22: 5 | AA22: 5 | AB22: 2 | AF22: 2 | AH22: 5 | AI22: 2 | AJ22: 2 | AL22: 5 | AM22: 2 | AN22: 2 | AP22: 5 | AQ22: 5 | AR22: 2 | AT22: 5 | AV22: 2 | AX22: 5 | AY22: 2 | AZ22: 2 | BB22: 5 | BD22: 2 | BJ22: 5 | BK22: 2 | BL22: 2 | BN22: 5 | BO22: 5 | BP22: 2 | BR22: 5 | BS22: 2 | BT22: 2 | BV22: 5 | BW22: 5 | BX22: 2 | BZ22: 5 | CD22: 5 | CE22: 5 | CF22: 2 | CH22: 5 | CJ22: 2 | CL22: 5 | CM22: 5 | CN22: 2 | CP22: 5 | CR22: 2 | CT22: 5 | CU22: 2 | CV22: 2 | CX22: 5 | CZ22: 2 | DB22: 5 | DC22: 5 | DD22: 2 | DF22: 5 | DH22: 2 | DN22: 5 | DO22: 5 | DP22: 2 | DR22: 5 | DT22: 2 | DV22: 5 | DX22: 2 | DZ22: =F22+J22+N22+R22+V22+Z22+AD22+AH22+AL22+AP22+AT22+AX22+BB22+BF22+BJ22+BN22+BR22+BV22+BZ22+CD22+CH22+CL22+CP22+CT22+CX22+DB22+DF22+DJ22+DN22+DR22+DV22 -> 140 | EA22: =G22+K22+O22+S22+W22+AA22+AE22+AI22+AM22+AQ22+AU22+AY22+BC22+BG22+BK22+BO22+BS22+BW22+CA22+CE22+CI22+CM22+CQ22+CU22+CY22+DC22+DG22+DK22+DO22+DS22+DW22 -> 64 | EB22: =H22+L22+P22+T22+X22+AB22+AF22+AJ22+AN22+AR22+AV22+AZ22+BD22+BH22+BL22+BP22+BT22+BX22+CB22+CF22+CJ22+CN22+CR22+CV22+CZ22+DD22+DH22+DL22+DP22+DT22+DX22 -> 56 | EC22: =I22+M22+Q22+U22+Y22+AC22+AG22+AK22+AO22+AS22+AW22+BA22+BE22+BI22+BM22+BQ22+BU22+BY22+CC22+CG22+CK22+CO22+CS22+CW22+DA22+DE22+DI22+DM22+DQ22+DU22+DY22 -> 0
A23: 11 | B23: NOVAL503001TSBH08513 | C23: NOVALIFE HOSPITAL | D23: H.No.5-6-293, SARASWATHI NAGAR, NIZAMABAD - 503001. | E23: 50 | F23: 5 | G23: 5 | H23: 2 | J23: 5 | K23: 5 | L23: 2 | N23: 5 | O23: 2 | P23: 2 | R23: 5 | S23: 2 | T23: 2 | V23: 5 | W23: 5 | X23: 2 | Z23: 5 | AA23: 5 | AB23: 2 | AF23: 2 | AH23: 5 | AI23: 2 | AJ23: 2 | AL23: 5 | AM23: 2 | AN23: 2 | AP23: 5 | AQ23: 5 | AR23: 2 | AT23: 5 | AU23: 5 | AV23: 2 | AX23: 5 | AY23: 2 | AZ23: 2 | BB23: 5 | BD23: 2 | BJ23: 5 | BK23: 2 | BL23: 2 | BN23: 5 | BP23: 2 | BR23: 5 | BT23: 2 | BV23: 5 | BX23: 2 | BZ23: 5 | CA23: 5 | CC23: 5 | CD23: 5 | CE23: 5 | CF23: 2 | CH23: 5 | CJ23: 2 | CL23: 5 | CM23: 5 | CN23: 2 | CP23: 5 | CQ23: 5 | CR23: 2 | CT23: 5 | CV23: 2 | CX23: 5 | CZ23: 2 | DB23: 5 | DD23: 2 | DF23: 5 | DH23: 2 | DN23: 5 | DP23: 2 | DR23: 5 | DT23: 2 | DV23: 5 | DX23: 2 | DZ23: =F23+J23+N23+R23+V23+Z23+AD23+AH23+AL23+AP23+AT23+AX23+BB23+BF23+BJ23+BN23+BR23+BV23+BZ23+CD23+CH23+CL23+CP23+CT23+CX23+DB23+DF23+DJ23+DN23+DR23+DV23 -> 140 | EA23: =G23+K23+O23+S23+W23+AA23+AE23+AI23+AM23+AQ23+AU23+AY23+BC23+BG23+BK23+BO23+BS23+BW23+CA23+CE23+CI23+CM23+CQ23+CU23+CY23+DC23+DG23+DK23+DO23+DS23+DW23 -> 62 | EB23: =H23+L23+P23+T23+X23+AB23+AF23+AJ23+AN23+AR23+AV23+AZ23+BD23+BH23+BL23+BP23+BT23+BX23+CB23+CF23+CJ23+CN23+CR23+CV23+CZ23+DD23+DH23+DL23+DP23+DT23+DX23 -> 56 | EC23: =I23+M23+Q23+U23+Y23+AC23+AG23+AK23+AO23+AS23+AW23+BA23+BE23+BI23+BM23+BQ23+BU23+BY23+CC23+CG23+CK23+CO23+CS23+CW23+DA23+DE23+DI23+DM23+DQ23+DU23+DY23 -> 5
A24: 12 | B24: RRLIF503001TSBH00887 | C24: R R LIFE LINE HOSPITAL NIZAMABAD | D24: H.No. 5-6-766/1, OPP. RED CROSS BLOOD BANK, KHALEEL WADI, NIZAMABAD - 503001. | E24: 50 | F24: 5 | G24: 5 | H24: 2 | J24: 5 | K24: 5 | L24: 2 | N24: 5 | O24: 5 | P24: 2 | R24: 5 | S24: 2 | T24: 2 | V24: 5 | W24: 5 | X24: 2 | Z24: 5 | AA24: 5 | AB24: 2 | AF24: 2 | AH24: 5 | AI24: 2 | AJ24: 2 | AL24: 2 | AM24: 2 | AN24: 2 | AP24: 5 | AQ24: 5 | AR24: 2 | AT24: 5 | AU24: 5 | AV24: 2 | AX24: 5 | AY24: 2 | AZ24: 2 | BB24: 5 | BD24: 2 | BJ24: 5 | BK24: 2 | BL24: 2 | BN24: 5 | BO24: 5 | BP24: 2 | BR24: 5 | BT24: 2 | BV24: 5 | BX24: 2 | BZ24: 5 | CB24: 3 | CC24: 3 | CD24: 5 | CF24: 2 | CH24: 5 | CJ24: 2 | CL24: 5 | CN24: 2 | CP24: 5 | CR24: 2 | CT24: 5 | CV24: 2 | CX24: 5 | CY24: 5 | CZ24: 2 | DB24: 5 | DD24: 2 | DF24: 5 | DG24: 5 | DH24: 2 | DN24: 5 | DP24: 2 | DR24: 5 | DT24: 2 | DV24: 5 | DW24: 5 | DX24: 2 | DZ24: =F24+J24+N24+R24+V24+Z24+AD24+AH24+AL24+AP24+AT24+AX24+BB24+BF24+BJ24+BN24+BR24+BV24+BZ24+CD24+CH24+CL24+CP24+CT24+CX24+DB24+DF24+DJ24+DN24+DR24+DV24 -> 137 | EA24: =G24+K24+O24+S24+W24+AA24+AE24+AI24+AM24+AQ24+AU24+AY24+BC24+BG24+BK24+BO24+BS24+BW24+CA24+CE24+CI24+CM24+CQ24+CU24+CY24+DC24+DG24+DK24+DO24+DS24+DW24 -> 65 | EB24: =H24+L24+P24+T24+X24+AB24+AF24+AJ24+AN24+AR24+AV24+AZ24+BD24+BH24+BL24+BP24+BT24+BX24+CB24+CF24+CJ24+CN24+CR24+CV24+CZ24+DD24+DH24+DL24+DP24+DT24+DX24 -> 59 | EC24: =I24+M24+Q24+U24+Y24+AC24+AG24+AK24+AO24+AS24+AW24+BA24+BE24+BI24+BM24+BQ24+BU24+BY24+CC24+CG24+CK24+CO24+CS24+CW24+DA24+DE24+DI24+DM24+DQ24+DU24+DY24 -> 3
A25: 13 | C25: SAI NEURO SUPER SPECIALITY HOSPITAL | D25: H.NO. 5-6-36, Road No -2, Khaleelwadi, Nizamabad 503003 | E25: 50 | F25: 5 | G25: 5 | H25: 2 | J25: 5 | K25: 5 | L25: 2 | N25: 5 | O25: 5 | P25: 2 | R25: 5 | S25: 2 | T25: 2 | V25: 5 | W25: 5 | X25: 2 | Z25: 5 | AA25: 5 | AB25: 2 | AF25: 2 | AH25: 5 | AI25: 2 | AJ25: 2 | AL25: 2 | AM25: 2 | AN25: 2 | AP25: 5 | AQ25: 5 | AR25: 2 | AT25: 5 | AU25: 5 | AV25: 2 | AX25: 5 | AY25: 2 | AZ25: 2 | BB25: 5 | BD25: 2 | BJ25: 5 | BK25: 2 | BL25: 2 | BN25: 5 | BO25: 5 | BP25: 2 | BR25: 5 | BT25: 2 | BV25: 5 | BX25: 2 | BZ25: 5 | CB25: 3 | CC25: 3 | CD25: 5 | CF25: 2 | CH25: 5 | CJ25: 2 | CL25: 5 | CN25: 2 | CP25: 5 | CR25: 2 | CT25: 5 | CV25: 2 | CX25: 5 | CY25: 5 | CZ25: 2 | DB25: 5 | DD25: 2 | DF25: 5 | DG25: 5 | DH25: 2 | DN25: 5 | DP25: 2 | DR25: 5 | DT25: 2 | DV25: 5 | DW25: 5 | DX25: 2 | DZ25: =F25+J25+N25+R25+V25+Z25+AD25+AH25+AL25+AP25+AT25+AX25+BB25+BF25+BJ25+BN25+BR25+BV25+BZ25+CD25+CH25+CL25+CP25+CT25+CX25+DB25+DF25+DJ25+DN25+DR25+DV25 -> 137 | EA25: =G25+K25+O25+S25+W25+AA25+AE25+AI25+AM25+AQ25+AU25+AY25+BC25+BG25+BK25+BO25+BS25+BW25+CA25+CE25+CI25+CM25+CQ25+CU25+CY25+DC25+DG25+DK25+DO25+DS25+DW25 -> 65 | EB25: =H25+L25+P25+T25+X25+AB25+AF25+AJ25+AN25+AR25+AV25+AZ25+BD25+BH25+BL25+BP25+BT25+BX25+CB25+CF25+CJ25+CN25+CR25+CV25+CZ25+DD25+DH25+DL25+DP25+DT25+DX25 -> 59 | EC25: =I25+M25+Q25+U25+Y25+AC25+AG25+AK25+AO25+AS25+AW25+BA25+BE25+BI25+BM25+BQ25+BU25+BY25+CC25+CG25+CK25+CO25+CS25+CW25+DA25+DE25+DI25+DM25+DQ25+DU25+DY25 -> 3
A26: 14 | B26: SRIGU503001TSBH06796 | C26: SRI GURU RAGHAVENDRA SUNRISE HOSPITAL | D26: H.No.5-7-93 & 5-7-94, OPP: MUNCIPAL COMPLEX, NIZAMABAD - 503001. | E26: 50 | F26: 5 | G26: 5 | H26: 2 | J26: 5 | K26: 5 | L26: 2 | N26: 5 | O26: 5 | P26: 2 | R26: 5 | S26: 2 | T26: 2 | V26: 5 | W26: 5 | X26: 2 | Z26: 5 | AA26: 5 | AB26: 2 | AF26: 2 | AH26: 5 | AI26: 5 | AJ26: 2 | AL26: 5 | AM26: 2 | AN26: 2 | AP26: 5 | AQ26: 5 | AR26: 2 | AT26: 5 | AU26: 5 | AV26: 2 | AX26: 5 | AY26: 2 | AZ26: 2 | BB26: 5 | BC26: 5 | BD26: 2 | BJ26: 5 | BK26: 2 | BL26: 2 | BN26: 5 | BO26: 5 | BP26: 2 | BR26: 5 | BS26: 2 | BT26: 2 | BV26: 5 | BW26: 5 | BX26: 2 | BZ26: 5 | CA26: 5 | CD26: 5 | CF26: 2 | CH26: 5 | CJ26: 2 | CL26: 5 | CN26: 2 | CP26: 5 | CQ26: 5 | CR26: 2 | CT26: 5 | CU26: 5 | CV26: 2 | CX26: 5 | CY26: 5 | CZ26: 2 | DB26: 5 | DC26: 5 | DD26: 2 | DF26: 5 | DG26: 5 | DH26: 2 | DN26: 5 | DO26: 5 | DP26: 2 | DR26: 5 | DT26: 2 | DV26: 5 | DW26: 5 | DX26: 2 | DZ26: =F26+J26+N26+R26+V26+Z26+AD26+AH26+AL26+AP26+AT26+AX26+BB26+BF26+BJ26+BN26+BR26+BV26+BZ26+CD26+CH26+CL26+CP26+CT26+CX26+DB26+DF26+DJ26+DN26+DR26+DV26 -> 140 | EA26: =G26+K26+O26+S26+W26+AA26+AE26+AI26+AM26+AQ26+AU26+AY26+BC26+BG26+BK26+BO26+BS26+BW26+CA26+CE26+CI26+CM26+CQ26+CU26+CY26+DC26+DG26+DK26+DO26+DS26+DW26 -> 105 | EB26: =H26+L26+P26+T26+X26+AB26+AF26+AJ26+AN26+AR26+AV26+AZ26+BD26+BH26+BL26+BP26+BT26+BX26+CB26+CF26+CJ26+CN26+CR26+CV26+CZ26+DD26+DH26+DL26+DP26+DT26+DX26 -> 56 | EC26: =I26+M26+Q26+U26+Y26+AC26+AG26+AK26+AO26+AS26+AW26+BA26+BE26+BI26+BM26+BQ26+BU26+BY26+CC26+CG26+CK26+CO26+CS26+CW26+DA26+DE26+DI26+DM26+DQ26+DU26+DY26 -> 0
A27: 15 | B27: SRIKR503001TSBH09853 | C27: SRI KRISHNA NEURO & MULTI SPECIALITY HOSPITAL | D27: H.No. 5-6-385 & 386, C/o. BOMBAY NURSING HOME, YELLAMMA GUTTA X ROAD, HYDERABAD ROAD, NIZAMABAD - 503001. | E27: 50 | F27: 5 | G27: 5 | H27: 2 | J27: 5 | K27: 5 | L27: 2 | N27: 5 | O27: 5 | P27: 2 | R27: 5 | S27: 2 | T27: 2 | V27: 5 | W27: 5 | X27: 2 | Z27: 5 | AA27: 5 | AB27: 2 | AF27: 2 | AH27: 5 | AI27: 5 | AJ27: 2 | AL27: 5 | AM27: 5 | AN27: 2 | AP27: 5 | AQ27: 5 | AR27: 2 | AT27: 5 | AU27: 5 | AV27: 2 | AX27: 5 | AY27: 2 | AZ27: 2 | BB27: 5 | BC27: 5 | BD27: 2 | BJ27: 5 | BK27: 2 | BL27: 2 | BN27: 5 | BO27: 5 | BP27: 2 | BR27: 5 | BS27: 2 | BT27: 2 | BV27: 10 | BX27: 2 | BZ27: 5 | CB27: 5 | CC27: 5 | CD27: 5 | CF27: 2 | CH27: 5 | CJ27: 2 | CL27: 5 | CN27: 2 | CP27: 5 | CQ27: 5 | CR27: 2 | CT27: 5 | CU27: 5 | CV27: 2 | CX27: 5 | CY27: 5 | CZ27: 2 | DB27: 5 | DC27: 5 | DD27: 2 | DF27: 5 | DH27: 2 | DN27: 5 | DP27: 2 | DR27: 5 | DS27: 5 | DT27: 2 | DV27: 5 | DW27: 10 | DX27: 2 | DZ27: =F27+J27+N27+R27+V27+Z27+AD27+AH27+AL27+AP27+AT27+AX27+BB27+BF27+BJ27+BN27+BR27+BV27+BZ27+CD27+CH27+CL27+CP27+CT27+CX27+DB27+DF27+DJ27+DN27+DR27+DV27 -> 145 | EA27: =G27+K27+O27+S27+W27+AA27+AE27+AI27+AM27+AQ27+AU27+AY27+BC27+BG27+BK27+BO27+BS27+BW27+CA27+CE27+CI27+CM27+CQ27+CU27+CY27+DC27+DG27+DK27+DO27+DS27+DW27 -> 98 | EB27: =H27+L27+P27+T27+X27+AB27+AF27+AJ27+AN27+AR27+AV27+AZ27+BD27+BH27+BL27+BP27+BT27+BX27+CB27+CF27+CJ27+CN27+CR27+CV27+CZ27+DD27+DH27+DL27+DP27+DT27+DX27 -> 61 | EC27: =I27+M27+Q27+U27+Y27+AC27+AG27+AK27+AO27+AS27+AW27+BA27+BE27+BI27+BM27+BQ27+BU27+BY27+CC27+CG27+CK27+CO27+CS27+CW27+DA27+DE27+DI27+DM27+DQ27+DU27+DY27 -> 5
A28: 16 | B28: SRIMA503001TSBH00974 | C28: SRI MAHALAXMI CHILDRENS HOSPITAL | D28: H.No. 5-7-7/1 , BESIDE NALANDA WOMENS DEGREE COLLEGE, KHALEELWADI, NIZAMABAD - 503001. | E28: 50 | F28: 5 | G28: 5 | H28: 2 | J28: 5 | K28: 5 | L28: 2 | N28: 5 | O28: 5 | P28: 2 | R28: 5 | S28: 2 | T28: 2 | V28: 5 | W28: 5 | X28: 2 | Z28: 5 | AA28: 5 | AB28: 2 | AF28: 2 | AH28: 5 | AI28: 5 | AJ28: 2 | AL28: 5 | AM28: 5 | AN28: 2 | AP28: 5 | AQ28: 5 | AR28: 2 | AT28: 5 | AU28: 5 | AV28: 2 | AX28: 5 | AZ28: 2 | BB28: 5 | BC28: 5 | BD28: 2 | BJ28: 5 | BK28: 2 | BL28: 2 | BN28: 5 | BO28: 5 | BP28: 2 | BR28: 5 | BS28: 2 | BT28: 2 | BV28: 5 | BW28: 5 | BX28: 2 | BZ28: 5 | CD28: 5 | CE28: 5 | CF28: 2 | CH28: 5 | CJ28: 2 | CL28: 5 | CM28: 5 | CN28: 2 | CP28: 5 | CQ28: 5 | CR28: 2 | CT28: 5 | CU28: 5 | CV28: 2 | CX28: 5 | CY28: 5 | CZ28: 2 | DB28: 5 | DC28: 5 | DD28: 2 | DF28: 5 | DH28: 2 | DN28: 5 | DO28: 5 | DP28: 2 | DR28: 10 | DT28: 2 | DV28: 5 | DW28: 5 | DX28: 2 | DZ28: =F28+J28+N28+R28+V28+Z28+AD28+AH28+AL28+AP28+AT28+AX28+BB28+BF28+BJ28+BN28+BR28+BV28+BZ28+CD28+CH28+CL28+CP28+CT28+CX28+DB28+DF28+DJ28+DN28+DR28+DV28 -> 145 | EA28: =G28+K28+O28+S28+W28+AA28+AE28+AI28+AM28+AQ28+AU28+AY28+BC28+BG28+BK28+BO28+BS28+BW28+CA28+CE28+CI28+CM28+CQ28+CU28+CY28+DC28+DG28+DK28+DO28+DS28+DW28 -> 106 | EB28: =H28+L28+P28+T28+X28+AB28+AF28+AJ28+AN28+AR28+AV28+AZ28+BD28+BH28+BL28+BP28+BT28+BX28+CB28+CF28+CJ28+CN28+CR28+CV28+CZ28+DD28+DH28+DL28+DP28+DT28+DX28 -> 56 | EC28: =I28+M28+Q28+U28+Y28+AC28+AG28+AK28+AO28+AS28+AW28+BA28+BE28+BI28+BM28+BQ28+BU28+BY28+CC28+CG28+CK28+CO28+CS28+CW28+DA28+DE28+DI28+DM28+DQ28+DU28+DY28 -> 0
A29: 17 | B29: SRIVI503001TSBH06146 | C29: SRI VISHNU HOSPITAL | D29: ABOVE KOTAK MAHINDRA BANK, OPP: CENTRAL LIBRARY, KHALEELWADI, NIZAMABAD - 503001. | E29: 50 | F29: 5 | G29: 5 | H29: 2 | J29: 5 | K29: 5 | L29: 2 | N29: 5 | O29: 5 | P29: 2 | R29: 5 | S29: 2 | T29: 2 | V29: 5 | X29: 2 | Z29: 5 | AB29: 2 | AF29: 2 | AH29: 5 | AI29: 5 | AJ29: 2 | AL29: 5 | AM29: 5 | AN29: 2 | AP29: 5 | AQ29: 5 | AR29: 2 | AT29: 5 | AU29: 5 | AV29: 2 | AX29: 5 | AY29: 5 | AZ29: 2 | BB29: 5 | BC29: 5 | BD29: 2 | BJ29: 5 | BK29: 2 | BL29: 2 | BN29: 5 | BO29: 5 | BP29: 2 | BR29: 5 | BS29: 2 | BT29: 2 | BV29: 5 | BX29: 2 | BZ29: 5 | CA29: 5 | CD29: 5 | CF29: 2 | CH29: 5 | CJ29: 2 | CL29: 5 | CN29: 2 | CP29: 5 | CR29: 2 | CT29: 5 | CU29: 5 | CV29: 2 | CX29: 5 | CZ29: 2 | DB29: 5 | DC29: 5 | DD29: 2 | DF29: 5 | DH29: 2 | DN29: 5 | DO29: 5 | DP29: 2 | DR29: 5 | DT29: 2 | DV29: 5 | DW29: 5 | DX29: 2 | DZ29: =F29+J29+N29+R29+V29+Z29+AD29+AH29+AL29+AP29+AT29+AX29+BB29+BF29+BJ29+BN29+BR29+BV29+BZ29+CD29+CH29+CL29+CP29+CT29+CX29+DB29+DF29+DJ29+DN29+DR29+DV29 -> 140 | EA29: =G29+K29+O29+S29+W29+AA29+AE29+AI29+AM29+AQ29+AU29+AY29+BC29+BG29+BK29+BO29+BS29+BW29+CA29+CE29+CI29+CM29+CQ29+CU29+CY29+DC29+DG29+DK29+DO29+DS29+DW29 -> 81 | EB29: =H29+L29+P29+T29+X29+AB29+AF29+AJ29+AN29+AR29+AV29+AZ29+BD29+BH29+BL29+BP29+BT29+BX29+CB29+CF29+CJ29+CN29+CR29+CV29+CZ29+DD29+DH29+DL29+DP29+DT29+DX29 -> 56 | EC29: =I29+M29+Q29+U29+Y29+AC29+AG29+AK29+AO29+AS29+AW29+BA29+BE29+BI29+BM29+BQ29+BU29+BY29+CC29+CG29+CK29+CO29+CS29+CW29+DA29+DE29+DI29+DM29+DQ29+DU29+DY29 -> 0
A30: 18 | B30: SRINI503001TSBH06147 | C30: SRINIVAS GASTRO & LIVER CARE HOSPITAL | D30: H.No.5-6-742/743, BESIDE MRO OFFICE, OPP: DEO OFFICE AND CENTRAL LIBRARY, KHALEELWADI, NIZAMABAD - 503001. | E30: 50 | F30: 5 | G30: 5 | H30: 2 | J30: 5 | K30: 5 | L30: 2 | N30: 5 | O30: 5 | P30: 2 | R30: 5 | S30: 2 | T30: 2 | V30: 5 | W30: 5 | X30: 2 | Z30: 5 | AB30: 2 | AF30: 2 | AH30: 5 | AI30: 5 | AJ30: 2 | AL30: 5 | AM30: 5 | AN30: 2 | AP30: 5 | AQ30: 5 | AR30: 2 | AT30: 5 | AU30: 5 | AV30: 2 | AX30: 5 | AY30: 5 | AZ30: 2 | BB30: 5 | BC30: 5 | BD30: 2 | BJ30: 5 | BK30: 2 | BL30: 2 | BN30: 5 | BO30: 5 | BP30: 2 | BR30: 5 | BT30: 2 | BV30: 5 | BX30: 2 | BZ30: 5 | CD30: 5 | CF30: 2 | CH30: 5 | CJ30: 2 | CL30: 5 | CN30: 2 | CP30: 5 | CR30: 2 | CT30: 5 | CU30: 5 | CV30: 2 | CX30: 5 | CZ30: 2 | DB30: 5 | DC30: 5 | DD30: 2 | DF30: 5 | DH30: 2 | DN30: 5 | DO30: 5 | DP30: 2 | DR30: 5 | DT30: 2 | DV30: 5 | DW30: 5 | DX30: 2 | DZ30: =F30+J30+N30+R30+V30+Z30+AD30+AH30+AL30+AP30+AT30+AX30+BB30+BF30+BJ30+BN30+BR30+BV30+BZ30+CD30+CH30+CL30+CP30+CT30+CX30+DB30+DF30+DJ30+DN30+DR30+DV30 -> 140 | EA30: =G30+K30+O30+S30+W30+AA30+AE30+AI30+AM30+AQ30+AU30+AY30+BC30+BG30+BK30+BO30+BS30+BW30+CA30+CE30+CI30+CM30+CQ30+CU30+CY30+DC30+DG30+DK30+DO30+DS30+DW30 -> 79 | EB30: =H30+L30+P30+T30+X30+AB30+AF30+AJ30+AN30+AR30+AV30+AZ30+BD30+BH30+BL30+BP30+BT30+BX30+CB30+CF30+CJ30+CN30+CR30+CV30+CZ30+DD30+DH30+DL30+DP30+DT30+DX30 -> 56 | EC30: =I30+M30+Q30+U30+Y30+AC30+AG30+AK30+AO30+AS30+AW30+BA30+BE30+BI30+BM30+BQ30+BU30+BY30+CC30+CG30+CK30+CO30+CS30+CW30+DA30+DE30+DI30+DM30+DQ30+DU30+DY30 -> 0
A31: 19 | B31: SVRMU503001TSBH08033 | C31: SVR MULTI SPECIALITY HOSPITAL | D31: KHALEELWADI, NIZAMABAD - 503001. | E31: 50 | F31: 5 | G31: 5 | H31: 2 | J31: 5 | K31: 5 | L31: 2 | N31: 5 | O31: 5 | P31: 2 | R31: 5 | T31: 2 | V31: 2 | X31: 2 | Z31: 5 | AA31: 5 | AB31: 2 | AF31: 2 | AH31: 5 | AI31: 5 | AJ31: 2 | AL31: 5 | AM31: 5 | AN31: 2 | AP31: 5 | AQ31: 5 | AR31: 2 | AT31: 5 | AV31: 2 | AX31: 5 | AY31: 5 | AZ31: 2 | BB31: 5 | BC31: 5 | BD31: 2 | BJ31: 5 | BK31: 2 | BL31: 2 | BN31: 5 | BO31: 5 | BP31: 2 | BR31: 5 | BT31: 2 | BV31: 5 | BX31: 2 | BZ31: 5 | CD31: 5 | CE31: 5 | CF31: 2 | CH31: 5 | CJ31: 2 | CL31: 5 | CN31: 2 | CP31: 5 | CQ31: 5 | CR31: 2 | CT31: 5 | CU31: 5 | CV31: 2 | CX31: 5 | CZ31: 2 | DB31: 5 | DC31: 5 | DD31: 2 | DF31: 5 | DH31: 2 | DN31: 5 | DO31: 5 | DP31: 2 | DR31: 5 | DS31: 5 | DT31: 2 | DV31: 5 | DW31: 5 | DX31: 2 | DZ31: =F31+J31+N31+R31+V31+Z31+AD31+AH31+AL31+AP31+AT31+AX31+BB31+BF31+BJ31+BN31+BR31+BV31+BZ31+CD31+CH31+CL31+CP31+CT31+CX31+DB31+DF31+DJ31+DN31+DR31+DV31 -> 137 | EA31: =G31+K31+O31+S31+W31+AA31+AE31+AI31+AM31+AQ31+AU31+AY31+BC31+BG31+BK31+BO31+BS31+BW31+CA31+CE31+CI31+CM31+CQ31+CU31+CY31+DC31+DG31+DK31+DO31+DS31+DW31 -> 87 | EB31: =H31+L31+P31+T31+X31+AB31+AF31+AJ31+AN31+AR31+AV31+AZ31+BD31+BH31+BL31+BP31+BT31+BX31+CB31+CF31+CJ31+CN31+CR31+CV31+CZ31+DD31+DH31+DL31+DP31+DT31+DX31 -> 56 | EC31: =I31+M31+Q31+U31+Y31+AC31+AG31+AK31+AO31+AS31+AW31+BA31+BE31+BI31+BM31+BQ31+BU31+BY31+CC31+CG31+CK31+CO31+CS31+CW31+DA31+DE31+DI31+DM31+DQ31+DU31+DY31 -> 0
A32: 20 | B32: VIJAY503001TSBH00903 | C32: VIJAYALAKSHMI HOSPITAL | D32: H.No. 5-6-767, NEAR RAJIV GANDHI AUDITORIUM, OPP: RED CROSS BLOOD BANK, KHALEELWADI, NIZAMABAD - 503001. | E32: 50 | F32: 5 | G32: 5 | H32: 2 | J32: 5 | K32: 5 | L32: 2 | N32: 5 | O32: 5 | P32: 2 | R32: 5 | S32: 5 | T32: 2 | V32: 5 | X32: 2 | Z32: 5 | AA32: 5 | AB32: 2 | AF32: 2 | AH32: 5 | AI32: 5 | AJ32: 2 | AL32: 5 | AM32: 5 | AN32: 2 | AP32: 5 | AQ32: 5 | AR32: 2 | AT32: 10 | AV32: 2 | AX32: 15 | AZ32: 2 | BB32: 5 | BC32: 5 | BD32: 2 | BJ32: 5 | BK32: 2 | BL32: 2 | BN32: 5 | BO32: 5 | BP32: 2 | BR32: 5 | BS32: 2 | BT32: 2 | BV32: 5 | BW32: 5 | BX32: 2 | BZ32: 5 | CC32: 5 | CD32: 5 | CE32: 5 | CF32: 2 | CH32: 5 | CJ32: 2 | CL32: 5 | CM32: 5 | CN32: 2 | CP32: 5 | CQ32: 5 | CR32: 2 | CT32: 5 | CV32: 2 | CX32: 5 | CY32: 5 | CZ32: 2 | DB32: 5 | DD32: 2 | DF32: 5 | DG32: 5 | DH32: 2 | DN32: 5 | DP32: 2 | DR32: 5 | DT32: 2 | DV32: 5 | DW32: 5 | DX32: 2 | DZ32: =F32+J32+N32+R32+V32+Z32+AD32+AH32+AL32+AP32+AT32+AX32+BB32+BF32+BJ32+BN32+BR32+BV32+BZ32+CD32+CH32+CL32+CP32+CT32+CX32+DB32+DF32+DJ32+DN32+DR32+DV32 -> 155 | EA32: =G32+K32+O32+S32+W32+AA32+AE32+AI32+AM32+AQ32+AU32+AY32+BC32+BG32+BK32+BO32+BS32+BW32+CA32+CE32+CI32+CM32+CQ32+CU32+CY32+DC32+DG32+DK32+DO32+DS32+DW32 -> 89 | EB32: =H32+L32+P32+T32+X32+AB32+AF32+AJ32+AN32+AR32+AV32+AZ32+BD32+BH32+BL32+BP32+BT32+BX32+CB32+CF32+CJ32+CN32+CR32+CV32+CZ32+DD32+DH32+DL32+DP32+DT32+DX32 -> 56 | EC32: =I32+M32+Q32+U32+Y32+AC32+AG32+AK32+AO32+AS32+AW32+BA32+BE32+BI32+BM32+BQ32+BU32+BY32+CC32+CG32+CK32+CO32+CS32+CW32+DA32+DE32+DI32+DM32+DQ32+DU32+DY32 -> 5
B33: 49 TO 20 BEDS HCFs
A34: 21 | B34: VAISH503001TSBH06135 | C34: VAISHNAVI HOSPITAL | D34: H.No. 5-6-180/B, SARASWATINAGAR, BEHIND PRAGATHI HOSPITAL, NIZAMABAD - 503001. | E34: 35 | F34: 3 | J34: 5 | K34: 5 | R34: 2 | S34: 3 | V34: 5 | Z34: 2 | AH34: 3 | AL34: 3 | AQ34: 3 | AT34: 3 | AX34: 3 | BN34: 5 | BR34: 5 | BV34: 5 | CA34: 5 | CT34: 2 | CX34: 2 | CY34: 2 | DB34: 3 | DF34: 2 | DG34: 2 | DR34: 2 | DZ34: =F34+J34+N34+R34+V34+Z34+AD34+AH34+AL34+AP34+AT34+AX34+BB34+BF34+BJ34+BN34+BR34+BV34+BZ34+CD34+CH34+CL34+CP34+CT34+CX34+DB34+DF34+DJ34+DN34+DR34+DV34 -> 55 | EA34: =G34+K34+O34+S34+W34+AA34+AE34+AI34+AM34+AQ34+AU34+AY34+BC34+BG34+BK34+BO34+BS34+BW34+CA34+CE34+CI34+CM34+CQ34+CU34+CY34+DC34+DG34+DK34+DO34+DS34+DW34 -> 20 | EB34: =H34+L34+P34+T34+X34+AB34+AF34+AJ34+AN34+AR34+AV34+AZ34+BD34+BH34+BL34+BP34+BT34+BX34+CB34+CF34+CJ34+CN34+CR34+CV34+CZ34+DD34+DH34+DL34+DP34+DT34+DX34 -> 0 | EC34: =I34+M34+Q34+U34+Y34+AC34+AG34+AK34+AO34+AS34+AW34+BA34+BE34+BI34+BM34+BQ34+BU34+BY34+CC34+CG34+CK34+CO34+CS34+CW34+DA34+DE34+DI34+DM34+DQ34+DU34+DY34 -> 0
A35: 22 | B35: SRICH503001TSBH17451 | C35: SRI CHAKRA HOSPITALS | D35: BESIDE SYNDICATE BANK, KHALEELWADI, NIZAMABAD - 503001. | E35: 30 | F35: 2 | G35: 2 | J35: 3 | O35: 2 | W35: 2 | AA35: 2 | AI35: 2 | AQ35: 2 | AX35: 2 | AY35: 2 | BC35: 3 | BS35: 2 | BW35: 2 | CA35: 2 | CE35: 2 | CM35: 2 | CP35: 2 | CT35: 3 | DB35: 3 | DO35: 2 | DR35: 5 | DV35: 5 | DZ35: =F35+J35+N35+R35+V35+Z35+AD35+AH35+AL35+AP35+AT35+AX35+BB35+BF35+BJ35+BN35+BR35+BV35+BZ35+CD35+CH35+CL35+CP35+CT35+CX35+DB35+DF35+DJ35+DN35+DR35+DV35 -> 25 | EA35: =G35+K35+O35+S35+W35+AA35+AE35+AI35+AM35+AQ35+AU35+AY35+BC35+BG35+BK35+BO35+BS35+BW35+CA35+CE35+CI35+CM35+CQ35+CU35+CY35+DC35+DG35+DK35+DO35+DS35+DW35 -> 29 | EB35: =H35+L35+P35+T35+X35+AB35+AF35+AJ35+AN35+AR35+AV35+AZ35+BD35+BH35+BL35+BP35+BT35+BX35+CB35+CF35+CJ35+CN35+CR35+CV35+CZ35+DD35+DH35+DL35+DP35+DT35+DX35 -> 0 | EC35: =I35+M35+Q35+U35+Y35+AC35+AG35+AK35+AO35+AS35+AW35+BA35+BE35+BI35+BM35+BQ35+BU35+BY35+CC35+CG35+CK35+CO35+CS35+CW35+DA35+DE35+DI35+DM35+DQ35+DU35+DY35 -> 0
A36: 23 | B36: SRIRA503001TSBH00950 | C36: SRI RAKSHA HOSPITAL | D36: PRAGATHI HOSPITAL BACKSIDE LANE, DWARAKA NAGAR, NIZAMABAD - 503001. | E36: 30 | F36: 2 | J36: 2 | S36: 3 | AA36: 2 | AI36: 2 | AM36: 2 | AQ36: 2 | AT36: 2 | AY36: 2 | BB36: 2 | BK36: 2 | BO36: 2 | BS36: 2 | BW36: 2 | CA36: 2 | CP36: 2 | CT36: 2 | CX36: 2 | DC36: 2 | DG36: 2 | DO36: 2 | DR36: 2 | DZ36: =F36+J36+N36+R36+V36+Z36+AD36+AH36+AL36+AP36+AT36+AX36+BB36+BF36+BJ36+BN36+BR36+BV36+BZ36+CD36+CH36+CL36+CP36+CT36+CX36+DB36+DF36+DJ36+DN36+DR36+DV36 -> 16 | EA36: =G36+K36+O36+S36+W36+AA36+AE36+AI36+AM36+AQ36+AU36+AY36+BC36+BG36+BK36+BO36+BS36+BW36+CA36+CE36+CI36+CM36+CQ36+CU36+CY36+DC36+DG36+DK36+DO36+DS36+DW36 -> 29 | EB36: =H36+L36+P36+T36+X36+AB36+AF36+AJ36+AN36+AR36+AV36+AZ36+BD36+BH36+BL36+BP36+BT36+BX36+CB36+CF36+CJ36+CN36+CR36+CV36+CZ36+DD36+DH36+DL36+DP36+DT36+DX36 -> 0 | EC36: =I36+M36+Q36+U36+Y36+AC36+AG36+AK36+AO36+AS36+AW36+BA36+BE36+BI36+BM36+BQ36+BU36+BY36+CC36+CG36+CK36+CO36+CS36+CW36+DA36+DE36+DI36+DM36+DQ36+DU36+DY36 -> 0
A37: 24 | C37: ESHWAR RAM HOSPITAL | D37: DR. NO. 6-2-119/1, BEHIND AYYAPPA SWAMY TEMPLE, KANTESHWAR, NIZAMABAD 503002 | E37: 25 | F37: 2 | J37: 2 | S37: 3 | AA37: 2 | AI37: 2 | AM37: 2 | AQ37: 2 | AT37: 2 | AY37: 2 | BB37: 2 | BK37: 2 | BO37: 2 | BS37: 2 | BW37: 2 | CA37: 2 | CP37: 2 | CT37: 2 | CX37: 2 | DC37: 2 | DG37: 2 | DO37: 2 | DR37: 2 | DZ37: =F37+J37+N37+R37+V37+Z37+AD37+AH37+AL37+AP37+AT37+AX37+BB37+BF37+BJ37+BN37+BR37+BV37+BZ37+CD37+CH37+CL37+CP37+CT37+CX37+DB37+DF37+DJ37+DN37+DR37+DV37 -> 16 | EA37: =G37+K37+O37+S37+W37+AA37+AE37+AI37+AM37+AQ37+AU37+AY37+BC37+BG37+BK37+BO37+BS37+BW37+CA37+CE37+CI37+CM37+CQ37+CU37+CY37+DC37+DG37+DK37+DO37+DS37+DW37 -> 29 | EB37: =H37+L37+P37+T37+X37+AB37+AF37+AJ37+AN37+AR37+AV37+AZ37+BD37+BH37+BL37+BP37+BT37+BX37+CB37+CF37+CJ37+CN37+CR37+CV37+CZ37+DD37+DH37+DL37+DP37+DT37+DX37 -> 0 | EC37: =I37+M37+Q37+U37+Y37+AC37+AG37+AK37+AO37+AS37+AW37+BA37+BE37+BI37+BM37+BQ37+BU37+BY37+CC37+CG37+CK37+CO37+CS37+CW37+DA37+DE37+DI37+DM37+DQ37+DU37+DY37 -> 0
A38: 25 | B38: LIONS503001TSBH01124 | C38: LIONS EYE HOSPITAL | D38: OPP: RAJEEV GANDHI AUDITORIUM, KHALEEL WADI, NIZAMABAD - 503001. | E38: 25 | F38: 2 | J38: 2 | N38: 2 | Z38: 2 | AI38: 2 | AL38: 2 | AP38: 2 | AT38: 2 | AY38: 2 | BR38: 2 | BV38: 2 | BZ38: 2 | CD38: 2 | CL38: 2 | CP38: 2 | CT38: 3 | CX38: 2 | DG38: 3 | DO38: 2 | DR38: 2 | DZ38: =F38+J38+N38+R38+V38+Z38+AD38+AH38+AL38+AP38+AT38+AX38+BB38+BF38+BJ38+BN38+BR38+BV38+BZ38+CD38+CH38+CL38+CP38+CT38+CX38+DB38+DF38+DJ38+DN38+DR38+DV38 -> 33 | EA38: =G38+K38+O38+S38+W38+AA38+AE38+AI38+AM38+AQ38+AU38+AY38+BC38+BG38+BK38+BO38+BS38+BW38+CA38+CE38+CI38+CM38+CQ38+CU38+CY38+DC38+DG38+DK38+DO38+DS38+DW38 -> 9 | EB38: =H38+L38+P38+T38+X38+AB38+AF38+AJ38+AN38+AR38+AV38+AZ38+BD38+BH38+BL38+BP38+BT38+BX38+CB38+CF38+CJ38+CN38+CR38+CV38+CZ38+DD38+DH38+DL38+DP38+DT38+DX38 -> 0 | EC38: =I38+M38+Q38+U38+Y38+AC38+AG38+AK38+AO38+AS38+AW38+BA38+BE38+BI38+BM38+BQ38+BU38+BY38+CC38+CG38+CK38+CO38+CS38+CW38+DA38+DE38+DI38+DM38+DQ38+DU38+DY38 -> 0
A39: 26 | B39: RITVI503002TSBH09855 | C39: RITVIK HOSPITAL | D39: OPP: SHESHANK HOSPITAL, OPP: BUS STAND ROAD, KHALEELWADI, NIZAMABAD - 503001. | E39: 25 | F39: 2 | G39: 2 | J39: 2 | N39: 2 | Z39: 2 | AH39: 2 | AP39: 2 | AY39: 3 | BB39: 3 | BS39: 2 | BW39: 2 | CE39: 2 | CM39: 2 | CP39: 2 | CT39: 2 | CY39: 3 | DB39: 2 | DF39: 2 | DO39: 2 | DR39: 2 | DV39: 2 | DZ39: =F39+J39+N39+R39+V39+Z39+AD39+AH39+AL39+AP39+AT39+AX39+BB39+BF39+BJ39+BN39+BR39+BV39+BZ39+CD39+CH39+CL39+CP39+CT39+CX39+DB39+DF39+DJ39+DN39+DR39+DV39 -> 27 | EA39: =G39+K39+O39+S39+W39+AA39+AE39+AI39+AM39+AQ39+AU39+AY39+BC39+BG39+BK39+BO39+BS39+BW39+CA39+CE39+CI39+CM39+CQ39+CU39+CY39+DC39+DG39+DK39+DO39+DS39+DW39 -> 18 | EB39: =H39+L39+P39+T39+X39+AB39+AF39+AJ39+AN39+AR39+AV39+AZ39+BD39+BH39+BL39+BP39+BT39+BX39+CB39+CF39+CJ39+CN39+CR39+CV39+CZ39+DD39+DH39+DL39+DP39+DT39+DX39 -> 0 | EC39: =I39+M39+Q39+U39+Y39+AC39+AG39+AK39+AO39+AS39+AW39+BA39+BE39+BI39+BM39+BQ39+BU39+BY39+CC39+CG39+CK39+CO39+CS39+CW39+DA39+DE39+DI39+DM39+DQ39+DU39+DY39 -> 0
A40: 27 | B40: SAIAS503001TSBH09856 | C40: SAI ASHWINI HOSPITAL | D40: KHALEELWADI, NIZAMABAD - 503001. | E40: 25 | F40: 2 | G40: 2 | J40: 2 | N40: 2 | V40: 2 | Z40: 2 | AH40: 2 | AP40: 3 | AX40: 3 | BC40: 3 | BS40: 2 | BW40: 5 | CE40: 3 | CM40: 2 | CQ40: 3 | CU40: 3 | DB40: 3 | DN40: 5 | DR40: 5 | DV40: 5 | DZ40: =F40+J40+N40+R40+V40+Z40+AD40+AH40+AL40+AP40+AT40+AX40+BB40+BF40+BJ40+BN40+BR40+BV40+BZ40+CD40+CH40+CL40+CP40+CT40+CX40+DB40+DF40+DJ40+DN40+DR40+DV40 -> 36 | EA40: =G40+K40+O40+S40+W40+AA40+AE40+AI40+AM40+AQ40+AU40+AY40+BC40+BG40+BK40+BO40+BS40+BW40+CA40+CE40+CI40+CM40+CQ40+CU40+CY40+DC40+DG40+DK40+DO40+DS40+DW40 -> 23 | EB40: =H40+L40+P40+T40+X40+AB40+AF40+AJ40+AN40+AR40+AV40+AZ40+BD40+BH40+BL40+BP40+BT40+BX40+CB40+CF40+CJ40+CN40+CR40+CV40+CZ40+DD40+DH40+DL40+DP40+DT40+DX40 -> 0 | EC40: =I40+M40+Q40+U40+Y40+AC40+AG40+AK40+AO40+AS40+AW40+BA40+BE40+BI40+BM40+BQ40+BU40+BY40+CC40+CG40+CK40+CO40+CS40+CW40+DA40+DE40+DI40+DM40+DQ40+DU40+DY40 -> 0
A41: 28 | B41: VIKRA503001TSBH09857 | C41: VIKRAM HOSPITAL | D41: D.No. 5-6-164, BESIDE Dr. LAXMA REDDY HOSPITAL, MEENAKSHI HOSPITAL LANE, DWARAKANAGAR, NIZAMABAD - 503001. | E41: 25 | F41: 2 | J41: 2 | K41: 2 | R41: 2 | Z41: 2 | AI41: 2 | AM41: 2 | AQ41: 2 | AT41: 2 | AY41: 2 | BC41: 2 | BK41: 2 | BO41: 2 | BS41: 2 | BW41: 2 | CA41: 2 | CQ41: 2 | CT41: 2 | CY41: 3 | DC41: 2 | DF41: 3 | DO41: 2 | DR41: 2 | DZ41: =F41+J41+N41+R41+V41+Z41+AD41+AH41+AL41+AP41+AT41+AX41+BB41+BF41+BJ41+BN41+BR41+BV41+BZ41+CD41+CH41+CL41+CP41+CT41+CX41+DB41+DF41+DJ41+DN41+DR41+DV41 -> 17 | EA41: =G41+K41+O41+S41+W41+AA41+AE41+AI41+AM41+AQ41+AU41+AY41+BC41+BG41+BK41+BO41+BS41+BW41+CA41+CE41+CI41+CM41+CQ41+CU41+CY41+DC41+DG41+DK41+DO41+DS41+DW41 -> 31 | EB41: =H41+L41+P41+T41+X41+AB41+AF41+AJ41+AN41+AR41+AV41+AZ41+BD41+BH41+BL41+BP41+BT41+BX41+CB41+CF41+CJ41+CN41+CR41+CV41+CZ41+DD41+DH41+DL41+DP41+DT41+DX41 -> 0 | EC41: =I41+M41+Q41+U41+Y41+AC41+AG41+AK41+AO41+AS41+AW41+BA41+BE41+BI41+BM41+BQ41+BU41+BY41+CC41+CG41+CK41+CO41+CS41+CW41+DA41+DE41+DI41+DM41+DQ41+DU41+DY41 -> 0
A42: 29 | B42: GANGA503001TSBH06109 | C42: GANGA SARASWATHI CHILDRENS HOSPITAL | D42: DWARAKA NAGAR, NIZAMABAD - 503001. | E42: 25 | F42: 2 | J42: 2 | K42: 2 | AI42: 2 | AM42: 2 | AT42: 3 | BK42: 2 | BO42: 2 | BS42: 2 | BW42: 2 | CA42: 2 | CU42: 2 | CY42: 2 | DF42: 3 | DR42: 2 | DZ42: =F42+J42+N42+R42+V42+Z42+AD42+AH42+AL42+AP42+AT42+AX42+BB42+BF42+BJ42+BN42+BR42+BV42+BZ42+CD42+CH42+CL42+CP42+CT42+CX42+DB42+DF42+DJ42+DN42+DR42+DV42 -> 12 | EA42: =G42+K42+O42+S42+W42+AA42+AE42+AI42+AM42+AQ42+AU42+AY42+BC42+BG42+BK42+BO42+BS42+BW42+CA42+CE42+CI42+CM42+CQ42+CU42+CY42+DC42+DG42+DK42+DO42+DS42+DW42 -> 20 | EB42: =H42+L42+P42+T42+X42+AB42+AF42+AJ42+AN42+AR42+AV42+AZ42+BD42+BH42+BL42+BP42+BT42+BX42+CB42+CF42+CJ42+CN42+CR42+CV42+CZ42+DD42+DH42+DL42+DP42+DT42+DX42 -> 0 | EC42: =I42+M42+Q42+U42+Y42+AC42+AG42+AK42+AO42+AS42+AW42+BA42+BE42+BI42+BM42+BQ42+BU42+BY42+CC42+CG42+CK42+CO42+CS42+CW42+DA42+DE42+DI42+DM42+DQ42+DU42+DY42 -> 0
A43: 30 | B43: ANKAM503001TSBH01037 | C43: ANKAM HOSPITAL | D43: H.No. 5-7-132, KHALEELWADI,NIZAMABAD - 503001. | E43: 24 | F43: 2 | G43: 2 | J43: 2 | N43: 2 | Z43: 2 | AH43: 2 | AM43: 3 | AP43: 3 | AU43: 2 | AY43: 3 | BC43: 3 | BR43: 2 | BV43: 2 | BZ43: 2 | CD43: 3 | CL43: 2 | CP43: 3 | CU43: 3 | CY43: 3 | DB43: 2 | DC43: 2 | DF43: 3 | DO43: 2 | DR43: 5 | DZ43: =F43+J43+N43+R43+V43+Z43+AD43+AH43+AL43+AP43+AT43+AX43+BB43+BF43+BJ43+BN43+BR43+BV43+BZ43+CD43+CH43+CL43+CP43+CT43+CX43+DB43+DF43+DJ43+DN43+DR43+DV43 -> 37 | EA43: =G43+K43+O43+S43+W43+AA43+AE43+AI43+AM43+AQ43+AU43+AY43+BC43+BG43+BK43+BO43+BS43+BW43+CA43+CE43+CI43+CM43+CQ43+CU43+CY43+DC43+DG43+DK43+DO43+DS43+DW43 -> 23 | EB43: =H43+L43+P43+T43+X43+AB43+AF43+AJ43+AN43+AR43+AV43+AZ43+BD43+BH43+BL43+BP43+BT43+BX43+CB43+CF43+CJ43+CN43+CR43+CV43+CZ43+DD43+DH43+DL43+DP43+DT43+DX43 -> 0 | EC43: =I43+M43+Q43+U43+Y43+AC43+AG43+AK43+AO43+AS43+AW43+BA43+BE43+BI43+BM43+BQ43+BU43+BY43+CC43+CG43+CK43+CO43+CS43+CW43+DA43+DE43+DI43+DM43+DQ43+DU43+DY43 -> 0
A44: 31 | B44: CHAND503001TSBH08472 | C44: CHANDRASHILA CHILD CARE HOME | D44: OPP. DECCAN GRAMEENA BANK, KHALEEL WADI, NIZAMABAD - 503001. | E44: 24 | F44: 2 | G44: 2 | J44: 2 | N44: 2 | V44: 2 | AM44: 2 | AU44: 2 | AX44: 2 | BC44: 2 | BR44: 2 | BV44: 2 | BZ44: 2 | CD44: 2 | CL44: 5 | CP44: 2 | CU44: 2 | CY44: 2 | DB44: 2 | DF44: 2 | DZ44: =F44+J44+N44+R44+V44+Z44+AD44+AH44+AL44+AP44+AT44+AX44+BB44+BF44+BJ44+BN44+BR44+BV44+BZ44+CD44+CH44+CL44+CP44+CT44+CX44+DB44+DF44+DJ44+DN44+DR44+DV44 -> 29 | EA44: =G44+K44+O44+S44+W44+AA44+AE44+AI44+AM44+AQ44+AU44+AY44+BC44+BG44+BK44+BO44+BS44+BW44+CA44+CE44+CI44+CM44+CQ44+CU44+CY44+DC44+DG44+DK44+DO44+DS44+DW44 -> 12 | EB44: =H44+L44+P44+T44+X44+AB44+AF44+AJ44+AN44+AR44+AV44+AZ44+BD44+BH44+BL44+BP44+BT44+BX44+CB44+CF44+CJ44+CN44+CR44+CV44+CZ44+DD44+DH44+DL44+DP44+DT44+DX44 -> 0 | EC44: =I44+M44+Q44+U44+Y44+AC44+AG44+AK44+AO44+AS44+AW44+BA44+BE44+BI44+BM44+BQ44+BU44+BY44+CC44+CG44+CK44+CO44+CS44+CW44+DA44+DE44+DI44+DM44+DQ44+DU44+DY44 -> 0
A45: 32 | B45: MEENA503001TSBH02590 | C45: MEENAKSHI NURSING HOME | D45: BACKSIDE PRAGATHI HOSPITAL, SARASWATHI NAGAR, NIZAMABAD - 503001. | E45: 24 | F45: 2 | J45: 2 | K45: 2 | R45: 2 | Z45: 2 | AH45: 3 | AL45: 3 | AP45: 3 | AT45: 3 | AY45: 2 | BC45: 3 | BK45: 2 | BO45: 2 | BS45: 2 | BW45: 2 | CA45: 5 | CQ45: 3 | CT45: 3 | CX45: 3 | DC45: 2 | DF45: 3 | DO45: 2 | DZ45: =F45+J45+N45+R45+V45+Z45+AD45+AH45+AL45+AP45+AT45+AX45+BB45+BF45+BJ45+BN45+BR45+BV45+BZ45+CD45+CH45+CL45+CP45+CT45+CX45+DB45+DF45+DJ45+DN45+DR45+DV45 -> 29 | EA45: =G45+K45+O45+S45+W45+AA45+AE45+AI45+AM45+AQ45+AU45+AY45+BC45+BG45+BK45+BO45+BS45+BW45+CA45+CE45+CI45+CM45+CQ45+CU45+CY45+DC45+DG45+DK45+DO45+DS45+DW45 -> 27 | EB45: =H45+L45+P45+T45+X45+AB45+AF45+AJ45+AN45+AR45+AV45+AZ45+BD45+BH45+BL45+BP45+BT45+BX45+CB45+CF45+CJ45+CN45+CR45+CV45+CZ45+DD45+DH45+DL45+DP45+DT45+DX45 -> 0 | EC45: =I45+M45+Q45+U45+Y45+AC45+AG45+AK45+AO45+AS45+AW45+BA45+BE45+BI45+BM45+BQ45+BU45+BY45+CC45+CG45+CK45+CO45+CS45+CW45+DA45+DE45+DI45+DM45+DQ45+DU45+DY45 -> 0
A46: 33 | B46: SAIAY503001TSBH06137 | C46: SAI AYUSH CHILDRENS HOSPITAL | D46: BHARATHI RANI HOSPITAL LANE, BESIDE PRAGATHI HOSPITAL, SARASWATHI NAGAR, NIZAMABAD - 503001. | E46: 22 | F46: 2 | J46: 2 | K46: 2 | R46: 3 | Z46: 2 | AH46: 3 | AM46: 2 | AQ46: 3 | AT46: 3 | AY46: 3 | BB46: 3 | BK46: 2 | BO46: 2 | BS46: 2 | BW46: 2 | CA46: 2 | CP46: 3 | CY46: 3 | DF46: 5 | DR46: 2 | DZ46: =F46+J46+N46+R46+V46+Z46+AD46+AH46+AL46+AP46+AT46+AX46+BB46+BF46+BJ46+BN46+BR46+BV46+BZ46+CD46+CH46+CL46+CP46+CT46+CX46+DB46+DF46+DJ46+DN46+DR46+DV46 -> 28 | EA46: =G46+K46+O46+S46+W46+AA46+AE46+AI46+AM46+AQ46+AU46+AY46+BC46+BG46+BK46+BO46+BS46+BW46+CA46+CE46+CI46+CM46+CQ46+CU46+CY46+DC46+DG46+DK46+DO46+DS46+DW46 -> 23 | EB46: =H46+L46+P46+T46+X46+AB46+AF46+AJ46+AN46+AR46+AV46+AZ46+BD46+BH46+BL46+BP46+BT46+BX46+CB46+CF46+CJ46+CN46+CR46+CV46+CZ46+DD46+DH46+DL46+DP46+DT46+DX46 -> 0 | EC46: =I46+M46+Q46+U46+Y46+AC46+AG46+AK46+AO46+AS46+AW46+BA46+BE46+BI46+BM46+BQ46+BU46+BY46+CC46+CG46+CK46+CO46+CS46+CW46+DA46+DE46+DI46+DM46+DQ46+DU46+DY46 -> 0
A47: 34 | B47: NARAS503001TSBH06161 | C47: NARASIMHA MATERNITY CHILDRENS HOSPITAL | D47: OLD J J BUILDING, KHALEEL WADI, NIZAMABAD - 503001. | E47: 21 | F47: 2 | G47: 2 | J47: 2 | K47: 2 | R47: 2 | Z47: 2 | AH47: 2 | AM47: 2 | AU47: 2 | BK47: 2 | BO47: 2 | BS47: 2 | BW47: 2 | CA47: 2 | CX47: 2 | DB47: 1 | DG47: 3 | DN47: 2 | DR47: 2 | DZ47: =F47+J47+N47+R47+V47+Z47+AD47+AH47+AL47+AP47+AT47+AX47+BB47+BF47+BJ47+BN47+BR47+BV47+BZ47+CD47+CH47+CL47+CP47+CT47+CX47+DB47+DF47+DJ47+DN47+DR47+DV47 -> 17 | EA47: =G47+K47+O47+S47+W47+AA47+AE47+AI47+AM47+AQ47+AU47+AY47+BC47+BG47+BK47+BO47+BS47+BW47+CA47+CE47+CI47+CM47+CQ47+CU47+CY47+DC47+DG47+DK47+DO47+DS47+DW47 -> 21 | EB47: =H47+L47+P47+T47+X47+AB47+AF47+AJ47+AN47+AR47+AV47+AZ47+BD47+BH47+BL47+BP47+BT47+BX47+CB47+CF47+CJ47+CN47+CR47+CV47+CZ47+DD47+DH47+DL47+DP47+DT47+DX47 -> 0 | EC47: =I47+M47+Q47+U47+Y47+AC47+AG47+AK47+AO47+AS47+AW47+BA47+BE47+BI47+BM47+BQ47+BU47+BY47+CC47+CG47+CK47+CO47+CS47+CW47+DA47+DE47+DI47+DM47+DQ47+DU47+DY47 -> 0
A48: 35 | B48: ANSHU503001TSBH08519 | C48: ANSHUL HOSPITAL | D48: OPP. INDIAN BANK, KHALEELWADI, NIZAMABAD - 503001. | E48: 20 | F48: 2 | G48: 2 | J48: 2 | O48: 2 | W48: 2 | AA48: 2 | AI48: 2 | AQ48: 2 | AX48: 2 | BS48: 2 | BW48: 2 | CA48: 2 | CE48: 1 | CM48: 2 | CQ48: 2 | CU48: 2 | DC48: 2 | DO48: 2 | DR48: 2 | DV48: 2 | DZ48: =F48+J48+N48+R48+V48+Z48+AD48+AH48+AL48+AP48+AT48+AX48+BB48+BF48+BJ48+BN48+BR48+BV48+BZ48+CD48+CH48+CL48+CP48+CT48+CX48+DB48+DF48+DJ48+DN48+DR48+DV48 -> 10 | EA48: =G48+K48+O48+S48+W48+AA48+AE48+AI48+AM48+AQ48+AU48+AY48+BC48+BG48+BK48+BO48+BS48+BW48+CA48+CE48+CI48+CM48+CQ48+CU48+CY48+DC48+DG48+DK48+DO48+DS48+DW48 -> 29 | EB48: =H48+L48+P48+T48+X48+AB48+AF48+AJ48+AN48+AR48+AV48+AZ48+BD48+BH48+BL48+BP48+BT48+BX48+CB48+CF48+CJ48+CN48+CR48+CV48+CZ48+DD48+DH48+DL48+DP48+DT48+DX48 -> 0 | EC48: =I48+M48+Q48+U48+Y48+AC48+AG48+AK48+AO48+AS48+AW48+BA48+BE48+BI48+BM48+BQ48+BU48+BY48+CC48+CG48+CK48+CO48+CS48+CW48+DA48+DE48+DI48+DM48+DQ48+DU48+DY48 -> 0
A49: 36 | B49: AROGY503001TSBH08471 | C49: AROGYA HOSPITAL NIZAMABAD | D49: BESIDE S.V.R. HOSPITAL, OPP: MODERN PUBLIC SCHOOL, KHALEELWADI, NIZAMABAD | E49: 20 | F49: 2 | J49: 2 | O49: 2 | W49: 2 | AA49: 3 | AI49: 3 | AQ49: 2 | AY49: 3 | BR49: 5 | BV49: 5 | CD49: 3 | CL49: 5 | CP49: 3 | CU49: 3 | DC49: 3 | DN49: 5 | DR49: 5 | DV49: 5 | DZ49: =F49+J49+N49+R49+V49+Z49+AD49+AH49+AL49+AP49+AT49+AX49+BB49+BF49+BJ49+BN49+BR49+BV49+BZ49+CD49+CH49+CL49+CP49+CT49+CX49+DB49+DF49+DJ49+DN49+DR49+DV49 -> 40 | EA49: =G49+K49+O49+S49+W49+AA49+AE49+AI49+AM49+AQ49+AU49+AY49+BC49+BG49+BK49+BO49+BS49+BW49+CA49+CE49+CI49+CM49+CQ49+CU49+CY49+DC49+DG49+DK49+DO49+DS49+DW49 -> 21 | EB49: =H49+L49+P49+T49+X49+AB49+AF49+AJ49+AN49+AR49+AV49+AZ49+BD49+BH49+BL49+BP49+BT49+BX49+CB49+CF49+CJ49+CN49+CR49+CV49+CZ49+DD49+DH49+DL49+DP49+DT49+DX49 -> 0 | EC49: =I49+M49+Q49+U49+Y49+AC49+AG49+AK49+AO49+AS49+AW49+BA49+BE49+BI49+BM49+BQ49+BU49+BY49+CC49+CG49+CK49+CO49+CS49+CW49+DA49+DE49+DI49+DM49+DQ49+DU49+DY49 -> 0
A50: 37 | B50: ESIHO503001TSBH09860 | C50: ESI HOSPITAL | D50: NEAR P F OFFICE, SEETHARAM NAGAR COLONY, ANAND NAGAR, NIZAMABAD - 503001. | E50: 20 | F50: 2 | J50: 2 | S50: 2 | AY50: 3 | DZ50: =F50+J50+N50+R50+V50+Z50+AD50+AH50+AL50+AP50+AT50+AX50+BB50+BF50+BJ50+BN50+BR50+BV50+BZ50+CD50+CH50+CL50+CP50+CT50+CX50+DB50+DF50+DJ50+DN50+DR50+DV50 -> 4 | EA50: =G50+K50+O50+S50+W50+AA50+AE50+AI50+AM50+AQ50+AU50+AY50+BC50+BG50+BK50+BO50+BS50+BW50+CA50+CE50+CI50+CM50+CQ50+CU50+CY50+DC50+DG50+DK50+DO50+DS50+DW50 -> 5 | EB50: =H50+L50+P50+T50+X50+AB50+AF50+AJ50+AN50+AR50+AV50+AZ50+BD50+BH50+BL50+BP50+BT50+BX50+CB50+CF50+CJ50+CN50+CR50+CV50+CZ50+DD50+DH50+DL50+DP50+DT50+DX50 -> 0 | EC50: =I50+M50+Q50+U50+Y50+AC50+AG50+AK50+AO50+AS50+AW50+BA50+BE50+BI50+BM50+BQ50+BU50+BY50+CC50+CG50+CK50+CO50+CS50+CW50+DA50+DE50+DI50+DM50+DQ50+DU50+DY50 -> 0
A51: 38 | B51: FLOWE503001TSBH10083 | C51: FLOWER HOSPITAL | D51: NEAR LIMRA GARDEN FUNCTION HALL, QUILLA ROAD, BODHAN ROAD, NIZAMABAD - 503001. | E51: 20 | F51: 2 | J51: 2 | DZ51: =F51+J51+N51+R51+V51+Z51+AD51+AH51+AL51+AP51+AT51+AX51+BB51+BF51+BJ51+BN51+BR51+BV51+BZ51+CD51+CH51+CL51+CP51+CT51+CX51+DB51+DF51+DJ51+DN51+DR51+DV51 -> 4 | EA51: =G51+K51+O51+S51+W51+AA51+AE51+AI51+AM51+AQ51+AU51+AY51+BC51+BG51+BK51+BO51+BS51+BW51+CA51+CE51+CI51+CM51+CQ51+CU51+CY51+DC51+DG51+DK51+DO51+DS51+DW51 -> 0 | EB51: =H51+L51+P51+T51+X51+AB51+AF51+AJ51+AN51+AR51+AV51+AZ51+BD51+BH51+BL51+BP51+BT51+BX51+CB51+CF51+CJ51+CN51+CR51+CV51+CZ51+DD51+DH51+DL51+DP51+DT51+DX51 -> 0 | EC51: =I51+M51+Q51+U51+Y51+AC51+AG51+AK51+AO51+AS51+AW51+BA51+BE51+BI51+BM51+BQ51+BU51+BY51+CC51+CG51+CK51+CO51+CS51+CW51+DA51+DE51+DI51+DM51+DQ51+DU51+DY51 -> 0
A52: 39 | B52: HARIT503001TSBH07066 | C52: HARITHA CHILDRENS HOSPITAL | D52: H.No:-5-6-11, DWARAKA NAGAR, NIZAMABAD - 503001. | E52: 20 | F52: 2 | J52: 2 | S52: 2 | AA52: 2 | AH52: 2 | AM52: 1 | AT52: 2 | BJ52: 2 | BN52: 2 | BR52: 2 | BV52: 2 | BZ52: 2 | CY52: 3 | DF52: 3 | DR52: 2 | DZ52: =F52+J52+N52+R52+V52+Z52+AD52+AH52+AL52+AP52+AT52+AX52+BB52+BF52+BJ52+BN52+BR52+BV52+BZ52+CD52+CH52+CL52+CP52+CT52+CX52+DB52+DF52+DJ52+DN52+DR52+DV52 -> 23 | EA52: =G52+K52+O52+S52+W52+AA52+AE52+AI52+AM52+AQ52+AU52+AY52+BC52+BG52+BK52+BO52+BS52+BW52+CA52+CE52+CI52+CM52+CQ52+CU52+CY52+DC52+DG52+DK52+DO52+DS52+DW52 -> 8 | EB52: =H52+L52+P52+T52+X52+AB52+AF52+AJ52+AN52+AR52+AV52+AZ52+BD52+BH52+BL52+BP52+BT52+BX52+CB52+CF52+CJ52+CN52+CR52+CV52+CZ52+DD52+DH52+DL52+DP52+DT52+DX52 -> 0 | EC52: =I52+M52+Q52+U52+Y52+AC52+AG52+AK52+AO52+AS52+AW52+BA52+BE52+BI52+BM52+BQ52+BU52+BY52+CC52+CG52+CK52+CO52+CS52+CW52+DA52+DE52+DI52+DM52+DQ52+DU52+DY52 -> 0
A53: 40 | B53: HARSH503001TSBH11586 | C53: HARSHA SAI EYE HOSPTIAL | D53: BESIDE OLD J J REDDY HOSPITAL, DWARAKA NAGAR, NIZAMABAD - 503001. | E53: 20 | F53: 2 | J53: 2 | K53: 2 | S53: 3 | AA53: 2 | AI53: 3 | AL53: 3 | AP53: 2 | AT53: 3 | AX53: 2 | BC53: 3 | BK53: 2 | BO53: 2 | BS53: 2 | BW53: 2 | BZ53: 2 | CQ53: 2 | CX53: 3 | DB53: 3 | DO53: 2 | DR53: 2 | DZ53: =F53+J53+N53+R53+V53+Z53+AD53+AH53+AL53+AP53+AT53+AX53+BB53+BF53+BJ53+BN53+BR53+BV53+BZ53+CD53+CH53+CL53+CP53+CT53+CX53+DB53+DF53+DJ53+DN53+DR53+DV53 -> 24 | EA53: =G53+K53+O53+S53+W53+AA53+AE53+AI53+AM53+AQ53+AU53+AY53+BC53+BG53+BK53+BO53+BS53+BW53+CA53+CE53+CI53+CM53+CQ53+CU53+CY53+DC53+DG53+DK53+DO53+DS53+DW53 -> 25 | EB53: =H53+L53+P53+T53+X53+AB53+AF53+AJ53+AN53+AR53+AV53+AZ53+BD53+BH53+BL53+BP53+BT53+BX53+CB53+CF53+CJ53+CN53+CR53+CV53+CZ53+DD53+DH53+DL53+DP53+DT53+DX53 -> 0 | EC53: =I53+M53+Q53+U53+Y53+AC53+AG53+AK53+AO53+AS53+AW53+BA53+BE53+BI53+BM53+BQ53+BU53+BY53+CC53+CG53+CK53+CO53+CS53+CW53+DA53+DE53+DI53+DM53+DQ53+DU53+DY53 -> 0
A54: 41 | B54: HAYAT503001TSBH08505 | C54: HAYATT HOSPITAL | D54: OPP. BUS STAND LANE, NIZAMABD - 503001. | E54: 20 | F54: 2 | J54: 2 | DZ54: =F54+J54+N54+R54+V54+Z54+AD54+AH54+AL54+AP54+AT54+AX54+BB54+BF54+BJ54+BN54+BR54+BV54+BZ54+CD54+CH54+CL54+CP54+CT54+CX54+DB54+DF54+DJ54+DN54+DR54+DV54 -> 4 | EA54: =G54+K54+O54+S54+W54+AA54+AE54+AI54+AM54+AQ54+AU54+AY54+BC54+BG54+BK54+BO54+BS54+BW54+CA54+CE54+CI54+CM54+CQ54+CU54+CY54+DC54+DG54+DK54+DO54+DS54+DW54 -> 0 | EB54: =H54+L54+P54+T54+X54+AB54+AF54+AJ54+AN54+AR54+AV54+AZ54+BD54+BH54+BL54+BP54+BT54+BX54+CB54+CF54+CJ54+CN54+CR54+CV54+CZ54+DD54+DH54+DL54+DP54+DT54+DX54 -> 0 | EC54: =I54+M54+Q54+U54+Y54+AC54+AG54+AK54+AO54+AS54+AW54+BA54+BE54+BI54+BM54+BQ54+BU54+BY54+CC54+CG54+CK54+CO54+CS54+CW54+DA54+DE54+DI54+DM54+DQ54+DU54+DY54 -> 0
A55: 42 | B55: KAVER503001TSBH13008 | C55: KAVERI HOSPITALS | D55: DWARAKANAGAR, KAHLEELWADI, NIZAMABAD - 503001. | E55: 20 | F55: 2 | J55: 2 | K55: 2 | R55: 2 | Z55: 2 | AH55: 3 | AM55: 3 | AP55: 2 | AT55: 3 | AY55: 2 | BC55: 2 | BK55: 2 | BO55: 2 | BS55: 2 | BW55: 2 | CA55: 2 | CP55: 2 | CU55: 3 | CX55: 3 | DB55: 3 | DF55: 3 | DN55: 2 | DR55: 2 | DZ55: =F55+J55+N55+R55+V55+Z55+AD55+AH55+AL55+AP55+AT55+AX55+BB55+BF55+BJ55+BN55+BR55+BV55+BZ55+CD55+CH55+CL55+CP55+CT55+CX55+DB55+DF55+DJ55+DN55+DR55+DV55 -> 31 | EA55: =G55+K55+O55+S55+W55+AA55+AE55+AI55+AM55+AQ55+AU55+AY55+BC55+BG55+BK55+BO55+BS55+BW55+CA55+CE55+CI55+CM55+CQ55+CU55+CY55+DC55+DG55+DK55+DO55+DS55+DW55 -> 22 | EB55: =H55+L55+P55+T55+X55+AB55+AF55+AJ55+AN55+AR55+AV55+AZ55+BD55+BH55+BL55+BP55+BT55+BX55+CB55+CF55+CJ55+CN55+CR55+CV55+CZ55+DD55+DH55+DL55+DP55+DT55+DX55 -> 0 | EC55: =I55+M55+Q55+U55+Y55+AC55+AG55+AK55+AO55+AS55+AW55+BA55+BE55+BI55+BM55+BQ55+BU55+BY55+CC55+CG55+CK55+CO55+CS55+CW55+DA55+DE55+DI55+DM55+DQ55+DU55+DY55 -> 0
A56: 43 | B56: KEERT503001TSBH09861 | C56: KEERTHI SAI NURSING HOME | D56: DOOR No.5-2-141, 5-2-55, KHALEELWADI, NIZAMABAD - 503001. | E56: 20 | F56: 2 | J56: 2 | O56: 2 | W56: 2 | AA56: 2 | AI56: 2 | AL56: 2 | AP56: 2 | AQ56: 2 | AU56: 2 | CE56: 2 | CQ56: 2 | CU56: 2 | CX56: 2 | DN56: 2 | DV56: 2 | DZ56: =F56+J56+N56+R56+V56+Z56+AD56+AH56+AL56+AP56+AT56+AX56+BB56+BF56+BJ56+BN56+BR56+BV56+BZ56+CD56+CH56+CL56+CP56+CT56+CX56+DB56+DF56+DJ56+DN56+DR56+DV56 -> 14 | EA56: =G56+K56+O56+S56+W56+AA56+AE56+AI56+AM56+AQ56+AU56+AY56+BC56+BG56+BK56+BO56+BS56+BW56+CA56+CE56+CI56+CM56+CQ56+CU56+CY56+DC56+DG56+DK56+DO56+DS56+DW56 -> 18 | EB56: =H56+L56+P56+T56+X56+AB56+AF56+AJ56+AN56+AR56+AV56+AZ56+BD56+BH56+BL56+BP56+BT56+BX56+CB56+CF56+CJ56+CN56+CR56+CV56+CZ56+DD56+DH56+DL56+DP56+DT56+DX56 -> 0 | EC56: =I56+M56+Q56+U56+Y56+AC56+AG56+AK56+AO56+AS56+AW56+BA56+BE56+BI56+BM56+BQ56+BU56+BY56+CC56+CG56+CK56+CO56+CS56+CW56+DA56+DE56+DI56+DM56+DQ56+DU56+DY56 -> 0
A57: 44 | B57: MAAAR503001TSBH07088 | C57: MAA AROGYA HOSPITAL | D57: KHALEELWADI, NIZAMABAD - 503001. | E57: 20 | F57: 2 | J57: 2 | N57: 2 | V57: 2 | Z57: 3 | AH57: 3 | AP57: 3 | AY57: 3 | BR57: 5 | BV57: 5 | BZ57: 5 | CD57: 3 | CL57: 2 | CP57: 3 | CT57: 3 | DB57: 3 | DO57: 5 | DR57: 5 | DZ57: =F57+J57+N57+R57+V57+Z57+AD57+AH57+AL57+AP57+AT57+AX57+BB57+BF57+BJ57+BN57+BR57+BV57+BZ57+CD57+CH57+CL57+CP57+CT57+CX57+DB57+DF57+DJ57+DN57+DR57+DV57 -> 51 | EA57: =G57+K57+O57+S57+W57+AA57+AE57+AI57+AM57+AQ57+AU57+AY57+BC57+BG57+BK57+BO57+BS57+BW57+CA57+CE57+CI57+CM57+CQ57+CU57+CY57+DC57+DG57+DK57+DO57+DS57+DW57 -> 8 | EB57: =H57+L57+P57+T57+X57+AB57+AF57+AJ57+AN57+AR57+AV57+AZ57+BD57+BH57+BL57+BP57+BT57+BX57+CB57+CF57+CJ57+CN57+CR57+CV57+CZ57+DD57+DH57+DL57+DP57+DT57+DX57 -> 0 | EC57: =I57+M57+Q57+U57+Y57+AC57+AG57+AK57+AO57+AS57+AW57+BA57+BE57+BI57+BM57+BQ57+BU57+BY57+CC57+CG57+CK57+CO57+CS57+CW57+DA57+DE57+DI57+DM57+DQ57+DU57+DY57 -> 0
A58: 45 | B58: MRMUL504106TSBH08455 | C58: MR MULTI SPECIALITY HOSPITAL | D58: OPP: RDO OFFICE, KHALEELWADI, NIZAMABAD - 503001. | E58: 20 | F58: 2 | J58: 2 | K58: 2 | R58: 3 | AH58: 3 | AM58: 3 | AQ58: 3 | AT58: 3 | AY58: 3 | BB58: 3 | BJ58: 2 | BN58: 2 | BR58: 2 | BV58: 2 | CA58: 2 | CQ58: 3 | CU58: 3 | CX58: 3 | DC58: 3 | DF58: 3 | DO58: 2 | DR58: 5 | DZ58: =F58+J58+N58+R58+V58+Z58+AD58+AH58+AL58+AP58+AT58+AX58+BB58+BF58+BJ58+BN58+BR58+BV58+BZ58+CD58+CH58+CL58+CP58+CT58+CX58+DB58+DF58+DJ58+DN58+DR58+DV58 -> 35 | EA58: =G58+K58+O58+S58+W58+AA58+AE58+AI58+AM58+AQ58+AU58+AY58+BC58+BG58+BK58+BO58+BS58+BW58+CA58+CE58+CI58+CM58+CQ58+CU58+CY58+DC58+DG58+DK58+DO58+DS58+DW58 -> 24 | EB58: =H58+L58+P58+T58+X58+AB58+AF58+AJ58+AN58+AR58+AV58+AZ58+BD58+BH58+BL58+BP58+BT58+BX58+CB58+CF58+CJ58+CN58+CR58+CV58+CZ58+DD58+DH58+DL58+DP58+DT58+DX58 -> 0 | EC58: =I58+M58+Q58+U58+Y58+AC58+AG58+AK58+AO58+AS58+AW58+BA58+BE58+BI58+BM58+BQ58+BU58+BY58+CC58+CG58+CK58+CO58+CS58+CW58+DA58+DE58+DI58+DM58+DQ58+DU58+DY58 -> 0
A59: 46 | B59: PAVAN503001TSBH07053 | C59: PAVAN NEURO HOSPITAL | D59: H.NO. 5-6-92, J J REDDY HOSPITAL LINE, BESIDE TEJA HOSPITAL, DWARAKA NAGAR, KHALEELWADI, NIZAMABAD - 503001. | E59: 20 | F59: 2 | J59: 2 | S59: 2 | AA59: 2 | AH59: 2 | AL59: 2 | AQ59: 3 | AT59: 3 | AY59: 3 | BC59: 3 | BK59: 2 | BO59: 2 | BS59: 2 | BW59: 2 | CA59: 5 | CQ59: 3 | DZ59: =F59+J59+N59+R59+V59+Z59+AD59+AH59+AL59+AP59+AT59+AX59+BB59+BF59+BJ59+BN59+BR59+BV59+BZ59+CD59+CH59+CL59+CP59+CT59+CX59+DB59+DF59+DJ59+DN59+DR59+DV59 -> 11 | EA59: =G59+K59+O59+S59+W59+AA59+AE59+AI59+AM59+AQ59+AU59+AY59+BC59+BG59+BK59+BO59+BS59+BW59+CA59+CE59+CI59+CM59+CQ59+CU59+CY59+DC59+DG59+DK59+DO59+DS59+DW59 -> 29 | EB59: =H59+L59+P59+T59+X59+AB59+AF59+AJ59+AN59+AR59+AV59+AZ59+BD59+BH59+BL59+BP59+BT59+BX59+CB59+CF59+CJ59+CN59+CR59+CV59+CZ59+DD59+DH59+DL59+DP59+DT59+DX59 -> 0 | EC59: =I59+M59+Q59+U59+Y59+AC59+AG59+AK59+AO59+AS59+AW59+BA59+BE59+BI59+BM59+BQ59+BU59+BY59+CC59+CG59+CK59+CO59+CS59+CW59+DA59+DE59+DI59+DM59+DQ59+DU59+DY59 -> 0
A60: 47 | B60: SHAHE503001TSBH16244 | C60: SHAHEEN HOSPITALS | D60: Z+ BUILDING, QUILLA ROAD, AHMADPURA COLONY, NIZAMABAD | E60: 20 | F60: 2 | J60: 2 | S60: 2 | AA60: 2 | AH60: 2 | AL60: 2 | AQ60: 3 | AT60: 3 | AY60: 3 | BC60: 3 | BK60: 2 | BO60: 2 | BS60: 2 | BW60: 2 | CA60: 5 | CQ60: 3 | DZ60: =F60+J60+N60+R60+V60+Z60+AD60+AH60+AL60+AP60+AT60+AX60+BB60+BF60+BJ60+BN60+BR60+BV60+BZ60+CD60+CH60+CL60+CP60+CT60+CX60+DB60+DF60+DJ60+DN60+DR60+DV60 -> 11 | EA60: =G60+K60+O60+S60+W60+AA60+AE60+AI60+AM60+AQ60+AU60+AY60+BC60+BG60+BK60+BO60+BS60+BW60+CA60+CE60+CI60+CM60+CQ60+CU60+CY60+DC60+DG60+DK60+DO60+DS60+DW60 -> 29 | EB60: =H60+L60+P60+T60+X60+AB60+AF60+AJ60+AN60+AR60+AV60+AZ60+BD60+BH60+BL60+BP60+BT60+BX60+CB60+CF60+CJ60+CN60+CR60+CV60+CZ60+DD60+DH60+DL60+DP60+DT60+DX60 -> 0 | EC60: =I60+M60+Q60+U60+Y60+AC60+AG60+AK60+AO60+AS60+AW60+BA60+BE60+BI60+BM60+BQ60+BU60+BY60+CC60+CG60+CK60+CO60+CS60+CW60+DA60+DE60+DI60+DM60+DQ60+DU60+DY60 -> 0
A61: 48 | B61: SHYLA503001TSBH06134 | C61: SHYLAJA HOSPITAL | D61: BESIDE POCHAMMA TEMPLE, POCHAMMMAGALLI, NIZAMBAD - 503001. | E61: 20 | F61: 2 | J61: 2 | S61: 2 | AA61: 2 | AI61: 2 | AM61: 2 | AQ61: 2 | AT61: 2 | AY61: 2 | BB61: 3 | BK61: 2 | BO61: 2 | BS61: 2 | BW61: 2 | CA61: 5 | CP61: 2 | CQ61: 2 | CT61: 2 | CU61: 2 | CX61: 3 | DB61: 2 | DC61: 2 | DF61: 3 | DN61: 2 | DO61: 2 | DR61: 2 | DZ61: =F61+J61+N61+R61+V61+Z61+AD61+AH61+AL61+AP61+AT61+AX61+BB61+BF61+BJ61+BN61+BR61+BV61+BZ61+CD61+CH61+CL61+CP61+CT61+CX61+DB61+DF61+DJ61+DN61+DR61+DV61 -> 25 | EA61: =G61+K61+O61+S61+W61+AA61+AE61+AI61+AM61+AQ61+AU61+AY61+BC61+BG61+BK61+BO61+BS61+BW61+CA61+CE61+CI61+CM61+CQ61+CU61+CY61+DC61+DG61+DK61+DO61+DS61+DW61 -> 33 | EB61: =H61+L61+P61+T61+X61+AB61+AF61+AJ61+AN61+AR61+AV61+AZ61+BD61+BH61+BL61+BP61+BT61+BX61+CB61+CF61+CJ61+CN61+CR61+CV61+CZ61+DD61+DH61+DL61+DP61+DT61+DX61 -> 0 | EC61: =I61+M61+Q61+U61+Y61+AC61+AG61+AK61+AO61+AS61+AW61+BA61+BE61+BI61+BM61+BQ61+BU61+BY61+CC61+CG61+CK61+CO61+CS61+CW61+DA61+DE61+DI61+DM61+DQ61+DU61+DY61 -> 0
A62: 49 | C62: SRI CHINMAYEE SUPER SPECIALITY HOSPITAL | D62: INDUR CT SCAN LANE, OPP: MEESEVA, DR. NARSING RAO (ORTHO) BUILDING, KHALEELWADI, NIZAMABAD - 503003 | E62: 20 | F62: 2 | J62: 2 | S62: 2 | AA62: 2 | AI62: 2 | AM62: 2 | AQ62: 2 | AT62: 2 | AY62: 2 | BB62: 3 | BK62: 2 | BO62: 2 | BS62: 2 | BW62: 2 | CA62: 5 | CP62: 2 | CQ62: 2 | CT62: 2 | CU62: 2 | CX62: 3 | DB62: 2 | DC62: 2 | DF62: 3 | DN62: 2 | DO62: 2 | DR62: 2 | DZ62: =F62+J62+N62+R62+V62+Z62+AD62+AH62+AL62+AP62+AT62+AX62+BB62+BF62+BJ62+BN62+BR62+BV62+BZ62+CD62+CH62+CL62+CP62+CT62+CX62+DB62+DF62+DJ62+DN62+DR62+DV62 -> 25 | EA62: =G62+K62+O62+S62+W62+AA62+AE62+AI62+AM62+AQ62+AU62+AY62+BC62+BG62+BK62+BO62+BS62+BW62+CA62+CE62+CI62+CM62+CQ62+CU62+CY62+DC62+DG62+DK62+DO62+DS62+DW62 -> 33 | EB62: =H62+L62+P62+T62+X62+AB62+AF62+AJ62+AN62+AR62+AV62+AZ62+BD62+BH62+BL62+BP62+BT62+BX62+CB62+CF62+CJ62+CN62+CR62+CV62+CZ62+DD62+DH62+DL62+DP62+DT62+DX62 -> 0 | EC62: =I62+M62+Q62+U62+Y62+AC62+AG62+AK62+AO62+AS62+AW62+BA62+BE62+BI62+BM62+BQ62+BU62+BY62+CC62+CG62+CK62+CO62+CS62+CW62+DA62+DE62+DI62+DM62+DQ62+DU62+DY62 -> 0
A63: 50 | B63: SRIDA503001TSBH11590 | C63: SRI DATTA MULTI SPECIALITY HOSPITAL | D63: H.NO. 5-6-238, OPP:DRO OFFICE, KHALEELWADI, NIZAMABAD - 503001. | E63: 20 | F63: 2 | J63: 2 | K63: 2 | S63: 2 | AI63: 2 | AM63: 2 | AP63: 2 | AU63: 2 | AY63: 2 | BB63: 2 | BJ63: 2 | BN63: 2 | BR63: 2 | BV63: 2 | BZ63: 30 | CP63: 2 | CT63: 2 | CX63: 3 | DB63: 2 | DG63: 2 | DR63: 2 | DZ63: =F63+J63+N63+R63+V63+Z63+AD63+AH63+AL63+AP63+AT63+AX63+BB63+BF63+BJ63+BN63+BR63+BV63+BZ63+CD63+CH63+CL63+CP63+CT63+CX63+DB63+DF63+DJ63+DN63+DR63+DV63 -> 57 | EA63: =G63+K63+O63+S63+W63+AA63+AE63+AI63+AM63+AQ63+AU63+AY63+BC63+BG63+BK63+BO63+BS63+BW63+CA63+CE63+CI63+CM63+CQ63+CU63+CY63+DC63+DG63+DK63+DO63+DS63+DW63 -> 14 | EB63: =H63+L63+P63+T63+X63+AB63+AF63+AJ63+AN63+AR63+AV63+AZ63+BD63+BH63+BL63+BP63+BT63+BX63+CB63+CF63+CJ63+CN63+CR63+CV63+CZ63+DD63+DH63+DL63+DP63+DT63+DX63 -> 0 | EC63: =I63+M63+Q63+U63+Y63+AC63+AG63+AK63+AO63+AS63+AW63+BA63+BE63+BI63+BM63+BQ63+BU63+BY63+CC63+CG63+CK63+CO63+CS63+CW63+DA63+DE63+DI63+DM63+DQ63+DU63+DY63 -> 0
A64: 51 | B64: SSBAL503001TSBH06119 | C64: SS BALAJI HOSPITAL | D64: H.No: 5-6-162, BEHIND SYNDICATE BANK, OPP. KAPILA HOTEL, HYD ROAD, NIZAMABAD - 503001. | E64: 20 | F64: 2 | J64: 2 | R64: 2 | AA64: 2 | AH64: 2 | AL64: 2 | AM64: 2 | AQ64: 2 | AT64: 2 | AX64: 2 | BC64: 2 | BK64: 2 | BO64: 2 | BS64: 2 | BW64: 2 | BZ64: 5 | CQ64: 3 | CT64: 3 | CX64: 2 | CY64: 2 | DB64: 3 | DF64: 2 | DG64: 2 | DN64: 2 | DR64: 2 | DZ64: =F64+J64+N64+R64+V64+Z64+AD64+AH64+AL64+AP64+AT64+AX64+BB64+BF64+BJ64+BN64+BR64+BV64+BZ64+CD64+CH64+CL64+CP64+CT64+CX64+DB64+DF64+DJ64+DN64+DR64+DV64 -> 33 | EA64: =G64+K64+O64+S64+W64+AA64+AE64+AI64+AM64+AQ64+AU64+AY64+BC64+BG64+BK64+BO64+BS64+BW64+CA64+CE64+CI64+CM64+CQ64+CU64+CY64+DC64+DG64+DK64+DO64+DS64+DW64 -> 23 | EB64: =H64+L64+P64+T64+X64+AB64+AF64+AJ64+AN64+AR64+AV64+AZ64+BD64+BH64+BL64+BP64+BT64+BX64+CB64+CF64+CJ64+CN64+CR64+CV64+CZ64+DD64+DH64+DL64+DP64+DT64+DX64 -> 0 | EC64: =I64+M64+Q64+U64+Y64+AC64+AG64+AK64+AO64+AS64+AW64+BA64+BE64+BI64+BM64+BQ64+BU64+BY64+CC64+CG64+CK64+CO64+CS64+CW64+DA64+DE64+DI64+DM64+DQ64+DU64+DY64 -> 0
A65: 52 | B65: TAKSH503001TSBH09863 | C65: TAKSH MULTI SPECIALITY HOSPITAL | D65: IN LANE OPP: SUNFLOWER SCHOOL, WEEKLY MARKET, NIZAMABAD - 503001. | E65: 20 | F65: 2 | J65: 2 | S65: 2 | AI65: 2 | AL65: 2 | AT65: 3 | CA65: 2 | CY65: 2 | DF65: 1 | DG65: 1 | DZ65: =F65+J65+N65+R65+V65+Z65+AD65+AH65+AL65+AP65+AT65+AX65+BB65+BF65+BJ65+BN65+BR65+BV65+BZ65+CD65+CH65+CL65+CP65+CT65+CX65+DB65+DF65+DJ65+DN65+DR65+DV65 -> 10 | EA65: =G65+K65+O65+S65+W65+AA65+AE65+AI65+AM65+AQ65+AU65+AY65+BC65+BG65+BK65+BO65+BS65+BW65+CA65+CE65+CI65+CM65+CQ65+CU65+CY65+DC65+DG65+DK65+DO65+DS65+DW65 -> 9 | EB65: =H65+L65+P65+T65+X65+AB65+AF65+AJ65+AN65+AR65+AV65+AZ65+BD65+BH65+BL65+BP65+BT65+BX65+CB65+CF65+CJ65+CN65+CR65+CV65+CZ65+DD65+DH65+DL65+DP65+DT65+DX65 -> 0 | EC65: =I65+M65+Q65+U65+Y65+AC65+AG65+AK65+AO65+AS65+AW65+BA65+BE65+BI65+BM65+BQ65+BU65+BY65+CC65+CG65+CK65+CO65+CS65+CW65+DA65+DE65+DI65+DM65+DQ65+DU65+DY65 -> 0
A66: 53 | B66: TIRUM503001TSBH07828 | C66: THIRUMALA NURSING HOME | D66: H.No:5-7-99, DOCTOR'S LANE, KHALEELWADI, NIZAMABAD - 503001. | E66: 20 | F66: 2 | J66: 2 | O66: 2 | R66: 1 | W66: 2 | AI66: 2 | AL66: 2 | AQ66: 3 | AT66: 2 | AX66: 2 | CP66: 3 | CT66: 2 | CY66: 3 | DC66: 2 | DF66: 3 | DN66: 2 | DR66: 2 | DV66: 2 | DZ66: =F66+J66+N66+R66+V66+Z66+AD66+AH66+AL66+AP66+AT66+AX66+BB66+BF66+BJ66+BN66+BR66+BV66+BZ66+CD66+CH66+CL66+CP66+CT66+CX66+DB66+DF66+DJ66+DN66+DR66+DV66 -> 25 | EA66: =G66+K66+O66+S66+W66+AA66+AE66+AI66+AM66+AQ66+AU66+AY66+BC66+BG66+BK66+BO66+BS66+BW66+CA66+CE66+CI66+CM66+CQ66+CU66+CY66+DC66+DG66+DK66+DO66+DS66+DW66 -> 14 | EB66: =H66+L66+P66+T66+X66+AB66+AF66+AJ66+AN66+AR66+AV66+AZ66+BD66+BH66+BL66+BP66+BT66+BX66+CB66+CF66+CJ66+CN66+CR66+CV66+CZ66+DD66+DH66+DL66+DP66+DT66+DX66 -> 0 | EC66: =I66+M66+Q66+U66+Y66+AC66+AG66+AK66+AO66+AS66+AW66+BA66+BE66+BI66+BM66+BQ66+BU66+BY66+CC66+CG66+CK66+CO66+CS66+CW66+DA66+DE66+DI66+DM66+DQ66+DU66+DY66 -> 0
A67: 54 | B67: VASAV503001TSBH00977 | C67: VASAVI EYE HOSPITAL | D67: H.No.5-7-17, KHALELWADI, NIZAMABAD - 503001. | E67: 20 | F67: 2 | J67: 2 | V67: 2 | AA67: 2 | AI67: 2 | AM67: 2 | AP67: 2 | AU67: 2 | AX67: 1 | BB67: 2 | BS67: 2 | BW67: 2 | CA67: 2 | CM67: 2 | CP67: 2 | CU67: 2 | CY67: 2 | DB67: 2 | DO67: 2 | DZ67: =F67+J67+N67+R67+V67+Z67+AD67+AH67+AL67+AP67+AT67+AX67+BB67+BF67+BJ67+BN67+BR67+BV67+BZ67+CD67+CH67+CL67+CP67+CT67+CX67+DB67+DF67+DJ67+DN67+DR67+DV67 -> 15 | EA67: =G67+K67+O67+S67+W67+AA67+AE67+AI67+AM67+AQ67+AU67+AY67+BC67+BG67+BK67+BO67+BS67+BW67+CA67+CE67+CI67+CM67+CQ67+CU67+CY67+DC67+DG67+DK67+DO67+DS67+DW67 -> 22 | EB67: =H67+L67+P67+T67+X67+AB67+AF67+AJ67+AN67+AR67+AV67+AZ67+BD67+BH67+BL67+BP67+BT67+BX67+CB67+CF67+CJ67+CN67+CR67+CV67+CZ67+DD67+DH67+DL67+DP67+DT67+DX67 -> 0 | EC67: =I67+M67+Q67+U67+Y67+AC67+AG67+AK67+AO67+AS67+AW67+BA67+BE67+BI67+BM67+BQ67+BU67+BY67+CC67+CG67+CK67+CO67+CS67+CW67+DA67+DE67+DI67+DM67+DQ67+DU67+DY67 -> 0
A68: 55 | B68: VEDAN503001TSBH09864 | C68: VEDANSH HOSPITAL | D68: BEHIND PRAGATHI HOSPITAL, SARASWATHI NAGAR, NIZAMABAD - 503001. | E68: 20 | F68: 2 | J68: 2 | K68: 2 | R68: 2 | Z68: 2 | AI68: 2 | AL68: 2 | AT68: 2 | BB68: 2 | BC68: 2 | BO68: 2 | BS68: 2 | BW68: 2 | CA68: 2 | CQ68: 2 | CX68: 2 | DF68: 2 | DR68: 2 | DZ68: =F68+J68+N68+R68+V68+Z68+AD68+AH68+AL68+AP68+AT68+AX68+BB68+BF68+BJ68+BN68+BR68+BV68+BZ68+CD68+CH68+CL68+CP68+CT68+CX68+DB68+DF68+DJ68+DN68+DR68+DV68 -> 20 | EA68: =G68+K68+O68+S68+W68+AA68+AE68+AI68+AM68+AQ68+AU68+AY68+BC68+BG68+BK68+BO68+BS68+BW68+CA68+CE68+CI68+CM68+CQ68+CU68+CY68+DC68+DG68+DK68+DO68+DS68+DW68 -> 16 | EB68: =H68+L68+P68+T68+X68+AB68+AF68+AJ68+AN68+AR68+AV68+AZ68+BD68+BH68+BL68+BP68+BT68+BX68+CB68+CF68+CJ68+CN68+CR68+CV68+CZ68+DD68+DH68+DL68+DP68+DT68+DX68 -> 0 | EC68: =I68+M68+Q68+U68+Y68+AC68+AG68+AK68+AO68+AS68+AW68+BA68+BE68+BI68+BM68+BQ68+BU68+BY68+CC68+CG68+CK68+CO68+CS68+CW68+DA68+DE68+DI68+DM68+DQ68+DU68+DY68 -> 0
B69: 19 TO 1 BEDS HCFs
A70: 56 | B70: HARIK503001TSBH00963 | C70: HARIKA HOSPITAL | D70: BESIDE BALAJI LAB, KHALEEL WADI, NIZAMABAD - 503001. | E70: 19 | F70: 2 | J70: 2 | O70: 2 | BS70: 2 | BW70: 2 | CE70: 1 | CM70: 2 | CU70: 2 | CX70: 2 | DB70: 2 | DG70: 2 | DN70: 2 | DR70: 2 | DV70: 2 | DZ70: =F70+J70+N70+R70+V70+Z70+AD70+AH70+AL70+AP70+AT70+AX70+BB70+BF70+BJ70+BN70+BR70+BV70+BZ70+CD70+CH70+CL70+CP70+CT70+CX70+DB70+DF70+DJ70+DN70+DR70+DV70 -> 14 | EA70: =G70+K70+O70+S70+W70+AA70+AE70+AI70+AM70+AQ70+AU70+AY70+BC70+BG70+BK70+BO70+BS70+BW70+CA70+CE70+CI70+CM70+CQ70+CU70+CY70+DC70+DG70+DK70+DO70+DS70+DW70 -> 13 | EB70: =H70+L70+P70+T70+X70+AB70+AF70+AJ70+AN70+AR70+AV70+AZ70+BD70+BH70+BL70+BP70+BT70+BX70+CB70+CF70+CJ70+CN70+CR70+CV70+CZ70+DD70+DH70+DL70+DP70+DT70+DX70 -> 0 | EC70: =I70+M70+Q70+U70+Y70+AC70+AG70+AK70+AO70+AS70+AW70+BA70+BE70+BI70+BM70+BQ70+BU70+BY70+CC70+CG70+CK70+CO70+CS70+CW70+DA70+DE70+DI70+DM70+DQ70+DU70+DY70 -> 0
A71: 57 | B71: ARPIT503001TSBH11560 | C71: ARPITHA HOSPITAL | D71: RAJEEV GANDHI AUDITORIUM LANE, KHALEELWADI, NIZAMABAD,Nizamabad,Nizamabad South,NIZAMABAD,503001 | E71: 18 | F71: 2 | J71: 2 | N71: 30 | V71: 30 | AQ71: 2 | AX71: 2 | BS71: 2 | BW71: 2 | CA71: 2 | CE71: 2 | CM71: 2 | CQ71: 2 | DZ71: =F71+J71+N71+R71+V71+Z71+AD71+AH71+AL71+AP71+AT71+AX71+BB71+BF71+BJ71+BN71+BR71+BV71+BZ71+CD71+CH71+CL71+CP71+CT71+CX71+DB71+DF71+DJ71+DN71+DR71+DV71 -> 66 | EA71: =G71+K71+O71+S71+W71+AA71+AE71+AI71+AM71+AQ71+AU71+AY71+BC71+BG71+BK71+BO71+BS71+BW71+CA71+CE71+CI71+CM71+CQ71+CU71+CY71+DC71+DG71+DK71+DO71+DS71+DW71 -> 14 | EB71: =H71+L71+P71+T71+X71+AB71+AF71+AJ71+AN71+AR71+AV71+AZ71+BD71+BH71+BL71+BP71+BT71+BX71+CB71+CF71+CJ71+CN71+CR71+CV71+CZ71+DD71+DH71+DL71+DP71+DT71+DX71 -> 0 | EC71: =I71+M71+Q71+U71+Y71+AC71+AG71+AK71+AO71+AS71+AW71+BA71+BE71+BI71+BM71+BQ71+BU71+BY71+CC71+CG71+CK71+CO71+CS71+CW71+DA71+DE71+DI71+DM71+DQ71+DU71+DY71 -> 0
A72: 58 | B72: AASHI503001TSBH07081 | C72: AASHIRWAD HOSPITAL | D72: ROAD No.2, SARASWATHI NAGAR, NIZAMABAD - 503003. | E72: 15 | F72: 2 | J72: 2 | R72: 2 | AH72: 2 | AL72: 2 | AT72: 2 | BN72: 2 | BR72: 2 | BV72: 2 | CA72: 2 | DZ72: =F72+J72+N72+R72+V72+Z72+AD72+AH72+AL72+AP72+AT72+AX72+BB72+BF72+BJ72+BN72+BR72+BV72+BZ72+CD72+CH72+CL72+CP72+CT72+CX72+DB72+DF72+DJ72+DN72+DR72+DV72 -> 18 | EA72: =G72+K72+O72+S72+W72+AA72+AE72+AI72+AM72+AQ72+AU72+AY72+BC72+BG72+BK72+BO72+BS72+BW72+CA72+CE72+CI72+CM72+CQ72+CU72+CY72+DC72+DG72+DK72+DO72+DS72+DW72 -> 2 | EB72: =H72+L72+P72+T72+X72+AB72+AF72+AJ72+AN72+AR72+AV72+AZ72+BD72+BH72+BL72+BP72+BT72+BX72+CB72+CF72+CJ72+CN72+CR72+CV72+CZ72+DD72+DH72+DL72+DP72+DT72+DX72 -> 0 | EC72: =I72+M72+Q72+U72+Y72+AC72+AG72+AK72+AO72+AS72+AW72+BA72+BE72+BI72+BM72+BQ72+BU72+BY72+CC72+CG72+CK72+CO72+CS72+CW72+DA72+DE72+DI72+DM72+DQ72+DU72+DY72 -> 0
A73: 59 | B73: CHAKR503001TSBH09866 | C73: CHAKRAPANI NEURO CARE HOSPITAL | D73: OPP:SANDHYA RANI HOSPITAL, BUS STAND LANE, KHALEELWADI, NIZAMABAD - 503001. | E73: 15 | F73: 2 | J73: 2 | N73: 2 | DZ73: =F73+J73+N73+R73+V73+Z73+AD73+AH73+AL73+AP73+AT73+AX73+BB73+BF73+BJ73+BN73+BR73+BV73+BZ73+CD73+CH73+CL73+CP73+CT73+CX73+DB73+DF73+DJ73+DN73+DR73+DV73 -> 6 | EA73: =G73+K73+O73+S73+W73+AA73+AE73+AI73+AM73+AQ73+AU73+AY73+BC73+BG73+BK73+BO73+BS73+BW73+CA73+CE73+CI73+CM73+CQ73+CU73+CY73+DC73+DG73+DK73+DO73+DS73+DW73 -> 0 | EB73: =H73+L73+P73+T73+X73+AB73+AF73+AJ73+AN73+AR73+AV73+AZ73+BD73+BH73+BL73+BP73+BT73+BX73+CB73+CF73+CJ73+CN73+CR73+CV73+CZ73+DD73+DH73+DL73+DP73+DT73+DX73 -> 0 | EC73: =I73+M73+Q73+U73+Y73+AC73+AG73+AK73+AO73+AS73+AW73+BA73+BE73+BI73+BM73+BQ73+BU73+BY73+CC73+CG73+CK73+CO73+CS73+CW73+DA73+DE73+DI73+DM73+DQ73+DU73+DY73 -> 0
A74: 60 | B74: CHAND503001TSBH00959 | C74: CHANDRASHEKAR ORTHOPAEDIC HOSPITAL | D74: OPP. BALAJI LAB, KHALEEL WADI, NIZAMABAD - 503001. | E74: 15 | F74: 2 | J74: 2 | Z74: 2 | AH74: 2 | AP74: 2 | BR74: 2 | BV74: 6 | BW74: 2 | CL74: 2 | CP74: 2 | DZ74: =F74+J74+N74+R74+V74+Z74+AD74+AH74+AL74+AP74+AT74+AX74+BB74+BF74+BJ74+BN74+BR74+BV74+BZ74+CD74+CH74+CL74+CP74+CT74+CX74+DB74+DF74+DJ74+DN74+DR74+DV74 -> 22 | EA74: =G74+K74+O74+S74+W74+AA74+AE74+AI74+AM74+AQ74+AU74+AY74+BC74+BG74+BK74+BO74+BS74+BW74+CA74+CE74+CI74+CM74+CQ74+CU74+CY74+DC74+DG74+DK74+DO74+DS74+DW74 -> 2 | EB74: =H74+L74+P74+T74+X74+AB74+AF74+AJ74+AN74+AR74+AV74+AZ74+BD74+BH74+BL74+BP74+BT74+BX74+CB74+CF74+CJ74+CN74+CR74+CV74+CZ74+DD74+DH74+DL74+DP74+DT74+DX74 -> 0 | EC74: =I74+M74+Q74+U74+Y74+AC74+AG74+AK74+AO74+AS74+AW74+BA74+BE74+BI74+BM74+BQ74+BU74+BY74+CC74+CG74+CK74+CO74+CS74+CW74+DA74+DE74+DI74+DM74+DQ74+DU74+DY74 -> 0
A75: 61 | B75: DWARA503001TSBH01041 | C75: DWARAKAMAI CHILDRENS HOSPITAL | D75: J.J.REDDY X ROAD, KHALEELWADI, NIZAMABAD - 503001. | E75: 15 | F75: 2 | J75: 2 | O75: 2 | AH75: 2 | AL75: 2 | AT75: 2 | AX75: 2 | BV75: 2 | BZ75: 2 | CD75: 2 | CL75: 2 | DW75: 2 | DZ75: =F75+J75+N75+R75+V75+Z75+AD75+AH75+AL75+AP75+AT75+AX75+BB75+BF75+BJ75+BN75+BR75+BV75+BZ75+CD75+CH75+CL75+CP75+CT75+CX75+DB75+DF75+DJ75+DN75+DR75+DV75 -> 20 | EA75: =G75+K75+O75+S75+W75+AA75+AE75+AI75+AM75+AQ75+AU75+AY75+BC75+BG75+BK75+BO75+BS75+BW75+CA75+CE75+CI75+CM75+CQ75+CU75+CY75+DC75+DG75+DK75+DO75+DS75+DW75 -> 4 | EB75: =H75+L75+P75+T75+X75+AB75+AF75+AJ75+AN75+AR75+AV75+AZ75+BD75+BH75+BL75+BP75+BT75+BX75+CB75+CF75+CJ75+CN75+CR75+CV75+CZ75+DD75+DH75+DL75+DP75+DT75+DX75 -> 0 | EC75: =I75+M75+Q75+U75+Y75+AC75+AG75+AK75+AO75+AS75+AW75+BA75+BE75+BI75+BM75+BQ75+BU75+BY75+CC75+CG75+CK75+CO75+CS75+CW75+DA75+DE75+DI75+DM75+DQ75+DU75+DY75 -> 0
A76: 62 | B76: LATHA503001TSBH08537 | C76: LATHA NURSING HOME | D76: (Dr.M.BHOOMA REDDY) H.NO: 5-7-160, KHALEELWADI, NIZAMABAD - 503001. | E76: 15 | F76: 2 | J76: 2 | N76: 2 | V76: 2 | AI76: 2 | AQ76: 2 | AT76: 2 | AX76: 2 | BW76: 2 | CA76: 2 | CD76: 2 | CL76: 2 | CQ76: 2 | DW76: 2 | DZ76: =F76+J76+N76+R76+V76+Z76+AD76+AH76+AL76+AP76+AT76+AX76+BB76+BF76+BJ76+BN76+BR76+BV76+BZ76+CD76+CH76+CL76+CP76+CT76+CX76+DB76+DF76+DJ76+DN76+DR76+DV76 -> 16 | EA76: =G76+K76+O76+S76+W76+AA76+AE76+AI76+AM76+AQ76+AU76+AY76+BC76+BG76+BK76+BO76+BS76+BW76+CA76+CE76+CI76+CM76+CQ76+CU76+CY76+DC76+DG76+DK76+DO76+DS76+DW76 -> 12 | EB76: =H76+L76+P76+T76+X76+AB76+AF76+AJ76+AN76+AR76+AV76+AZ76+BD76+BH76+BL76+BP76+BT76+BX76+CB76+CF76+CJ76+CN76+CR76+CV76+CZ76+DD76+DH76+DL76+DP76+DT76+DX76 -> 0 | EC76: =I76+M76+Q76+U76+Y76+AC76+AG76+AK76+AO76+AS76+AW76+BA76+BE76+BI76+BM76+BQ76+BU76+BY76+CC76+CG76+CK76+CO76+CS76+CW76+DA76+DE76+DI76+DM76+DQ76+DU76+DY76 -> 0
A77: 63 | C77: MAA MULTISPECIALITY HOSPITAL | D77: OPP: SUN FLOWER HIGH SCHOOL, BESIDE DR. KAVITHA REDDY HOSPITAL, WEEKLY MARKET, NIZAMABAD - 503003. | E77: 15 | F77: 2 | J77: 2 | N77: 2 | V77: 2 | AI77: 2 | AQ77: 2 | AT77: 2 | AX77: 2 | BW77: 2 | CA77: 2 | CD77: 2 | CL77: 2 | CQ77: 2 | DW77: 2 | DZ77: =F77+J77+N77+R77+V77+Z77+AD77+AH77+AL77+AP77+AT77+AX77+BB77+BF77+BJ77+BN77+BR77+BV77+BZ77+CD77+CH77+CL77+CP77+CT77+CX77+DB77+DF77+DJ77+DN77+DR77+DV77 -> 16 | EA77: =G77+K77+O77+S77+W77+AA77+AE77+AI77+AM77+AQ77+AU77+AY77+BC77+BG77+BK77+BO77+BS77+BW77+CA77+CE77+CI77+CM77+CQ77+CU77+CY77+DC77+DG77+DK77+DO77+DS77+DW77 -> 12 | EB77: =H77+L77+P77+T77+X77+AB77+AF77+AJ77+AN77+AR77+AV77+AZ77+BD77+BH77+BL77+BP77+BT77+BX77+CB77+CF77+CJ77+CN77+CR77+CV77+CZ77+DD77+DH77+DL77+DP77+DT77+DX77 -> 0 | EC77: =I77+M77+Q77+U77+Y77+AC77+AG77+AK77+AO77+AS77+AW77+BA77+BE77+BI77+BM77+BQ77+BU77+BY77+CC77+CG77+CK77+CO77+CS77+CW77+DA77+DE77+DI77+DM77+DQ77+DU77+DY77 -> 0
A78: 64 | B78: MAHAL503001TSBH09862 | C78: MAHALAXMI NURSING HOME | D78: H.NO:5-7-76, KHALEELWADI, NIZAMABAD - 503001. | E78: 15 | F78: 2 | J78: 2 | N78: 2 | V78: 2 | Z78: 3 | AI78: 2 | AP78: 3 | AT78: 3 | AX78: 3 | BV78: 5 | CD78: 2 | CL78: 5 | CQ78: 3 | DZ78: =F78+J78+N78+R78+V78+Z78+AD78+AH78+AL78+AP78+AT78+AX78+BB78+BF78+BJ78+BN78+BR78+BV78+BZ78+CD78+CH78+CL78+CP78+CT78+CX78+DB78+DF78+DJ78+DN78+DR78+DV78 -> 32 | EA78: =G78+K78+O78+S78+W78+AA78+AE78+AI78+AM78+AQ78+AU78+AY78+BC78+BG78+BK78+BO78+BS78+BW78+CA78+CE78+CI78+CM78+CQ78+CU78+CY78+DC78+DG78+DK78+DO78+DS78+DW78 -> 5 | EB78: =H78+L78+P78+T78+X78+AB78+AF78+AJ78+AN78+AR78+AV78+AZ78+BD78+BH78+BL78+BP78+BT78+BX78+CB78+CF78+CJ78+CN78+CR78+CV78+CZ78+DD78+DH78+DL78+DP78+DT78+DX78 -> 0 | EC78: =I78+M78+Q78+U78+Y78+AC78+AG78+AK78+AO78+AS78+AW78+BA78+BE78+BI78+BM78+BQ78+BU78+BY78+CC78+CG78+CK78+CO78+CS78+CW78+DA78+DE78+DI78+DM78+DQ78+DU78+DY78 -> 0
A79: 65 | B79: MANOR503001TSBH06133 | C79: MANORAMA HOSPITAL | D79: OPP. BUSTAND, KHALEEL WADI, NIZAMABAD - 503001. | E79: 15 | F79: 2 | J79: 2 | N79: 2 | V79: 2 | Z79: 3 | AI79: 2 | AM79: 2 | AQ79: 2 | AX79: 2 | CD79: 2 | CL79: 2 | CP79: 2 | DZ79: =F79+J79+N79+R79+V79+Z79+AD79+AH79+AL79+AP79+AT79+AX79+BB79+BF79+BJ79+BN79+BR79+BV79+BZ79+CD79+CH79+CL79+CP79+CT79+CX79+DB79+DF79+DJ79+DN79+DR79+DV79 -> 19 | EA79: =G79+K79+O79+S79+W79+AA79+AE79+AI79+AM79+AQ79+AU79+AY79+BC79+BG79+BK79+BO79+BS79+BW79+CA79+CE79+CI79+CM79+CQ79+CU79+CY79+DC79+DG79+DK79+DO79+DS79+DW79 -> 6 | EB79: =H79+L79+P79+T79+X79+AB79+AF79+AJ79+AN79+AR79+AV79+AZ79+BD79+BH79+BL79+BP79+BT79+BX79+CB79+CF79+CJ79+CN79+CR79+CV79+CZ79+DD79+DH79+DL79+DP79+DT79+DX79 -> 0 | EC79: =I79+M79+Q79+U79+Y79+AC79+AG79+AK79+AO79+AS79+AW79+BA79+BE79+BI79+BM79+BQ79+BU79+BY79+CC79+CG79+CK79+CO79+CS79+CW79+DA79+DE79+DI79+DM79+DQ79+DU79+DY79 -> 0
A80: 66 | B80: PRASH503001TSBH09895 | C80: PRASHANTHI NEURO PSYCHIATRIC HOSPITAL | D80: KHALEELWADI, NIZAMABAD - 503001. | E80: 15 | F80: 2 | J80: 2 | S80: 1 | AA80: 2 | AI80: 2 | AP80: 1 | AX80: 1 | BC80: 1 | BJ80: 2 | BN80: 2 | BR80: 2 | BV80: 2 | BZ80: 2 | CQ80: 2 | DZ80: =F80+J80+N80+R80+V80+Z80+AD80+AH80+AL80+AP80+AT80+AX80+BB80+BF80+BJ80+BN80+BR80+BV80+BZ80+CD80+CH80+CL80+CP80+CT80+CX80+DB80+DF80+DJ80+DN80+DR80+DV80 -> 16 | EA80: =G80+K80+O80+S80+W80+AA80+AE80+AI80+AM80+AQ80+AU80+AY80+BC80+BG80+BK80+BO80+BS80+BW80+CA80+CE80+CI80+CM80+CQ80+CU80+CY80+DC80+DG80+DK80+DO80+DS80+DW80 -> 8 | EB80: =H80+L80+P80+T80+X80+AB80+AF80+AJ80+AN80+AR80+AV80+AZ80+BD80+BH80+BL80+BP80+BT80+BX80+CB80+CF80+CJ80+CN80+CR80+CV80+CZ80+DD80+DH80+DL80+DP80+DT80+DX80 -> 0 | EC80: =I80+M80+Q80+U80+Y80+AC80+AG80+AK80+AO80+AS80+AW80+BA80+BE80+BI80+BM80+BQ80+BU80+BY80+CC80+CG80+CK80+CO80+CS80+CW80+DA80+DE80+DI80+DM80+DQ80+DU80+DY80 -> 0
A81: 67 | B81: SAADH503001TSBH08525 | C81: SAADHYA MULTISPECIALITY HOSPITAL | D81: BEHIND BHARATHI RANI HOSPITAL, KHALEELWADI, NIZAMABAD - 503001. | E81: 15 | F81: 2 | J81: 2 | K81: 2 | R81: 1 | Z81: 2 | AI81: 1 | AL81: 2 | AT81: 1 | BJ81: 2 | BN81: 2 | BR81: 2 | BV81: 2 | BZ81: 2 | DZ81: =F81+J81+N81+R81+V81+Z81+AD81+AH81+AL81+AP81+AT81+AX81+BB81+BF81+BJ81+BN81+BR81+BV81+BZ81+CD81+CH81+CL81+CP81+CT81+CX81+DB81+DF81+DJ81+DN81+DR81+DV81 -> 20 | EA81: =G81+K81+O81+S81+W81+AA81+AE81+AI81+AM81+AQ81+AU81+AY81+BC81+BG81+BK81+BO81+BS81+BW81+CA81+CE81+CI81+CM81+CQ81+CU81+CY81+DC81+DG81+DK81+DO81+DS81+DW81 -> 3 | EB81: =H81+L81+P81+T81+X81+AB81+AF81+AJ81+AN81+AR81+AV81+AZ81+BD81+BH81+BL81+BP81+BT81+BX81+CB81+CF81+CJ81+CN81+CR81+CV81+CZ81+DD81+DH81+DL81+DP81+DT81+DX81 -> 0 | EC81: =I81+M81+Q81+U81+Y81+AC81+AG81+AK81+AO81+AS81+AW81+BA81+BE81+BI81+BM81+BQ81+BU81+BY81+CC81+CG81+CK81+CO81+CS81+CW81+DA81+DE81+DI81+DM81+DQ81+DU81+DY81 -> 0
A82: 68 | B82: SHASH503001TSBH00930 | C82: SHASHANK HOSPITAL | D82: OPP: BUSTAND LANE, KHALEELWADI, NIZAMABAD - 503001. | E82: 15 | F82: 2 | J82: 2 | N82: 2 | V82: 2 | Z82: 2 | AH82: 2 | AP82: 3 | AY82: 2 | BR82: 2 | BV82: 2 | BZ82: 2 | CD82: 2 | CL82: 2 | CP82: 2 | DZ82: =F82+J82+N82+R82+V82+Z82+AD82+AH82+AL82+AP82+AT82+AX82+BB82+BF82+BJ82+BN82+BR82+BV82+BZ82+CD82+CH82+CL82+CP82+CT82+CX82+DB82+DF82+DJ82+DN82+DR82+DV82 -> 27 | EA82: =G82+K82+O82+S82+W82+AA82+AE82+AI82+AM82+AQ82+AU82+AY82+BC82+BG82+BK82+BO82+BS82+BW82+CA82+CE82+CI82+CM82+CQ82+CU82+CY82+DC82+DG82+DK82+DO82+DS82+DW82 -> 2 | EB82: =H82+L82+P82+T82+X82+AB82+AF82+AJ82+AN82+AR82+AV82+AZ82+BD82+BH82+BL82+BP82+BT82+BX82+CB82+CF82+CJ82+CN82+CR82+CV82+CZ82+DD82+DH82+DL82+DP82+DT82+DX82 -> 0 | EC82: =I82+M82+Q82+U82+Y82+AC82+AG82+AK82+AO82+AS82+AW82+BA82+BE82+BI82+BM82+BQ82+BU82+BY82+CC82+CG82+CK82+CO82+CS82+CW82+DA82+DE82+DI82+DM82+DQ82+DU82+DY82 -> 0
A83: 69 | B83: SILVE503001TSBH08526 | C83: SILVERLINE HOSPITALS | D83: OPP: DR BHARATHI RANI HOSPITAL, SARASWATHI NAGAR, KHALEELWADI, NIZAMABAD - 503001. Telangana-503001 | E83: 15 | F83: 2 | J83: 2 | K83: 2 | R83: 1 | Z83: 2 | AI83: 2 | AM83: 2 | AP83: 2 | AU83: 2 | AX83: 2 | BB83: 2 | BO83: 2 | BS83: 2 | BW83: 2 | CA83: 2 | CP83: 2 | DZ83: =F83+J83+N83+R83+V83+Z83+AD83+AH83+AL83+AP83+AT83+AX83+BB83+BF83+BJ83+BN83+BR83+BV83+BZ83+CD83+CH83+CL83+CP83+CT83+CX83+DB83+DF83+DJ83+DN83+DR83+DV83 -> 15 | EA83: =G83+K83+O83+S83+W83+AA83+AE83+AI83+AM83+AQ83+AU83+AY83+BC83+BG83+BK83+BO83+BS83+BW83+CA83+CE83+CI83+CM83+CQ83+CU83+CY83+DC83+DG83+DK83+DO83+DS83+DW83 -> 16 | EB83: =H83+L83+P83+T83+X83+AB83+AF83+AJ83+AN83+AR83+AV83+AZ83+BD83+BH83+BL83+BP83+BT83+BX83+CB83+CF83+CJ83+CN83+CR83+CV83+CZ83+DD83+DH83+DL83+DP83+DT83+DX83 -> 0 | EC83: =I83+M83+Q83+U83+Y83+AC83+AG83+AK83+AO83+AS83+AW83+BA83+BE83+BI83+BM83+BQ83+BU83+BY83+CC83+CG83+CK83+CO83+CS83+CW83+DA83+DE83+DI83+DM83+DQ83+DU83+DY83 -> 0
A84: 70 | B84: SRIHA503001TSBH00960 | C84: SRI HARSHA KIDNEY & URO CENTRE | D84: H.NO. 5-6-92, DWARAKA NAGAR, KHALEELWADI, NIZAMABAD - 503001. | E84: 15 | F84: 2 | J84: 2 | S84: 2 | AA84: 2 | AH84: 2 | AM84: 2 | AU84: 2 | BK84: 2 | BO84: 2 | BS84: 2 | BW84: 2 | CA84: 2 | DZ84: =F84+J84+N84+R84+V84+Z84+AD84+AH84+AL84+AP84+AT84+AX84+BB84+BF84+BJ84+BN84+BR84+BV84+BZ84+CD84+CH84+CL84+CP84+CT84+CX84+DB84+DF84+DJ84+DN84+DR84+DV84 -> 6 | EA84: =G84+K84+O84+S84+W84+AA84+AE84+AI84+AM84+AQ84+AU84+AY84+BC84+BG84+BK84+BO84+BS84+BW84+CA84+CE84+CI84+CM84+CQ84+CU84+CY84+DC84+DG84+DK84+DO84+DS84+DW84 -> 18 | EB84: =H84+L84+P84+T84+X84+AB84+AF84+AJ84+AN84+AR84+AV84+AZ84+BD84+BH84+BL84+BP84+BT84+BX84+CB84+CF84+CJ84+CN84+CR84+CV84+CZ84+DD84+DH84+DL84+DP84+DT84+DX84 -> 0 | EC84: =I84+M84+Q84+U84+Y84+AC84+AG84+AK84+AO84+AS84+AW84+BA84+BE84+BI84+BM84+BQ84+BU84+BY84+CC84+CG84+CK84+CO84+CS84+CW84+DA84+DE84+DI84+DM84+DQ84+DU84+DY84 -> 0
A85: 71 | B85: SWETH503001TSBH08530 | C85: SWETHA KIDNEY CENTRE & MATERNITY NURSING HOME | D85: OPP: DESAI BEEDI GODOWN, HYDERABAD ROAD, NIZAMABAD - 503001. | E85: 15 | F85: 2 | J85: 2 | S85: 2 | AI85: 2 | AM85: 2 | AQ85: 2 | AU85: 2 | AX85: 2 | BB85: 2 | BC85: 2 | BK85: 2 | BO85: 2 | BS85: 2 | BW85: 2 | CA85: 2 | CQ85: 2 | DZ85: =F85+J85+N85+R85+V85+Z85+AD85+AH85+AL85+AP85+AT85+AX85+BB85+BF85+BJ85+BN85+BR85+BV85+BZ85+CD85+CH85+CL85+CP85+CT85+CX85+DB85+DF85+DJ85+DN85+DR85+DV85 -> 8 | EA85: =G85+K85+O85+S85+W85+AA85+AE85+AI85+AM85+AQ85+AU85+AY85+BC85+BG85+BK85+BO85+BS85+BW85+CA85+CE85+CI85+CM85+CQ85+CU85+CY85+DC85+DG85+DK85+DO85+DS85+DW85 -> 24 | EB85: =H85+L85+P85+T85+X85+AB85+AF85+AJ85+AN85+AR85+AV85+AZ85+BD85+BH85+BL85+BP85+BT85+BX85+CB85+CF85+CJ85+CN85+CR85+CV85+CZ85+DD85+DH85+DL85+DP85+DT85+DX85 -> 0 | EC85: =I85+M85+Q85+U85+Y85+AC85+AG85+AK85+AO85+AS85+AW85+BA85+BE85+BI85+BM85+BQ85+BU85+BY85+CC85+CG85+CK85+CO85+CS85+CW85+DA85+DE85+DI85+DM85+DQ85+DU85+DY85 -> 0
A86: 72 | B86: VENKA503001TSBH00962 | C86: VENKAT CHILDREN'S HOSPITAL | D86: NEAR INDIAN BANK, KHALEEL WADI, NIZAMABAD - 503001. | E86: 15 | F86: 2 | J86: 2 | S86: 1 | AH86: 2 | AM86: 2 | AQ86: 2 | AT86: 2 | AY86: 2 | BJ86: 2 | BN86: 2 | BR86: 2 | BV86: 2 | BZ86: 2 | CQ86: 2 | DZ86: =F86+J86+N86+R86+V86+Z86+AD86+AH86+AL86+AP86+AT86+AX86+BB86+BF86+BJ86+BN86+BR86+BV86+BZ86+CD86+CH86+CL86+CP86+CT86+CX86+DB86+DF86+DJ86+DN86+DR86+DV86 -> 18 | EA86: =G86+K86+O86+S86+W86+AA86+AE86+AI86+AM86+AQ86+AU86+AY86+BC86+BG86+BK86+BO86+BS86+BW86+CA86+CE86+CI86+CM86+CQ86+CU86+CY86+DC86+DG86+DK86+DO86+DS86+DW86 -> 9 | EB86: =H86+L86+P86+T86+X86+AB86+AF86+AJ86+AN86+AR86+AV86+AZ86+BD86+BH86+BL86+BP86+BT86+BX86+CB86+CF86+CJ86+CN86+CR86+CV86+CZ86+DD86+DH86+DL86+DP86+DT86+DX86 -> 0 | EC86: =I86+M86+Q86+U86+Y86+AC86+AG86+AK86+AO86+AS86+AW86+BA86+BE86+BI86+BM86+BQ86+BU86+BY86+CC86+CG86+CK86+CO86+CS86+CW86+DA86+DE86+DI86+DM86+DQ86+DU86+DY86 -> 0
A87: 73 | B87: VENKA503001TSBH01918 | C87: VENKATA SAI NEW BORN CHILDRENS HOSPITAL | D87: ROAD NO. 3, OPP: R.D.O OFFICE, SARASWATHI NAGAR, NIZAMBAD - 503001. | E87: 15 | F87: 2 | J87: 2 | K87: 2 | R87: 2 | AH87: 2 | AM87: 2 | AT87: 3 | BK87: 2 | BO87: 2 | BS87: 2 | BW87: 2 | CA87: 2 | DZ87: =F87+J87+N87+R87+V87+Z87+AD87+AH87+AL87+AP87+AT87+AX87+BB87+BF87+BJ87+BN87+BR87+BV87+BZ87+CD87+CH87+CL87+CP87+CT87+CX87+DB87+DF87+DJ87+DN87+DR87+DV87 -> 11 | EA87: =G87+K87+O87+S87+W87+AA87+AE87+AI87+AM87+AQ87+AU87+AY87+BC87+BG87+BK87+BO87+BS87+BW87+CA87+CE87+CI87+CM87+CQ87+CU87+CY87+DC87+DG87+DK87+DO87+DS87+DW87 -> 14 | EB87: =H87+L87+P87+T87+X87+AB87+AF87+AJ87+AN87+AR87+AV87+AZ87+BD87+BH87+BL87+BP87+BT87+BX87+CB87+CF87+CJ87+CN87+CR87+CV87+CZ87+DD87+DH87+DL87+DP87+DT87+DX87 -> 0 | EC87: =I87+M87+Q87+U87+Y87+AC87+AG87+AK87+AO87+AS87+AW87+BA87+BE87+BI87+BM87+BQ87+BU87+BY87+CC87+CG87+CK87+CO87+CS87+CW87+DA87+DE87+DI87+DM87+DQ87+DU87+DY87 -> 0
A88: 74 | B88: SWAMY503001TSBH08027 | C88: SWAMY CHILDREN'S HOSPITAL | D88: H.NO: 5-7-48, OPP. MODEM PUBLIC SCHOOL , KHALEELWADI, NIZAMABAD - 503001. | E88: 13 | F88: 2 | J88: 2 | O88: 2 | W88: 2 | AA88: 2 | AI88: 2 | AP88: 2 | AY88: 2 | BR88: 2 | BV88: 2 | CD88: 2 | CL88: 2 | CP88: 2 | DZ88: =F88+J88+N88+R88+V88+Z88+AD88+AH88+AL88+AP88+AT88+AX88+BB88+BF88+BJ88+BN88+BR88+BV88+BZ88+CD88+CH88+CL88+CP88+CT88+CX88+DB88+DF88+DJ88+DN88+DR88+DV88 -> 16 | EA88: =G88+K88+O88+S88+W88+AA88+AE88+AI88+AM88+AQ88+AU88+AY88+BC88+BG88+BK88+BO88+BS88+BW88+CA88+CE88+CI88+CM88+CQ88+CU88+CY88+DC88+DG88+DK88+DO88+DS88+DW88 -> 10 | EB88: =H88+L88+P88+T88+X88+AB88+AF88+AJ88+AN88+AR88+AV88+AZ88+BD88+BH88+BL88+BP88+BT88+BX88+CB88+CF88+CJ88+CN88+CR88+CV88+CZ88+DD88+DH88+DL88+DP88+DT88+DX88 -> 0 | EC88: =I88+M88+Q88+U88+Y88+AC88+AG88+AK88+AO88+AS88+AW88+BA88+BE88+BI88+BM88+BQ88+BU88+BY88+CC88+CG88+CK88+CO88+CS88+CW88+DA88+DE88+DI88+DM88+DQ88+DU88+DY88 -> 0
A89: 75 | B89: NIROO503001TSBH16240 | C89: NIROOP CHILDRENS HOSPITAL (CLOSED) | D89: 5-4-335, SHAILAJA DIAGNOSTIC BUILDING, NEAR NARAYAN REDDY COMPLEX,OPP: VASAVI EYE HOSPITAL, KHALEELWADI, NIZAMABAD | E89: 13 | F89: 2 | J89: 2 | V89: 2 | Z89: 2 | AH89: 2 | AQ89: 2 | CP89: 2 | CX89: 5 | CY89: 5 | DS89: 2 | DW89: 5 | DZ89: =F89+J89+N89+R89+V89+Z89+AD89+AH89+AL89+AP89+AT89+AX89+BB89+BF89+BJ89+BN89+BR89+BV89+BZ89+CD89+CH89+CL89+CP89+CT89+CX89+DB89+DF89+DJ89+DN89+DR89+DV89 -> 17 | EA89: =G89+K89+O89+S89+W89+AA89+AE89+AI89+AM89+AQ89+AU89+AY89+BC89+BG89+BK89+BO89+BS89+BW89+CA89+CE89+CI89+CM89+CQ89+CU89+CY89+DC89+DG89+DK89+DO89+DS89+DW89 -> 14 | EB89: =H89+L89+P89+T89+X89+AB89+AF89+AJ89+AN89+AR89+AV89+AZ89+BD89+BH89+BL89+BP89+BT89+BX89+CB89+CF89+CJ89+CN89+CR89+CV89+CZ89+DD89+DH89+DL89+DP89+DT89+DX89 -> 0 | EC89: =I89+M89+Q89+U89+Y89+AC89+AG89+AK89+AO89+AS89+AW89+BA89+BE89+BI89+BM89+BQ89+BU89+BY89+CC89+CG89+CK89+CO89+CS89+CW89+DA89+DE89+DI89+DM89+DQ89+DU89+DY89 -> 0
A90: 76 | B90: RKLAX503001TSBH09882 | C90: RK LAXMI CHILDRENS HOSPITAL | D90: BUILDING No.N12A, OPP: CHAKRAPANI HOSPITAL, BANK OF INDIA ROAD, KHALEELWADI, NIZAMABAD - 503001. | E90: 12 | F90: 2 | J90: 2 | R90: 2 | Z90: 2 | AH90: 2 | AM90: 2 | AP90: 2 | AU90: 2 | AX90: 2 | BB90: 2 | BK90: 2 | BO90: 2 | BS90: 2 | BW90: 2 | CA90: 2 | CQ90: 2 | DZ90: =F90+J90+N90+R90+V90+Z90+AD90+AH90+AL90+AP90+AT90+AX90+BB90+BF90+BJ90+BN90+BR90+BV90+BZ90+CD90+CH90+CL90+CP90+CT90+CX90+DB90+DF90+DJ90+DN90+DR90+DV90 -> 16 | EA90: =G90+K90+O90+S90+W90+AA90+AE90+AI90+AM90+AQ90+AU90+AY90+BC90+BG90+BK90+BO90+BS90+BW90+CA90+CE90+CI90+CM90+CQ90+CU90+CY90+DC90+DG90+DK90+DO90+DS90+DW90 -> 16 | EB90: =H90+L90+P90+T90+X90+AB90+AF90+AJ90+AN90+AR90+AV90+AZ90+BD90+BH90+BL90+BP90+BT90+BX90+CB90+CF90+CJ90+CN90+CR90+CV90+CZ90+DD90+DH90+DL90+DP90+DT90+DX90 -> 0 | EC90: =I90+M90+Q90+U90+Y90+AC90+AG90+AK90+AO90+AS90+AW90+BA90+BE90+BI90+BM90+BQ90+BU90+BY90+CC90+CG90+CK90+CO90+CS90+CW90+DA90+DE90+DI90+DM90+DQ90+DU90+DY90 -> 0
A91: 77 | B91: SRISU503001TSBH09871 | C91: SRI SURYA HOSPITAL | D91: BESIDE GOUTHAMI DEGREE COLLEGE, KHALEELWADI, NIZAMABAD - 503001. | E91: 12 | F91: 2 | J91: 2 | S91: 1 | AA91: 2 | AI91: 1 | AM91: 2 | AQ91: 2 | AT91: 2 | AY91: 2 | BB91: 2 | BK91: 2 | BO91: 2 | BS91: 2 | BW91: 2 | CA91: 2 | CP91: 2 | DZ91: =F91+J91+N91+R91+V91+Z91+AD91+AH91+AL91+AP91+AT91+AX91+BB91+BF91+BJ91+BN91+BR91+BV91+BZ91+CD91+CH91+CL91+CP91+CT91+CX91+DB91+DF91+DJ91+DN91+DR91+DV91 -> 10 | EA91: =G91+K91+O91+S91+W91+AA91+AE91+AI91+AM91+AQ91+AU91+AY91+BC91+BG91+BK91+BO91+BS91+BW91+CA91+CE91+CI91+CM91+CQ91+CU91+CY91+DC91+DG91+DK91+DO91+DS91+DW91 -> 20 | EB91: =H91+L91+P91+T91+X91+AB91+AF91+AJ91+AN91+AR91+AV91+AZ91+BD91+BH91+BL91+BP91+BT91+BX91+CB91+CF91+CJ91+CN91+CR91+CV91+CZ91+DD91+DH91+DL91+DP91+DT91+DX91 -> 0 | EC91: =I91+M91+Q91+U91+Y91+AC91+AG91+AK91+AO91+AS91+AW91+BA91+BE91+BI91+BM91+BQ91+BU91+BY91+CC91+CG91+CK91+CO91+CS91+CW91+DA91+DE91+DI91+DM91+DQ91+DU91+DY91 -> 0
A92: 78 | B92: AAYUK503001TSBH09873 | C92: AAYUKSHA HOSPITAL | D92: ROAD NO.1, OPP: RDO OFFICE, DWARAKA NAGAR, KHALEELWADI, NIZAMABAD - 503001. | E92: 10 | F92: 2 | J92: 2 | K92: 2 | R92: 1 | AH92: 2 | AL92: 2 | AU92: 2 | BK92: 2 | BO92: 2 | BS92: 2 | BW92: 2 | CA92: 30 | DZ92: =F92+J92+N92+R92+V92+Z92+AD92+AH92+AL92+AP92+AT92+AX92+BB92+BF92+BJ92+BN92+BR92+BV92+BZ92+CD92+CH92+CL92+CP92+CT92+CX92+DB92+DF92+DJ92+DN92+DR92+DV92 -> 9 | EA92: =G92+K92+O92+S92+W92+AA92+AE92+AI92+AM92+AQ92+AU92+AY92+BC92+BG92+BK92+BO92+BS92+BW92+CA92+CE92+CI92+CM92+CQ92+CU92+CY92+DC92+DG92+DK92+DO92+DS92+DW92 -> 42 | EB92: =H92+L92+P92+T92+X92+AB92+AF92+AJ92+AN92+AR92+AV92+AZ92+BD92+BH92+BL92+BP92+BT92+BX92+CB92+CF92+CJ92+CN92+CR92+CV92+CZ92+DD92+DH92+DL92+DP92+DT92+DX92 -> 0 | EC92: =I92+M92+Q92+U92+Y92+AC92+AG92+AK92+AO92+AS92+AW92+BA92+BE92+BI92+BM92+BQ92+BU92+BY92+CC92+CG92+CK92+CO92+CS92+CW92+DA92+DE92+DI92+DM92+DQ92+DU92+DY92 -> 0
A93: 79 | B93: APOOR503001TSBH07054 | C93: APOORVA NETHRALAYA & DIAGNOSTIC CENTER | D93: H.NO. 5-7-7/8, NEAR NALANDA WOMEN'S COLLEGE, KHALEELWADI, NIZAMABAD - 503001. | E93: 10 | F93: 2 | J93: 2 | W93: 2 | AA93: 2 | AI93: 2 | AL93: 2 | AT93: 2 | BV93: 2 | CD93: 2 | CL93: 2 | DZ93: =F93+J93+N93+R93+V93+Z93+AD93+AH93+AL93+AP93+AT93+AX93+BB93+BF93+BJ93+BN93+BR93+BV93+BZ93+CD93+CH93+CL93+CP93+CT93+CX93+DB93+DF93+DJ93+DN93+DR93+DV93 -> 14 | EA93: =G93+K93+O93+S93+W93+AA93+AE93+AI93+AM93+AQ93+AU93+AY93+BC93+BG93+BK93+BO93+BS93+BW93+CA93+CE93+CI93+CM93+CQ93+CU93+CY93+DC93+DG93+DK93+DO93+DS93+DW93 -> 6 | EB93: =H93+L93+P93+T93+X93+AB93+AF93+AJ93+AN93+AR93+AV93+AZ93+BD93+BH93+BL93+BP93+BT93+BX93+CB93+CF93+CJ93+CN93+CR93+CV93+CZ93+DD93+DH93+DL93+DP93+DT93+DX93 -> 0 | EC93: =I93+M93+Q93+U93+Y93+AC93+AG93+AK93+AO93+AS93+AW93+BA93+BE93+BI93+BM93+BQ93+BU93+BY93+CC93+CG93+CK93+CO93+CS93+CW93+DA93+DE93+DI93+DM93+DQ93+DU93+DY93 -> 0
A94: 80 | B94: DEEPA503001TSBH09874 | C94: DEEPA HOSPITAL | D94: H.No. 5-4-36/16, BESIDE BJP OFFICE, BESIDE TEJA HOSPITAL, DWARAKA NAGAR, NIZAMABAD - 503001. | E94: 10 | F94: 2 | J94: 2 | DZ94: =F94+J94+N94+R94+V94+Z94+AD94+AH94+AL94+AP94+AT94+AX94+BB94+BF94+BJ94+BN94+BR94+BV94+BZ94+CD94+CH94+CL94+CP94+CT94+CX94+DB94+DF94+DJ94+DN94+DR94+DV94 -> 4 | EA94: =G94+K94+O94+S94+W94+AA94+AE94+AI94+AM94+AQ94+AU94+AY94+BC94+BG94+BK94+BO94+BS94+BW94+CA94+CE94+CI94+CM94+CQ94+CU94+CY94+DC94+DG94+DK94+DO94+DS94+DW94 -> 0 | EB94: =H94+L94+P94+T94+X94+AB94+AF94+AJ94+AN94+AR94+AV94+AZ94+BD94+BH94+BL94+BP94+BT94+BX94+CB94+CF94+CJ94+CN94+CR94+CV94+CZ94+DD94+DH94+DL94+DP94+DT94+DX94 -> 0 | EC94: =I94+M94+Q94+U94+Y94+AC94+AG94+AK94+AO94+AS94+AW94+BA94+BE94+BI94+BM94+BQ94+BU94+BY94+CC94+CG94+CK94+CO94+CS94+CW94+DA94+DE94+DI94+DM94+DQ94+DU94+DY94 -> 0
A95: 81 | B95: GANGA503001TSBH09875 | C95: GANGA BHAVANI HOSPITAL | D95: ROAD No.1, SARASWATHI NAGAR, NIZAMABAD - 503001. | E95: 10 | F95: 2 | J95: 2 | K95: 2 | R95: 2 | Z95: 2 | AI95: 2 | AM95: 2 | AU95: 2 | BK95: 2 | BO95: 2 | BS95: 2 | BW95: 2 | BZ95: 2 | DZ95: =F95+J95+N95+R95+V95+Z95+AD95+AH95+AL95+AP95+AT95+AX95+BB95+BF95+BJ95+BN95+BR95+BV95+BZ95+CD95+CH95+CL95+CP95+CT95+CX95+DB95+DF95+DJ95+DN95+DR95+DV95 -> 10 | EA95: =G95+K95+O95+S95+W95+AA95+AE95+AI95+AM95+AQ95+AU95+AY95+BC95+BG95+BK95+BO95+BS95+BW95+CA95+CE95+CI95+CM95+CQ95+CU95+CY95+DC95+DG95+DK95+DO95+DS95+DW95 -> 16 | EB95: =H95+L95+P95+T95+X95+AB95+AF95+AJ95+AN95+AR95+AV95+AZ95+BD95+BH95+BL95+BP95+BT95+BX95+CB95+CF95+CJ95+CN95+CR95+CV95+CZ95+DD95+DH95+DL95+DP95+DT95+DX95 -> 0 | EC95: =I95+M95+Q95+U95+Y95+AC95+AG95+AK95+AO95+AS95+AW95+BA95+BE95+BI95+BM95+BQ95+BU95+BY95+CC95+CG95+CK95+CO95+CS95+CW95+DA95+DE95+DI95+DM95+DQ95+DU95+DY95 -> 0
A96: 82 | B96: GAYAT503001TSBH00861 | C96: GAYATRI HOSPITAL | D96: Dr SUMALATHA HOSPITAL BUILDING, NEAR J.J. REDDY HOSPITAL, DWARAKA NAGAR, 1ST LANE, NIZAMABAD - 503001. | E96: 10 | F96: 2 | J96: 2 | DZ96: =F96+J96+N96+R96+V96+Z96+AD96+AH96+AL96+AP96+AT96+AX96+BB96+BF96+BJ96+BN96+BR96+BV96+BZ96+CD96+CH96+CL96+CP96+CT96+CX96+DB96+DF96+DJ96+DN96+DR96+DV96 -> 4 | EA96: =G96+K96+O96+S96+W96+AA96+AE96+AI96+AM96+AQ96+AU96+AY96+BC96+BG96+BK96+BO96+BS96+BW96+CA96+CE96+CI96+CM96+CQ96+CU96+CY96+DC96+DG96+DK96+DO96+DS96+DW96 -> 0 | EB96: =H96+L96+P96+T96+X96+AB96+AF96+AJ96+AN96+AR96+AV96+AZ96+BD96+BH96+BL96+BP96+BT96+BX96+CB96+CF96+CJ96+CN96+CR96+CV96+CZ96+DD96+DH96+DL96+DP96+DT96+DX96 -> 0 | EC96: =I96+M96+Q96+U96+Y96+AC96+AG96+AK96+AO96+AS96+AW96+BA96+BE96+BI96+BM96+BQ96+BU96+BY96+CC96+CG96+CK96+CO96+CS96+CW96+DA96+DE96+DI96+DM96+DQ96+DU96+DY96 -> 0
A97: 83 | B97: KGSCH503001TSBH09876 | C97: KGS CHILDRENS HOSPITAL | D97: H.No. 5-7-204, BESIDE TIRUMALA HOSPITAL, TILAK GARDEN, KHALLELWADI, NIZAMABAD - 503001. | E97: 10 | F97: 2 | J97: 2 | O97: 2 | AA97: 2 | AI97: 2 | AP97: 2 | AX97: 2 | BR97: 2 | BV97: 2 | CD97: 2 | CL97: 2 | DZ97: =F97+J97+N97+R97+V97+Z97+AD97+AH97+AL97+AP97+AT97+AX97+BB97+BF97+BJ97+BN97+BR97+BV97+BZ97+CD97+CH97+CL97+CP97+CT97+CX97+DB97+DF97+DJ97+DN97+DR97+DV97 -> 16 | EA97: =G97+K97+O97+S97+W97+AA97+AE97+AI97+AM97+AQ97+AU97+AY97+BC97+BG97+BK97+BO97+BS97+BW97+CA97+CE97+CI97+CM97+CQ97+CU97+CY97+DC97+DG97+DK97+DO97+DS97+DW97 -> 6 | EB97: =H97+L97+P97+T97+X97+AB97+AF97+AJ97+AN97+AR97+AV97+AZ97+BD97+BH97+BL97+BP97+BT97+BX97+CB97+CF97+CJ97+CN97+CR97+CV97+CZ97+DD97+DH97+DL97+DP97+DT97+DX97 -> 0 | EC97: =I97+M97+Q97+U97+Y97+AC97+AG97+AK97+AO97+AS97+AW97+BA97+BE97+BI97+BM97+BQ97+BU97+BY97+CC97+CG97+CK97+CO97+CS97+CW97+DA97+DE97+DI97+DM97+DQ97+DU97+DY97 -> 0
A98: 84 | B98: KIDSC503001TSBH09878 | C98: KIDS CARE EMERGENCY CHILDRENS HOSPITAL | D98: OPP.TELANGANA GRAMEENA BANK, DWARAKANAGAR, KHALEELWADI, NIZAMABAD - 503001. | E98: 10 | F98: 2 | J98: 2 | DZ98: =F98+J98+N98+R98+V98+Z98+AD98+AH98+AL98+AP98+AT98+AX98+BB98+BF98+BJ98+BN98+BR98+BV98+BZ98+CD98+CH98+CL98+CP98+CT98+CX98+DB98+DF98+DJ98+DN98+DR98+DV98 -> 4 | EA98: =G98+K98+O98+S98+W98+AA98+AE98+AI98+AM98+AQ98+AU98+AY98+BC98+BG98+BK98+BO98+BS98+BW98+CA98+CE98+CI98+CM98+CQ98+CU98+CY98+DC98+DG98+DK98+DO98+DS98+DW98 -> 0 | EB98: =H98+L98+P98+T98+X98+AB98+AF98+AJ98+AN98+AR98+AV98+AZ98+BD98+BH98+BL98+BP98+BT98+BX98+CB98+CF98+CJ98+CN98+CR98+CV98+CZ98+DD98+DH98+DL98+DP98+DT98+DX98 -> 0 | EC98: =I98+M98+Q98+U98+Y98+AC98+AG98+AK98+AO98+AS98+AW98+BA98+BE98+BI98+BM98+BQ98+BU98+BY98+CC98+CG98+CK98+CO98+CS98+CW98+DA98+DE98+DI98+DM98+DQ98+DU98+DY98 -> 0
A99: 85 | B99: LIFEL503001TSBH11655 | C99: LIFE LINE HOSPITAL NIZAMABAD | D99: BESIDE SANA GARDEN FUNCTION HALL, FAHAD TOWER, OPP: BODHAN BUS STAND, NIZAMABAD - 503001. | E99: 10 | F99: 2 | J99: 2 | DZ99: =F99+J99+N99+R99+V99+Z99+AD99+AH99+AL99+AP99+AT99+AX99+BB99+BF99+BJ99+BN99+BR99+BV99+BZ99+CD99+CH99+CL99+CP99+CT99+CX99+DB99+DF99+DJ99+DN99+DR99+DV99 -> 4 | EA99: =G99+K99+O99+S99+W99+AA99+AE99+AI99+AM99+AQ99+AU99+AY99+BC99+BG99+BK99+BO99+BS99+BW99+CA99+CE99+CI99+CM99+CQ99+CU99+CY99+DC99+DG99+DK99+DO99+DS99+DW99 -> 0 | EB99: =H99+L99+P99+T99+X99+AB99+AF99+AJ99+AN99+AR99+AV99+AZ99+BD99+BH99+BL99+BP99+BT99+BX99+CB99+CF99+CJ99+CN99+CR99+CV99+CZ99+DD99+DH99+DL99+DP99+DT99+DX99 -> 0 | EC99: =I99+M99+Q99+U99+Y99+AC99+AG99+AK99+AO99+AS99+AW99+BA99+BE99+BI99+BM99+BQ99+BU99+BY99+CC99+CG99+CK99+CO99+CS99+CW99+DA99+DE99+DI99+DM99+DQ99+DU99+DY99 -> 0
A100: 86 | B100: MAHES503001TSBH00981 | C100: MAHESHWARI MULTI SPECIALITY HOSPITAL | D100: KHALEELWADI, NIZAMABAD - 503001. | E100: 10 | F100: 2 | J100: 2 | S100: 2 | AH100: 2 | AL100: 2 | AU100: 2 | CA100: 2 | DZ100: =F100+J100+N100+R100+V100+Z100+AD100+AH100+AL100+AP100+AT100+AX100+BB100+BF100+BJ100+BN100+BR100+BV100+BZ100+CD100+CH100+CL100+CP100+CT100+CX100+DB100+DF100+DJ100+DN100+DR100+DV100 -> 8 | EA100: =G100+K100+O100+S100+W100+AA100+AE100+AI100+AM100+AQ100+AU100+AY100+BC100+BG100+BK100+BO100+BS100+BW100+CA100+CE100+CI100+CM100+CQ100+CU100+CY100+DC100+DG100+DK100+DO100+DS100+DW100 -> 6 | EB100: =H100+L100+P100+T100+X100+AB100+AF100+AJ100+AN100+AR100+AV100+AZ100+BD100+BH100+BL100+BP100+BT100+BX100+CB100+CF100+CJ100+CN100+CR100+CV100+CZ100+DD100+DH100+DL100+DP100+DT100+DX100 -> 0 | EC100: =I100+M100+Q100+U100+Y100+AC100+AG100+AK100+AO100+AS100+AW100+BA100+BE100+BI100+BM100+BQ100+BU100+BY100+CC100+CG100+CK100+CO100+CS100+CW100+DA100+DE100+DI100+DM100+DQ100+DU100+DY100 -> 0
...

Sheet Kamareddy
A1: =Nizamabad!A1 -> JANUARY - 2024 MONTH REPORT | F1: =Nizamabad!F1 -> 45292 | J1: =Nizamabad!J1 -> 45293 | N1: =Nizamabad!N1 -> 45294 | R1: =Nizamabad!R1 -> 45295 | V1: =Nizamabad!V1 -> 45296 | Z1: =Nizamabad!Z1 -> 45297 | AD1: =Nizamabad!AD1 -> 45298 | AH1: =Nizamabad!AH1 -> 45299 | AL1: =Nizamabad!AL1 -> 45300 | AP1: =Nizamabad!AP1 -> 45301 | AT1: =Nizamabad!AT1 -> 45302 | AX1: =Nizamabad!AX1 -> 45303 | BB1: =Nizamabad!BB1 -> 45304 | BF1: =Nizamabad!BF1 -> 45305 | BJ1: =Nizamabad!BJ1 -> 45306 | BN1: =Nizamabad!BN1 -> 45307 | BR1: =Nizamabad!BR1 -> 45308 | BV1: =Nizamabad!BV1 -> 45309 | BZ1: =Nizamabad!BZ1 -> 45310 | CD1: =Nizamabad!CD1 -> 45311 | CH1: =Nizamabad!CH1 -> 45312 | CL1: =Nizamabad!CL1 -> 45313 | CP1: =Nizamabad!CP1 -> 45314 | CT1: =Nizamabad!CT1 -> 45315 | CX1: =Nizamabad!CX1 -> 45316 | DB1: =Nizamabad!DB1 -> 45317 | DF1: =Nizamabad!DF1 -> 45318 | DJ1: =Nizamabad!DJ1 -> 45319 | DN1: =Nizamabad!DN1 -> 45320 | DR1: =Nizamabad!DR1 -> 45321 | DV1: =Nizamabad!DV1 -> 45322 | DZ1: TOTAL
A2: SNO | B2: HCF ID | C2: NAME OF THE HCF | D2: ADDRESS OF THE HCFS | E2: NO.OF BEDS | F2: Yellow | G2: Red | H2: Blue | I2: White | J2: Yellow | K2: Red | L2: Blue | M2: White | N2: Yellow | O2: Red | P2: Blue | Q2: White | R2: Yellow | S2: Red | T2: Blue | U2: White | V2: Yellow | W2: Red | X2: Blue | Y2: White | Z2: Yellow | AA2: Red | AB2: Blue | AC2: White | AD2: Yellow | AE2: Red | AF2: Blue | AG2: White | AH2: Yellow | AI2: Red | AJ2: Blue | AK2: White | AL2: Yellow | AM2: Red | AN2: Blue | AO2: White | AP2: Yellow | AQ2: Red | AR2: Blue | AS2: White | AT2: Yellow | AU2: Red | AV2: Blue | AW2: White | AX2: Yellow | AY2: Red | AZ2: Blue | BA2: White | BB2: Yellow | BC2: Red | BD2: Blue | BE2: White | BF2: Yellow | BG2: Red | BH2: Blue | BI2: White | BJ2: Yellow | BK2: Red | BL2: Blue | BM2: White | BN2: Yellow | BO2: Red | BP2: Blue | BQ2: White | BR2: Yellow | BS2: Red | BT2: Blue | BU2: White | BV2: Yellow | BW2: Red | BX2: Blue | BY2: White | BZ2: Yellow | CA2: Red | CB2: Blue | CC2: White | CD2: Yellow | CE2: Red | CF2: Blue | CG2: White | CH2: Yellow | CI2: Red | CJ2: Blue | CK2: White | CL2: Yellow | CM2: Red | CN2: Blue | CO2: White | CP2: Yellow | CQ2: Red | CR2: Blue | CS2: White | CT2: Yellow | CU2: Red | CV2: Blue | CW2: White | CX2: Yellow | CY2: Red | CZ2: Blue | DA2: White | DB2: Yellow | DC2: Red | DD2: Blue | DE2: White | DF2: Yellow | DG2: Red | DH2: Blue | DI2: White | DJ2: Yellow | DK2: Red | DL2: Blue | DM2: White | DN2: Yellow | DO2: Red | DP2: Blue | DQ2: White | DR2: Yellow | DS2: Red | DT2: Blue | DU2: White | DV2: Yellow | DW2: Red | DX2: Blue | DY2: White | DZ2: Yellow | EA2: Red | EB2: Blue | EC2: White
A3: KAMAREDDY 100 AND ABOVE BEDS HCFs
A4: 1 | B4: AREAH503111TSBH06149 | C4: AREA HOSPITAL, KAMAREDDY | D4: STATION ROAD, KAMAREDDY - 503111. | E4: 100 | F4: 7 | G4: 4 | H4: 5 | I4: 2 | J4: 7 | K4: 4 | L4: 5 | M4: 2 | O4: 2 | P4: 5 | Q4: 2 | R4: 3 | S4: 2 | T4: 5 | U4: 2 | V4: 3 | W4: 2 | X4: 5 | Y4: 2 | AA4: 5 | AB4: 5 | AC4: 2 | AI4: 5 | AJ4: 5 | AK4: 2 | AM4: 5 | AN4: 5 | AO4: 2 | AP4: 5 | AR4: 5 | AS4: 2 | AT4: 4 | AV4: 5 | AW4: 2 | AX4: 1 | AZ4: 5 | BA4: 2 | BB4: 1 | BD4: 5 | BE4: 2 | BJ4: 1 | BL4: 5 | BM4: 2 | BN4: 1 | BP4: 5 | BQ4: 2 | BR4: 17 | BT4: 5 | BU4: 2 | BV4: 17 | BX4: 5 | BY4: 2 | BZ4: 6 | CB4: 5 | CC4: 2 | CD4: 6 | CF4: 5 | CG4: 2 | CL4: 6 | CN4: 5 | CO4: 2 | CP4: 6 | CR4: 5 | CS4: 2 | CT4: 3 | CU4: 2 | CV4: 5 | CW4: 2 | CX4: 3 | CY4: 2 | CZ4: 5 | DA4: 2 | DB4: 5 | DD4: 5 | DE4: 2 | DF4: 5 | DH4: 5 | DI4: 2 | DN4: 6 | DP4: 5 | DQ4: 2 | DR4: 8 | DT4: 5 | DU4: 2 | DV4: 6 | DX4: 5 | DY4: 2 | DZ4: =F4+J4+N4+R4+V4+Z4+AD4+AH4+AL4+AP4+AT4+AX4+BB4+BF4+BJ4+BN4+BR4+BV4+BZ4+CD4+CH4+CL4+CP4+CT4+CX4+DB4+DF4+DJ4+DN4+DR4+DV4 -> 127 | EA4: =G4+K4+O4+S4+W4+AA4+AE4+AI4+AM4+AQ4+AU4+AY4+BC4+BG4+BK4+BO4+BS4+BW4+CA4+CE4+CI4+CM4+CQ4+CU4+CY4+DC4+DG4+DK4+DO4+DS4+DW4 -> 33 | EB4: =H4+L4+P4+T4+X4+AB4+AF4+AJ4+AN4+AR4+AV4+AZ4+BD4+BH4+BL4+BP4+BT4+BX4+CB4+CF4+CJ4+CN4+CR4+CV4+CZ4+DD4+DH4+DL4+DP4+DT4+DX4 -> 135 | EC4: =I4+M4+Q4+U4+Y4+AC4+AG4+AK4+AO4+AS4+AW4+BA4+BE4+BI4+BM4+BQ4+BU4+BY4+CC4+CG4+CK4+CO4+CS4+CW4+DA4+DE4+DI4+DM4+DQ4+DU4+DY4 -> 54
A5: 2 | B5: JEEVA503111TSBH06112 | C5: JEEVADAN HOSPITAL | D5: 5-3-162, NIZAM SAGAR ROAD, KAMAREDDY - 503111. | E5: 100 | F5: 8 | G5: 3 | H5: 2 | I5: 1 | J5: 5 | K5: 3 | L5: 2 | M5: 1 | O5: 9 | P5: 2 | Q5: 1 | R5: 5 | S5: 5 | T5: 2 | U5: 1 | V5: 2 | W5: 4 | X5: 2 | Y5: 1 | Z5: 5 | AA5: 6 | AB5: 2 | AC5: 1 | AH5: 5 | AI5: 6 | AJ5: 2 | AK5: 1 | AM5: 2 | AN5: 2 | AO5: 1 | AQ5: 2 | AR5: 2 | AS5: 1 | AT5: 5 | AV5: 2 | AW5: 1 | AX5: 5 | AZ5: 2 | BA5: 1 | BB5: 4 | BD5: 2 | BE5: 1 | BK5: 11 | BL5: 2 | BM5: 1 | BO5: 14 | BP5: 2 | BQ5: 1 | BS5: 6 | BT5: 2 | BU5: 1 | BW5: 11 | BX5: 2 | BY5: 1 | CA5: 22 | CB5: 2 | CC5: 1 | CE5: 38 | CF5: 2 | CG5: 1 | CM5: 5 | CN5: 2 | CO5: 1 | CQ5: 3 | CR5: 2 | CS5: 1 | CV5: 2 | CW5: 1 | CZ5: 2 | DA5: 1 | DD5: 2 | DE5: 1 | DH5: 2 | DI5: 1 | DP5: 2 | DQ5: 1 | DT5: 2 | DU5: 1 | DX5: 2 | DY5: 1 | DZ5: =F5+J5+N5+R5+V5+Z5+AD5+AH5+AL5+AP5+AT5+AX5+BB5+BF5+BJ5+BN5+BR5+BV5+BZ5+CD5+CH5+CL5+CP5+CT5+CX5+DB5+DF5+DJ5+DN5+DR5+DV5 -> 44 | EA5: =G5+K5+O5+S5+W5+AA5+AE5+AI5+AM5+AQ5+AU5+AY5+BC5+BG5+BK5+BO5+BS5+BW5+CA5+CE5+CI5+CM5+CQ5+CU5+CY5+DC5+DG5+DK5+DO5+DS5+DW5 -> 150 | EB5: =H5+L5+P5+T5+X5+AB5+AF5+AJ5+AN5+AR5+AV5+AZ5+BD5+BH5+BL5+BP5+BT5+BX5+CB5+CF5+CJ5+CN5+CR5+CV5+CZ5+DD5+DH5+DL5+DP5+DT5+DX5 -> 54 | EC5: =I5+M5+Q5+U5+Y5+AC5+AG5+AK5+AO5+AS5+AW5+BA5+BE5+BI5+BM5+BQ5+BU5+BY5+CC5+CG5+CK5+CO5+CS5+CW5+DA5+DE5+DI5+DM5+DQ5+DU5+DY5 -> 27
A6: 3 | B6: AREAH503187TSBH08193 | C6: AREA HOSPITAL, BANSWADA | D6: BESIDE POST OFFFICE, BANSWADA - 503187 | E6: 100 | G6: 8 | H6: 2 | I6: 1 | K6: 3 | L6: 2 | M6: 1 | O6: 3 | P6: 2 | Q6: 1 | S6: 3 | T6: 2 | U6: 1 | W6: 3 | X6: 2 | Y6: 1 | AA6: 3 | AB6: 2 | AC6: 1 | AI6: 3 | AJ6: 2 | AK6: 1 | AM6: 3 | AN6: 2 | AO6: 1 | AQ6: 3 | AR6: 2 | AS6: 1 | AU6: 3 | AV6: 2 | AW6: 1 | AY6: 3 | AZ6: 2 | BA6: 1 | BC6: 3 | BD6: 2 | BE6: 1 | BK6: 3 | BL6: 2 | BM6: 1 | BO6: 3 | BP6: 2 | BQ6: 1 | BS6: 3 | BT6: 2 | BU6: 1 | BW6: 5 | BX6: 2 | BY6: 1 | BZ6: 7 | CA6: 5 | CB6: 2 | CC6: 1 | CD6: 5 | CE6: 3 | CF6: 2 | CG6: 1 | CL6: 13 | CN6: 2 | CO6: 1 | CQ6: 11 | CR6: 2 | CS6: 1 | CU6: 15 | CV6: 2 | CW6: 1 | CY6: 10 | CZ6: 2 | DA6: 1 | DC6: 6 | DD6: 2 | DE6: 1 | DG6: 3 | DH6: 2 | DI6: 1 | DN6: 9 | DP6: 2 | DQ6: 1 | DS6: 2 | DT6: 2 | DU6: 1 | DW6: 2 | DX6: 2 | DY6: 1 | DZ6: =F6+J6+N6+R6+V6+Z6+AD6+AH6+AL6+AP6+AT6+AX6+BB6+BF6+BJ6+BN6+BR6+BV6+BZ6+CD6+CH6+CL6+CP6+CT6+CX6+DB6+DF6+DJ6+DN6+DR6+DV6 -> 34 | EA6: =G6+K6+O6+S6+W6+AA6+AE6+AI6+AM6+AQ6+AU6+AY6+BC6+BG6+BK6+BO6+BS6+BW6+CA6+CE6+CI6+CM6+CQ6+CU6+CY6+DC6+DG6+DK6+DO6+DS6+DW6 -> 112 | EB6: =H6+L6+P6+T6+X6+AB6+AF6+AJ6+AN6+AR6+AV6+AZ6+BD6+BH6+BL6+BP6+BT6+BX6+CB6+CF6+CJ6+CN6+CR6+CV6+CZ6+DD6+DH6+DL6+DP6+DT6+DX6 -> 54 | EC6: =I6+M6+Q6+U6+Y6+AC6+AG6+AK6+AO6+AS6+AW6+BA6+BE6+BI6+BM6+BQ6+BU6+BY6+CC6+CG6+CK6+CO6+CS6+CW6+DA6+DE6+DI6+DM6+DQ6+DU6+DY6 -> 27
A7: BELOW 100 BEDS HCFs
A8: KAMAREDDY
A9: 1 | B9: LIFEH503111TSBH10120 | C9: LIFE HOSPITAL | D9: H.NO.1-5-518/7, OPP: RAJEEV PARK, SIRICILLA ROAD, KAMAREDDY - 503111. | E9: 50 | G9: 3 | K9: 3 | O9: 2 | S9: 2 | W9: 2 | AA9: 2 | AI9: 2 | AM9: 2 | AQ9: 2 | AU9: 2 | AY9: 2 | BC9: 2 | BK9: 3 | BO9: 3 | BS9: 3 | BW9: 3 | CT9: 2 | CX9: 2 | DB9: 2 | DF9: 2 | DN9: 2 | DR9: 2 | DV9: 2 | DZ9: =F9+J9+N9+R9+V9+Z9+AD9+AH9+AL9+AP9+AT9+AX9+BB9+BF9+BJ9+BN9+BR9+BV9+BZ9+CD9+CH9+CL9+CP9+CT9+CX9+DB9+DF9+DJ9+DN9+DR9+DV9 -> 14 | EA9: =G9+K9+O9+S9+W9+AA9+AE9+AI9+AM9+AQ9+AU9+AY9+BC9+BG9+BK9+BO9+BS9+BW9+CA9+CE9+CI9+CM9+CQ9+CU9+CY9+DC9+DG9+DK9+DO9+DS9+DW9 -> 38 | EB9: =H9+L9+P9+T9+X9+AB9+AF9+AJ9+AN9+AR9+AV9+AZ9+BD9+BH9+BL9+BP9+BT9+BX9+CB9+CF9+CJ9+CN9+CR9+CV9+CZ9+DD9+DH9+DL9+DP9+DT9+DX9 -> 0 | EC9: =I9+M9+Q9+U9+Y9+AC9+AG9+AK9+AO9+AS9+AW9+BA9+BE9+BI9+BM9+BQ9+BU9+BY9+CC9+CG9+CK9+CO9+CS9+CW9+DA9+DE9+DI9+DM9+DQ9+DU9+DY9 -> 0
A10: 2 | B10: SHISH503111TSBH11233 | C10: SHISHURAKSHA THIRUMALA CHILDREN'S HOSPITAL | D10: H.No. 1-7-68, SIRICILLA ROAD, KAMAREDDY - 503111 | E10: 50 | F10: 3 | G10: 2 | J10: 3 | K10: 2 | N10: 3 | O10: 2 | R10: 3 | S10: 2 | V10: 3 | W10: 2 | Z10: 3 | AA10: 2 | AH10: 3 | AI10: 2 | AL10: 3 | AM10: 2 | AP10: 3 | AQ10: 2 | AT10: 3 | AU10: 2 | AX10: 3 | AY10: 2 | BB10: 3 | BC10: 2 | BJ10: 3 | BK10: 2 | BN10: 3 | BO10: 2 | BR10: 3 | BS10: 2 | BV10: 3 | BW10: 2 | CY10: 2 | DC10: 2 | DG10: 2 | DO10: 2 | DS10: 2 | DW10: 2 | DZ10: =F10+J10+N10+R10+V10+Z10+AD10+AH10+AL10+AP10+AT10+AX10+BB10+BF10+BJ10+BN10+BR10+BV10+BZ10+CD10+CH10+CL10+CP10+CT10+CX10+DB10+DF10+DJ10+DN10+DR10+DV10 -> 48 | EA10: =G10+K10+O10+S10+W10+AA10+AE10+AI10+AM10+AQ10+AU10+AY10+BC10+BG10+BK10+BO10+BS10+BW10+CA10+CE10+CI10+CM10+CQ10+CU10+CY10+DC10+DG10+DK10+DO10+DS10+DW10 -> 44 | EB10: =H10+L10+P10+T10+X10+AB10+AF10+AJ10+AN10+AR10+AV10+AZ10+BD10+BH10+BL10+BP10+BT10+BX10+CB10+CF10+CJ10+CN10+CR10+CV10+CZ10+DD10+DH10+DL10+DP10+DT10+DX10 -> 0 | EC10: =I10+M10+Q10+U10+Y10+AC10+AG10+AK10+AO10+AS10+AW10+BA10+BE10+BI10+BM10+BQ10+BU10+BY10+CC10+CG10+CK10+CO10+CS10+CW10+DA10+DE10+DI10+DM10+DQ10+DU10+DY10 -> 0
A11: 3 | B11: SRIME503111TSBH16237 | C11: SRI MEDICARE HOSPITAL | D11: H.No: 5-3-69/1, KOUNDINYA BUILDING, OPP: R & B GUEST HOUSE, KAMAREDDY - 503111. | E11: 50 | F11: 5 | G11: 1 | J11: 5 | K11: 1 | N11: 5 | O11: 1 | R11: 5 | S11: 1 | V11: 5 | W11: 1 | Z11: 5 | AA11: 1 | AH11: 5 | AI11: 1 | AL11: 5 | AM11: 1 | AP11: 5 | AQ11: 1 | AT11: 5 | AU11: 1 | AX11: 5 | AY11: 1 | BB11: 5 | BC11: 1 | BJ11: 5 | BK11: 1 | BN11: 5 | BO11: 1 | BR11: 5 | BS11: 1 | BV11: 5 | BW11: 1 | DZ11: =F11+J11+N11+R11+V11+Z11+AD11+AH11+AL11+AP11+AT11+AX11+BB11+BF11+BJ11+BN11+BR11+BV11+BZ11+CD11+CH11+CL11+CP11+CT11+CX11+DB11+DF11+DJ11+DN11+DR11+DV11 -> 80 | EA11: =G11+K11+O11+S11+W11+AA11+AE11+AI11+AM11+AQ11+AU11+AY11+BC11+BG11+BK11+BO11+BS11+BW11+CA11+CE11+CI11+CM11+CQ11+CU11+CY11+DC11+DG11+DK11+DO11+DS11+DW11 -> 16 | EB11: =H11+L11+P11+T11+X11+AB11+AF11+AJ11+AN11+AR11+AV11+AZ11+BD11+BH11+BL11+BP11+BT11+BX11+CB11+CF11+CJ11+CN11+CR11+CV11+CZ11+DD11+DH11+DL11+DP11+DT11+DX11 -> 0 | EC11: =I11+M11+Q11+U11+Y11+AC11+AG11+AK11+AO11+AS11+AW11+BA11+BE11+BI11+BM11+BQ11+BU11+BY11+CC11+CG11+CK11+CO11+CS11+CW11+DA11+DE11+DI11+DM11+DQ11+DU11+DY11 -> 0
A12: 4 | B12: DRKAN503001TSBH00942 | C12: Dr. K ANJAL REDDY MEMORIAL HOSPITAL | D12: NETHAJI ROAD, KAMAREDDY - 503111. | E12: 30 | F12: 3 | G12: 2 | J12: 3 | K12: 2 | N12: 3 | O12: 2 | S12: 2 | W12: 2 | AA12: 2 | AI12: 2 | AM12: 2 | AQ12: 2 | AU12: 2 | AY12: 2 | BC12: 2 | BJ12: 3 | BN12: 3 | BR12: 3 | BV12: 3 | BZ12: 3 | CD12: 3 | CL12: 3 | CP12: 3 | CT12: 3 | CX12: 3 | DB12: 3 | DF12: 3 | DN12: 3 | DR12: 3 | DV12: 3 | DZ12: =F12+J12+N12+R12+V12+Z12+AD12+AH12+AL12+AP12+AT12+AX12+BB12+BF12+BJ12+BN12+BR12+BV12+BZ12+CD12+CH12+CL12+CP12+CT12+CX12+DB12+DF12+DJ12+DN12+DR12+DV12 -> 54 | EA12: =G12+K12+O12+S12+W12+AA12+AE12+AI12+AM12+AQ12+AU12+AY12+BC12+BG12+BK12+BO12+BS12+BW12+CA12+CE12+CI12+CM12+CQ12+CU12+CY12+DC12+DG12+DK12+DO12+DS12+DW12 -> 24 | EB12: =H12+L12+P12+T12+X12+AB12+AF12+AJ12+AN12+AR12+AV12+AZ12+BD12+BH12+BL12+BP12+BT12+BX12+CB12+CF12+CJ12+CN12+CR12+CV12+CZ12+DD12+DH12+DL12+DP12+DT12+DX12 -> 0 | EC12: =I12+M12+Q12+U12+Y12+AC12+AG12+AK12+AO12+AS12+AW12+BA12+BE12+BI12+BM12+BQ12+BU12+BY12+CC12+CG12+CK12+CO12+CS12+CW12+DA12+DE12+DI12+DM12+DQ12+DU12+DY12 -> 0
A13: 5 | B13: DEVIH503111TSBH08368 | C13: DEVI HOSPITAL | D13: H.No.5-6-417, BESIDE ANDHRA BANK, R.K. LODGE ROAD, NGO'S COLONY, KAMAREDDY - 503111. | E13: 25 | F13: 1 | G13: 1 | J13: 1 | K13: 1 | N13: 1 | O13: 1 | R13: 1 | S13: 1 | V13: 1 | W13: 1 | Z13: 1 | AA13: 1 | AH13: 1 | AI13: 1 | AL13: 1 | AM13: 1 | AP13: 1 | AQ13: 1 | AT13: 1 | AU13: 1 | AX13: 1 | AY13: 1 | BB13: 1 | BC13: 1 | BJ13: 1 | BK13: 1 | BN13: 1 | BO13: 1 | BR13: 1 | BS13: 1 | BV13: 1 | BW13: 1 | BZ13: 1 | CA13: 1 | CD13: 1 | CE13: 1 | CL13: 1 | CM13: 1 | CP13: 1 | CQ13: 1 | CT13: 1 | CU13: 1 | CX13: 1 | CY13: 1 | DB13: 2 | DF13: 2 | DN13: 2 | DR13: 2 | DW13: 5 | DZ13: =F13+J13+N13+R13+V13+Z13+AD13+AH13+AL13+AP13+AT13+AX13+BB13+BF13+BJ13+BN13+BR13+BV13+BZ13+CD13+CH13+CL13+CP13+CT13+CX13+DB13+DF13+DJ13+DN13+DR13+DV13 -> 30 | EA13: =G13+K13+O13+S13+W13+AA13+AE13+AI13+AM13+AQ13+AU13+AY13+BC13+BG13+BK13+BO13+BS13+BW13+CA13+CE13+CI13+CM13+CQ13+CU13+CY13+DC13+DG13+DK13+DO13+DS13+DW13 -> 27 | EB13: =H13+L13+P13+T13+X13+AB13+AF13+AJ13+AN13+AR13+AV13+AZ13+BD13+BH13+BL13+BP13+BT13+BX13+CB13+CF13+CJ13+CN13+CR13+CV13+CZ13+DD13+DH13+DL13+DP13+DT13+DX13 -> 0 | EC13: =I13+M13+Q13+U13+Y13+AC13+AG13+AK13+AO13+AS13+AW13+BA13+BE13+BI13+BM13+BQ13+BU13+BY13+CC13+CG13+CK13+CO13+CS13+CW13+DA13+DE13+DI13+DM13+DQ13+DU13+DY13 -> 0
A14: 6 | B14: JAYAM503111TSBH00986 | C14: JAYA MULTI SPECIALITY HOSPITAL | D14: BESIDE ARYABATTA JUNIOR COLLEGE, KAMAREDDY - 503111. | E14: 25 | F14: 2 | J14: 2 | N14: 2 | R14: 2 | V14: 1 | W14: 1 | Z14: 1 | AA14: 1 | AH14: 1 | AI14: 1 | AL14: 1 | AM14: 1 | AQ14: 2 | AU14: 2 | AY14: 2 | BC14: 2 | BK14: 2 | BO14: 2 | BS14: 2 | BW14: 2 | CA14: 2 | CE14: 2 | CM14: 2 | CQ14: 2 | CT14: 2 | CX14: 2 | DB14: 2 | DF14: 2 | DN14: 2 | DR14: 2 | DV14: 2 | DZ14: =F14+J14+N14+R14+V14+Z14+AD14+AH14+AL14+AP14+AT14+AX14+BB14+BF14+BJ14+BN14+BR14+BV14+BZ14+CD14+CH14+CL14+CP14+CT14+CX14+DB14+DF14+DJ14+DN14+DR14+DV14 -> 26 | EA14: =G14+K14+O14+S14+W14+AA14+AE14+AI14+AM14+AQ14+AU14+AY14+BC14+BG14+BK14+BO14+BS14+BW14+CA14+CE14+CI14+CM14+CQ14+CU14+CY14+DC14+DG14+DK14+DO14+DS14+DW14 -> 28 | EB14: =H14+L14+P14+T14+X14+AB14+AF14+AJ14+AN14+AR14+AV14+AZ14+BD14+BH14+BL14+BP14+BT14+BX14+CB14+CF14+CJ14+CN14+CR14+CV14+CZ14+DD14+DH14+DL14+DP14+DT14+DX14 -> 0 | EC14: =I14+M14+Q14+U14+Y14+AC14+AG14+AK14+AO14+AS14+AW14+BA14+BE14+BI14+BM14+BQ14+BU14+BY14+CC14+CG14+CK14+CO14+CS14+CW14+DA14+DE14+DI14+DM14+DQ14+DU14+DY14 -> 0
A15: 7 | B15: AKHIL503111TSBH09690 | C15: AKHILA HOSPITAL | D15: N.H.7 ROAD, VIKASNAGAR COLONY, I.B.P. OPP: PETROL BUNK, KAMAREDDY - 503111. | E15: 20 | F15: 2 | G15: 2 | J15: 2 | K15: 2 | N15: 2 | O15: 2 | R15: 2 | S15: 2 | V15: 2 | W15: 2 | Z15: 2 | AA15: 2 | AH15: 2 | AI15: 2 | AL15: 2 | AM15: 2 | AP15: 2 | AQ15: 2 | AT15: 2 | AU15: 2 | AX15: 2 | AY15: 2 | BB15: 2 | BC15: 2 | BJ15: 2 | BK15: 2 | BN15: 2 | BO15: 2 | BR15: 2 | BS15: 2 | BV15: 2 | BW15: 2 | BZ15: 2 | CA15: 2 | CD15: 2 | CE15: 2 | CL15: 2 | CM15: 2 | CP15: 2 | CQ15: 2 | CT15: 2 | CU15: 2 | CX15: 2 | CY15: 2 | DB15: 2 | DC15: 2 | DF15: 2 | DG15: 2 | DN15: 2 | DO15: 2 | DR15: 2 | DS15: 2 | DV15: 2 | DW15: 2 | DZ15: =F15+J15+N15+R15+V15+Z15+AD15+AH15+AL15+AP15+AT15+AX15+BB15+BF15+BJ15+BN15+BR15+BV15+BZ15+CD15+CH15+CL15+CP15+CT15+CX15+DB15+DF15+DJ15+DN15+DR15+DV15 -> 54 | EA15: =G15+K15+O15+S15+W15+AA15+AE15+AI15+AM15+AQ15+AU15+AY15+BC15+BG15+BK15+BO15+BS15+BW15+CA15+CE15+CI15+CM15+CQ15+CU15+CY15+DC15+DG15+DK15+DO15+DS15+DW15 -> 54 | EB15: =H15+L15+P15+T15+X15+AB15+AF15+AJ15+AN15+AR15+AV15+AZ15+BD15+BH15+BL15+BP15+BT15+BX15+CB15+CF15+CJ15+CN15+CR15+CV15+CZ15+DD15+DH15+DL15+DP15+DT15+DX15 -> 0 | EC15: =I15+M15+Q15+U15+Y15+AC15+AG15+AK15+AO15+AS15+AW15+BA15+BE15+BI15+BM15+BQ15+BU15+BY15+CC15+CG15+CK15+CO15+CS15+CW15+DA15+DE15+DI15+DM15+DQ15+DU15+DY15 -> 0
A16: 8 | B16: APEXM503111TSBH11727 | C16: APEX MULTISPECIALTY HOSPITAL | D16: OPPOSITE R & B GUEST HOUSE, OLD NH-7 ROAD, KAMAREDDY - 503111. | E16: 20 | G16: 3 | K16: 2 | O16: 2 | S16: 2 | W16: 2 | AA16: 2 | AI16: 2 | AM16: 2 | AQ16: 2 | AU16: 2 | AX16: 2 | BB16: 2 | BJ16: 2 | BN16: 2 | BR16: 5 | BV16: 5 | BZ16: 5 | CD16: 5 | CL16: 5 | CP16: 1 | CT16: 1 | CX16: 1 | DB16: 2 | DF16: 4 | DN16: 4 | DR16: 4 | DV16: 4 | DZ16: =F16+J16+N16+R16+V16+Z16+AD16+AH16+AL16+AP16+AT16+AX16+BB16+BF16+BJ16+BN16+BR16+BV16+BZ16+CD16+CH16+CL16+CP16+CT16+CX16+DB16+DF16+DJ16+DN16+DR16+DV16 -> 54 | EA16: =G16+K16+O16+S16+W16+AA16+AE16+AI16+AM16+AQ16+AU16+AY16+BC16+BG16+BK16+BO16+BS16+BW16+CA16+CE16+CI16+CM16+CQ16+CU16+CY16+DC16+DG16+DK16+DO16+DS16+DW16 -> 21 | EB16: =H16+L16+P16+T16+X16+AB16+AF16+AJ16+AN16+AR16+AV16+AZ16+BD16+BH16+BL16+BP16+BT16+BX16+CB16+CF16+CJ16+CN16+CR16+CV16+CZ16+DD16+DH16+DL16+DP16+DT16+DX16 -> 0 | EC16: =I16+M16+Q16+U16+Y16+AC16+AG16+AK16+AO16+AS16+AW16+BA16+BE16+BI16+BM16+BQ16+BU16+BY16+CC16+CG16+CK16+CO16+CS16+CW16+DA16+DE16+DI16+DM16+DQ16+DU16+DY16 -> 0
A17: 9 | B17: GEERE503111TSBH06128 | C17: GEEREDDY RAVINDER REDDY NEURO SUPER SPECIALITY HOSPITAL | D17: H.No.1-5-56, OPP: JAGRUTHI HOSPIITAL, GOWDOWN ROAD, KAMAREDDY - 503111. | E17: 20 | G17: 2 | K17: 2 | O17: 2 | S17: 2 | W17: 2 | AA17: 2 | AI17: 2 | AM17: 2 | AQ17: 2 | AU17: 2 | AY17: 2 | BC17: 2 | BK17: 2 | BO17: 2 | BS17: 2 | BW17: 2 | CA17: 2 | CE17: 2 | CM17: 2 | CQ17: 2 | CU17: 2 | CY17: 2 | DC17: 2 | DG17: 2 | DO17: 2 | DS17: 2 | DW17: 2 | DZ17: =F17+J17+N17+R17+V17+Z17+AD17+AH17+AL17+AP17+AT17+AX17+BB17+BF17+BJ17+BN17+BR17+BV17+BZ17+CD17+CH17+CL17+CP17+CT17+CX17+DB17+DF17+DJ17+DN17+DR17+DV17 -> 0 | EA17: =G17+K17+O17+S17+W17+AA17+AE17+AI17+AM17+AQ17+AU17+AY17+BC17+BG17+BK17+BO17+BS17+BW17+CA17+CE17+CI17+CM17+CQ17+CU17+CY17+DC17+DG17+DK17+DO17+DS17+DW17 -> 54 | EB17: =H17+L17+P17+T17+X17+AB17+AF17+AJ17+AN17+AR17+AV17+AZ17+BD17+BH17+BL17+BP17+BT17+BX17+CB17+CF17+CJ17+CN17+CR17+CV17+CZ17+DD17+DH17+DL17+DP17+DT17+DX17 -> 0 | EC17: =I17+M17+Q17+U17+Y17+AC17+AG17+AK17+AO17+AS17+AW17+BA17+BE17+BI17+BM17+BQ17+BU17+BY17+CC17+CG17+CK17+CO17+CS17+CW17+DA17+DE17+DI17+DM17+DQ17+DU17+DY17 -> 0
A18: 10 | B18: MAATR503111TSBH14019 | C18: MATRUSRI HOSPITAL MATERNITY & SURGICAL, KAMAREDDY | D18: H.NO. 1-5-209, SIRICILLA ROAD, OPP: ROAD OF GUNJ GATE, BESIDE SRIRAM CT SCAN, NETHAJI ROAD, KAMAREDDY,Kamareddy ( U ),Kamareddy,KAMAREDDY,503111 | E18: 20 | G18: 1 | K18: 1 | O18: 1 | S18: 1 | V18: 1 | Z18: 1 | AH18: 1 | AL18: 1 | AP18: 1 | AT18: 1 | AY18: 1 | BC18: 1 | BK18: 1 | BO18: 1 | BS18: 1 | BW18: 1 | CA18: 1 | CD18: 1 | CL18: 1 | CP18: 2 | CT18: 2 | CY18: 1 | DC18: 1 | DG18: 1 | DO18: 3 | DS18: 3 | DW18: 2 | DZ18: =F18+J18+N18+R18+V18+Z18+AD18+AH18+AL18+AP18+AT18+AX18+BB18+BF18+BJ18+BN18+BR18+BV18+BZ18+CD18+CH18+CL18+CP18+CT18+CX18+DB18+DF18+DJ18+DN18+DR18+DV18 -> 12 | EA18: =G18+K18+O18+S18+W18+AA18+AE18+AI18+AM18+AQ18+AU18+AY18+BC18+BG18+BK18+BO18+BS18+BW18+CA18+CE18+CI18+CM18+CQ18+CU18+CY18+DC18+DG18+DK18+DO18+DS18+DW18 -> 22 | EB18: =H18+L18+P18+T18+X18+AB18+AF18+AJ18+AN18+AR18+AV18+AZ18+BD18+BH18+BL18+BP18+BT18+BX18+CB18+CF18+CJ18+CN18+CR18+CV18+CZ18+DD18+DH18+DL18+DP18+DT18+DX18 -> 0 | EC18: =I18+M18+Q18+U18+Y18+AC18+AG18+AK18+AO18+AS18+AW18+BA18+BE18+BI18+BM18+BQ18+BU18+BY18+CC18+CG18+CK18+CO18+CS18+CW18+DA18+DE18+DI18+DM18+DQ18+DU18+DY18 -> 0
A19: 11 | B19: RAJYA503111TSBH02589 | C19: RAJYALAKSHMI NURSING HOME | D19: H.No.1-5-124/10, OPP: BHOOPUTHRAMMA FUNCTION HALL, KAMAREDDY - 503111. | E19: 20 | F19: 2 | J19: 2 | N19: 2 | R19: 2 | V19: 2 | Z19: 2 | AH19: 2 | AL19: 2 | AP19: 2 | AT19: 2 | AX19: 2 | BB19: 2 | BJ19: 2 | BN19: 2 | BR19: 2 | BV19: 2 | BZ19: 2 | CD19: 2 | CL19: 2 | CP19: 2 | CT19: 2 | CX19: 2 | DB19: 2 | DF19: 2 | DN19: 2 | DR19: 2 | DV19: 2 | DZ19: =F19+J19+N19+R19+V19+Z19+AD19+AH19+AL19+AP19+AT19+AX19+BB19+BF19+BJ19+BN19+BR19+BV19+BZ19+CD19+CH19+CL19+CP19+CT19+CX19+DB19+DF19+DJ19+DN19+DR19+DV19 -> 54 | EA19: =G19+K19+O19+S19+W19+AA19+AE19+AI19+AM19+AQ19+AU19+AY19+BC19+BG19+BK19+BO19+BS19+BW19+CA19+CE19+CI19+CM19+CQ19+CU19+CY19+DC19+DG19+DK19+DO19+DS19+DW19 -> 0 | EB19: =H19+L19+P19+T19+X19+AB19+AF19+AJ19+AN19+AR19+AV19+AZ19+BD19+BH19+BL19+BP19+BT19+BX19+CB19+CF19+CJ19+CN19+CR19+CV19+CZ19+DD19+DH19+DL19+DP19+DT19+DX19 -> 0 | EC19: =I19+M19+Q19+U19+Y19+AC19+AG19+AK19+AO19+AS19+AW19+BA19+BE19+BI19+BM19+BQ19+BU19+BY19+CC19+CG19+CK19+CO19+CS19+CW19+DA19+DE19+DI19+DM19+DQ19+DU19+DY19 -> 0
A20: 12 | B20: SHRAV503111TSBH09936 | C20: SHRAVANI EYE HOSPITAL | D20: BESIDE T. BAIRAIAH MEMORIAL HOSPITAL, GODOWN ROAD, KAMAREDDY - 503111. | E20: 20 | F20: 2 | J20: 2 | N20: 2 | R20: 2 | V20: 2 | AA20: 4 | AI20: 4 | AM20: 4 | AQ20: 4 | AU20: 4 | AY20: 4 | BC20: 2 | BK20: 2 | BO20: 2 | BS20: 2 | BW20: 2 | CA20: 2 | CE20: 3 | CM20: 3 | CQ20: 3 | CT20: 5 | CU20: 3 | CX20: 5 | CY20: 3 | DB20: 5 | DC20: 3 | DF20: 5 | DG20: 3 | DN20: 5 | DO20: 3 | DR20: 5 | DS20: 3 | DV20: 5 | DW20: 3 | DZ20: =F20+J20+N20+R20+V20+Z20+AD20+AH20+AL20+AP20+AT20+AX20+BB20+BF20+BJ20+BN20+BR20+BV20+BZ20+CD20+CH20+CL20+CP20+CT20+CX20+DB20+DF20+DJ20+DN20+DR20+DV20 -> 45 | EA20: =G20+K20+O20+S20+W20+AA20+AE20+AI20+AM20+AQ20+AU20+AY20+BC20+BG20+BK20+BO20+BS20+BW20+CA20+CE20+CI20+CM20+CQ20+CU20+CY20+DC20+DG20+DK20+DO20+DS20+DW20 -> 66 | EB20: =H20+L20+P20+T20+X20+AB20+AF20+AJ20+AN20+AR20+AV20+AZ20+BD20+BH20+BL20+BP20+BT20+BX20+CB20+CF20+CJ20+CN20+CR20+CV20+CZ20+DD20+DH20+DL20+DP20+DT20+DX20 -> 0 | EC20: =I20+M20+Q20+U20+Y20+AC20+AG20+AK20+AO20+AS20+AW20+BA20+BE20+BI20+BM20+BQ20+BU20+BY20+CC20+CG20+CK20+CO20+CS20+CW20+DA20+DE20+DI20+DM20+DQ20+DU20+DY20 -> 0
A21: 13 | B21: SREEG503111TSBH00895 | C21: SREE GANESHA MULTI SPECIALITY HOSPITAL | D21: H.No.1-7-73, DAILY MARKET, THILAK ROAD, KAMAREDDY - 503111. | E21: 20 | F21: 2 | J21: 2 | N21: 2 | R21: 2 | V21: 2 | Z21: 2 | AH21: 2 | AL21: 2 | AP21: 2 | AT21: 2 | AX21: 2 | BB21: 2 | BJ21: 2 | BN21: 2 | BR21: 2 | BV21: 2 | BZ21: 2 | CD21: 2 | CL21: 2 | CP21: 2 | CT21: 2 | CX21: 2 | DB21: 2 | DF21: 2 | DN21: 2 | DR21: 2 | DV21: 2 | DZ21: =F21+J21+N21+R21+V21+Z21+AD21+AH21+AL21+AP21+AT21+AX21+BB21+BF21+BJ21+BN21+BR21+BV21+BZ21+CD21+CH21+CL21+CP21+CT21+CX21+DB21+DF21+DJ21+DN21+DR21+DV21 -> 54 | EA21: =G21+K21+O21+S21+W21+AA21+AE21+AI21+AM21+AQ21+AU21+AY21+BC21+BG21+BK21+BO21+BS21+BW21+CA21+CE21+CI21+CM21+CQ21+CU21+CY21+DC21+DG21+DK21+DO21+DS21+DW21 -> 0 | EB21: =H21+L21+P21+T21+X21+AB21+AF21+AJ21+AN21+AR21+AV21+AZ21+BD21+BH21+BL21+BP21+BT21+BX21+CB21+CF21+CJ21+CN21+CR21+CV21+CZ21+DD21+DH21+DL21+DP21+DT21+DX21 -> 0 | EC21: =I21+M21+Q21+U21+Y21+AC21+AG21+AK21+AO21+AS21+AW21+BA21+BE21+BI21+BM21+BQ21+BU21+BY21+CC21+CG21+CK21+CO21+CS21+CW21+DA21+DE21+DI21+DM21+DQ21+DU21+DY21 -> 0
A22: 14 | B22: SRIJA503111TSBH06130 | C22: SRI JANANI MOTHER & CHILD HOPSITAL | D22: GOWDOWN ROAD, BEHIND GANGA CHILDRENS HOSPITAL, NEAR POOJA DIAGNOSTICS CENTRE , KAMAREDDY - 503111. | E22: 20 | F22: 2 | J22: 2 | N22: 2 | R22: 2 | V22: 2 | Z22: 2 | AH22: 2 | AL22: 2 | AP22: 2 | AT22: 2 | AX22: 2 | BB22: 2 | BJ22: 2 | BN22: 2 | BR22: 2 | BV22: 2 | BZ22: 2 | CD22: 2 | CL22: 2 | CP22: 2 | CT22: 2 | CX22: 2 | DB22: 2 | DF22: 2 | DN22: 2 | DR22: 2 | DV22: 2 | DZ22: =F22+J22+N22+R22+V22+Z22+AD22+AH22+AL22+AP22+AT22+AX22+BB22+BF22+BJ22+BN22+BR22+BV22+BZ22+CD22+CH22+CL22+CP22+CT22+CX22+DB22+DF22+DJ22+DN22+DR22+DV22 -> 54 | EA22: =G22+K22+O22+S22+W22+AA22+AE22+AI22+AM22+AQ22+AU22+AY22+BC22+BG22+BK22+BO22+BS22+BW22+CA22+CE22+CI22+CM22+CQ22+CU22+CY22+DC22+DG22+DK22+DO22+DS22+DW22 -> 0 | EB22: =H22+L22+P22+T22+X22+AB22+AF22+AJ22+AN22+AR22+AV22+AZ22+BD22+BH22+BL22+BP22+BT22+BX22+CB22+CF22+CJ22+CN22+CR22+CV22+CZ22+DD22+DH22+DL22+DP22+DT22+DX22 -> 0 | EC22: =I22+M22+Q22+U22+Y22+AC22+AG22+AK22+AO22+AS22+AW22+BA22+BE22+BI22+BM22+BQ22+BU22+BY22+CC22+CG22+CK22+CO22+CS22+CW22+DA22+DE22+DI22+DM22+DQ22+DU22+DY22 -> 0
A23: 15 | B23: SRIKR503111TSBH16243 | C23: SRI KRISHNA URO & MULTISPECIALITY HOSPITAL | D23: H.NO. 1-6-37, BESIDE GUNJ GATE, SIRCILLA ROAD, KAMAREDDY - 503111. | E23: 20 | DZ23: =F23+J23+N23+R23+V23+Z23+AD23+AH23+AL23+AP23+AT23+AX23+BB23+BF23+BJ23+BN23+BR23+BV23+BZ23+CD23+CH23+CL23+CP23+CT23+CX23+DB23+DF23+DJ23+DN23+DR23+DV23 -> 0 | EA23: =G23+K23+O23+S23+W23+AA23+AE23+AI23+AM23+AQ23+AU23+AY23+BC23+BG23+BK23+BO23+BS23+BW23+CA23+CE23+CI23+CM23+CQ23+CU23+CY23+DC23+DG23+DK23+DO23+DS23+DW23 -> 0 | EB23: =H23+L23+P23+T23+X23+AB23+AF23+AJ23+AN23+AR23+AV23+AZ23+BD23+BH23+BL23+BP23+BT23+BX23+CB23+CF23+CJ23+CN23+CR23+CV23+CZ23+DD23+DH23+DL23+DP23+DT23+DX23 -> 0 | EC23: =I23+M23+Q23+U23+Y23+AC23+AG23+AK23+AO23+AS23+AW23+BA23+BE23+BI23+BM23+BQ23+BU23+BY23+CC23+CG23+CK23+CO23+CS23+CW23+DA23+DE23+DI23+DM23+DQ23+DU23+DY23 -> 0
A24: 16 | B24: SRISA503111TSBH07063 | C24: SRI SAI SIMHA MULTI SPECIALITY HOME | D24: H.NO. 1-5-192, NETHAJI ROAD, OLD BUS STAND, KAMAREDDY - 503111. | E24: 20 | G24: 2 | K24: 2 | O24: 2 | S24: 2 | W24: 2 | AA24: 2 | AI24: 2 | AM24: 2 | AQ24: 2 | AU24: 2 | AY24: 2 | BC24: 2 | BK24: 2 | BO24: 2 | BS24: 2 | BW24: 2 | CA24: 2 | CD24: 2 | CL24: 2 | CP24: 2 | CT24: 2 | CX24: 2 | DB24: 2 | DF24: 2 | DN24: 1 | DR24: 1 | DV24: 2 | DZ24: =F24+J24+N24+R24+V24+Z24+AD24+AH24+AL24+AP24+AT24+AX24+BB24+BF24+BJ24+BN24+BR24+BV24+BZ24+CD24+CH24+CL24+CP24+CT24+CX24+DB24+DF24+DJ24+DN24+DR24+DV24 -> 18 | EA24: =G24+K24+O24+S24+W24+AA24+AE24+AI24+AM24+AQ24+AU24+AY24+BC24+BG24+BK24+BO24+BS24+BW24+CA24+CE24+CI24+CM24+CQ24+CU24+CY24+DC24+DG24+DK24+DO24+DS24+DW24 -> 34 | EB24: =H24+L24+P24+T24+X24+AB24+AF24+AJ24+AN24+AR24+AV24+AZ24+BD24+BH24+BL24+BP24+BT24+BX24+CB24+CF24+CJ24+CN24+CR24+CV24+CZ24+DD24+DH24+DL24+DP24+DT24+DX24 -> 0 | EC24: =I24+M24+Q24+U24+Y24+AC24+AG24+AK24+AO24+AS24+AW24+BA24+BE24+BI24+BM24+BQ24+BU24+BY24+CC24+CG24+CK24+CO24+CS24+CW24+DA24+DE24+DI24+DM24+DQ24+DU24+DY24 -> 0
A25: 17 | B25: SRISA503001TSBH08370 | C25: SRI SAI SRINIVASA HOSPITAL | D25: NEAR PRAKASH RAO EYE HOSPITAL, RAMAREDDY ROAD, KAMAREDDY - 503111. | E25: 20 | F25: 2 | J25: 2 | N25: 2 | R25: 2 | V25: 2 | Z25: 2 | AH25: 2 | AL25: 2 | AP25: 2 | AT25: 2 | AX25: 2 | BB25: 2 | BJ25: 2 | BN25: 2 | BR25: 2 | BW25: 2 | CA25: 2 | CE25: 2 | CM25: 2 | CQ25: 2 | CU25: 2 | CX25: 3 | DB25: 3 | DF25: 3 | DN25: 3 | DR25: 3 | DW25: 2 | DZ25: =F25+J25+N25+R25+V25+Z25+AD25+AH25+AL25+AP25+AT25+AX25+BB25+BF25+BJ25+BN25+BR25+BV25+BZ25+CD25+CH25+CL25+CP25+CT25+CX25+DB25+DF25+DJ25+DN25+DR25+DV25 -> 45 | EA25: =G25+K25+O25+S25+W25+AA25+AE25+AI25+AM25+AQ25+AU25+AY25+BC25+BG25+BK25+BO25+BS25+BW25+CA25+CE25+CI25+CM25+CQ25+CU25+CY25+DC25+DG25+DK25+DO25+DS25+DW25 -> 14 | EB25: =H25+L25+P25+T25+X25+AB25+AF25+AJ25+AN25+AR25+AV25+AZ25+BD25+BH25+BL25+BP25+BT25+BX25+CB25+CF25+CJ25+CN25+CR25+CV25+CZ25+DD25+DH25+DL25+DP25+DT25+DX25 -> 0 | EC25: =I25+M25+Q25+U25+Y25+AC25+AG25+AK25+AO25+AS25+AW25+BA25+BE25+BI25+BM25+BQ25+BU25+BY25+CC25+CG25+CK25+CO25+CS25+CW25+DA25+DE25+DI25+DM25+DQ25+DU25+DY25 -> 0
A26: 18 | B26: THIRU503111TSBH00893 | C26: THIRUMALA NURSING HOME | D26: OPPOSITE LANE OF BUS STATION, AHSOK NAGAR COLONY, KAMAREDDY - 503111. | E26: 20 | F26: 2 | J26: 2 | N26: 2 | R26: 2 | V26: 2 | Z26: 2 | AH26: 2 | AL26: 2 | AP26: 2 | AT26: 4 | AX26: 3 | BB26: 2 | BJ26: 2 | BN26: 1 | BR26: 1 | BW26: 2 | CA26: 2 | CE26: 2 | CM26: 2 | CQ26: 2 | CU26: 1 | CY26: 1 | DC26: 4 | DG26: 2 | DO26: 1 | DS26: 1 | DW26: 1 | DZ26: =F26+J26+N26+R26+V26+Z26+AD26+AH26+AL26+AP26+AT26+AX26+BB26+BF26+BJ26+BN26+BR26+BV26+BZ26+CD26+CH26+CL26+CP26+CT26+CX26+DB26+DF26+DJ26+DN26+DR26+DV26 -> 31 | EA26: =G26+K26+O26+S26+W26+AA26+AE26+AI26+AM26+AQ26+AU26+AY26+BC26+BG26+BK26+BO26+BS26+BW26+CA26+CE26+CI26+CM26+CQ26+CU26+CY26+DC26+DG26+DK26+DO26+DS26+DW26 -> 21 | EB26: =H26+L26+P26+T26+X26+AB26+AF26+AJ26+AN26+AR26+AV26+AZ26+BD26+BH26+BL26+BP26+BT26+BX26+CB26+CF26+CJ26+CN26+CR26+CV26+CZ26+DD26+DH26+DL26+DP26+DT26+DX26 -> 0 | EC26: =I26+M26+Q26+U26+Y26+AC26+AG26+AK26+AO26+AS26+AW26+BA26+BE26+BI26+BM26+BQ26+BU26+BY26+CC26+CG26+CK26+CO26+CS26+CW26+DA26+DE26+DI26+DM26+DQ26+DU26+DY26 -> 0
A27: 19 | B27: VIKRA503111TSBH09698 | C27: VIKRAM EYE HOSPITAL | D27: H.No.1-6-66, OPP: GAYATRI BANK & INDIAN OIL PETROL PUMP, SIRICILLA ROAD, KAMAREDDY - 503111. | E27: 20 | F27: 1 | G27: 3 | J27: 1 | K27: 3 | N27: 1 | O27: 3 | R27: 1 | S27: 3 | V27: 1 | W27: 3 | AA27: 2 | AI27: 2 | AM27: 2 | AQ27: 2 | AU27: 2 | AY27: 2 | BC27: 2 | BK27: 2 | BO27: 2 | BS27: 2 | BW27: 2 | CA27: 2 | CD27: 3 | CL27: 3 | CP27: 3 | CU27: 3 | CY27: 3 | DC27: 3 | DG27: 7 | DO27: 7 | DS27: 7 | DV27: 4 | DW27: 4 | DZ27: =F27+J27+N27+R27+V27+Z27+AD27+AH27+AL27+AP27+AT27+AX27+BB27+BF27+BJ27+BN27+BR27+BV27+BZ27+CD27+CH27+CL27+CP27+CT27+CX27+DB27+DF27+DJ27+DN27+DR27+DV27 -> 18 | EA27: =G27+K27+O27+S27+W27+AA27+AE27+AI27+AM27+AQ27+AU27+AY27+BC27+BG27+BK27+BO27+BS27+BW27+CA27+CE27+CI27+CM27+CQ27+CU27+CY27+DC27+DG27+DK27+DO27+DS27+DW27 -> 73 | EB27: =H27+L27+P27+T27+X27+AB27+AF27+AJ27+AN27+AR27+AV27+AZ27+BD27+BH27+BL27+BP27+BT27+BX27+CB27+CF27+CJ27+CN27+CR27+CV27+CZ27+DD27+DH27+DL27+DP27+DT27+DX27 -> 0 | EC27: =I27+M27+Q27+U27+Y27+AC27+AG27+AK27+AO27+AS27+AW27+BA27+BE27+BI27+BM27+BQ27+BU27+BY27+CC27+CG27+CK27+CO27+CS27+CW27+DA27+DE27+DI27+DM27+DQ27+DU27+DY27 -> 0
A28: 20 | B28: DRBIS503111TSBH00941 | C28: B. ISHWAR DAS HOSPITAL | D28: H.No. 2-1-2, NEAR RAILWAY BRIDGE, KAMAREDDY - 503111. | E28: 18 | F28: 2 | J28: 2 | N28: 2 | R28: 2 | V28: 2 | Z28: 2 | AH28: 2 | AL28: 2 | AP28: 2 | AT28: 2 | AX28: 2 | BB28: 2 | BJ28: 2 | BN28: 2 | BR28: 2 | BV28: 2 | BZ28: 2 | CD28: 2 | CL28: 2 | CP28: 2 | CT28: 2 | CX28: 2 | DB28: 2 | DF28: 2 | DN28: 2 | DR28: 2 | DV28: 2 | DZ28: =F28+J28+N28+R28+V28+Z28+AD28+AH28+AL28+AP28+AT28+AX28+BB28+BF28+BJ28+BN28+BR28+BV28+BZ28+CD28+CH28+CL28+CP28+CT28+CX28+DB28+DF28+DJ28+DN28+DR28+DV28 -> 54 | EA28: =G28+K28+O28+S28+W28+AA28+AE28+AI28+AM28+AQ28+AU28+AY28+BC28+BG28+BK28+BO28+BS28+BW28+CA28+CE28+CI28+CM28+CQ28+CU28+CY28+DC28+DG28+DK28+DO28+DS28+DW28 -> 0 | EB28: =H28+L28+P28+T28+X28+AB28+AF28+AJ28+AN28+AR28+AV28+AZ28+BD28+BH28+BL28+BP28+BT28+BX28+CB28+CF28+CJ28+CN28+CR28+CV28+CZ28+DD28+DH28+DL28+DP28+DT28+DX28 -> 0 | EC28: =I28+M28+Q28+U28+Y28+AC28+AG28+AK28+AO28+AS28+AW28+BA28+BE28+BI28+BM28+BQ28+BU28+BY28+CC28+CG28+CK28+CO28+CS28+CW28+DA28+DE28+DI28+DM28+DQ28+DU28+DY28 -> 0
A29: 21 | B29: RAJAM503110TSBH01045 | C29: RAJAMPET MULTISPECIALITY HOSPITAL | D29: BUS STAND, RAJAMPET, KAMAREDDY - 503110. | E29: 18 | F29: 2 | K29: 1 | O29: 1 | S29: 1 | W29: 1 | AA29: 1 | AI29: 1 | AM29: 1 | AQ29: 1 | AT29: 1 | AX29: 1 | BB29: 1 | BJ29: 1 | BN29: 2 | BR29: 2 | BV29: 2 | BZ29: 2 | CD29: 2 | CL29: 2 | CP29: 2 | CT29: 2 | CX29: 2 | DB29: 2 | DF29: 2 | DN29: 2 | DR29: 2 | DV29: 2 | DZ29: =F29+J29+N29+R29+V29+Z29+AD29+AH29+AL29+AP29+AT29+AX29+BB29+BF29+BJ29+BN29+BR29+BV29+BZ29+CD29+CH29+CL29+CP29+CT29+CX29+DB29+DF29+DJ29+DN29+DR29+DV29 -> 34 | EA29: =G29+K29+O29+S29+W29+AA29+AE29+AI29+AM29+AQ29+AU29+AY29+BC29+BG29+BK29+BO29+BS29+BW29+CA29+CE29+CI29+CM29+CQ29+CU29+CY29+DC29+DG29+DK29+DO29+DS29+DW29 -> 8 | EB29: =H29+L29+P29+T29+X29+AB29+AF29+AJ29+AN29+AR29+AV29+AZ29+BD29+BH29+BL29+BP29+BT29+BX29+CB29+CF29+CJ29+CN29+CR29+CV29+CZ29+DD29+DH29+DL29+DP29+DT29+DX29 -> 0 | EC29: =I29+M29+Q29+U29+Y29+AC29+AG29+AK29+AO29+AS29+AW29+BA29+BE29+BI29+BM29+BQ29+BU29+BY29+CC29+CG29+CK29+CO29+CS29+CW29+DA29+DE29+DI29+DM29+DQ29+DU29+DY29 -> 0
A30: 22 | B30: DWARA503111TSBH01022 | C30: DWARAKA CHEST & CHILDREN'S | D30: H.NO.4-1-40, NEAR AMBEDKAR STATUE, RAILWAY BRIDGE, PEDDA BAZAR, KAMAREDDY - 503111. | E30: 15 | G30: 2 | K30: 2 | O30: 2 | S30: 2 | W30: 2 | AA30: 2 | AI30: 2 | AM30: 2 | AQ30: 2 | AU30: 2 | AY30: 2 | BC30: 2 | BK30: 2 | BO30: 2 | BS30: 2 | BW30: 2 | CA30: 2 | CE30: 2 | CM30: 2 | CQ30: 2 | CU30: 2 | CY30: 2 | DC30: 2 | DG30: 2 | DO30: 2 | DS30: 2 | DW30: 2 | DZ30: =F30+J30+N30+R30+V30+Z30+AD30+AH30+AL30+AP30+AT30+AX30+BB30+BF30+BJ30+BN30+BR30+BV30+BZ30+CD30+CH30+CL30+CP30+CT30+CX30+DB30+DF30+DJ30+DN30+DR30+DV30 -> 0 | EA30: =G30+K30+O30+S30+W30+AA30+AE30+AI30+AM30+AQ30+AU30+AY30+BC30+BG30+BK30+BO30+BS30+BW30+CA30+CE30+CI30+CM30+CQ30+CU30+CY30+DC30+DG30+DK30+DO30+DS30+DW30 -> 54 | EB30: =H30+L30+P30+T30+X30+AB30+AF30+AJ30+AN30+AR30+AV30+AZ30+BD30+BH30+BL30+BP30+BT30+BX30+CB30+CF30+CJ30+CN30+CR30+CV30+CZ30+DD30+DH30+DL30+DP30+DT30+DX30 -> 0 | EC30: =I30+M30+Q30+U30+Y30+AC30+AG30+AK30+AO30+AS30+AW30+BA30+BE30+BI30+BM30+BQ30+BU30+BY30+CC30+CG30+CK30+CO30+CS30+CW30+DA30+DE30+DI30+DM30+DQ30+DU30+DY30 -> 0
A31: 23 | B31: MATRI503111TSBH16239 | C31: MATRIX HOSPITAL(EMERGENCY, CRITICAL CARE, TRAUMA) | D31: 1-7-66,67, NEAR DHARMASHALA, SIRCILLA ROAD, BESIDE SHISHURAKSHA THIRUMALA HOSPITAL, KAMAREDDY - 503111. | E31: 15 | CF31: 2 | CN31: 2 | CR31: 2 | CV31: 2 | CZ31: 2 | DD31: 2 | DH31: 2 | DP31: 2 | DT31: 2 | DX31: 2 | DZ31: =F31+J31+N31+R31+V31+Z31+AD31+AH31+AL31+AP31+AT31+AX31+BB31+BF31+BJ31+BN31+BR31+BV31+BZ31+CD31+CH31+CL31+CP31+CT31+CX31+DB31+DF31+DJ31+DN31+DR31+DV31 -> 0 | EA31: =G31+K31+O31+S31+W31+AA31+AE31+AI31+AM31+AQ31+AU31+AY31+BC31+BG31+BK31+BO31+BS31+BW31+CA31+CE31+CI31+CM31+CQ31+CU31+CY31+DC31+DG31+DK31+DO31+DS31+DW31 -> 0 | EB31: =H31+L31+P31+T31+X31+AB31+AF31+AJ31+AN31+AR31+AV31+AZ31+BD31+BH31+BL31+BP31+BT31+BX31+CB31+CF31+CJ31+CN31+CR31+CV31+CZ31+DD31+DH31+DL31+DP31+DT31+DX31 -> 20 | EC31: =I31+M31+Q31+U31+Y31+AC31+AG31+AK31+AO31+AS31+AW31+BA31+BE31+BI31+BM31+BQ31+BU31+BY31+CC31+CG31+CK31+CO31+CS31+CW31+DA31+DE31+DI31+DM31+DQ31+DU31+DY31 -> 0
A32: 24 | B32: MYTHR503111TSBH09937 | C32: MYTHRI MULTI SPECIALITY HOSPITAL | D32: BESIDE BALAJI HOSPITAL, NEAR BHUPUTRAMMA KALYANA MANDAPAM, GODOWN ROAD, KAMAREDDY - 503111. | E32: 15 | G32: 1 | K32: 1 | O32: 1 | S32: 1 | W32: 1 | AA32: 1 | AI32: 1 | AM32: 1 | AQ32: 1 | AU32: 1 | AY32: 1 | BC32: 1 | BK32: 1 | BO32: 1 | BS32: 1 | BW32: 1 | CA32: 1 | CE32: 1 | CM32: 1 | CQ32: 1 | CU32: 1 | CY32: 1 | DC32: 1 | DG32: 1 | DO32: 1 | DS32: 1 | DW32: 1 | DZ32: =F32+J32+N32+R32+V32+Z32+AD32+AH32+AL32+AP32+AT32+AX32+BB32+BF32+BJ32+BN32+BR32+BV32+BZ32+CD32+CH32+CL32+CP32+CT32+CX32+DB32+DF32+DJ32+DN32+DR32+DV32 -> 0 | EA32: =G32+K32+O32+S32+W32+AA32+AE32+AI32+AM32+AQ32+AU32+AY32+BC32+BG32+BK32+BO32+BS32+BW32+CA32+CE32+CI32+CM32+CQ32+CU32+CY32+DC32+DG32+DK32+DO32+DS32+DW32 -> 27 | EB32: =H32+L32+P32+T32+X32+AB32+AF32+AJ32+AN32+AR32+AV32+AZ32+BD32+BH32+BL32+BP32+BT32+BX32+CB32+CF32+CJ32+CN32+CR32+CV32+CZ32+DD32+DH32+DL32+DP32+DT32+DX32 -> 0 | EC32: =I32+M32+Q32+U32+Y32+AC32+AG32+AK32+AO32+AS32+AW32+BA32+BE32+BI32+BM32+BQ32+BU32+BY32+CC32+CG32+CK32+CO32+CS32+CW32+DA32+DE32+DI32+DM32+DQ32+DU32+DY32 -> 0
A33: 25 | B33: NEWST503111TSBH17392 | C33: NEW STAR HOSPITAL | D33: OPP: SRI KRISHNA NETRALAYA EYE HOSPITAL, GODOWN ROAD, KAMAREDDY | E33: 15 | G33: 1 | K33: 1 | O33: 1 | S33: 1 | W33: 1 | AA33: 1 | AI33: 1 | AM33: 1 | AQ33: 1 | AU33: 1 | AY33: 1 | BC33: 1 | BK33: 1 | BO33: 1 | BS33: 1 | BW33: 1 | CA33: 1 | CE33: 1 | CM33: 1 | CQ33: 1 | CU33: 1 | CY33: 1 | DC33: 1 | DG33: 1 | DO33: 1 | DS33: 1 | DW33: 1 | DZ33: =F33+J33+N33+R33+V33+Z33+AD33+AH33+AL33+AP33+AT33+AX33+BB33+BF33+BJ33+BN33+BR33+BV33+BZ33+CD33+CH33+CL33+CP33+CT33+CX33+DB33+DF33+DJ33+DN33+DR33+DV33 -> 0 | EA33: =G33+K33+O33+S33+W33+AA33+AE33+AI33+AM33+AQ33+AU33+AY33+BC33+BG33+BK33+BO33+BS33+BW33+CA33+CE33+CI33+CM33+CQ33+CU33+CY33+DC33+DG33+DK33+DO33+DS33+DW33 -> 27 | EB33: =H33+L33+P33+T33+X33+AB33+AF33+AJ33+AN33+AR33+AV33+AZ33+BD33+BH33+BL33+BP33+BT33+BX33+CB33+CF33+CJ33+CN33+CR33+CV33+CZ33+DD33+DH33+DL33+DP33+DT33+DX33 -> 0 | EC33: =I33+M33+Q33+U33+Y33+AC33+AG33+AK33+AO33+AS33+AW33+BA33+BE33+BI33+BM33+BQ33+BU33+BY33+CC33+CG33+CK33+CO33+CS33+CW33+DA33+DE33+DI33+DM33+DQ33+DU33+DY33 -> 0
A34: 26 | B34: RRHOS503111TSBH02591 | C34: R R HOSPITAL | D34: RAMAREDDY ROAD, KAMAREDDY - 503111. | E34: 15 | F34: 1 | G34: 1 | J34: 1 | K34: 1 | N34: 1 | O34: 1 | R34: 1 | S34: 1 | V34: 1 | W34: 1 | Z34: 1 | AA34: 1 | AH34: 1 | AI34: 1 | AL34: 1 | AM34: 1 | AP34: 1 | AQ34: 1 | AT34: 1 | AU34: 1 | AX34: 1 | AY34: 1 | BB34: 1 | BC34: 1 | BJ34: 1 | BK34: 1 | BN34: 1 | BO34: 1 | BS34: 2 | BW34: 2 | CA34: 2 | CE34: 2 | CM34: 2 | CQ34: 2 | CU34: 2 | CY34: 2 | DC34: 2 | DG34: 2 | DO34: 2 | DS34: 2 | DW34: 2 | DZ34: =F34+J34+N34+R34+V34+Z34+AD34+AH34+AL34+AP34+AT34+AX34+BB34+BF34+BJ34+BN34+BR34+BV34+BZ34+CD34+CH34+CL34+CP34+CT34+CX34+DB34+DF34+DJ34+DN34+DR34+DV34 -> 14 | EA34: =G34+K34+O34+S34+W34+AA34+AE34+AI34+AM34+AQ34+AU34+AY34+BC34+BG34+BK34+BO34+BS34+BW34+CA34+CE34+CI34+CM34+CQ34+CU34+CY34+DC34+DG34+DK34+DO34+DS34+DW34 -> 40 | EB34: =H34+L34+P34+T34+X34+AB34+AF34+AJ34+AN34+AR34+AV34+AZ34+BD34+BH34+BL34+BP34+BT34+BX34+CB34+CF34+CJ34+CN34+CR34+CV34+CZ34+DD34+DH34+DL34+DP34+DT34+DX34 -> 0 | EC34: =I34+M34+Q34+U34+Y34+AC34+AG34+AK34+AO34+AS34+AW34+BA34+BE34+BI34+BM34+BQ34+BU34+BY34+CC34+CG34+CK34+CO34+CS34+CW34+DA34+DE34+DI34+DM34+DQ34+DU34+DY34 -> 0
A35: 27 | B35: SRIGA503111TSBH02588 | C35: SRI GANGA CHILDRENS HOSPITAL | D35: BEHIND SRI JANANI HOSPITAL, OPP: GANDHI HOSPITAL, SIRCILLA ROAD, STATION ROAD, KAMAREDDY - 503111. | E35: 15 | F35: 2 | J35: 2 | N35: 2 | R35: 2 | V35: 2 | Z35: 2 | AH35: 2 | AL35: 2 | AP35: 2 | AT35: 2 | AX35: 2 | BB35: 2 | BJ35: 2 | BN35: 2 | BR35: 2 | BV35: 2 | BZ35: 2 | CD35: 2 | CL35: 2 | CP35: 2 | CT35: 2 | CX35: 2 | DB35: 2 | DF35: 2 | DN35: 2 | DR35: 2 | DV35: 2 | DZ35: =F35+J35+N35+R35+V35+Z35+AD35+AH35+AL35+AP35+AT35+AX35+BB35+BF35+BJ35+BN35+BR35+BV35+BZ35+CD35+CH35+CL35+CP35+CT35+CX35+DB35+DF35+DJ35+DN35+DR35+DV35 -> 54 | EA35: =G35+K35+O35+S35+W35+AA35+AE35+AI35+AM35+AQ35+AU35+AY35+BC35+BG35+BK35+BO35+BS35+BW35+CA35+CE35+CI35+CM35+CQ35+CU35+CY35+DC35+DG35+DK35+DO35+DS35+DW35 -> 0 | EB35: =H35+L35+P35+T35+X35+AB35+AF35+AJ35+AN35+AR35+AV35+AZ35+BD35+BH35+BL35+BP35+BT35+BX35+CB35+CF35+CJ35+CN35+CR35+CV35+CZ35+DD35+DH35+DL35+DP35+DT35+DX35 -> 0 | EC35: =I35+M35+Q35+U35+Y35+AC35+AG35+AK35+AO35+AS35+AW35+BA35+BE35+BI35+BM35+BQ35+BU35+BY35+CC35+CG35+CK35+CO35+CS35+CW35+DA35+DE35+DI35+DM35+DQ35+DU35+DY35 -> 0
A36: 28 | B36: SRISA503111TSBH06156 | C36: SRI SAI KRISHNA HOSPITAL | D36: OPP: NAKSHATRA HOSPITAL, AHSOK NAGAR COLONY, OPPOSITE LINE OF TSRTC BUS STATION, KAMAREDDY - 503111. | E36: 15 | F36: 1 | J36: 1 | N36: 1 | R36: 1 | V36: 1 | Z36: 2 | AH36: 2 | AL36: 2 | AP36: 2 | AT36: 2 | AX36: 2 | BB36: 2 | BJ36: 2 | BN36: 1 | BR36: 2 | BV36: 2 | BZ36: 2 | CD36: 2 | CL36: 2 | CP36: 3 | CT36: 3 | CY36: 1 | DC36: 1 | DG36: 1 | DO36: 1 | DS36: 1 | DW36: 1 | DZ36: =F36+J36+N36+R36+V36+Z36+AD36+AH36+AL36+AP36+AT36+AX36+BB36+BF36+BJ36+BN36+BR36+BV36+BZ36+CD36+CH36+CL36+CP36+CT36+CX36+DB36+DF36+DJ36+DN36+DR36+DV36 -> 38 | EA36: =G36+K36+O36+S36+W36+AA36+AE36+AI36+AM36+AQ36+AU36+AY36+BC36+BG36+BK36+BO36+BS36+BW36+CA36+CE36+CI36+CM36+CQ36+CU36+CY36+DC36+DG36+DK36+DO36+DS36+DW36 -> 6 | EB36: =H36+L36+P36+T36+X36+AB36+AF36+AJ36+AN36+AR36+AV36+AZ36+BD36+BH36+BL36+BP36+BT36+BX36+CB36+CF36+CJ36+CN36+CR36+CV36+CZ36+DD36+DH36+DL36+DP36+DT36+DX36 -> 0 | EC36: =I36+M36+Q36+U36+Y36+AC36+AG36+AK36+AO36+AS36+AW36+BA36+BE36+BI36+BM36+BQ36+BU36+BY36+CC36+CG36+CK36+CO36+CS36+CW36+DA36+DE36+DI36+DM36+DQ36+DU36+DY36 -> 0
A37: 29 | C37: Sri Shivam Multi Speciality Hospital | D37: H.No. 1-5-62/4, Godown Road, Kamareddy District - 503111 | E37: 15 | F37: 1 | J37: 1 | N37: 1 | R37: 1 | V37: 1 | Z37: 2 | AH37: 2 | AL37: 2 | AP37: 2 | AT37: 2 | AX37: 2 | BB37: 2 | BJ37: 2 | BN37: 1 | BR37: 2 | BV37: 2 | BZ37: 2 | CD37: 2 | CL37: 2 | CP37: 3 | CT37: 3 | CY37: 1 | DC37: 1 | DG37: 1 | DO37: 1 | DS37: 1 | DW37: 1 | DZ37: =F37+J37+N37+R37+V37+Z37+AD37+AH37+AL37+AP37+AT37+AX37+BB37+BF37+BJ37+BN37+BR37+BV37+BZ37+CD37+CH37+CL37+CP37+CT37+CX37+DB37+DF37+DJ37+DN37+DR37+DV37 -> 38 | EA37: =G37+K37+O37+S37+W37+AA37+AE37+AI37+AM37+AQ37+AU37+AY37+BC37+BG37+BK37+BO37+BS37+BW37+CA37+CE37+CI37+CM37+CQ37+CU37+CY37+DC37+DG37+DK37+DO37+DS37+DW37 -> 6 | EB37: =H37+L37+P37+T37+X37+AB37+AF37+AJ37+AN37+AR37+AV37+AZ37+BD37+BH37+BL37+BP37+BT37+BX37+CB37+CF37+CJ37+CN37+CR37+CV37+CZ37+DD37+DH37+DL37+DP37+DT37+DX37 -> 0 | EC37: =I37+M37+Q37+U37+Y37+AC37+AG37+AK37+AO37+AS37+AW37+BA37+BE37+BI37+BM37+BQ37+BU37+BY37+CC37+CG37+CK37+CO37+CS37+CW37+DA37+DE37+DI37+DM37+DQ37+DU37+DY37 -> 0
A38: 30 | B38: ADITY503111TSBH09686 | C38: ADITYA HOSPITAL | D38: H.No.1-7-57/1, SIRCILLA ROAD, NEAR POTTI SRIRAMULU STATUE, KAMAREDDY - 503111. | E38: 10 | F38: 1 | K38: 1 | O38: 1 | S38: 1 | W38: 1 | AA38: 1 | AI38: 1 | AM38: 1 | AQ38: 1 | AU38: 2 | AY38: 2 | BC38: 2 | BK38: 2 | BO38: 2 | BS38: 2 | BW38: 2 | CA38: 2 | CE38: 3 | CM38: 3 | CQ38: 3 | CU38: 3 | CY38: 3 | DC38: 3 | DG38: 3 | DO38: 3 | DS38: 3 | DW38: 3 | DZ38: =F38+J38+N38+R38+V38+Z38+AD38+AH38+AL38+AP38+AT38+AX38+BB38+BF38+BJ38+BN38+BR38+BV38+BZ38+CD38+CH38+CL38+CP38+CT38+CX38+DB38+DF38+DJ38+DN38+DR38+DV38 -> 1 | EA38: =G38+K38+O38+S38+W38+AA38+AE38+AI38+AM38+AQ38+AU38+AY38+BC38+BG38+BK38+BO38+BS38+BW38+CA38+CE38+CI38+CM38+CQ38+CU38+CY38+DC38+DG38+DK38+DO38+DS38+DW38 -> 54 | EB38: =H38+L38+P38+T38+X38+AB38+AF38+AJ38+AN38+AR38+AV38+AZ38+BD38+BH38+BL38+BP38+BT38+BX38+CB38+CF38+CJ38+CN38+CR38+CV38+CZ38+DD38+DH38+DL38+DP38+DT38+DX38 -> 0 | EC38: =I38+M38+Q38+U38+Y38+AC38+AG38+AK38+AO38+AS38+AW38+BA38+BE38+BI38+BM38+BQ38+BU38+BY38+CC38+CG38+CK38+CO38+CS38+CW38+DA38+DE38+DI38+DM38+DQ38+DU38+DY38 -> 0
A39: 31 | B39: ASHWI503111TSBH09939 | C39: ASHWINI CLINIC | D39: GODOWN ROAD, KAMAREDDY | E39: 10 | F39: 1 | J39: 1 | N39: 1 | R39: 1 | V39: 1 | Z39: 1 | AH39: 1 | AL39: 1 | AP39: 1 | AT39: 1 | AX39: 1 | BB39: 1 | BJ39: 1 | BN39: 1 | BR39: 1 | BV39: 1 | BZ39: 1 | CD39: 1 | CL39: 1 | CP39: 1 | CT39: 1 | CX39: 1 | DB39: 1 | DF39: 1 | DN39: 1 | DR39: 1 | DV39: 1 | DZ39: =F39+J39+N39+R39+V39+Z39+AD39+AH39+AL39+AP39+AT39+AX39+BB39+BF39+BJ39+BN39+BR39+BV39+BZ39+CD39+CH39+CL39+CP39+CT39+CX39+DB39+DF39+DJ39+DN39+DR39+DV39 -> 27 | EA39: =G39+K39+O39+S39+W39+AA39+AE39+AI39+AM39+AQ39+AU39+AY39+BC39+BG39+BK39+BO39+BS39+BW39+CA39+CE39+CI39+CM39+CQ39+CU39+CY39+DC39+DG39+DK39+DO39+DS39+DW39 -> 0 | EB39: =H39+L39+P39+T39+X39+AB39+AF39+AJ39+AN39+AR39+AV39+AZ39+BD39+BH39+BL39+BP39+BT39+BX39+CB39+CF39+CJ39+CN39+CR39+CV39+CZ39+DD39+DH39+DL39+DP39+DT39+DX39 -> 0 | EC39: =I39+M39+Q39+U39+Y39+AC39+AG39+AK39+AO39+AS39+AW39+BA39+BE39+BI39+BM39+BQ39+BU39+BY39+CC39+CG39+CK39+CO39+CS39+CW39+DA39+DE39+DI39+DM39+DQ39+DU39+DY39 -> 0
A40: 32 | B40: BALAJ503111TSBH00904 | C40: BALAJI HOSPITAL | D40: DOOR NO.1-5-64, GODAM ROAD, KAMAREDDY - 503111. | E40: 10 | F40: 2 | J40: 2 | N40: 2 | R40: 2 | V40: 2 | Z40: 1 | AH40: 1 | AL40: 1 | AP40: 1 | AT40: 1 | AX40: 1 | BB40: 1 | BJ40: 1 | BN40: 1 | BR40: 1 | BV40: 2 | BZ40: 2 | CD40: 2 | CL40: 2 | CP40: 2 | CT40: 2 | CX40: 2 | DB40: 2 | DF40: 2 | DN40: 2 | DR40: 2 | DV40: 2 | DZ40: =F40+J40+N40+R40+V40+Z40+AD40+AH40+AL40+AP40+AT40+AX40+BB40+BF40+BJ40+BN40+BR40+BV40+BZ40+CD40+CH40+CL40+CP40+CT40+CX40+DB40+DF40+DJ40+DN40+DR40+DV40 -> 44 | EA40: =G40+K40+O40+S40+W40+AA40+AE40+AI40+AM40+AQ40+AU40+AY40+BC40+BG40+BK40+BO40+BS40+BW40+CA40+CE40+CI40+CM40+CQ40+CU40+CY40+DC40+DG40+DK40+DO40+DS40+DW40 -> 0 | EB40: =H40+L40+P40+T40+X40+AB40+AF40+AJ40+AN40+AR40+AV40+AZ40+BD40+BH40+BL40+BP40+BT40+BX40+CB40+CF40+CJ40+CN40+CR40+CV40+CZ40+DD40+DH40+DL40+DP40+DT40+DX40 -> 0 | EC40: =I40+M40+Q40+U40+Y40+AC40+AG40+AK40+AO40+AS40+AW40+BA40+BE40+BI40+BM40+BQ40+BU40+BY40+CC40+CG40+CK40+CO40+CS40+CW40+DA40+DE40+DI40+DM40+DQ40+DU40+DY40 -> 0
A41: 33 | B41: DR.PR503111TSBH07038 | C41: Dr. PRAKASH RAO EYE HOSPITAL | D41: H.NO.1-5-442/9, RAMAREDDY ROAD, KAMAREDDY - 503111. | E41: 10 | F41: 1 | J41: 1 | N41: 1 | R41: 1 | V41: 1 | Z41: 1 | AH41: 1 | AL41: 1 | AP41: 1 | AT41: 1 | AX41: 1 | BB41: 1 | BJ41: 1 | BN41: 1 | BR41: 1 | BV41: 1 | BZ41: 1 | CD41: 1 | CL41: 1 | CP41: 1 | CT41: 1 | CX41: 1 | DB41: 1 | DF41: 1 | DN41: 1 | DR41: 1 | DV41: 1 | DZ41: =F41+J41+N41+R41+V41+Z41+AD41+AH41+AL41+AP41+AT41+AX41+BB41+BF41+BJ41+BN41+BR41+BV41+BZ41+CD41+CH41+CL41+CP41+CT41+CX41+DB41+DF41+DJ41+DN41+DR41+DV41 -> 27 | EA41: =G41+K41+O41+S41+W41+AA41+AE41+AI41+AM41+AQ41+AU41+AY41+BC41+BG41+BK41+BO41+BS41+BW41+CA41+CE41+CI41+CM41+CQ41+CU41+CY41+DC41+DG41+DK41+DO41+DS41+DW41 -> 0 | EB41: =H41+L41+P41+T41+X41+AB41+AF41+AJ41+AN41+AR41+AV41+AZ41+BD41+BH41+BL41+BP41+BT41+BX41+CB41+CF41+CJ41+CN41+CR41+CV41+CZ41+DD41+DH41+DL41+DP41+DT41+DX41 -> 0 | EC41: =I41+M41+Q41+U41+Y41+AC41+AG41+AK41+AO41+AS41+AW41+BA41+BE41+BI41+BM41+BQ41+BU41+BY41+CC41+CG41+CK41+CO41+CS41+CW41+DA41+DE41+DI41+DM41+DQ41+DU41+DY41 -> 0
A42: 34 | B42: GANDH503111TSBH09696 | C42: GANDHI HOSPITAL | D42: Opp: DHARMASHALA, NEAR OLD BUS STAND, SIRICILLA ROAD, KAMAREDDY - 503111. | E42: 10 | F42: 2 | J42: 2 | N42: 2 | R42: 2 | V42: 2 | Z42: 2 | AH42: 2 | AM42: 1 | AQ42: 1 | AU42: 4 | AY42: 4 | BC42: 4 | BK42: 4 | BO42: 3 | BS42: 3 | BW42: 2 | CA42: 2 | CE42: 1 | CM42: 1 | CQ42: 2 | CU42: 2 | CY42: 2 | DC42: 2 | DG42: 3 | DO42: 3 | DS42: 3 | DW42: 3 | DZ42: =F42+J42+N42+R42+V42+Z42+AD42+AH42+AL42+AP42+AT42+AX42+BB42+BF42+BJ42+BN42+BR42+BV42+BZ42+CD42+CH42+CL42+CP42+CT42+CX42+DB42+DF42+DJ42+DN42+DR42+DV42 -> 14 | EA42: =G42+K42+O42+S42+W42+AA42+AE42+AI42+AM42+AQ42+AU42+AY42+BC42+BG42+BK42+BO42+BS42+BW42+CA42+CE42+CI42+CM42+CQ42+CU42+CY42+DC42+DG42+DK42+DO42+DS42+DW42 -> 50 | EB42: =H42+L42+P42+T42+X42+AB42+AF42+AJ42+AN42+AR42+AV42+AZ42+BD42+BH42+BL42+BP42+BT42+BX42+CB42+CF42+CJ42+CN42+CR42+CV42+CZ42+DD42+DH42+DL42+DP42+DT42+DX42 -> 0 | EC42: =I42+M42+Q42+U42+Y42+AC42+AG42+AK42+AO42+AS42+AW42+BA42+BE42+BI42+BM42+BQ42+BU42+BY42+CC42+CG42+CK42+CO42+CS42+CW42+DA42+DE42+DI42+DM42+DQ42+DU42+DY42 -> 0
A43: 35 | B43: KAMAR503111TSBH09697 | C43: KAMAREDDY NEURO SUPERSPECIALITY HOSPITAL | D43: OPP: SWATHI HOTEL, SIRICILLA ROAD, KAMAREDDY - 503111. | E43: 10 | F43: 3 | J43: 3 | N43: 2 | R43: 2 | V43: 2 | Z43: 2 | AH43: 2 | AL43: 2 | AP43: 2 | AT43: 2 | AX43: 2 | BB43: 2 | BJ43: 2 | BN43: 2 | BR43: 2 | BV43: 2 | BZ43: 2 | CD43: 2 | CL43: 2 | CP43: 2 | CT43: 2 | CX43: 2 | DB43: 2 | DF43: 2 | DN43: 2 | DR43: 2 | DV43: 2 | DZ43: =F43+J43+N43+R43+V43+Z43+AD43+AH43+AL43+AP43+AT43+AX43+BB43+BF43+BJ43+BN43+BR43+BV43+BZ43+CD43+CH43+CL43+CP43+CT43+CX43+DB43+DF43+DJ43+DN43+DR43+DV43 -> 56 | EA43: =G43+K43+O43+S43+W43+AA43+AE43+AI43+AM43+AQ43+AU43+AY43+BC43+BG43+BK43+BO43+BS43+BW43+CA43+CE43+CI43+CM43+CQ43+CU43+CY43+DC43+DG43+DK43+DO43+DS43+DW43 -> 0 | EB43: =H43+L43+P43+T43+X43+AB43+AF43+AJ43+AN43+AR43+AV43+AZ43+BD43+BH43+BL43+BP43+BT43+BX43+CB43+CF43+CJ43+CN43+CR43+CV43+CZ43+DD43+DH43+DL43+DP43+DT43+DX43 -> 0 | EC43: =I43+M43+Q43+U43+Y43+AC43+AG43+AK43+AO43+AS43+AW43+BA43+BE43+BI43+BM43+BQ43+BU43+BY43+CC43+CG43+CK43+CO43+CS43+CW43+DA43+DE43+DI43+DM43+DQ43+DU43+DY43 -> 0
A44: 36 | B44: LIONS503111TSBH09978 | C44: LIONS EYE HOSPITAL (V.T. THAKUR MEMORIAL) | D44: BESIDE KAMAREDDY EYE HOSPITAL & V.T. THAKUR BLOOD BANK, BATUKAMMA KUNTA, GODOWN ROAD, KAMAREDDY - 503111. | E44: 10 | G44: 4 | K44: 4 | O44: 2 | S44: 2 | W44: 2 | Z44: 2 | AH44: 2 | AL44: 2 | AP44: 1 | AT44: 1 | AX44: 1 | BB44: 1 | BJ44: 1 | BN44: 1 | BS44: 2 | BW44: 2 | CA44: 2 | CE44: 2 | CM44: 2 | CQ44: 2 | CU44: 2 | CY44: 2 | DC44: 2 | DG44: 2 | DO44: 2 | DS44: 2 | DV44: 2 | DZ44: =F44+J44+N44+R44+V44+Z44+AD44+AH44+AL44+AP44+AT44+AX44+BB44+BF44+BJ44+BN44+BR44+BV44+BZ44+CD44+CH44+CL44+CP44+CT44+CX44+DB44+DF44+DJ44+DN44+DR44+DV44 -> 14 | EA44: =G44+K44+O44+S44+W44+AA44+AE44+AI44+AM44+AQ44+AU44+AY44+BC44+BG44+BK44+BO44+BS44+BW44+CA44+CE44+CI44+CM44+CQ44+CU44+CY44+DC44+DG44+DK44+DO44+DS44+DW44 -> 38 | EB44: =H44+L44+P44+T44+X44+AB44+AF44+AJ44+AN44+AR44+AV44+AZ44+BD44+BH44+BL44+BP44+BT44+BX44+CB44+CF44+CJ44+CN44+CR44+CV44+CZ44+DD44+DH44+DL44+DP44+DT44+DX44 -> 0 | EC44: =I44+M44+Q44+U44+Y44+AC44+AG44+AK44+AO44+AS44+AW44+BA44+BE44+BI44+BM44+BQ44+BU44+BY44+CC44+CG44+CK44+CO44+CS44+CW44+DA44+DE44+DI44+DM44+DQ44+DU44+DY44 -> 0
A45: 37 | B45: RKHOS503111TSBH09979 | C45: R K HOSPITAL (CHILDREN & DENTAL), KAMAREDDY | D45: BESIDE ANJAL REDDY HOSPITAL, NETHAJI ROAD, KAMAREDDY - 503111. | E45: 10 | F45: 2 | J45: 2 | N45: 2 | R45: 2 | V45: 2 | Z45: 2 | AH45: 2 | AL45: 2 | AP45: 2 | AT45: 2 | AX45: 2 | BB45: 2 | BJ45: 2 | BN45: 2 | BR45: 2 | BV45: 2 | BZ45: 2 | CD45: 2 | CL45: 2 | CP45: 2 | CT45: 2 | CX45: 2 | DB45: 2 | DF45: 2 | DN45: 2 | DR45: 2 | DV45: 2 | DZ45: =F45+J45+N45+R45+V45+Z45+AD45+AH45+AL45+AP45+AT45+AX45+BB45+BF45+BJ45+BN45+BR45+BV45+BZ45+CD45+CH45+CL45+CP45+CT45+CX45+DB45+DF45+DJ45+DN45+DR45+DV45 -> 54 | EA45: =G45+K45+O45+S45+W45+AA45+AE45+AI45+AM45+AQ45+AU45+AY45+BC45+BG45+BK45+BO45+BS45+BW45+CA45+CE45+CI45+CM45+CQ45+CU45+CY45+DC45+DG45+DK45+DO45+DS45+DW45 -> 0 | EB45: =H45+L45+P45+T45+X45+AB45+AF45+AJ45+AN45+AR45+AV45+AZ45+BD45+BH45+BL45+BP45+BT45+BX45+CB45+CF45+CJ45+CN45+CR45+CV45+CZ45+DD45+DH45+DL45+DP45+DT45+DX45 -> 0 | EC45: =I45+M45+Q45+U45+Y45+AC45+AG45+AK45+AO45+AS45+AW45+BA45+BE45+BI45+BM45+BQ45+BU45+BY45+CC45+CG45+CK45+CO45+CS45+CW45+DA45+DE45+DI45+DM45+DQ45+DU45+DY45 -> 0
A46: 38 | B46: SADHA503111TSBH09695 | C46: SADHANA HOSPITAL | D46: HIGH SCHOOL ROAD, KAMAREDDY - 503111. | E46: 10 | F46: 2 | J46: 2 | N46: 2 | R46: 2 | V46: 2 | Z46: 2 | AH46: 2 | AL46: 2 | AP46: 2 | AT46: 2 | AX46: 2 | BB46: 2 | BJ46: 2 | BN46: 2 | BR46: 2 | BV46: 2 | BZ46: 2 | CD46: 2 | CL46: 2 | CP46: 2 | CT46: 2 | CX46: 2 | DB46: 2 | DF46: 2 | DN46: 2 | DR46: 2 | DV46: 2 | DZ46: =F46+J46+N46+R46+V46+Z46+AD46+AH46+AL46+AP46+AT46+AX46+BB46+BF46+BJ46+BN46+BR46+BV46+BZ46+CD46+CH46+CL46+CP46+CT46+CX46+DB46+DF46+DJ46+DN46+DR46+DV46 -> 54 | EA46: =G46+K46+O46+S46+W46+AA46+AE46+AI46+AM46+AQ46+AU46+AY46+BC46+BG46+BK46+BO46+BS46+BW46+CA46+CE46+CI46+CM46+CQ46+CU46+CY46+DC46+DG46+DK46+DO46+DS46+DW46 -> 0 | EB46: =H46+L46+P46+T46+X46+AB46+AF46+AJ46+AN46+AR46+AV46+AZ46+BD46+BH46+BL46+BP46+BT46+BX46+CB46+CF46+CJ46+CN46+CR46+CV46+CZ46+DD46+DH46+DL46+DP46+DT46+DX46 -> 0 | EC46: =I46+M46+Q46+U46+Y46+AC46+AG46+AK46+AO46+AS46+AW46+BA46+BE46+BI46+BM46+BQ46+BU46+BY46+CC46+CG46+CK46+CO46+CS46+CW46+DA46+DE46+DI46+DM46+DQ46+DU46+DY46 -> 0
A47: 39 | B47: SRILA503111TSBH08488 | C47: SRI LAXMI HOSPITAL | D47: OPP: INDRA DIAGNOSTICS, GODOWN ROAD, KAMAREDDY - 503111. | E47: 10 | G47: 1 | K47: 1 | O47: 1 | S47: 1 | W47: 1 | AA47: 1 | AI47: 1 | AM47: 1 | AQ47: 1 | AU47: 1 | AY47: 1 | BC47: 1 | BK47: 1 | BO47: 1 | BS47: 1 | BW47: 1 | CA47: 1 | CE47: 1 | CM47: 1 | CQ47: 1 | CU47: 1 | CY47: 1 | DC47: 1 | DG47: 1 | DO47: 1 | DS47: 1 | DW47: 1 | DZ47: =F47+J47+N47+R47+V47+Z47+AD47+AH47+AL47+AP47+AT47+AX47+BB47+BF47+BJ47+BN47+BR47+BV47+BZ47+CD47+CH47+CL47+CP47+CT47+CX47+DB47+DF47+DJ47+DN47+DR47+DV47 -> 0 | EA47: =G47+K47+O47+S47+W47+AA47+AE47+AI47+AM47+AQ47+AU47+AY47+BC47+BG47+BK47+BO47+BS47+BW47+CA47+CE47+CI47+CM47+CQ47+CU47+CY47+DC47+DG47+DK47+DO47+DS47+DW47 -> 27 | EB47: =H47+L47+P47+T47+X47+AB47+AF47+AJ47+AN47+AR47+AV47+AZ47+BD47+BH47+BL47+BP47+BT47+BX47+CB47+CF47+CJ47+CN47+CR47+CV47+CZ47+DD47+DH47+DL47+DP47+DT47+DX47 -> 0 | EC47: =I47+M47+Q47+U47+Y47+AC47+AG47+AK47+AO47+AS47+AW47+BA47+BE47+BI47+BM47+BQ47+BU47+BY47+CC47+CG47+CK47+CO47+CS47+CW47+DA47+DE47+DI47+DM47+DQ47+DU47+DY47 -> 0
A48: 40 | B48: SRIVE503111TSBH06159 | C48: SRI VENKATESHWARA CHILDRENS & NEONATAL HOSPITAL, KAMAREDDY | D48: GODOWN ROAD, KAMAREDDY | E48: 10 | F48: 1 | J48: 1 | N48: 1 | R48: 1 | V48: 1 | Z48: 1 | AH48: 1 | AL48: 1 | AP48: 1 | AT48: 1 | AX48: 1 | BB48: 1 | BJ48: 1 | BN48: 1 | BR48: 1 | BV48: 1 | BZ48: 1 | CD48: 1 | CL48: 1 | CP48: 1 | CT48: 1 | CX48: 1 | DB48: 1 | DF48: 1 | DN48: 1 | DR48: 1 | DV48: 1 | DZ48: =F48+J48+N48+R48+V48+Z48+AD48+AH48+AL48+AP48+AT48+AX48+BB48+BF48+BJ48+BN48+BR48+BV48+BZ48+CD48+CH48+CL48+CP48+CT48+CX48+DB48+DF48+DJ48+DN48+DR48+DV48 -> 27 | EA48: =G48+K48+O48+S48+W48+AA48+AE48+AI48+AM48+AQ48+AU48+AY48+BC48+BG48+BK48+BO48+BS48+BW48+CA48+CE48+CI48+CM48+CQ48+CU48+CY48+DC48+DG48+DK48+DO48+DS48+DW48 -> 0 | EB48: =H48+L48+P48+T48+X48+AB48+AF48+AJ48+AN48+AR48+AV48+AZ48+BD48+BH48+BL48+BP48+BT48+BX48+CB48+CF48+CJ48+CN48+CR48+CV48+CZ48+DD48+DH48+DL48+DP48+DT48+DX48 -> 0 | EC48: =I48+M48+Q48+U48+Y48+AC48+AG48+AK48+AO48+AS48+AW48+BA48+BE48+BI48+BM48+BQ48+BU48+BY48+CC48+CG48+CK48+CO48+CS48+CW48+DA48+DE48+DI48+DM48+DQ48+DU48+DY48 -> 0
A49: 41 | B49: SVRHO503111TSBH09699 | C49: SVR CHILDRENS HOSPITAL | D49: OPP: SRI SAI SRINIVASA HOSPITAL, NEAR PRAKASH RAO EYE HOSPITAL, RAMAREDDY ROAD, KAMAREDDY - 503111. | E49: 10 | F49: 1 | J49: 1 | N49: 1 | R49: 1 | V49: 1 | Z49: 2 | AH49: 2 | AL49: 2 | AP49: 2 | AT49: 2 | AX49: 2 | BB49: 2 | BJ49: 2 | BN49: 2 | BR49: 2 | BV49: 2 | BZ49: 2 | CD49: 2 | CL49: 2 | CP49: 2 | CT49: 2 | CX49: 2 | DB49: 2 | DF49: 2 | DN49: 2 | DR49: 2 | DV49: 2 | DZ49: =F49+J49+N49+R49+V49+Z49+AD49+AH49+AL49+AP49+AT49+AX49+BB49+BF49+BJ49+BN49+BR49+BV49+BZ49+CD49+CH49+CL49+CP49+CT49+CX49+DB49+DF49+DJ49+DN49+DR49+DV49 -> 49 | EA49: =G49+K49+O49+S49+W49+AA49+AE49+AI49+AM49+AQ49+AU49+AY49+BC49+BG49+BK49+BO49+BS49+BW49+CA49+CE49+CI49+CM49+CQ49+CU49+CY49+DC49+DG49+DK49+DO49+DS49+DW49 -> 0 | EB49: =H49+L49+P49+T49+X49+AB49+AF49+AJ49+AN49+AR49+AV49+AZ49+BD49+BH49+BL49+BP49+BT49+BX49+CB49+CF49+CJ49+CN49+CR49+CV49+CZ49+DD49+DH49+DL49+DP49+DT49+DX49 -> 0 | EC49: =I49+M49+Q49+U49+Y49+AC49+AG49+AK49+AO49+AS49+AW49+BA49+BE49+BI49+BM49+BQ49+BU49+BY49+CC49+CG49+CK49+CO49+CS49+CW49+DA49+DE49+DI49+DM49+DQ49+DU49+DY49 -> 0
A50: 42 | B50: VAISH503111TSBH09700 | C50: VAISHNAVI HOSPITAL | D50: H.No.1-5-255/A, RAMAREDDY ROAD, KAMAREDDY - 503111. | E50: 10 | F50: 1 | J50: 1 | N50: 1 | R50: 1 | V50: 1 | Z50: 1 | AH50: 1 | AL50: 1 | AP50: 1 | AT50: 1 | AX50: 1 | BB50: 1 | BJ50: 1 | BN50: 1 | BR50: 1 | BW50: 2 | CA50: 2 | CE50: 2 | CM50: 2 | CQ50: 2 | CU50: 2 | CY50: 2 | DC50: 2 | DG50: 2 | DO50: 2 | DS50: 2 | DW50: 2 | DZ50: =F50+J50+N50+R50+V50+Z50+AD50+AH50+AL50+AP50+AT50+AX50+BB50+BF50+BJ50+BN50+BR50+BV50+BZ50+CD50+CH50+CL50+CP50+CT50+CX50+DB50+DF50+DJ50+DN50+DR50+DV50 -> 15 | EA50: =G50+K50+O50+S50+W50+AA50+AE50+AI50+AM50+AQ50+AU50+AY50+BC50+BG50+BK50+BO50+BS50+BW50+CA50+CE50+CI50+CM50+CQ50+CU50+CY50+DC50+DG50+DK50+DO50+DS50+DW50 -> 24 | EB50: =H50+L50+P50+T50+X50+AB50+AF50+AJ50+AN50+AR50+AV50+AZ50+BD50+BH50+BL50+BP50+BT50+BX50+CB50+CF50+CJ50+CN50+CR50+CV50+CZ50+DD50+DH50+DL50+DP50+DT50+DX50 -> 0 | EC50: =I50+M50+Q50+U50+Y50+AC50+AG50+AK50+AO50+AS50+AW50+BA50+BE50+BI50+BM50+BQ50+BU50+BY50+CC50+CG50+CK50+CO50+CS50+CW50+DA50+DE50+DI50+DM50+DQ50+DU50+DY50 -> 0
A51: 43 | B51: VARSH503111TSBH00947 | C51: VARSHA HOSPITAL | D51: NEAR NARENDER CHILDRENS HOSPITAL & KAMAREDDY CITY SCAN CENTRE, GOWDAN ROAD, KAMAREDDY - 503111 | E51: 10 | DZ51: =F51+J51+N51+R51+V51+Z51+AD51+AH51+AL51+AP51+AT51+AX51+BB51+BF51+BJ51+BN51+BR51+BV51+BZ51+CD51+CH51+CL51+CP51+CT51+CX51+DB51+DF51+DJ51+DN51+DR51+DV51 -> 0 | EA51: =G51+K51+O51+S51+W51+AA51+AE51+AI51+AM51+AQ51+AU51+AY51+BC51+BG51+BK51+BO51+BS51+BW51+CA51+CE51+CI51+CM51+CQ51+CU51+CY51+DC51+DG51+DK51+DO51+DS51+DW51 -> 0 | EB51: =H51+L51+P51+T51+X51+AB51+AF51+AJ51+AN51+AR51+AV51+AZ51+BD51+BH51+BL51+BP51+BT51+BX51+CB51+CF51+CJ51+CN51+CR51+CV51+CZ51+DD51+DH51+DL51+DP51+DT51+DX51 -> 0 | EC51: =I51+M51+Q51+U51+Y51+AC51+AG51+AK51+AO51+AS51+AW51+BA51+BE51+BI51+BM51+BQ51+BU51+BY51+CC51+CG51+CK51+CO51+CS51+CW51+DA51+DE51+DI51+DM51+DQ51+DU51+DY51 -> 0
A52: 44 | B52: VASAV503111TSBH09970 | C52: VASAVI GASTRO & MULTISPECIALITY HOSPITAL, KAMAREDDY | D52: OPP: SBI BANK, NEAR RAILWAY STATION, SIRICILLA ROAD, KAMAREDDY - 503111. | E52: 10 | F52: 2 | J52: 2 | N52: 2 | R52: 2 | V52: 2 | Z52: 2 | AH52: 2 | AL52: 2 | AP52: 2 | AT52: 2 | AX52: 2 | BB52: 2 | BJ52: 2 | BN52: 2 | BR52: 2 | BV52: 2 | BZ52: 2 | CD52: 2 | CL52: 2 | CP52: 2 | CT52: 2 | CX52: 2 | DB52: 2 | DF52: 2 | DN52: 2 | DR52: 2 | DV52: 2 | DZ52: =F52+J52+N52+R52+V52+Z52+AD52+AH52+AL52+AP52+AT52+AX52+BB52+BF52+BJ52+BN52+BR52+BV52+BZ52+CD52+CH52+CL52+CP52+CT52+CX52+DB52+DF52+DJ52+DN52+DR52+DV52 -> 54 | EA52: =G52+K52+O52+S52+W52+AA52+AE52+AI52+AM52+AQ52+AU52+AY52+BC52+BG52+BK52+BO52+BS52+BW52+CA52+CE52+CI52+CM52+CQ52+CU52+CY52+DC52+DG52+DK52+DO52+DS52+DW52 -> 0 | EB52: =H52+L52+P52+T52+X52+AB52+AF52+AJ52+AN52+AR52+AV52+AZ52+BD52+BH52+BL52+BP52+BT52+BX52+CB52+CF52+CJ52+CN52+CR52+CV52+CZ52+DD52+DH52+DL52+DP52+DT52+DX52 -> 0 | EC52: =I52+M52+Q52+U52+Y52+AC52+AG52+AK52+AO52+AS52+AW52+BA52+BE52+BI52+BM52+BQ52+BU52+BY52+CC52+CG52+CK52+CO52+CS52+CW52+DA52+DE52+DI52+DM52+DQ52+DU52+DY52 -> 0
A53: 45 | B53: AJAYH503111TSBH09981 | C53: AJAY HOSPITAL (CHILDRENS & NEONATAL) KAMAREDDY | D53: BESIDE SPARSHA SKIN HOSPITAL & SRI LAXMI HOSPITAL, GODOWN ROAD, KAMAREDDY - 503111. | E53: 9 | F53: 1 | J53: 1 | N53: 3 | R53: 3 | V53: 3 | Z53: 3 | AH53: 3 | AL53: 3 | AP53: 3 | AT53: 3 | AX53: 3 | BB53: 3 | BJ53: 3 | BN53: 3 | BR53: 1 | BV53: 1 | BZ53: 1 | CD53: 1 | CL53: 1 | CP53: 1 | CT53: 2 | CX53: 2 | DC53: 2 | DG53: 2 | DO53: 2 | DS53: 2 | DW53: 2 | DZ53: =F53+J53+N53+R53+V53+Z53+AD53+AH53+AL53+AP53+AT53+AX53+BB53+BF53+BJ53+BN53+BR53+BV53+BZ53+CD53+CH53+CL53+CP53+CT53+CX53+DB53+DF53+DJ53+DN53+DR53+DV53 -> 48 | EA53: =G53+K53+O53+S53+W53+AA53+AE53+AI53+AM53+AQ53+AU53+AY53+BC53+BG53+BK53+BO53+BS53+BW53+CA53+CE53+CI53+CM53+CQ53+CU53+CY53+DC53+DG53+DK53+DO53+DS53+DW53 -> 10 | EB53: =H53+L53+P53+T53+X53+AB53+AF53+AJ53+AN53+AR53+AV53+AZ53+BD53+BH53+BL53+BP53+BT53+BX53+CB53+CF53+CJ53+CN53+CR53+CV53+CZ53+DD53+DH53+DL53+DP53+DT53+DX53 -> 0 | EC53: =I53+M53+Q53+U53+Y53+AC53+AG53+AK53+AO53+AS53+AW53+BA53+BE53+BI53+BM53+BQ53+BU53+BY53+CC53+CG53+CK53+CO53+CS53+CW53+DA53+DE53+DI53+DM53+DQ53+DU53+DY53 -> 0
A54: 46 | B54: CITYN503111TSBH09977 | C54: CITY NEURO SUPER SPECIALITY HOSPITAL | D54: NEAR SREE GANESHA MULTI SPECIALITY HOSPITAL, TILAK ROAD, GODOWN ROAD, KAMAREDDY - 503111. | E54: 9 | F54: 2 | J54: 2 | N54: 2 | R54: 2 | V54: 2 | Z54: 2 | AH54: 2 | AL54: 2 | AP54: 2 | AT54: 2 | AX54: 2 | BB54: 2 | BJ54: 2 | BN54: 2 | BR54: 2 | BV54: 2 | BZ54: 2 | CD54: 2 | CL54: 2 | CP54: 2 | CT54: 2 | CX54: 2 | DB54: 2 | DF54: 2 | DN54: 2 | DR54: 2 | DV54: 2 | DZ54: =F54+J54+N54+R54+V54+Z54+AD54+AH54+AL54+AP54+AT54+AX54+BB54+BF54+BJ54+BN54+BR54+BV54+BZ54+CD54+CH54+CL54+CP54+CT54+CX54+DB54+DF54+DJ54+DN54+DR54+DV54 -> 54 | EA54: =G54+K54+O54+S54+W54+AA54+AE54+AI54+AM54+AQ54+AU54+AY54+BC54+BG54+BK54+BO54+BS54+BW54+CA54+CE54+CI54+CM54+CQ54+CU54+CY54+DC54+DG54+DK54+DO54+DS54+DW54 -> 0 | EB54: =H54+L54+P54+T54+X54+AB54+AF54+AJ54+AN54+AR54+AV54+AZ54+BD54+BH54+BL54+BP54+BT54+BX54+CB54+CF54+CJ54+CN54+CR54+CV54+CZ54+DD54+DH54+DL54+DP54+DT54+DX54 -> 0 | EC54: =I54+M54+Q54+U54+Y54+AC54+AG54+AK54+AO54+AS54+AW54+BA54+BE54+BI54+BM54+BQ54+BU54+BY54+CC54+CG54+CK54+CO54+CS54+CW54+DA54+DE54+DI54+DM54+DQ54+DU54+DY54 -> 0
A55: 47 | B55: KAMAR503111TSBH08454 | C55: KAMAREDDY EYE HOSPITAL | D55: BESIDE SHRAVANI EYE HOSPITAL, GODOWN ROAD, KAMAREDDY - 503111. | E55: 9 | DZ55: =F55+J55+N55+R55+V55+Z55+AD55+AH55+AL55+AP55+AT55+AX55+BB55+BF55+BJ55+BN55+BR55+BV55+BZ55+CD55+CH55+CL55+CP55+CT55+CX55+DB55+DF55+DJ55+DN55+DR55+DV55 -> 0 | EA55: =G55+K55+O55+S55+W55+AA55+AE55+AI55+AM55+AQ55+AU55+AY55+BC55+BG55+BK55+BO55+BS55+BW55+CA55+CE55+CI55+CM55+CQ55+CU55+CY55+DC55+DG55+DK55+DO55+DS55+DW55 -> 0 | EB55: =H55+L55+P55+T55+X55+AB55+AF55+AJ55+AN55+AR55+AV55+AZ55+BD55+BH55+BL55+BP55+BT55+BX55+CB55+CF55+CJ55+CN55+CR55+CV55+CZ55+DD55+DH55+DL55+DP55+DT55+DX55 -> 0 | EC55: =I55+M55+Q55+U55+Y55+AC55+AG55+AK55+AO55+AS55+AW55+BA55+BE55+BI55+BM55+BQ55+BU55+BY55+CC55+CG55+CK55+CO55+CS55+CW55+DA55+DE55+DI55+DM55+DQ55+DU55+DY55 -> 0
A56: 48 | B56: KRISH503111TSBH07065 | C56: KRISHNAVENI CHILDRENS & NEONATAL HOSPITAL | D56: NETAJI ROAD, KAMAREDDY - 503111. | E56: 9 | F56: 2 | J56: 2 | N56: 2 | R56: 2 | V56: 2 | Z56: 2 | AH56: 2 | AL56: 2 | AP56: 2 | AT56: 2 | AX56: 2 | BB56: 2 | BJ56: 2 | BN56: 2 | BS56: 2 | BW56: 2 | CA56: 2 | CE56: 2 | CM56: 2 | CQ56: 1 | CU56: 1 | CY56: 1 | DC56: 1 | DG56: 1 | DO56: 1 | DS56: 1 | DW56: 1 | DZ56: =F56+J56+N56+R56+V56+Z56+AD56+AH56+AL56+AP56+AT56+AX56+BB56+BF56+BJ56+BN56+BR56+BV56+BZ56+CD56+CH56+CL56+CP56+CT56+CX56+DB56+DF56+DJ56+DN56+DR56+DV56 -> 28 | EA56: =G56+K56+O56+S56+W56+AA56+AE56+AI56+AM56+AQ56+AU56+AY56+BC56+BG56+BK56+BO56+BS56+BW56+CA56+CE56+CI56+CM56+CQ56+CU56+CY56+DC56+DG56+DK56+DO56+DS56+DW56 -> 18 | EB56: =H56+L56+P56+T56+X56+AB56+AF56+AJ56+AN56+AR56+AV56+AZ56+BD56+BH56+BL56+BP56+BT56+BX56+CB56+CF56+CJ56+CN56+CR56+CV56+CZ56+DD56+DH56+DL56+DP56+DT56+DX56 -> 0 | EC56: =I56+M56+Q56+U56+Y56+AC56+AG56+AK56+AO56+AS56+AW56+BA56+BE56+BI56+BM56+BQ56+BU56+BY56+CC56+CG56+CK56+CO56+CS56+CW56+DA56+DE56+DI56+DM56+DQ56+DU56+DY56 -> 0
A57: 49 | B57: MAXIC503111TSBH19869 | C57: MAXICARE EYE HOSPITAL | D57: OPP: ADITYA HOSPITAL, SIRICILLA ROAD, KAMAREDDY | E57: 9 | DZ57: =F57+J57+N57+R57+V57+Z57+AD57+AH57+AL57+AP57+AT57+AX57+BB57+BF57+BJ57+BN57+BR57+BV57+BZ57+CD57+CH57+CL57+CP57+CT57+CX57+DB57+DF57+DJ57+DN57+DR57+DV57 -> 0 | EA57: =G57+K57+O57+S57+W57+AA57+AE57+AI57+AM57+AQ57+AU57+AY57+BC57+BG57+BK57+BO57+BS57+BW57+CA57+CE57+CI57+CM57+CQ57+CU57+CY57+DC57+DG57+DK57+DO57+DS57+DW57 -> 0 | EB57: =H57+L57+P57+T57+X57+AB57+AF57+AJ57+AN57+AR57+AV57+AZ57+BD57+BH57+BL57+BP57+BT57+BX57+CB57+CF57+CJ57+CN57+CR57+CV57+CZ57+DD57+DH57+DL57+DP57+DT57+DX57 -> 0 | EC57: =I57+M57+Q57+U57+Y57+AC57+AG57+AK57+AO57+AS57+AW57+BA57+BE57+BI57+BM57+BQ57+BU57+BY57+CC57+CG57+CK57+CO57+CS57+CW57+DA57+DE57+DI57+DM57+DQ57+DU57+DY57 -> 0
A58: 50 | B58: NAKSH503111TSBH09942 | C58: NAKSHATRA HOSPITAL | D58: OPP: SRI SAI KRISHNA HOSPITAL, PARSHI RAMULU FUNCTION HALL ROAD, ASHOK NAGAR COLONY, OPPOSITE LANE OF BUS STAND, KAMAREDDY - 503111. | E58: 9 | G58: 3 | K58: 3 | O58: 3 | S58: 3 | W58: 1 | AA58: 1 | AI58: 1 | AM58: 1 | AP58: 1 | AT58: 1 | AX58: 2 | BC58: 2 | BK58: 2 | BO58: 2 | BS58: 5 | BW58: 5 | BZ58: 2 | CD58: 2 | CL58: 2 | CP58: 2 | CT58: 2 | CX58: 2 | DB58: 2 | DF58: 2 | DN58: 2 | DR58: 2 | DV58: 2 | DZ58: =F58+J58+N58+R58+V58+Z58+AD58+AH58+AL58+AP58+AT58+AX58+BB58+BF58+BJ58+BN58+BR58+BV58+BZ58+CD58+CH58+CL58+CP58+CT58+CX58+DB58+DF58+DJ58+DN58+DR58+DV58 -> 26 | EA58: =G58+K58+O58+S58+W58+AA58+AE58+AI58+AM58+AQ58+AU58+AY58+BC58+BG58+BK58+BO58+BS58+BW58+CA58+CE58+CI58+CM58+CQ58+CU58+CY58+DC58+DG58+DK58+DO58+DS58+DW58 -> 32 | EB58: =H58+L58+P58+T58+X58+AB58+AF58+AJ58+AN58+AR58+AV58+AZ58+BD58+BH58+BL58+BP58+BT58+BX58+CB58+CF58+CJ58+CN58+CR58+CV58+CZ58+DD58+DH58+DL58+DP58+DT58+DX58 -> 0 | EC58: =I58+M58+Q58+U58+Y58+AC58+AG58+AK58+AO58+AS58+AW58+BA58+BE58+BI58+BM58+BQ58+BU58+BY58+CC58+CG58+CK58+CO58+CS58+CW58+DA58+DE58+DI58+DM58+DQ58+DU58+DY58 -> 0
A59: 51 | B59: PARVA503111TSBH06129 | C59: PARVATHI CHILDRENS HOSPITAL | D59: NEAR OLD BUS STAND, SIRCILLA ROAD, KAMAREDDY - 503111. | E59: 9 | F59: 1 | J59: 1 | N59: 1 | R59: 1 | V59: 1 | Z59: 1 | AH59: 1 | AL59: 1 | AP59: 1 | AT59: 1 | AX59: 1 | BB59: 1 | BK59: 1 | BO59: 1 | BS59: 1 | BW59: 1 | CA59: 1 | CE59: 1 | CM59: 1 | CQ59: 1 | CU59: 1 | CY59: 1 | DB59: 3 | DF59: 3 | DN59: 3 | DR59: 3 | DV59: 3 | DZ59: =F59+J59+N59+R59+V59+Z59+AD59+AH59+AL59+AP59+AT59+AX59+BB59+BF59+BJ59+BN59+BR59+BV59+BZ59+CD59+CH59+CL59+CP59+CT59+CX59+DB59+DF59+DJ59+DN59+DR59+DV59 -> 27 | EA59: =G59+K59+O59+S59+W59+AA59+AE59+AI59+AM59+AQ59+AU59+AY59+BC59+BG59+BK59+BO59+BS59+BW59+CA59+CE59+CI59+CM59+CQ59+CU59+CY59+DC59+DG59+DK59+DO59+DS59+DW59 -> 10 | EB59: =H59+L59+P59+T59+X59+AB59+AF59+AJ59+AN59+AR59+AV59+AZ59+BD59+BH59+BL59+BP59+BT59+BX59+CB59+CF59+CJ59+CN59+CR59+CV59+CZ59+DD59+DH59+DL59+DP59+DT59+DX59 -> 0 | EC59: =I59+M59+Q59+U59+Y59+AC59+AG59+AK59+AO59+AS59+AW59+BA59+BE59+BI59+BM59+BQ59+BU59+BY59+CC59+CG59+CK59+CO59+CS59+CW59+DA59+DE59+DI59+DM59+DQ59+DU59+DY59 -> 0
A60: 52 | B60: RJHOS503111TSBH09781 | C60: R J HOSPITAL | D60: JAMAL'S R J HOSPITAL, #1-5-RA0004, KAMAREDDY - 503111. | E60: 9 | F60: 2 | J60: 2 | N60: 2 | R60: 2 | V60: 2 | Z60: 2 | AH60: 2 | AL60: 2 | AP60: 2 | AT60: 2 | AX60: 2 | BC60: 2 | BK60: 2 | BO60: 2 | BS60: 2 | BW60: 2 | CA60: 2 | CE60: 2 | CM60: 2 | CQ60: 2 | CU60: 2 | CY60: 2 | DC60: 2 | DG60: 2 | DO60: 2 | DS60: 3 | DW60: 3 | DZ60: =F60+J60+N60+R60+V60+Z60+AD60+AH60+AL60+AP60+AT60+AX60+BB60+BF60+BJ60+BN60+BR60+BV60+BZ60+CD60+CH60+CL60+CP60+CT60+CX60+DB60+DF60+DJ60+DN60+DR60+DV60 -> 22 | EA60: =G60+K60+O60+S60+W60+AA60+AE60+AI60+AM60+AQ60+AU60+AY60+BC60+BG60+BK60+BO60+BS60+BW60+CA60+CE60+CI60+CM60+CQ60+CU60+CY60+DC60+DG60+DK60+DO60+DS60+DW60 -> 34 | EB60: =H60+L60+P60+T60+X60+AB60+AF60+AJ60+AN60+AR60+AV60+AZ60+BD60+BH60+BL60+BP60+BT60+BX60+CB60+CF60+CJ60+CN60+CR60+CV60+CZ60+DD60+DH60+DL60+DP60+DT60+DX60 -> 0 | EC60: =I60+M60+Q60+U60+Y60+AC60+AG60+AK60+AO60+AS60+AW60+BA60+BE60+BI60+BM60+BQ60+BU60+BY60+CC60+CG60+CK60+CO60+CS60+CW60+DA60+DE60+DI60+DM60+DQ60+DU60+DY60 -> 0
A61: 53 | B61: SRIKR503111TSBH09902 | C61: SRI KRISHNA NETHRALAYA EYE CARE HOSPITAL | D61: DR V. SURESH KUMAR, GODOWN ROAD, KAMAREDDY | E61: 9 | G61: 2 | K61: 2 | O61: 2 | S61: 2 | W61: 2 | AA61: 2 | AI61: 2 | AM61: 2 | AQ61: 2 | AU61: 2 | AY61: 2 | BC61: 2 | BK61: 2 | BO61: 2 | BS61: 2 | BW61: 2 | CA61: 2 | CE61: 2 | CM61: 2 | CQ61: 2 | CU61: 2 | CY61: 2 | DC61: 2 | DG61: 2 | DO61: 2 | DS61: 2 | DW61: 2 | DZ61: =F61+J61+N61+R61+V61+Z61+AD61+AH61+AL61+AP61+AT61+AX61+BB61+BF61+BJ61+BN61+BR61+BV61+BZ61+CD61+CH61+CL61+CP61+CT61+CX61+DB61+DF61+DJ61+DN61+DR61+DV61 -> 0 | EA61: =G61+K61+O61+S61+W61+AA61+AE61+AI61+AM61+AQ61+AU61+AY61+BC61+BG61+BK61+BO61+BS61+BW61+CA61+CE61+CI61+CM61+CQ61+CU61+CY61+DC61+DG61+DK61+DO61+DS61+DW61 -> 54 | EB61: =H61+L61+P61+T61+X61+AB61+AF61+AJ61+AN61+AR61+AV61+AZ61+BD61+BH61+BL61+BP61+BT61+BX61+CB61+CF61+CJ61+CN61+CR61+CV61+CZ61+DD61+DH61+DL61+DP61+DT61+DX61 -> 0 | EC61: =I61+M61+Q61+U61+Y61+AC61+AG61+AK61+AO61+AS61+AW61+BA61+BE61+BI61+BM61+BQ61+BU61+BY61+CC61+CG61+CK61+CO61+CS61+CW61+DA61+DE61+DI61+DM61+DQ61+DU61+DY61 -> 0
A62: 54 | B62: SRILA503111TSBH16238 | C62: SRI LALITHA HOSPITAL | D62: 5-5-100, SHOP NO.1, GROUND FLOOR, BESIDE MUNICIPAL OFFICE, VIVEKANANDA COLONY, KAMAREDDY - 503111. | E62: 9 | F62: 1 | J62: 1 | N62: 1 | R62: 1 | V62: 1 | Z62: 1 | AH62: 1 | AL62: 1 | AP62: 1 | AT62: 1 | AX62: 1 | BB62: 1 | BJ62: 1 | BN62: 1 | BR62: 1 | BV62: 1 | BZ62: 1 | CD62: 1 | CL62: 1 | CP62: 1 | CT62: 1 | CX62: 1 | DB62: 1 | DF62: 1 | DN62: 1 | DR62: 1 | DV62: 1 | DZ62: =F62+J62+N62+R62+V62+Z62+AD62+AH62+AL62+AP62+AT62+AX62+BB62+BF62+BJ62+BN62+BR62+BV62+BZ62+CD62+CH62+CL62+CP62+CT62+CX62+DB62+DF62+DJ62+DN62+DR62+DV62 -> 27 | EA62: =G62+K62+O62+S62+W62+AA62+AE62+AI62+AM62+AQ62+AU62+AY62+BC62+BG62+BK62+BO62+BS62+BW62+CA62+CE62+CI62+CM62+CQ62+CU62+CY62+DC62+DG62+DK62+DO62+DS62+DW62 -> 0 | EB62: =H62+L62+P62+T62+X62+AB62+AF62+AJ62+AN62+AR62+AV62+AZ62+BD62+BH62+BL62+BP62+BT62+BX62+CB62+CF62+CJ62+CN62+CR62+CV62+CZ62+DD62+DH62+DL62+DP62+DT62+DX62 -> 0 | EC62: =I62+M62+Q62+U62+Y62+AC62+AG62+AK62+AO62+AS62+AW62+BA62+BE62+BI62+BM62+BQ62+BU62+BY62+CC62+CG62+CK62+CO62+CS62+CW62+DA62+DE62+DI62+DM62+DQ62+DU62+DY62 -> 0
A63: 55 | B63: SRILA503111TSBH13903 | C63: SRI LAXMI VENKATESHWARA MULTISPECIALITY HOSPITAL (SRI LVR HOSPITAL) KAMAREDDY | D63: H.No. 1-5-173/1, NETAJI ROAD, KAMAREDDY - 503111. | E63: 9 | F63: 1 | J63: 1 | N63: 1 | R63: 1 | V63: 1 | Z63: 1 | AH63: 1 | AL63: 1 | AP63: 1 | AT63: 1 | AX63: 1 | BB63: 1 | BJ63: 1 | BN63: 1 | BR63: 1 | BV63: 1 | BZ63: 1 | CD63: 1 | CL63: 1 | CP63: 1 | CT63: 1 | CX63: 1 | DB63: 1 | DF63: 1 | DN63: 1 | DR63: 1 | DV63: 1 | DZ63: =F63+J63+N63+R63+V63+Z63+AD63+AH63+AL63+AP63+AT63+AX63+BB63+BF63+BJ63+BN63+BR63+BV63+BZ63+CD63+CH63+CL63+CP63+CT63+CX63+DB63+DF63+DJ63+DN63+DR63+DV63 -> 27 | EA63: =G63+K63+O63+S63+W63+AA63+AE63+AI63+AM63+AQ63+AU63+AY63+BC63+BG63+BK63+BO63+BS63+BW63+CA63+CE63+CI63+CM63+CQ63+CU63+CY63+DC63+DG63+DK63+DO63+DS63+DW63 -> 0 | EB63: =H63+L63+P63+T63+X63+AB63+AF63+AJ63+AN63+AR63+AV63+AZ63+BD63+BH63+BL63+BP63+BT63+BX63+CB63+CF63+CJ63+CN63+CR63+CV63+CZ63+DD63+DH63+DL63+DP63+DT63+DX63 -> 0 | EC63: =I63+M63+Q63+U63+Y63+AC63+AG63+AK63+AO63+AS63+AW63+BA63+BE63+BI63+BM63+BQ63+BU63+BY63+CC63+CG63+CK63+CO63+CS63+CW63+DA63+DE63+DI63+DM63+DQ63+DU63+DY63 -> 0
A64: 56 | B64: SRIPA503111TSBH14020 | C64: SRI PADMAVATHI MULTI SPECIALITY HOSPITAL | D64: DOCTOR JYOTHIRMAYI BUILDING, BESIDE R.K. LODGE, NEW BUS STAND, NGO'S COLONY, KAMAREDDY - 503111 | E64: 9 | DZ64: =F64+J64+N64+R64+V64+Z64+AD64+AH64+AL64+AP64+AT64+AX64+BB64+BF64+BJ64+BN64+BR64+BV64+BZ64+CD64+CH64+CL64+CP64+CT64+CX64+DB64+DF64+DJ64+DN64+DR64+DV64 -> 0 | EA64: =G64+K64+O64+S64+W64+AA64+AE64+AI64+AM64+AQ64+AU64+AY64+BC64+BG64+BK64+BO64+BS64+BW64+CA64+CE64+CI64+CM64+CQ64+CU64+CY64+DC64+DG64+DK64+DO64+DS64+DW64 -> 0 | EB64: =H64+L64+P64+T64+X64+AB64+AF64+AJ64+AN64+AR64+AV64+AZ64+BD64+BH64+BL64+BP64+BT64+BX64+CB64+CF64+CJ64+CN64+CR64+CV64+CZ64+DD64+DH64+DL64+DP64+DT64+DX64 -> 0 | EC64: =I64+M64+Q64+U64+Y64+AC64+AG64+AK64+AO64+AS64+AW64+BA64+BE64+BI64+BM64+BQ64+BU64+BY64+CC64+CG64+CK64+CO64+CS64+CW64+DA64+DE64+DI64+DM64+DQ64+DU64+DY64 -> 0
A65: 57 | B65: SRIVE503111TSBH06155 | C65: SRI VENKATESHWARA MULTI SPECIALITY DENTAL & COSMETIC CLINIC | D65: H.No:5-3-447, SREE VENKATA NIVAASAM, VIDYA NAGAR COLONY, NEAR SAI BABA TEMPLE, KAMAREDDY - 503111. | E65: 9 | F65: 2 | J65: 2 | N65: 2 | R65: 2 | V65: 2 | Z65: 2 | AH65: 2 | AL65: 2 | AP65: 2 | AT65: 2 | AX65: 2 | BB65: 2 | BJ65: 2 | BN65: 2 | BR65: 2 | BV65: 2 | BZ65: 2 | CD65: 2 | CL65: 2 | CP65: 2 | CT65: 2 | CX65: 2 | DB65: 2 | DF65: 2 | DN65: 2 | DR65: 2 | DV65: 2 | DZ65: =F65+J65+N65+R65+V65+Z65+AD65+AH65+AL65+AP65+AT65+AX65+BB65+BF65+BJ65+BN65+BR65+BV65+BZ65+CD65+CH65+CL65+CP65+CT65+CX65+DB65+DF65+DJ65+DN65+DR65+DV65 -> 54 | EA65: =G65+K65+O65+S65+W65+AA65+AE65+AI65+AM65+AQ65+AU65+AY65+BC65+BG65+BK65+BO65+BS65+BW65+CA65+CE65+CI65+CM65+CQ65+CU65+CY65+DC65+DG65+DK65+DO65+DS65+DW65 -> 0 | EB65: =H65+L65+P65+T65+X65+AB65+AF65+AJ65+AN65+AR65+AV65+AZ65+BD65+BH65+BL65+BP65+BT65+BX65+CB65+CF65+CJ65+CN65+CR65+CV65+CZ65+DD65+DH65+DL65+DP65+DT65+DX65 -> 0 | EC65: =I65+M65+Q65+U65+Y65+AC65+AG65+AK65+AO65+AS65+AW65+BA65+BE65+BI65+BM65+BQ65+BU65+BY65+CC65+CG65+CK65+CO65+CS65+CW65+DA65+DE65+DI65+DM65+DQ65+DU65+DY65 -> 0
A66: 58 | B66: SURAK503111TSBH14555 | C66: SURAKSHA HOSPITAL | D66: OPPOSITE DR. ANJALREDDY HOSPITAL, NETHAJI ROAD, KAMAREDDY - 503111 | E66: 9 | F66: 2 | J66: 2 | N66: 2 | R66: 2 | V66: 2 | Z66: 2 | AH66: 2 | AL66: 2 | AP66: 2 | AT66: 2 | AX66: 2 | BB66: 2 | BJ66: 2 | BN66: 2 | BR66: 2 | BV66: 2 | BZ66: 2 | CD66: 2 | CL66: 2 | CP66: 2 | CT66: 2 | CX66: 2 | DB66: 2 | DF66: 2 | DN66: 2 | DR66: 2 | DV66: 2 | DZ66: =F66+J66+N66+R66+V66+Z66+AD66+AH66+AL66+AP66+AT66+AX66+BB66+BF66+BJ66+BN66+BR66+BV66+BZ66+CD66+CH66+CL66+CP66+CT66+CX66+DB66+DF66+DJ66+DN66+DR66+DV66 -> 54 | EA66: =G66+K66+O66+S66+W66+AA66+AE66+AI66+AM66+AQ66+AU66+AY66+BC66+BG66+BK66+BO66+BS66+BW66+CA66+CE66+CI66+CM66+CQ66+CU66+CY66+DC66+DG66+DK66+DO66+DS66+DW66 -> 0 | EB66: =H66+L66+P66+T66+X66+AB66+AF66+AJ66+AN66+AR66+AV66+AZ66+BD66+BH66+BL66+BP66+BT66+BX66+CB66+CF66+CJ66+CN66+CR66+CV66+CZ66+DD66+DH66+DL66+DP66+DT66+DX66 -> 0 | EC66: =I66+M66+Q66+U66+Y66+AC66+AG66+AK66+AO66+AS66+AW66+BA66+BE66+BI66+BM66+BQ66+BU66+BY66+CC66+CG66+CK66+CO66+CS66+CW66+DA66+DE66+DI66+DM66+DQ66+DU66+DY66 -> 0
A67: 59 | B67: SURYA503111TSBH09941 | C67: SURYA HOSPITAL | D67: BESIDE SPARSHA SKIN HOSPITAL, NEAR T. BHAIRAIAH HOSPITAL, GODOWN ROAD, KAMAREDDY - 503111. | E67: 9 | G67: 2 | K67: 2 | O67: 2 | S67: 2 | W67: 2 | AA67: 2 | AI67: 2 | AM67: 2 | AQ67: 2 | AU67: 2 | AY67: 2 | BC67: 2 | BK67: 2 | BO67: 2 | BS67: 2 | BW67: 2 | CA67: 2 | CE67: 2 | CM67: 2 | CQ67: 2 | CU67: 2 | CY67: 2 | DC67: 2 | DG67: 2 | DO67: 2 | DS67: 2 | DW67: 2 | DZ67: =F67+J67+N67+R67+V67+Z67+AD67+AH67+AL67+AP67+AT67+AX67+BB67+BF67+BJ67+BN67+BR67+BV67+BZ67+CD67+CH67+CL67+CP67+CT67+CX67+DB67+DF67+DJ67+DN67+DR67+DV67 -> 0 | EA67: =G67+K67+O67+S67+W67+AA67+AE67+AI67+AM67+AQ67+AU67+AY67+BC67+BG67+BK67+BO67+BS67+BW67+CA67+CE67+CI67+CM67+CQ67+CU67+CY67+DC67+DG67+DK67+DO67+DS67+DW67 -> 54 | EB67: =H67+L67+P67+T67+X67+AB67+AF67+AJ67+AN67+AR67+AV67+AZ67+BD67+BH67+BL67+BP67+BT67+BX67+CB67+CF67+CJ67+CN67+CR67+CV67+CZ67+DD67+DH67+DL67+DP67+DT67+DX67 -> 0 | EC67: =I67+M67+Q67+U67+Y67+AC67+AG67+AK67+AO67+AS67+AW67+BA67+BE67+BI67+BM67+BQ67+BU67+BY67+CC67+CG67+CK67+CO67+CS67+CW67+DA67+DE67+DI67+DM67+DQ67+DU67+DY67 -> 0
A68: 60 | B68: VEDAG503111TSBH19867 | C68: VEDA GASTRO SUPERSPECIALITY HOSPITAL | D68: BESIDE SRI JANANI HOSPITAL, GODOWN ROAD, KAMAREDDY | E68: 9 | DZ68: =F68+J68+N68+R68+V68+Z68+AD68+AH68+AL68+AP68+AT68+AX68+BB68+BF68+BJ68+BN68+BR68+BV68+BZ68+CD68+CH68+CL68+CP68+CT68+CX68+DB68+DF68+DJ68+DN68+DR68+DV68 -> 0 | EA68: =G68+K68+O68+S68+W68+AA68+AE68+AI68+AM68+AQ68+AU68+AY68+BC68+BG68+BK68+BO68+BS68+BW68+CA68+CE68+CI68+CM68+CQ68+CU68+CY68+DC68+DG68+DK68+DO68+DS68+DW68 -> 0 | EB68: =H68+L68+P68+T68+X68+AB68+AF68+AJ68+AN68+AR68+AV68+AZ68+BD68+BH68+BL68+BP68+BT68+BX68+CB68+CF68+CJ68+CN68+CR68+CV68+CZ68+DD68+DH68+DL68+DP68+DT68+DX68 -> 0 | EC68: =I68+M68+Q68+U68+Y68+AC68+AG68+AK68+AO68+AS68+AW68+BA68+BE68+BI68+BM68+BQ68+BU68+BY68+CC68+CG68+CK68+CO68+CS68+CW68+DA68+DE68+DI68+DM68+DQ68+DU68+DY68 -> 0
A69: 61 | B69: GHORI503302TSBH17316 | C69: GHORIS HOSPITAL | D69: H.No. 5-3-136/1, GHORIS SHOPPING COMPLEX, NIZAMSAGAR ROAD, KAMAREDDY, 503111. | E69: 8 | G69: 2 | K69: 2 | O69: 2 | S69: 2 | W69: 2 | AA69: 2 | AI69: 2 | AL69: 2 | AP69: 2 | AU69: 1 | AY69: 1 | BC69: 1 | BK69: 1 | BN69: 2 | BR69: 2 | BV69: 2 | BZ69: 2 | CD69: 2 | CL69: 2 | CP69: 2 | CT69: 2 | CX69: 2 | DB69: 2 | DF69: 2 | DN69: 2 | DR69: 2 | DV69: 2 | DZ69: =F69+J69+N69+R69+V69+Z69+AD69+AH69+AL69+AP69+AT69+AX69+BB69+BF69+BJ69+BN69+BR69+BV69+BZ69+CD69+CH69+CL69+CP69+CT69+CX69+DB69+DF69+DJ69+DN69+DR69+DV69 -> 32 | EA69: =G69+K69+O69+S69+W69+AA69+AE69+AI69+AM69+AQ69+AU69+AY69+BC69+BG69+BK69+BO69+BS69+BW69+CA69+CE69+CI69+CM69+CQ69+CU69+CY69+DC69+DG69+DK69+DO69+DS69+DW69 -> 18 | EB69: =H69+L69+P69+T69+X69+AB69+AF69+AJ69+AN69+AR69+AV69+AZ69+BD69+BH69+BL69+BP69+BT69+BX69+CB69+CF69+CJ69+CN69+CR69+CV69+CZ69+DD69+DH69+DL69+DP69+DT69+DX69 -> 0 | EC69: =I69+M69+Q69+U69+Y69+AC69+AG69+AK69+AO69+AS69+AW69+BA69+BE69+BI69+BM69+BQ69+BU69+BY69+CC69+CG69+CK69+CO69+CS69+CW69+DA69+DE69+DI69+DM69+DQ69+DU69+DY69 -> 0
A70: 62 | B70: NETRA503111TSBH09940 | C70: NETRA JYOTHI VISION CARE CENTER | D70: GODWN ROAD, KAMAREDDY - 503111. | E70: 8 | F70: 2 | J70: 2 | N70: 2 | R70: 2 | V70: 2 | Z70: 2 | AH70: 2 | AL70: 2 | AP70: 2 | AT70: 2 | AX70: 2 | BB70: 1 | BJ70: 1 | BN70: 1 | BR70: 1 | BV70: 1 | BZ70: 1 | CD70: 1 | CL70: 1 | CP70: 1 | CT70: 1 | CX70: 1 | DB70: 1 | DF70: 1 | DN70: 1 | DR70: 1 | DV70: 1 | DZ70: =F70+J70+N70+R70+V70+Z70+AD70+AH70+AL70+AP70+AT70+AX70+BB70+BF70+BJ70+BN70+BR70+BV70+BZ70+CD70+CH70+CL70+CP70+CT70+CX70+DB70+DF70+DJ70+DN70+DR70+DV70 -> 38 | EA70: =G70+K70+O70+S70+W70+AA70+AE70+AI70+AM70+AQ70+AU70+AY70+BC70+BG70+BK70+BO70+BS70+BW70+CA70+CE70+CI70+CM70+CQ70+CU70+CY70+DC70+DG70+DK70+DO70+DS70+DW70 -> 0 | EB70: =H70+L70+P70+T70+X70+AB70+AF70+AJ70+AN70+AR70+AV70+AZ70+BD70+BH70+BL70+BP70+BT70+BX70+CB70+CF70+CJ70+CN70+CR70+CV70+CZ70+DD70+DH70+DL70+DP70+DT70+DX70 -> 0 | EC70: =I70+M70+Q70+U70+Y70+AC70+AG70+AK70+AO70+AS70+AW70+BA70+BE70+BI70+BM70+BQ70+BU70+BY70+CC70+CG70+CK70+CO70+CS70+CW70+DA70+DE70+DI70+DM70+DQ70+DU70+DY70 -> 0
A71: 63 | B71: PULSE503111TSBH11651 | C71: PULSE HOSPITAL | D71: H.NO.5-3-678, BESIDE SREE VINAYAKA SKIN HOSPITAL, NEAR RAYMOND SHOWROOM, BUS STAND ROAD, KAMAREDDY | E71: 8 | G71: 1 | K71: 1 | O71: 2 | S71: 2 | W71: 2 | AA71: 2 | AI71: 2 | AM71: 2 | AQ71: 2 | AU71: 2 | AY71: 2 | BC71: 2 | BK71: 2 | BO71: 2 | BS71: 2 | BW71: 2 | CA71: 2 | CE71: 2 | CM71: 2 | CQ71: 2 | CU71: 3 | CY71: 3 | DC71: 3 | DG71: 3 | DO71: 3 | DS71: 3 | DW71: 3 | DZ71: =F71+J71+N71+R71+V71+Z71+AD71+AH71+AL71+AP71+AT71+AX71+BB71+BF71+BJ71+BN71+BR71+BV71+BZ71+CD71+CH71+CL71+CP71+CT71+CX71+DB71+DF71+DJ71+DN71+DR71+DV71 -> 0 | EA71: =G71+K71+O71+S71+W71+AA71+AE71+AI71+AM71+AQ71+AU71+AY71+BC71+BG71+BK71+BO71+BS71+BW71+CA71+CE71+CI71+CM71+CQ71+CU71+CY71+DC71+DG71+DK71+DO71+DS71+DW71 -> 59 | EB71: =H71+L71+P71+T71+X71+AB71+AF71+AJ71+AN71+AR71+AV71+AZ71+BD71+BH71+BL71+BP71+BT71+BX71+CB71+CF71+CJ71+CN71+CR71+CV71+CZ71+DD71+DH71+DL71+DP71+DT71+DX71 -> 0 | EC71: =I71+M71+Q71+U71+Y71+AC71+AG71+AK71+AO71+AS71+AW71+BA71+BE71+BI71+BM71+BQ71+BU71+BY71+CC71+CG71+CK71+CO71+CS71+CW71+DA71+DE71+DI71+DM71+DQ71+DU71+DY71 -> 0
A72: 64 | B72: SRINI503111TSBH01020 | C72: SRINIVASA CHILDRENS HOSPITAL | D72: H.NO. 5-4-125/1, N.H.7 ROAD, NEAR DSP OFFICE, RAMAREDDY ROAD, KAMAREDDY - 503111. | E72: 8 | F72: 2 | J72: 2 | N72: 2 | R72: 2 | V72: 2 | Z72: 1 | AH72: 1 | AL72: 1 | AP72: 1 | AT72: 1 | AX72: 1 | BB72: 1 | BJ72: 1 | BN72: 1 | BR72: 1 | BV72: 1 | BZ72: 1 | CD72: 1 | CL72: 1 | CP72: 1 | CT72: 1 | CX72: 1 | DB72: 1 | DF72: 1 | DN72: 1 | DR72: 1 | DV72: 1 | DZ72: =F72+J72+N72+R72+V72+Z72+AD72+AH72+AL72+AP72+AT72+AX72+BB72+BF72+BJ72+BN72+BR72+BV72+BZ72+CD72+CH72+CL72+CP72+CT72+CX72+DB72+DF72+DJ72+DN72+DR72+DV72 -> 32 | EA72: =G72+K72+O72+S72+W72+AA72+AE72+AI72+AM72+AQ72+AU72+AY72+BC72+BG72+BK72+BO72+BS72+BW72+CA72+CE72+CI72+CM72+CQ72+CU72+CY72+DC72+DG72+DK72+DO72+DS72+DW72 -> 0 | EB72: =H72+L72+P72+T72+X72+AB72+AF72+AJ72+AN72+AR72+AV72+AZ72+BD72+BH72+BL72+BP72+BT72+BX72+CB72+CF72+CJ72+CN72+CR72+CV72+CZ72+DD72+DH72+DL72+DP72+DT72+DX72 -> 0 | EC72: =I72+M72+Q72+U72+Y72+AC72+AG72+AK72+AO72+AS72+AW72+BA72+BE72+BI72+BM72+BQ72+BU72+BY72+CC72+CG72+CK72+CO72+CS72+CW72+DA72+DE72+DI72+DM72+DQ72+DU72+DY72 -> 0
A73: 65 | B73: DRPSU503111TSBH07067 | C73: DR. P SUDARSHAN RAJ CLINIC | D73: H.NO. 1-9-53, MUSHRIF BHAGH, KAMAREDDY - 503111. | E73: 6 | F73: 2 | J73: 2 | N73: 2 | R73: 2 | V73: 2 | Z73: 2 | AH73: 2 | AL73: 2 | AP73: 2 | AT73: 2 | AX73: 2 | BB73: 2 | BJ73: 2 | BN73: 2 | BR73: 2 | BV73: 2 | BZ73: 2 | CD73: 2 | CL73: 2 | CP73: 2 | CT73: 2 | CX73: 2 | DB73: 2 | DF73: 2 | DN73: 2 | DR73: 2 | DV73: 2 | DZ73: =F73+J73+N73+R73+V73+Z73+AD73+AH73+AL73+AP73+AT73+AX73+BB73+BF73+BJ73+BN73+BR73+BV73+BZ73+CD73+CH73+CL73+CP73+CT73+CX73+DB73+DF73+DJ73+DN73+DR73+DV73 -> 54 | EA73: =G73+K73+O73+S73+W73+AA73+AE73+AI73+AM73+AQ73+AU73+AY73+BC73+BG73+BK73+BO73+BS73+BW73+CA73+CE73+CI73+CM73+CQ73+CU73+CY73+DC73+DG73+DK73+DO73+DS73+DW73 -> 0 | EB73: =H73+L73+P73+T73+X73+AB73+AF73+AJ73+AN73+AR73+AV73+AZ73+BD73+BH73+BL73+BP73+BT73+BX73+CB73+CF73+CJ73+CN73+CR73+CV73+CZ73+DD73+DH73+DL73+DP73+DT73+DX73 -> 0 | EC73: =I73+M73+Q73+U73+Y73+AC73+AG73+AK73+AO73+AS73+AW73+BA73+BE73+BI73+BM73+BQ73+BU73+BY73+CC73+CG73+CK73+CO73+CS73+CW73+DA73+DE73+DI73+DM73+DQ73+DU73+DY73 -> 0
A74: 66 | B74: AMRUT503111TSBH07827 | C74: AMRUTHA CHILDRENS & NEONATAL HOSPITAL | D74: BESIDE MUNICIPAL OFFICE, KAMAREDDY - 503111. | E74: 5 | F74: 1 | J74: 1 | N74: 1 | R74: 1 | V74: 1 | Z74: 1 | AH74: 1 | AL74: 1 | AP74: 1 | AT74: 1 | AX74: 1 | BB74: 1 | BJ74: 1 | BN74: 1 | BR74: 1 | BV74: 1 | BZ74: 1 | CD74: 1 | CL74: 1 | CP74: 1 | CT74: 1 | CX74: 1 | DB74: 1 | DF74: 1 | DN74: 1 | DR74: 1 | DV74: 1 | DZ74: =F74+J74+N74+R74+V74+Z74+AD74+AH74+AL74+AP74+AT74+AX74+BB74+BF74+BJ74+BN74+BR74+BV74+BZ74+CD74+CH74+CL74+CP74+CT74+CX74+DB74+DF74+DJ74+DN74+DR74+DV74 -> 27 | EA74: =G74+K74+O74+S74+W74+AA74+AE74+AI74+AM74+AQ74+AU74+AY74+BC74+BG74+BK74+BO74+BS74+BW74+CA74+CE74+CI74+CM74+CQ74+CU74+CY74+DC74+DG74+DK74+DO74+DS74+DW74 -> 0 | EB74: =H74+L74+P74+T74+X74+AB74+AF74+AJ74+AN74+AR74+AV74+AZ74+BD74+BH74+BL74+BP74+BT74+BX74+CB74+CF74+CJ74+CN74+CR74+CV74+CZ74+DD74+DH74+DL74+DP74+DT74+DX74 -> 0 | EC74: =I74+M74+Q74+U74+Y74+AC74+AG74+AK74+AO74+AS74+AW74+BA74+BE74+BI74+BM74+BQ74+BU74+BY74+CC74+CG74+CK74+CO74+CS74+CW74+DA74+DE74+DI74+DM74+DQ74+DU74+DY74 -> 0
A75: 67 | B75: SAIRA503111TSBH08388 | C75: SAIRAM GENERAL & SKIN HOSPITAL | D75: BESIDE DR. DATHAIAH CLINIC, NEAR RAILWAY BRIDGE, BESIDE AMBEDKAR STATUE, BIG BAZAR, KAMAREDDY - 503111. | E75: 5 | DZ75: =F75+J75+N75+R75+V75+Z75+AD75+AH75+AL75+AP75+AT75+AX75+BB75+BF75+BJ75+BN75+BR75+BV75+BZ75+CD75+CH75+CL75+CP75+CT75+CX75+DB75+DF75+DJ75+DN75+DR75+DV75 -> 0 | EA75: =G75+K75+O75+S75+W75+AA75+AE75+AI75+AM75+AQ75+AU75+AY75+BC75+BG75+BK75+BO75+BS75+BW75+CA75+CE75+CI75+CM75+CQ75+CU75+CY75+DC75+DG75+DK75+DO75+DS75+DW75 -> 0 | EB75: =H75+L75+P75+T75+X75+AB75+AF75+AJ75+AN75+AR75+AV75+AZ75+BD75+BH75+BL75+BP75+BT75+BX75+CB75+CF75+CJ75+CN75+CR75+CV75+CZ75+DD75+DH75+DL75+DP75+DT75+DX75 -> 0 | EC75: =I75+M75+Q75+U75+Y75+AC75+AG75+AK75+AO75+AS75+AW75+BA75+BE75+BI75+BM75+BQ75+BU75+BY75+CC75+CG75+CK75+CO75+CS75+CW75+DA75+DE75+DI75+DM75+DQ75+DU75+DY75 -> 0
A76: 68 | B76: SRIRA503111TSBH09934 | C76: SRI RAMA MULTI SPECIALITY DENTAL HOSPITAL | D76: 5-3-218/A, II FLOOR, ABOVE THE CANARA BANK, OLD NH.7, OPP: NEW LIC BUILDING, NH-7 ROAD, KAMAREDDY - 503111. | E76: 5 | F76: 2 | J76: 2 | N76: 2 | R76: 2 | V76: 2 | Z76: 2 | AH76: 2 | AL76: 2 | AQ76: 3 | AU76: 3 | AY76: 1 | BC76: 1 | BK76: 1 | BO76: 1 | BS76: 3 | BW76: 3 | CA76: 3 | CE76: 3 | CM76: 3 | CQ76: 3 | CU76: 3 | CY76: 3 | DC76: 4 | DG76: 4 | DO76: 4 | DS76: 4 | DW76: 4 | DZ76: =F76+J76+N76+R76+V76+Z76+AD76+AH76+AL76+AP76+AT76+AX76+BB76+BF76+BJ76+BN76+BR76+BV76+BZ76+CD76+CH76+CL76+CP76+CT76+CX76+DB76+DF76+DJ76+DN76+DR76+DV76 -> 16 | EA76: =G76+K76+O76+S76+W76+AA76+AE76+AI76+AM76+AQ76+AU76+AY76+BC76+BG76+BK76+BO76+BS76+BW76+CA76+CE76+CI76+CM76+CQ76+CU76+CY76+DC76+DG76+DK76+DO76+DS76+DW76 -> 54 | EB76: =H76+L76+P76+T76+X76+AB76+AF76+AJ76+AN76+AR76+AV76+AZ76+BD76+BH76+BL76+BP76+BT76+BX76+CB76+CF76+CJ76+CN76+CR76+CV76+CZ76+DD76+DH76+DL76+DP76+DT76+DX76 -> 0 | EC76: =I76+M76+Q76+U76+Y76+AC76+AG76+AK76+AO76+AS76+AW76+BA76+BE76+BI76+BM76+BQ76+BU76+BY76+CC76+CG76+CK76+CO76+CS76+CW76+DA76+DE76+DI76+DM76+DQ76+DU76+DY76 -> 0
A77: 69 | B77: VISHN503111TSBH01099 | C77: VISHNU ENT HOSPITAL | D77: H.No. 1-5-255/B, BESIDE VAISHNAVI HOSPITAL, NEAR ANJAL REDDY HOSPITAL, RAMAREDDY ROAD, KAMAREDDY - 503111. | E77: 5 | G77: 1 | K77: 1 | O77: 1 | S77: 1 | W77: 1 | AA77: 2 | AI77: 2 | AM77: 2 | AQ77: 2 | AU77: 2 | AY77: 2 | BC77: 2 | BK77: 2 | BO77: 2 | BS77: 2 | BW77: 2 | CA77: 2 | CE77: 2 | CM77: 2 | CQ77: 2 | CU77: 2 | CY77: 2 | DC77: 2 | DG77: 2 | DO77: 2 | DS77: 2 | DW77: 2 | DZ77: =F77+J77+N77+R77+V77+Z77+AD77+AH77+AL77+AP77+AT77+AX77+BB77+BF77+BJ77+BN77+BR77+BV77+BZ77+CD77+CH77+CL77+CP77+CT77+CX77+DB77+DF77+DJ77+DN77+DR77+DV77 -> 0 | EA77: =G77+K77+O77+S77+W77+AA77+AE77+AI77+AM77+AQ77+AU77+AY77+BC77+BG77+BK77+BO77+BS77+BW77+CA77+CE77+CI77+CM77+CQ77+CU77+CY77+DC77+DG77+DK77+DO77+DS77+DW77 -> 49 | EB77: =H77+L77+P77+T77+X77+AB77+AF77+AJ77+AN77+AR77+AV77+AZ77+BD77+BH77+BL77+BP77+BT77+BX77+CB77+CF77+CJ77+CN77+CR77+CV77+CZ77+DD77+DH77+DL77+DP77+DT77+DX77 -> 0 | EC77: =I77+M77+Q77+U77+Y77+AC77+AG77+AK77+AO77+AS77+AW77+BA77+BE77+BI77+BM77+BQ77+BU77+BY77+CC77+CG77+CK77+CO77+CS77+CW77+DA77+DE77+DI77+DM77+DQ77+DU77+DY77 -> 0
A78: 70 | C78: Sri Yashoda Hospital | D78: Diabetes and Dental Specialities Center, Near Old Bus Stand, adloor Road, Kamareddy District - 503111 | E78: 5 | G78: 1 | K78: 1 | O78: 1 | S78: 1 | W78: 1 | AA78: 2 | AI78: 2 | AM78: 2 | AQ78: 2 | AU78: 2 | AY78: 2 | BC78: 2 | BK78: 2 | BO78: 2 | BS78: 2 | BW78: 2 | CA78: 2 | CE78: 2 | CM78: 2 | CQ78: 2 | CU78: 2 | CY78: 2 | DC78: 2 | DG78: 2 | DO78: 2 | DS78: 2 | DW78: 2 | DZ78: =F78+J78+N78+R78+V78+Z78+AD78+AH78+AL78+AP78+AT78+AX78+BB78+BF78+BJ78+BN78+BR78+BV78+BZ78+CD78+CH78+CL78+CP78+CT78+CX78+DB78+DF78+DJ78+DN78+DR78+DV78 -> 0 | EA78: =G78+K78+O78+S78+W78+AA78+AE78+AI78+AM78+AQ78+AU78+AY78+BC78+BG78+BK78+BO78+BS78+BW78+CA78+CE78+CI78+CM78+CQ78+CU78+CY78+DC78+DG78+DK78+DO78+DS78+DW78 -> 49 | EB78: =H78+L78+P78+T78+X78+AB78+AF78+AJ78+AN78+AR78+AV78+AZ78+BD78+BH78+BL78+BP78+BT78+BX78+CB78+CF78+CJ78+CN78+CR78+CV78+CZ78+DD78+DH78+DL78+DP78+DT78+DX78 -> 0 | EC78: =I78+M78+Q78+U78+Y78+AC78+AG78+AK78+AO78+AS78+AW78+BA78+BE78+BI78+BM78+BQ78+BU78+BY78+CC78+CG78+CK78+CO78+CS78+CW78+DA78+DE78+DI78+DM78+DQ78+DU78+DY78 -> 0
