Workbook

Sheet Total
B1: JANUARY - 2024 MONTH REPORT ABSTRACT
B2: DISTRICT | C2: NO.OF HCFs | D2: NO.OF BEDS | E2: YELLOW | F2: RED | G2: BLUE | H2: WHITE | I2: TOTAL
E3: Values are in Kilograms
B4: NIZAMABAD | C4: ='Area Wise Total'!D13 -> 433 | D4: ='Area Wise Total'!E13 -> 6007 | E4: ='Area Wise Total'!F13 -> 11516.2 | F4: ='Area Wise Total'!G13 -> 5734 | G4: ='Area Wise Total'!H13 -> 1678 | H4: ='Area Wise Total'!I13 -> 240 | I4: =SUM(E4:H4) -> 19168.2
B5: KAMAREDDY | C5: ='Area Wise Total'!D20 -> 216 | D5: ='Area Wise Total'!E20 -> 2146 | E5: ='Area Wise Total'!F20 -> 6739 | F5: ='Area Wise Total'!G20 -> 3537 | G5: ='Area Wise Total'!H20 -> 287 | H5: ='Area Wise Total'!I20 -> 108 | I5: =SUM(E5:H5) -> 10671
B6: NIRMAL | C6: ='Area Wise Total'!D26 -> 135 | D6: ='Area Wise Total'!E26 -> 1951 | E6: ='Area Wise Total'!F26 -> 4075.1 | F6: ='Area Wise Total'!G26 -> 2451.7 | G6: ='Area Wise Total'!H26 -> 758.5 | H6: ='Area Wise Total'!I26 -> 43 | I6: =SUM(E6:H6) -> 7328.3
B7: ADILABAD | C7: ='Area Wise Total'!D30 -> 149 | D7: ='Area Wise Total'!E30 -> 1857 | E7: ='Area Wise Total'!F30 -> 6472.3 | F7: ='Area Wise Total'!G30 -> 2109.5 | G7: ='Area Wise Total'!H30 -> 406 | H7: ='Area Wise Total'!I30 -> 106 | I7: =SUM(E7:H7) -> 9093.8
B8: ASIFABAD | C8: ='Area Wise Total'!D34 -> 55 | D8: ='Area Wise Total'!E34 -> 579 | E8: ='Area Wise Total'!F34 -> 2377 | F8: ='Area Wise Total'!G34 -> 1023 | G8: ='Area Wise Total'!H34 -> 0 | H8: ='Area Wise Total'!I34 -> 0 | I8: =SUM(E8:H8) -> 3400
B9: CLOSED HCFS | C9: ='Area Wise Total'!D36 -> 10 | D9: ='Area Wise Total'!E36 -> 72 | E9: ='Area Wise Total'!F36 -> 113 | F9: ='Area Wise Total'!G36 -> 132 | G9: ='Area Wise Total'!H36 -> 0 | H9: ='Area Wise Total'!H36 -> 0 | I9: =SUM(E9:H9) -> 245
B10: TOTAL | C10: =SUM(C4:C9) -> 998 | D10: =SUM(D4:D9) -> 12612 | E10: =SUM(E4:E9) -> 31292.6 | F10: =SUM(F4:F9) -> 14987.2 | G10: =SUM(G4:G9) -> 3129.5 | H10: =SUM(H4:H9) -> 497 | I10: =SUM(I4:I9) -> 49906.3
B12: DETAILS OF COLOURS
B13: YELLOW | C13: INCENERABLE WASTE
B14: RED | C14: AUTOCLAVE WASTE
B15: BLUE | C15: SHREDDING, BROKEN GLASS, METALIC BODY IMPLANTS
B16: WHITE | C16: SHARPENS, NEEDLES, BLADES, SCALPELS, NAILS, LANCETS

Sheet Area Wise Total
B2: STATEMENT SHOWING AREA WISE RECEIVED BIO - MEDICAL WASTE
B3: JANUARY - 2024
B4: District | C4: Areas | D4: HCF's | E4: Beds | F4: Yellow | G4: Red | H4: Blue | I4: White
B6: Nizamabad | C6: Nizamabad | D6: =COUNTIF(Nizamabad!A4:A9,">0")+COUNTIF(Nizamabad!A13:A291,">0") -> 281 | E6: =SUM(Nizamabad!E4:E9)+SUM(Nizamabad!E13:E291) -> 4263 | F6: =SUM(Nizamabad!DZ4:DZ9)+SUM(Nizamabad!DZ13:DZ291) -> 7636 | G6: =SUM(Nizamabad!EA4:EA9)+SUM(Nizamabad!EA13:EA291) -> 4586 | H6: =SUM(Nizamabad!EB4:EB9)+SUM(Nizamabad!EB13:EB291) -> 1597 | I6: =SUM(Nizamabad!EC4:EC9)+SUM(Nizamabad!EC13:EC291) -> 232
C7: Armoor | D7: =COUNTIF(Nizamabad!A293:A361,">0") -> 68 | E7: =SUM(Nizamabad!E293:E361) -> 812 | F7: =SUM(Nizamabad!DZ293:DZ361) -> 1856 | G7: =SUM(Nizamabad!EA293:EA361) -> 802 | H7: =SUM(Nizamabad!EB293:EB361) -> 23 | I7: =SUM(Nizamabad!EC293:EC361) -> 8
C8: Bodhan | D8: =COUNTIF(Nizamabad!A362:A405, ">0")+COUNTIF(Nizamabad!A10,">0") -> 45 | E8: =Nizamabad!E10+SUM(Nizamabad!E362:E405) -> 475 | F8: =Nizamabad!DZ10+SUM(Nizamabad!DZ362:DZ405) -> 290 | G8: =Nizamabad!EA10+SUM(Nizamabad!EA362:EA405) -> 296 | H8: =Nizamabad!EB10+SUM(Nizamabad!EB362:EB405) -> 58 | I8: =Nizamabad!EC10+SUM(Nizamabad!EC362:EC405) -> 0
C9: Dichpally | D9: =COUNTIF(Nizamabad!A407:A409, ">0") -> 3 | E9: =SUM(Nizamabad!E407:E409) -> 36 | F9: =SUM(Nizamabad!DZ407:DZ409) -> 82 | G9: =SUM(Nizamabad!EA407:EA409) -> 2 | H9: =SUM(Nizamabad!EB407:EB409) -> 0 | I9: =SUM(Nizamabad!EC407:EC409) -> 0
C10: Varni | D10: =COUNTIF(Nizamabad!A411:A413, ">0") -> 3 | E10: =SUM(Nizamabad!E411:E413) -> 36 | F10: =SUM(Nizamabad!DZ411:DZ413) -> 20 | G10: =SUM(Nizamabad!EA411:EA413) -> 0 | H10: =SUM(Nizamabad!EB411:EB413) -> 0 | I10: =SUM(Nizamabad!EC411:EC413) -> 0
C11: Navipet | D11: =COUNTIF(Nizamabad!A415:A416,">0") -> 2 | E11: =SUM(Nizamabad!E415:E416) -> 37 | F11: =SUM(Nizamabad!DZ415:DZ416) -> 20.2 | G11: =SUM(Nizamabad!EA415:EA416) -> 0 | H11: =SUM(Nizamabad!EB415:EB416) -> 0 | I11: =SUM(Nizamabad!EC415:EC416) -> 0
C12: Govt.HCFs. | D12: =COUNTIF(Nizamabad!A418:A448,">0") -> 31 | E12: =SUM(Nizamabad!E418:E448) -> 348 | F12: =SUM(Nizamabad!DZ418:DZ448) -> 1612 | G12: =SUM(Nizamabad!EA418:EA448) -> 48 | H12: =SUM(Nizamabad!EB418:EB448) -> 0 | I12: =SUM(Nizamabad!EC418:EC448) -> 0
C13: Total: | D13: =SUM(D6:D12) -> 433 | E13: =SUM(E6:E12) -> 6007 | F13: =SUM(F6:F12) -> 11516.2 | G13: =SUM(G6:G12) -> 5734 | H13: =SUM(H6:H12) -> 1678 | I13: =SUM(I6:I12) -> 240
B15: Kamareddy | C15: Kamareddy | D15: =COUNTIF(Kamareddy!A4:A5, ">0")+COUNTIF(Kamareddy!A9:A136, ">0") -> 130 | E15: =SUM(Kamareddy!E4:E5)+SUM(Kamareddy!E9:E136) -> 1226 | F15: =SUM(Kamareddy!DZ4:DZ5)+SUM(Kamareddy!DZ9:DZ136) -> 3134 | G15: =SUM(Kamareddy!EA4:EA5)+SUM(Kamareddy!EA9:EA136) -> 2392 | H15: =SUM(Kamareddy!EB4:EB5)+SUM(Kamareddy!EB9:EB136) -> 233 | I15: =SUM(Kamareddy!EC4:EC5)+SUM(Kamareddy!EC9:EC136) -> 81
C16: Banswada | D16: =COUNTIF(Kamareddy!A6,">0")+COUNTIF(Kamareddy!A138:A175, ">0") -> 39 | E16: =Kamareddy!E6+SUM(Kamareddy!E138:E175) -> 365 | F16: =Kamareddy!DZ6+SUM(Kamareddy!DZ138:DZ175) -> 929 | G16: =Kamareddy!EA6+SUM(Kamareddy!EA138:EA175) -> 368 | H16: =Kamareddy!EB6+SUM(Kamareddy!EB138:EB175) -> 54 | I16: =Kamareddy!EC6+SUM(Kamareddy!EC138:EC175) -> 27
C17: Gandhari | D17: =COUNTIF(Kamareddy!A177:A182,">0") -> 6 | E17: =SUM(Kamareddy!E177:E182) -> 64 | F17: =SUM(Kamareddy!DZ177:DZ182) -> 270 | G17: =SUM(Kamareddy!EA177:EA182) -> 27 | H17: =SUM(Kamareddy!EB177:EB182) -> 0 | I17: =SUM(Kamareddy!EC177:EC182) -> 0
C18: Yellareddy | D18: =COUNTIF(Kamareddy!A184:A198,">0") -> 15 | E18: =SUM(Kamareddy!E184:E198) -> 215 | F18: =SUM(Kamareddy!DZ184:DZ198) -> 300 | G18: =SUM(Kamareddy!EA184:EA198) -> 669 | H18: =SUM(Kamareddy!EB184:EB198) -> 0 | I18: =SUM(Kamareddy!EC184:EC198) -> 0
C19: Govt.HCFs. | D19: =COUNTIF(Kamareddy!A200:A225,">0") -> 26 | E19: =SUM(Kamareddy!E200:E225) -> 276 | F19: =SUM(Kamareddy!DZ200:DZ225) -> 2106 | G19: =SUM(Kamareddy!EA200:EA225) -> 81 | H19: =SUM(Kamareddy!EB200:EB225) -> 0 | I19: =SUM(Kamareddy!EC200:EC225) -> 0
C20: Total: | D20: =SUM(D15:D19) -> 216 | E20: =SUM(E15:E19) -> 2146 | F20: =SUM(F15:F19) -> 6739 | G20: =SUM(G15:G19) -> 3537 | H20: =SUM(H15:H19) -> 287 | I20: =SUM(I15:I19) -> 108
B22: Nirmal | C22: Nirmal | D22: =COUNTIF(Nirmal!A4:A5,">0")+COUNTIF(Nirmal!A9:A93,">0") -> 87 | E22: =SUM(Nirmal!E4:E5)+SUM(Nirmal!E9:E93) -> 1333 | F22: =SUM(Nirmal!DZ4:DZ5)+SUM(Nirmal!DZ9:DZ93) -> 1842.2 | G22: =SUM(Nirmal!EA4:EA5)+SUM(Nirmal!EA9:EA93) -> 1921 | H22: =SUM(Nirmal!EB4:EB5)+SUM(Nirmal!EB9:EB93) -> 693 | I22: =SUM(Nirmal!EC4:EC5)+SUM(Nirmal!EC9:EC93) -> 30
C23: Bhainsa | D23: =COUNTIF(Nirmal!A6,">0")+COUNTIF(Nirmal!A95:A118,">0") -> 25 | E23: =Nirmal!E6+SUM(Nirmal!E95:E118) -> 372 | F23: =Nirmal!DZ6+SUM(Nirmal!DZ95:DZ118) -> 544 | G23: =Nirmal!EA6+SUM(Nirmal!EA95:EA118) -> 356.6 | H23: =Nirmal!EB6+SUM(Nirmal!EB95:EB118) -> 65 | I23: =Nirmal!EC6+SUM(Nirmal!EC95:EC118) -> 13
C24: Mudhole | D24: =COUNTIF(Nirmal!A120:A125, ">0") -> 6 | E24: =SUM(Nirmal!E120:E125) -> 72 | F24: =SUM(Nirmal!DZ120:DZ125) -> 149.9 | G24: =SUM(Nirmal!EA120:EA125) -> 93.1 | H24: =SUM(Nirmal!EB120:EB125) -> 0.5 | I24: =SUM(Nirmal!EC120:EC125) -> 0
C25: Govt.HCFs. | D25: =COUNTIF(Nirmal!A127:A143, ">0") -> 17 | E25: =SUM(Nirmal!E127:E143) -> 174 | F25: =SUM(Nirmal!DZ127:DZ143) -> 1539 | G25: =SUM(Nirmal!EA127:EA143) -> 81 | H25: =SUM(Nirmal!EB127:EB143) -> 0 | I25: =SUM(Nirmal!EC127:EC143) -> 0
C26: Total: | D26: =SUM(D22:D25) -> 135 | E26: =SUM(E22:E25) -> 1951 | F26: =SUM(F22:F25) -> 4075.1 | G26: =SUM(G22:G25) -> 2451.7 | H26: =SUM(H22:H25) -> 758.5 | I26: =SUM(I22:I25) -> 43
B28: Adilabad | C28: Adilabad | D28: =COUNTIF(Adilabad!A3:A100,">0") -> 96 | E28: =SUM(Adilabad!E4:E100) -> 1610 | F28: =SUM(Adilabad!DZ4:DZ100) -> 2611.3 | G28: =SUM(Adilabad!EA4:EA100) -> 1974.5 | H28: =SUM(Adilabad!EB4:EB100) -> 406 | I28: =SUM(Adilabad!EC4:EC100) -> 106
C29: Govt.HCFs. | D29: =COUNTIF(Adilabad!A102:A154,">0") -> 53 | E29: =SUM(Adilabad!E102:E154) -> 247 | F29: =SUM(Adilabad!DZ102:DZ154) -> 3861 | G29: =SUM(Adilabad!EA102:EA154) -> 135 | H29: =SUM(Adilabad!EB102:EB154) -> 0 | I29: =SUM(Adilabad!EC102:EC154) -> 0
C30: Total | D30: =SUM(D28:D29) -> 149 | E30: =SUM(Adilabad!E4:E154) -> 1857 | F30: =SUM(F28:F29) -> 6472.3 | G30: =SUM(G28:G29) -> 2109.5 | H30: =SUM(H28:H29) -> 406 | I30: =SUM(I28:I29) -> 106
B32: Asifabad | C32: Asifabad | D32: =COUNTIF(Asifabad!A4:A36, ">0") -> 33 | E32: =SUM(Asifabad!E4:E36) -> 450 | F32: =SUM(Asifabad!DZ4:DZ36) -> 1016 | G32: =SUM(Asifabad!EA4:EA36) -> 861 | H32: =SUM(Asifabad!EB4:EB36) -> 0 | I32: =SUM(Asifabad!EC2:EC36) -> 0
C33: Govt.HCFs. | D33: =COUNTIF(Asifabad!A38:A59, ">0") -> 22 | E33: =SUM(Asifabad!E38:E59) -> 129 | F33: =SUM(Asifabad!DZ38:DZ59) -> 1361 | G33: =SUM(Asifabad!EA38:EA59) -> 162 | H33: =SUM(Asifabad!EB38:EB59) -> 0 | I33: =SUM(Asifabad!EC38:EC59) -> 0
B34: Asifabad | C34: Total | D34: =SUM(D32:D33) -> 55 | E34: =SUM(E32:E33) -> 579 | F34: =SUM(F32:F33) -> 2377 | G34: =SUM(G32:G33) -> 1023 | H34: =SUM(H32:H33) -> 0 | I34: =SUM(I32:I33) -> 0
B36: Closed HCFs | D36: =COUNTIF(Nizamabad!A450:A452, ">0")+COUNTIF(Kamareddy!A227:A232, ">0")+COUNTIF(Nirmal!A145, ">0") -> 10 | E36: =SUM(Nizamabad!E450:E452)+SUM(Kamareddy!E227:E232)+SUM(Nirmal!E145) -> 72 | F36: =SUM(Nizamabad!DZ450:DZ452)+SUM(Kamareddy!DZ227:DZ232)+(Nirmal!DZ145) -> 113 | G36: =SUM(Nizamabad!EA450:EA452)+SUM(Kamareddy!EA227:EA232)+(Nirmal!EA145) -> 132 | H36: =SUM(Nizamabad!EB450:EB452)+SUM(Kamareddy!EB227:EB232)+(Nirmal!EB145) -> 0 | I36: =SUM(Nizamabad!EC450:EC452)+SUM(Kamareddy!EC227:EC232)+(Nirmal!EC145) -> 0
B38: Grand Total | D38: =D13+D20+D26+D30+D34+D36 -> 998 | E38: =E13+E20+E26+E30+E34+E36 -> 12612 | F38: =F13+F20+F26+F30+F34+F36 -> 31292.6 | G38: =G13+G20+G26+G30+G34+G36 -> 14987.2 | H38: =H13+H20+H26+H30+H34+H36 -> 3129.5 | I38: =I13+I20+I26+I30+I34+I36 -> 497

Sheet Nizamabad
A1: JANUARY - 2024 MONTH REPORT | F1: 45292 | J1: 45293 | N1: 45294 | R1: 45295 | V1: 45296 | Z1: 45297 | AD1: 45298 | AH1: 45299 | AL1: 45300 | AP1: 45301 | AT1: 45302 | AX1: 45303 | BB1: 45304 | BF1: 45305 | BJ1: 45306 | BN1: 45307 | BR1: 45308 | BV1: 45309 | BZ1: 45310 | CD1: 45311 | CH1: 45312 | CL1: 45313 | CP1: 45314 | CT1: 45315 | CX1: 45316 | DB1: 45317 | DF1: 45318 | DJ1: 45319 | DN1: 45320 | DR1: 45321 | DV1: 45322 | DZ1: TOTAL
A2: SNO | B2: HCF ID | C2: NAME OF THE HCF | D2: ADDRESS OF THE HCFS | E2: NO.OF BEDS | F2: Yellow | G2: Red | H2: Blue | I2: White | J2: Yellow | K2: Red | L2: Blue | M2: White | N2: Yellow | O2: Red | P2: Blue | Q2: White | R2: Yellow | S2: Red | T2: Blue | U2: White | V2: Yellow | W2: Red | X2: Blue | Y2: White | Z2: Yellow | AA2: Red | AB2: Blue | AC2: White | AD2: Yellow | AE2: Red | AF2: Blue | AG2: White | AH2: Yellow | AI2: Red | AJ2: Blue | AK2: White | AL2: Yellow | AM2: Red | AN2: Blue | AO2: White | AP2: Yellow | AQ2: Red | AR2: Blue | AS2: White | AT2: Yellow | AU2: Red | AV2: Blue | AW2: White | AX2: Yellow | AY2: Red | AZ2: Blue | BA2: White | BB2: Yellow | BC2: Red | BD2: Blue | BE2: White | BF2: Yellow | BG2: Red | BH2: Blue | BI2: White | BJ2: Yellow | BK2: Red | BL2: Blue | BM2: White | BN2: Yellow | BO2: Red | BP2: Blue | BQ2: White | BR2: Yellow | BS2: Red | BT2: Blue | BU2: White | BV2: Yellow | BW2: Red | BX2: Blue | BY2: White | BZ2: Yellow | CA2: Red | CB2: Blue | CC2: White | CD2: Yellow | CE2: Red | CF2: Blue | CG2: White | CH2: Yellow | CI2: Red | CJ2: Blue | CK2: White | CL2: Yellow | CM2: Red | CN2: Blue | CO2: White | CP2: Yellow | CQ2: Red | CR2: Blue | CS2: White | CT2: Yellow | CU2: Red | CV2: Blue | CW2: White | CX2: Yellow | CY2: Red | CZ2: Blue | DA2: White | DB2: Yellow | DC2: Red | DD2: Blue | DE2: White | DF2: Yellow | DG2: Red | DH2: Blue | DI2: White | DJ2: Yellow | DK2: Red | DL2: Blue | DM2: White | DN2: Yellow | DO2: Red | DP2: Blue | DQ2: White | DR2: Yellow | DS2: Red | DT2: Blue | DU2: White | DV2: Yellow | DW2: Red | DX2: Blue | DY2: White | DZ2: Yellow | EA2: Red | EB2: Blue | EC2: White
A3: NIZAMABAD 100 AND ABOVE BEDS HCFs
A4: 1 | B4: GOVER503001TSBH00988 | C4: GOVT. DIST. HOSPITAL | D4: BESIDE NIZAMABAD BUS STATION, NIZAMABAD - 503001 | E4: 750 | F4: 16 | G4: 15 | H4: 5 | I4: 5 | J4: 15 | K4: 15 | L4: 2 | M4: 5 | N4: 15 | O4: 15 | P4: 2 | Q4: 5 | R4: 15 | S4: 15 | T4: 5 | U4: 5 | V4: 15 | W4: 15 | X4: 2 | Y4: 5 | Z4: 15 | AA4: 15 | AB4: 2 | AC4: 5 | AD4: 15 | AE4: 5 | AF4: 5 | AG4: 5 | AH4: 15 | AI4: 15 | AJ4: 5 | AK4: 5 | AL4: 15 | AM4: 15 | AN4: 2 | AO4: 5 | AP4: 20 | AQ4: 15 | AR4: 2 | AS4: 5 | AT4: 25 | AU4: 15 | AV4: 2 | AW4: 5 | AX4: 15 | AY4: 15 | AZ4: 2 | BA4: 5 | BB4: 15 | BC4: 15 | BD4: 2 | BE4: 5 | BJ4: 15 | BK4: 15 | BL4: 5 | BM4: 5 | BN4: 15 | BO4: 10 | BP4: 5 | BQ4: 5 | BR4: 15 | BS4: 5 | BT4: 5 | BU4: 5 | BV4: 15 | BW4: 16 | BX4: 8 | BY4: 5 | BZ4: 15 | CA4: 10 | CB4: 8 | CC4: 8 | CD4: 15 | CE4: 10 | CF4: 7 | CG4: 7 | CH4: 5 | CI4: 5 | CJ4: 2 | CK4: 5 | CL4: 15 | CM4: 5 | CN4: 5 | CO4: 5 | CP4: 20 | CQ4: 5 | CR4: 5 | CS4: 5 | CT4: 15 | CU4: 5 | CV4: 5 | CW4: 5 | CX4: 17 | CY4: 5 | CZ4: 5 | DA4: 5 | DB4: 15 | DC4: 5 | DD4: 5 | DE4: 5 | DF4: 10 | DG4: 8 | DH4: 5 | DI4: 5 | DN4: 15 | DO4: 5 | DP4: 7 | DQ4: 2 | DR4: 15 | DS4: 5 | DT4: 2 | DU4: 5 | DV4: 15 | DW4: 10 | DX4: 4 | DY4: 5 | DZ4: =F4+J4+N4+R4+V4+Z4+AD4+AH4+AL4+AP4+AT4+AX4+BB4+BF4+BJ4+BN4+BR4+BV4+BZ4+CD4+CH4+CL4+CP4+CT4+CX4+DB4+DF4+DJ4+DN4+DR4+DV4 -> 443 | EA4: =G4+K4+O4+S4+W4+AA4+AE4+AI4+AM4+AQ4+AU4+AY4+BC4+BG4+BK4+BO4+BS4+BW4+CA4+CE4+CI4+CM4+CQ4+CU4+CY4+DC4+DG4+DK4+DO4+DS4+DW4 -> 309 | EB4: =H4+L4+P4+T4+X4+AB4+AF4+AJ4+AN4+AR4+AV4+AZ4+BD4+BH4+BL4+BP4+BT4+BX4+CB4+CF4+CJ4+CN4+CR4+CV4+CZ4+DD4+DH4+DL4+DP4+DT4+DX4 -> 121 | EC4: =I4+M4+Q4+U4+Y4+AC4+AG4+AK4+AO4+AS4+AW4+BA4+BE4+BI4+BM4+BQ4+BU4+BY4+CC4+CG4+CK4+CO4+CS4+CW4+DA4+DE4+DI4+DM4+DQ4+DU4+DY4 -> 147
A5: 2 | B5: MEGHN503003TSBH00905 | C5: MEGHNA INSTITUTE OF DENTAL SCIENCES | D5: VARNI ROAD, MALLARAM VILLAGE, NIZAMABAD - 503001 | E5: 200 | F5: 5 | G5: 3 | H5: 2 | J5: 5 | K5: 2 | L5: 2 | M5: 1 | N5: 5 | O5: 3 | P5: 2 | R5: 5 | S5: 2 | T5: 2 | V5: 5 | X5: 2 | Z5: 5 | AA5: 2 | AB5: 2 | AD5: 5 | AE5: 3 | AF5: 2 | AH5: 5 | AJ5: 2 | AL5: 5 | AM5: 2 | AN5: 2 | AP5: 5 | AQ5: 3 | AR5: 2 | AT5: 5 | AU5: 2 | AV5: 2 | AX5: 5 | AY5: 2 | AZ5: 2 | BB5: 5 | BC5: 2 | BD5: 2 | BJ5: 5 | BK5: 2 | BL5: 2 | BN5: 5 | BO5: 2 | BP5: 2 | BR5: 5 | BS5: 2 | BT5: 2 | BV5: 5 | BW5: 2 | BX5: 2 | BZ5: 5 | CA5: 2 | CB5: 2 | CD5: 5 | CE5: 2 | CF5: 2 | CH5: 5 | CI5: 2 | CJ5: 2 | CL5: 5 | CM5: 3 | CN5: 2 | CP5: 5 | CR5: 2 | CT5: 5 | CU5: 2 | CV5: 2 | CX5: 5 | CY5: 1 | CZ5: 2 | DB5: 5 | DC5: 2 | DD5: 2 | DF5: 5 | DG5: 2 | DH5: 2 | DN5: 5 | DO5: 2 | DP5: 2 | DR5: 5 | DS5: 2 | DT5: 2 | DV5: 5 | DW5: 2 | DX5: 2 | DZ5: =F5+J5+N5+R5+V5+Z5+AD5+AH5+AL5+AP5+AT5+AX5+BB5+BF5+BJ5+BN5+BR5+BV5+BZ5+CD5+CH5+CL5+CP5+CT5+CX5+DB5+DF5+DJ5+DN5+DR5+DV5 -> 145 | EA5: =G5+K5+O5+S5+W5+AA5+AE5+AI5+AM5+AQ5+AU5+AY5+BC5+BG5+BK5+BO5+BS5+BW5+CA5+CE5+CI5+CM5+CQ5+CU5+CY5+DC5+DG5+DK5+DO5+DS5+DW5 -> 56 | EB5: =H5+L5+P5+T5+X5+AB5+AF5+AJ5+AN5+AR5+AV5+AZ5+BD5+BH5+BL5+BP5+BT5+BX5+CB5+CF5+CJ5+CN5+CR5+CV5+CZ5+DD5+DH5+DL5+DP5+DT5+DX5 -> 58 | EC5: =I5+M5+Q5+U5+Y5+AC5+AG5+AK5+AO5+AS5+AW5+BA5+BE5+BI5+BM5+BQ5+BU5+BY5+CC5+CG5+CK5+CO5+CS5+CW5+DA5+DE5+DI5+DM5+DQ5+DU5+DY5 -> 1
A6: 3 | B6: PRAGA503001TSBH06142 | C6: PRAGATHI HOSPITAL | D6: HYDERABAD ROAD, PRAGATHI NAGAR, NIZAMABAD - 503001 | E6: 150 | F6: 5 | G6: 5 | H6: 2 | I6: 1 | J6: 5 | K6: 2 | L6: 2 | M6: 2 | N6: 5 | O6: 5 | P6: 2 | Q6: 2 | R6: 5 | S6: 5 | T6: 2 | U6: 2 | V6: 5 | W6: 5 | X6: 2 | Y6: 2 | Z6: 5 | AA6: 5 | AB6: 2 | AC6: 2 | AD6: 5 | AE6: 5 | AF6: 2 | AG6: 2 | AH6: 5 | AI6: 5 | AJ6: 2 | AK6: 2 | AL6: 5 | AM6: 5 | AN6: 2 | AO6: 2 | AP6: 5 | AQ6: 5 | AR6: 2 | AS6: 2 | AT6: 5 | AU6: 5 | AV6: 2 | AW6: 2 | AX6: 5 | AY6: 5 | AZ6: 2 | BA6: 2 | BB6: 5 | BC6: 5 | BD6: 2 | BE6: 2 | BJ6: 5 | BK6: 5 | BL6: 2 | BM6: 2 | BN6: 5 | BO6: 5 | BP6: 2 | BQ6: 2 | BR6: 5 | BS6: 5 | BT6: 2 | BU6: 2 | BV6: 5 | BW6: 5 | BX6: 2 | BY6: 2 | BZ6: 5 | CA6: 5 | CB6: 5 | CC6: 5 | CD6: 5 | CE6: 5 | CF6: 2 | CG6: 2 | CH6: 5 | CI6: 5 | CJ6: 2 | CK6: 2 | CL6: 5 | CM6: 5 | CN6: 2 | CO6: 2 | CP6: 5 | CQ6: 5 | CR6: 2 | CS6: 2 | CT6: 5 | CU6: 5 | CV6: 2 | CW6: 2 | CX6: 5 | CY6: 5 | CZ6: 2 | DA6: 2 | DB6: 5 | DC6: 5 | DD6: 2 | DE6: 2 | DF6: 5 | DG6: 5 | DH6: 2 | DI6: 2 | DN6: 5 | DO6: 5 | DP6: 2 | DQ6: 2 | DR6: 5 | DS6: 5 | DT6: 2 | DU6: 2 | DV6: 5 | DW6: 5 | DX6: 2 | DY6: 2 | DZ6: =F6+J6+N6+R6+V6+Z6+AD6+AH6+AL6+AP6+AT6+AX6+BB6+BF6+BJ6+BN6+BR6+BV6+BZ6+CD6+CH6+CL6+CP6+CT6+CX6+DB6+DF6+DJ6+DN6+DR6+DV6 -> 145 | EA6: =G6+K6+O6+S6+W6+AA6+AE6+AI6+AM6+AQ6+AU6+AY6+BC6+BG6+BK6+BO6+BS6+BW6+CA6+CE6+CI6+CM6+CQ6+CU6+CY6+DC6+DG6+DK6+DO6+DS6+DW6 -> 142 | EB6: =H6+L6+P6+T6+X6+AB6+AF6+AJ6+AN6+AR6+AV6+AZ6+BD6+BH6+BL6+BP6+BT6+BX6+CB6+CF6+CJ6+CN6+CR6+CV6+CZ6+DD6+DH6+DL6+DP6+DT6+DX6 -> 61 | EC6: =I6+M6+Q6+U6+Y6+AC6+AG6+AK6+AO6+AS6+AW6+BA6+BE6+BI6+BM6+BQ6+BU6+BY6+CC6+CG6+CK6+CO6+CS6+CW6+DA6+DE6+DI6+DM6+DQ6+DU6+DY6 -> 60
A7: 4 | B7: PRUDE503002TSBH17373 | C7: PRUDENCE HOSPITALS | D7: H.NO. 1-12-121/A, OPP: YENDALA TOWERS, PRAGATHI NAGAR, NIZAMABAD | E7: 100 | F7: 5 | G7: 3 | H7: 2 | J7: 5 | K7: 3 | L7: 2 | N7: 5 | O7: 3 | P7: 2 | R7: 5 | S7: 3 | T7: 2 | V7: 5 | W7: 3 | X7: 2 | Z7: 5 | AA7: 3 | AB7: 2 | AD7: 5 | AE7: 3 | AF7: 2 | AH7: 5 | AI7: 3 | AJ7: 2 | AL7: 5 | AM7: 3 | AN7: 2 | AP7: 5 | AQ7: 3 | AR7: 2 | AT7: 5 | AU7: 3 | AV7: 2 | AX7: 5 | AY7: 3 | AZ7: 2 | BB7: 5 | BC7: 3 | BD7: 2 | BJ7: 5 | BK7: 3 | BL7: 2 | BN7: 5 | BO7: 5 | BP7: 2 | BR7: 5 | BS7: 5 | BT7: 2 | BV7: 5 | BW7: 5 | BX7: 2 | BZ7: 5 | CA7: 5 | CB7: 2 | CD7: 5 | CE7: 5 | CF7: 2 | CH7: 5 | CI7: 5 | CJ7: 2 | CL7: 5 | CM7: 5 | CN7: 2 | CP7: 5 | CQ7: 5 | CR7: 2 | CT7: 5 | CU7: 5 | CV7: 2 | CX7: 5 | CY7: 5 | CZ7: 2 | DB7: 5 | DC7: 5 | DD7: 2 | DF7: 5 | DG7: 5 | DH7: 2 | DN7: 5 | DO7: 5 | DP7: 2 | DR7: 5 | DS7: 5 | DT7: 2 | DV7: 5 | DW7: 5 | DX7: 2 | DZ7: =F7+J7+N7+R7+V7+Z7+AD7+AH7+AL7+AP7+AT7+AX7+BB7+BF7+BJ7+BN7+BR7+BV7+BZ7+CD7+CH7+CL7+CP7+CT7+CX7+DB7+DF7+DJ7+DN7+DR7+DV7 -> 145 | EA7: =G7+K7+O7+S7+W7+AA7+AE7+AI7+AM7+AQ7+AU7+AY7+BC7+BG7+BK7+BO7+BS7+BW7+CA7+CE7+CI7+CM7+CQ7+CU7+CY7+DC7+DG7+DK7+DO7+DS7+DW7 -> 117 | EB7: =H7+L7+P7+T7+X7+AB7+AF7+AJ7+AN7+AR7+AV7+AZ7+BD7+BH7+BL7+BP7+BT7+BX7+CB7+CF7+CJ7+CN7+CR7+CV7+CZ7+DD7+DH7+DL7+DP7+DT7+DX7 -> 58 | EC7: =I7+M7+Q7+U7+Y7+AC7+AG7+AK7+AO7+AS7+AW7+BA7+BE7+BI7+BM7+BQ7+BU7+BY7+CC7+CG7+CK7+CO7+CS7+CW7+DA7+DE7+DI7+DM7+DQ7+DU7+DY7 -> 0
A8: 5 | B8: MANOR503001TSBH01042 | C8: MANORAMA SUPER SPECIALITY HOSPITAL | D8: SARASWATHI NAGAR, KHALEELWADI, HYDERABAD ROAD, NIZAMABAD - 503001. | E8: 100 | F8: 5 | G8: 5 | H8: 2 | J8: 5 | K8: 2 | L8: 2 | N8: 5 | O8: 5 | P8: 2 | R8: 5 | S8: 5 | T8: 2 | V8: 5 | W8: 5 | X8: 2 | Z8: 5 | AA8: 5 | AB8: 2 | AD8: 5 | AE8: 5 | AF8: 2 | AH8: 5 | AI8: 5 | AJ8: 2 | AL8: 5 | AM8: 5 | AN8: 2 | AP8: 5 | AQ8: 5 | AR8: 2 | AT8: 5 | AU8: 5 | AV8: 2 | AX8: 5 | AY8: 5 | AZ8: 2 | BB8: 5 | BC8: 5 | BD8: 2 | BJ8: 5 | BK8: 5 | BL8: 2 | BN8: 5 | BO8: 5 | BP8: 2 | BR8: 5 | BS8: 5 | BT8: 2 | BV8: 5 | BW8: 5 | BX8: 2 | BZ8: 5 | CA8: 5 | CB8: 2 | CD8: 5 | CE8: 5 | CF8: 2 | CH8: 5 | CI8: 5 | CJ8: 2 | CL8: 5 | CM8: 5 | CN8: 2 | CP8: 5 | CQ8: 5 | CR8: 2 | CT8: 5 | CU8: 5 | CV8: 2 | CX8: 5 | CY8: 5 | CZ8: 2 | DB8: 5 | DC8: 5 | DD8: 2 | DF8: 5 | DG8: 5 | DH8: 2 | DN8: 5 | DO8: 5 | DP8: 2 | DR8: 5 | DS8: 5 | DT8: 2 | DV8: 5 | DW8: 5 | DX8: 2 | DZ8: =F8+J8+N8+R8+V8+Z8+AD8+AH8+AL8+AP8+AT8+AX8+BB8+BF8+BJ8+BN8+BR8+BV8+BZ8+CD8+CH8+CL8+CP8+CT8+CX8+DB8+DF8+DJ8+DN8+DR8+DV8 -> 145 | EA8: =G8+K8+O8+S8+W8+AA8+AE8+AI8+AM8+AQ8+AU8+AY8+BC8+BG8+BK8+BO8+BS8+BW8+CA8+CE8+CI8+CM8+CQ8+CU8+CY8+DC8+DG8+DK8+DO8+DS8+DW8 -> 142 | EB8: =H8+L8+P8+T8+X8+AB8+AF8+AJ8+AN8+AR8+AV8+AZ8+BD8+BH8+BL8+BP8+BT8+BX8+CB8+CF8+CJ8+CN8+CR8+CV8+CZ8+DD8+DH8+DL8+DP8+DT8+DX8 -> 58 | EC8: =I8+M8+Q8+U8+Y8+AC8+AG8+AK8+AO8+AS8+AW8+BA8+BE8+BI8+BM8+BQ8+BU8+BY8+CC8+CG8+CK8+CO8+CS8+CW8+DA8+DE8+DI8+DM8+DQ8+DU8+DY8 -> 0
A9: 6 | B9: MEDIC503001TSBH09849 | C9: MEDICOVER HOSPITAL | D9: H.No. 5-11-744, BESIDE LIC OF INDIA, YELLAMMA GUTTA X ROAD, HYDERABAD ROAD, NIZAMABAD - 503001 | E9: 100 | F9: 5 | G9: 5 | H9: 2 | J9: 5 | K9: 5 | L9: 2 | N9: 5 | O9: 5 | P9: 2 | R9: 5 | S9: 5 | T9: 2 | V9: 5 | W9: 5 | X9: 2 | Z9: 8 | AA9: 5 | AB9: 2 | AD9: 5 | AE9: 5 | AF9: 2 | AH9: 5 | AJ9: 2 | AL9: 5 | AM9: 5 | AN9: 2 | AP9: 5 | AQ9: 5 | AR9: 2 | AT9: 5 | AU9: 5 | AV9: 2 | AX9: 5 | AY9: 5 | AZ9: 2 | BB9: 5 | BC9: 5 | BD9: 2 | BJ9: 5 | BK9: 5 | BL9: 2 | BN9: 5 | BO9: 5 | BP9: 2 | BR9: 5 | BS9: 5 | BT9: 2 | BV9: 5 | BW9: 5 | BX9: 2 | BZ9: 8 | CA9: 8 | CB9: 2 | CD9: 5 | CE9: 5 | CF9: 2 | CH9: 5 | CI9: 5 | CJ9: 2 | CL9: 5 | CM9: 5 | CN9: 2 | CP9: 5 | CQ9: 5 | CR9: 2 | CT9: 5 | CU9: 5 | CV9: 2 | CX9: 5 | CY9: 5 | CZ9: 2 | DB9: 5 | DC9: 5 | DD9: 2 | DF9: 5 | DG9: 5 | DH9: 2 | DN9: 5 | DO9: 5 | DP9: 2 | DR9: 5 | DS9: 5 | DT9: 2 | DV9: 5 | DW9: 5 | DX9: 2 | DZ9: =F9+J9+N9+R9+V9+Z9+AD9+AH9+AL9+AP9+AT9+AX9+BB9+BF9+BJ9+BN9+BR9+BV9+BZ9+CD9+CH9+CL9+CP9+CT9+CX9+DB9+DF9+DJ9+DN9+DR9+DV9 -> 151 | EA9: =G9+K9+O9+S9+W9+AA9+AE9+AI9+AM9+AQ9+AU9+AY9+BC9+BG9+BK9+BO9+BS9+BW9+CA9+CE9+CI9+CM9+CQ9+CU9+CY9+DC9+DG9+DK9+DO9+DS9+DW9 -> 143 | EB9: =H9+L9+P9+T9+X9+AB9+AF9+AJ9+AN9+AR9+AV9+AZ9+BD9+BH9+BL9+BP9+BT9+BX9+CB9+CF9+CJ9+CN9+CR9+CV9+CZ9+DD9+DH9+DL9+DP9+DT9+DX9 -> 58 | EC9: =I9+M9+Q9+U9+Y9+AC9+AG9+AK9+AO9+AS9+AW9+BA9+BE9+BI9+BM9+BQ9+BU9+BY9+CC9+CG9+CK9+CO9+CS9+CW9+DA9+DE9+DI9+DM9+DQ9+DU9+DY9 -> 0
A10: 7 | B10: DISTR503185TSBH08531 | C10: AREA HOSPITAL, BODHAN | D10: NEAR AMBEDKAR CHOWRASTA, BODHAN - 503185 | E10: 100 | F10: 5 | G10: 5 | H10: 2 | J10: 5 | K10: 2 | L10: 2 | N10: 5 | O10: 5 | P10: 2 | R10: 5 | S10: 5 | T10: 2 | V10: 5 | W10: 5 | X10: 2 | Z10: 7 | AA10: 2 | AB10: 2 | AD10: 5 | AE10: 5 | AF10: 2 | AH10: 7 | AI10: 2 | AJ10: 2 | AL10: 5 | AM10: 5 | AN10: 2 | AP10: 5 | AQ10: 5 | AR10: 2 | AT10: 5 | AU10: 5 | AV10: 2 | AX10: 5 | AY10: 5 | AZ10: 2 | BB10: 5 | BC10: 5 | BD10: 2 | BJ10: 5 | BK10: 5 | BL10: 2 | BN10: 5 | BO10: 5 | BP10: 2 | BR10: 5 | BS10: 5 | BT10: 2 | BV10: 5 | BW10: 5 | BX10: 2 | BZ10: 5 | CA10: 8 | CB10: 2 | CD10: 5 | CE10: 5 | CF10: 2 | CH10: 5 | CI10: 5 | CJ10: 2 | CL10: 5 | CM10: 5 | CN10: 2 | CP10: 5 | CQ10: 5 | CR10: 2 | CT10: 5 | CU10: 5 | CV10: 2 | CX10: 5 | CY10: 5 | CZ10: 2 | DB10: 5 | DC10: 3 | DD10: 2 | DF10: 5 | DG10: 5 | DH10: 2 | DN10: 5 | DO10: 5 | DP10: 2 | DR10: 5 | DS10: 5 | DT10: 2 | DV10: 5 | DW10: 5 | DX10: 2 | DZ10: =F10+J10+N10+R10+V10+Z10+AD10+AH10+AL10+AP10+AT10+AX10+BB10+BF10+BJ10+BN10+BR10+BV10+BZ10+CD10+CH10+CL10+CP10+CT10+CX10+DB10+DF10+DJ10+DN10+DR10+DV10 -> 149 | EA10: =G10+K10+O10+S10+W10+AA10+AE10+AI10+AM10+AQ10+AU10+AY10+BC10+BG10+BK10+BO10+BS10+BW10+CA10+CE10+CI10+CM10+CQ10+CU10+CY10+DC10+DG10+DK10+DO10+DS10+DW10 -> 137 | EB10: =H10+L10+P10+T10+X10+AB10+AF10+AJ10+AN10+AR10+AV10+AZ10+BD10+BH10+BL10+BP10+BT10+BX10+CB10+CF10+CJ10+CN10+CR10+CV10+CZ10+DD10+DH10+DL10+DP10+DT10+DX10 -> 58 | EC10: =I10+M10+Q10+U10+Y10+AC10+AG10+AK10+AO10+AS10+AW10+BA10+BE10+BI10+BM10+BQ10+BU10+BY10+CC10+CG10+CK10+CO10+CS10+CW10+DA10+DE10+DI10+DM10+DQ10+DU10+DY10 -> 0
B11: 80 TO 50 BEDS HCFs
B12: NIZAMABAD
A13: 1 | B13: PRATI503001TSBH00889 | C13: PRATHIBHA SUPER SPECIALITY HOSPITAL | D13: BESIDE LANE OF JOYALLUKKAS JEWELLERS, HYDERABAD ROAD, KAKATIYA STREET, NIZAMABAD - 503001. | E13: 80 | F13: 6 | G13: 5 | H13: 5 | J13: 6 | K13: 5 | L13: 3 | N13: 6 | O13: 5 | P13: 3 | R13: 6 | S13: 5 | T13: 3 | V13: 6 | W13: 5 | X13: 3 | Z13: 6 | AA13: 5 | AB13: 3 | AD13: 6 | AE13: 5 | AF13: 3 | AH13: 6 | AI13: 5 | AJ13: 3 | AL13: 6 | AM13: 5 | AN13: 3 | AP13: 6 | AQ13: 5 | AR13: 3 | AT13: 6 | AU13: 5 | AV13: 3 | AX13: 6 | AY13: 5 | AZ13: 3 | BB13: 6 | BC13: 5 | BD13: 3 | BJ13: 6 | BK13: 5 | BL13: 3 | BN13: 6 | BO13: 5 | BP13: 3 | BR13: 6 | BS13: 5 | BT13: 3 | BV13: 6 | BW13: 5 | BX13: 3 | BZ13: 6 | CA13: 5 | CB13: 3 | CD13: 6 | CE13: 5 | CF13: 3 | CH13: 6 | CI13: 5 | CJ13: 3 | CL13: 6 | CM13: 5 | CN13: 3 | CP13: 6 | CQ13: 5 | CR13: 3 | CT13: 6 | CU13: 5 | CV13: 3 | CX13: 6 | CY13: 5 | CZ13: 3 | DB13: 6 | DC13: 5 | DD13: 3 | DF13: 6 | DG13: 5 | DH13: 3 | DN13: 6 | DO13: 5 | DP13: 3 | DR13: 6 | DS13: 5 | DT13: 3 | DV13: 6 | DW13: 5 | DX13: 3 | DZ13: =F13+J13+N13+R13+V13+Z13+AD13+AH13+AL13+AP13+AT13+AX13+BB13+BF13+BJ13+BN13+BR13+BV13+BZ13+CD13+CH13+CL13+CP13+CT13+CX13+DB13+DF13+DJ13+DN13+DR13+DV13 -> 174 | EA13: =G13+K13+O13+S13+W13+AA13+AE13+AI13+AM13+AQ13+AU13+AY13+BC13+BG13+BK13+BO13+BS13+BW13+CA13+CE13+CI13+CM13+CQ13+CU13+CY13+DC13+DG13+DK13+DO13+DS13+DW13 -> 145 | EB13: =H13+L13+P13+T13+X13+AB13+AF13+AJ13+AN13+AR13+AV13+AZ13+BD13+BH13+BL13+BP13+BT13+BX13+CB13+CF13+CJ13+CN13+CR13+CV13+CZ13+DD13+DH13+DL13+DP13+DT13+DX13 -> 89 | EC13: =I13+M13+Q13+U13+Y13+AC13+AG13+AK13+AO13+AS13+AW13+BA13+BE13+BI13+BM13+BQ13+BU13+BY13+CC13+CG13+CK13+CO13+CS13+CW13+DA13+DE13+DI13+DM13+DQ13+DU13+DY13 -> 0
A14: 2 | B14: SHIVA503001TSBH00427 | C14: SHIVA SAI EMERGENCY AND MULTI SPECIALITY HOSPITAL | D14: OPP: TELANGANA GRAMEENA BANK, KHALEEL WADI, NIZAMABAD - 503001 | E14: 53 | F14: 5 | G14: 5 | H14: 2 | J14: 5 | K14: 5 | L14: 2 | N14: 5 | O14: 5 | P14: 2 | R14: 5 | S14: 5 | T14: 2 | V14: 5 | W14: 5 | X14: 2 | Z14: 5 | AA14: 5 | AB14: 2 | AD14: 5 | AE14: 5 | AF14: 2 | AH14: 5 | AI14: 5 | AJ14: 2 | AL14: 5 | AM14: 5 | AN14: 2 | AP14: 5 | AQ14: 5 | AR14: 2 | AT14: 5 | AU14: 5 | AV14: 2 | AX14: 5 | AY14: 5 | AZ14: 2 | BB14: 5 | BC14: 5 | BD14: 2 | BJ14: 5 | BK14: 5 | BL14: 2 | BN14: 5 | BO14: 5 | BP14: 2 | BR14: 5 | BS14: 5 | BT14: 2 | BV14: 5 | BW14: 5 | BX14: 2 | BZ14: 5 | CA14: 5 | CB14: 2 | CD14: 5 | CE14: 5 | CF14: 2 | CH14: 5 | CI14: 5 | CJ14: 2 | CL14: 5 | CM14: 5 | CN14: 2 | CP14: 5 | CQ14: 5 | CR14: 2 | CT14: 5 | CU14: 5 | CV14: 2 | CX14: 5 | CY14: 5 | CZ14: 2 | DB14: 5 | DC14: 5 | DD14: 2 | DF14: 5 | DG14: 5 | DH14: 2 | DN14: 5 | DO14: 5 | DP14: 2 | DR14: 5 | DS14: 5 | DT14: 2 | DV14: 5 | DW14: 5 | DX14: 2 | DZ14: =F14+J14+N14+R14+V14+Z14+AD14+AH14+AL14+AP14+AT14+AX14+BB14+BF14+BJ14+BN14+BR14+BV14+BZ14+CD14+CH14+CL14+CP14+CT14+CX14+DB14+DF14+DJ14+DN14+DR14+DV14 -> 145 | EA14: =G14+K14+O14+S14+W14+AA14+AE14+AI14+AM14+AQ14+AU14+AY14+BC14+BG14+BK14+BO14+BS14+BW14+CA14+CE14+CI14+CM14+CQ14+CU14+CY14+DC14+DG14+DK14+DO14+DS14+DW14 -> 145 | EB14: =H14+L14+P14+T14+X14+AB14+AF14+AJ14+AN14+AR14+AV14+AZ14+BD14+BH14+BL14+BP14+BT14+BX14+CB14+CF14+CJ14+CN14+CR14+CV14+CZ14+DD14+DH14+DL14+DP14+DT14+DX14 -> 58 | EC14: =I14+M14+Q14+U14+Y14+AC14+AG14+AK14+AO14+AS14+AW14+BA14+BE14+BI14+BM14+BQ14+BU14+BY14+CC14+CG14+CK14+CO14+CS14+CW14+DA14+DE14+DI14+DM14+DQ14+DU14+DY14 -> 0
A15: 3 | B15: BOMBA503001TSBH00885 | C15: BOMBAY NURSING HOME | D15: YELLAMMA GUTTA X ROAD, HYDERABAD ROAD, NIZAMABAD - 503001 | E15: 50 | F15: 5 | G15: 5 | H15: 2 | J15: 5 | K15: 5 | L15: 2 | N15: 5 | O15: 5 | P15: 2 | R15: 5 | T15: 2 | V15: 5 | X15: 2 | Z15: 5 | AB15: 2 | AD15: 5 | AF15: 2 | AH15: 5 | AJ15: 2 | AL15: 5 | AN15: 2 | AP15: 5 | AR15: 2 | AT15: 5 | AV15: 2 | AX15: 5 | AY15: 2 | AZ15: 2 | BB15: 5 | BC15: 2 | BD15: 2 | BJ15: 5 | BK15: 1 | BL15: 2 | BN15: 5 | BO15: 2 | BP15: 2 | BR15: 5 | BS15: 2 | BT15: 2 | BV15: 5 | BW15: 2 | BX15: 2 | BZ15: 5 | CA15: 2 | CB15: 2 | CD15: 5 | CE15: 2 | CF15: 2 | CH15: 5 | CI15: 2 | CJ15: 2 | CL15: 5 | CM15: 2 | CN15: 2 | CP15: 5 | CQ15: 2 | CR15: 2 | CT15: 5 | CU15: 2 | CV15: 2 | CX15: 5 | CY15: 2 | CZ15: 2 | DB15: 5 | DC15: 2 | DD15: 2 | DF15: 5 | DG15: 1 | DH15: 2 | DN15: 5 | DO15: 2 | DP15: 2 | DR15: 5 | DS15: 2 | DT15: 2 | DV15: 5 | DW15: 2 | DX15: 2 | DZ15: =F15+J15+N15+R15+V15+Z15+AD15+AH15+AL15+AP15+AT15+AX15+BB15+BF15+BJ15+BN15+BR15+BV15+BZ15+CD15+CH15+CL15+CP15+CT15+CX15+DB15+DF15+DJ15+DN15+DR15+DV15 -> 145 | EA15: =G15+K15+O15+S15+W15+AA15+AE15+AI15+AM15+AQ15+AU15+AY15+BC15+BG15+BK15+BO15+BS15+BW15+CA15+CE15+CI15+CM15+CQ15+CU15+CY15+DC15+DG15+DK15+DO15+DS15+DW15 -> 49 | EB15: =H15+L15+P15+T15+X15+AB15+AF15+AJ15+AN15+AR15+AV15+AZ15+BD15+BH15+BL15+BP15+BT15+BX15+CB15+CF15+CJ15+CN15+CR15+CV15+CZ15+DD15+DH15+DL15+DP15+DT15+DX15 -> 58 | EC15: =I15+M15+Q15+U15+Y15+AC15+AG15+AK15+AO15+AS15+AW15+BA15+BE15+BI15+BM15+BQ15+BU15+BY15+CC15+CG15+CK15+CO15+CS15+CW15+DA15+DE15+DI15+DM15+DQ15+DU15+DY15 -> 0
A16: 4 | B16: BRIND503001TSBH00922 | C16: BRINDAVAN HOSPITAL | D16: OPP: RED CROSS BOLLD BANK, BEHIND DR. PRABHAKAR CHILDREN HOSPITAL, KHALEELWADI, NIZAMABAD - 503001. | E16: 50 | F16: 5 | G16: 5 | H16: 2 | J16: 5 | K16: 5 | L16: 2 | N16: 5 | O16: 5 | P16: 2 | R16: 5 | S16: 5 | T16: 2 | V16: 5 | X16: 2 | Z16: 5 | AB16: 2 | AF16: 2 | AH16: 5 | AI16: 5 | AJ16: 2 | AL16: 5 | AM16: 5 | AN16: 2 | AP16: 5 | AQ16: 5 | AR16: 2 | AT16: 5 | AU16: 5 | AV16: 2 | AX16: 5 | AY16: 2 | AZ16: 2 | BB16: 5 | BC16: 5 | BD16: 2 | BJ16: 5 | BK16: 2 | BL16: 2 | BN16: 5 | BO16: 5 | BP16: 2 | BR16: 5 | BT16: 2 | BV16: 5 | BX16: 2 | BZ16: 5 | CB16: 3 | CC16: 3 | CD16: 5 | CF16: 2 | CH16: 5 | CJ16: 2 | CL16: 5 | CN16: 2 | CP16: 5 | CQ16: 5 | CR16: 2 | CT16: 5 | CU16: 2 | CV16: 2 | CX16: 5 | CY16: 5 | CZ16: 2 | DB16: 5 | DC16: 5 | DD16: 2 | DF16: 5 | DG16: 5 | DH16: 2 | DN16: 5 | DO16: 5 | DP16: 2 | DR16: 5 | DS16: 5 | DT16: 2 | DV16: 5 | DW16: 5 | DX16: 2 | DZ16: =F16+J16+N16+R16+V16+Z16+AD16+AH16+AL16+AP16+AT16+AX16+BB16+BF16+BJ16+BN16+BR16+BV16+BZ16+CD16+CH16+CL16+CP16+CT16+CX16+DB16+DF16+DJ16+DN16+DR16+DV16 -> 140 | EA16: =G16+K16+O16+S16+W16+AA16+AE16+AI16+AM16+AQ16+AU16+AY16+BC16+BG16+BK16+BO16+BS16+BW16+CA16+CE16+CI16+CM16+CQ16+CU16+CY16+DC16+DG16+DK16+DO16+DS16+DW16 -> 91 | EB16: =H16+L16+P16+T16+X16+AB16+AF16+AJ16+AN16+AR16+AV16+AZ16+BD16+BH16+BL16+BP16+BT16+BX16+CB16+CF16+CJ16+CN16+CR16+CV16+CZ16+DD16+DH16+DL16+DP16+DT16+DX16 -> 59 | EC16: =I16+M16+Q16+U16+Y16+AC16+AG16+AK16+AO16+AS16+AW16+BA16+BE16+BI16+BM16+BQ16+BU16+BY16+CC16+CG16+CK16+CO16+CS16+CW16+DA16+DE16+DI16+DM16+DQ16+DU16+DY16 -> 3
A17: 5 | B17: CITYM503001TSBH16522 | C17: CITY MULTISPECIALITY HOSPITAL | D17: H.No.7-11-723/3, KHOJA COLONY, BODHAN ROAD, NIZAMABAD | E17: 50 | F17: 5 | G17: 5 | H17: 2 | J17: 5 | K17: 3 | L17: 2 | N17: 5 | O17: 2 | P17: 2 | R17: 5 | S17: 2 | T17: 2 | V17: 5 | W17: 2 | X17: 2 | Z17: 5 | AA17: 2 | AB17: 2 | AD17: 5 | AE17: 2 | AF17: 2 | AH17: 5 | AI17: 2 | AJ17: 2 | AL17: 5 | AM17: 2 | AN17: 2 | AP17: 5 | AQ17: 2 | AR17: 2 | AT17: 5 | AU17: 2 | AV17: 2 | AX17: 5 | AY17: 2 | AZ17: 2 | BB17: 5 | BC17: 2 | BD17: 2 | BJ17: 5 | BK17: 2 | BL17: 2 | BN17: 5 | BO17: 2 | BP17: 2 | BR17: 5 | BS17: 2 | BT17: 2 | BV17: 5 | BW17: 2 | BX17: 2 | BZ17: 5 | CA17: 2 | CB17: 2 | CD17: 5 | CE17: 2 | CF17: 2 | CH17: 5 | CI17: 2 | CJ17: 2 | CL17: 5 | CM17: 2 | CN17: 2 | CP17: 5 | CQ17: 2 | CR17: 2 | CT17: 5 | CU17: 2 | CV17: 2 | CX17: 5 | CY17: 2 | CZ17: 2 | DB17: 5 | DC17: 2 | DD17: 2 | DF17: 5 | DG17: 2 | DH17: 2 | DN17: 5 | DO17: 2 | DP17: 2 | DR17: 5 | DS17: 2 | DT17: 2 | DV17: 5 | DW17: 2 | DX17: 2 | DZ17: =F17+J17+N17+R17+V17+Z17+AD17+AH17+AL17+AP17+AT17+AX17+BB17+BF17+BJ17+BN17+BR17+BV17+BZ17+CD17+CH17+CL17+CP17+CT17+CX17+DB17+DF17+DJ17+DN17+DR17+DV17 -> 145 | EA17: =G17+K17+O17+S17+W17+AA17+AE17+AI17+AM17+AQ17+AU17+AY17+BC17+BG17+BK17+BO17+BS17+BW17+CA17+CE17+CI17+CM17+CQ17+CU17+CY17+DC17+DG17+DK17+DO17+DS17+DW17 -> 62 | EB17: =H17+L17+P17+T17+X17+AB17+AF17+AJ17+AN17+AR17+AV17+AZ17+BD17+BH17+BL17+BP17+BT17+BX17+CB17+CF17+CJ17+CN17+CR17+CV17+CZ17+DD17+DH17+DL17+DP17+DT17+DX17 -> 58 | EC17: =I17+M17+Q17+U17+Y17+AC17+AG17+AK17+AO17+AS17+AW17+BA17+BE17+BI17+BM17+BQ17+BU17+BY17+CC17+CG17+CK17+CO17+CS17+CW17+DA17+DE17+DI17+DM17+DQ17+DU17+DY17 -> 0
A18: 6 | B18: DREAM503001TSBH06107 | C18: DREAMLAND HOPE HOSPITAL | D18: H.No. 5-4-387/3, OPP.OLD JJ HOSPITAL, POCHAMMA GALLY, NIZAMABAD - 503001. | E18: 50 | F18: 5 | G18: 5 | H18: 2 | J18: 5 | K18: 2 | L18: 2 | N18: 5 | O18: 2 | P18: 2 | R18: 5 | T18: 2 | V18: 5 | W18: 5 | X18: 2 | Z18: 5 | AA18: 5 | AB18: 2 | AF18: 2 | AH18: 5 | AI18: 5 | AJ18: 2 | AL18: 5 | AM18: 5 | AN18: 2 | AP18: 5 | AQ18: 5 | AR18: 2 | AT18: 5 | AU18: 2 | AV18: 2 | AX18: 5 | AZ18: 2 | BB18: 5 | BC18: 2 | BD18: 2 | BJ18: 5 | BK18: 2 | BL18: 2 | BN18: 5 | BO18: 2 | BP18: 2 | BR18: 5 | BT18: 2 | BV18: 5 | BX18: 2 | BZ18: 5 | CA18: 5 | CD18: 5 | CF18: 2 | CH18: 5 | CJ18: 2 | CL18: 5 | CN18: 2 | CP18: 5 | CQ18: 5 | CR18: 2 | CT18: 5 | CU18: 2 | CV18: 2 | CX18: 5 | CY18: 5 | CZ18: 2 | DB18: 5 | DD18: 2 | DF18: 5 | DG18: 5 | DH18: 2 | DN18: 5 | DP18: 2 | DR18: 5 | DS18: 5 | DT18: 2 | DV18: 5 | DW18: 5 | DX18: 2 | DZ18: =F18+J18+N18+R18+V18+Z18+AD18+AH18+AL18+AP18+AT18+AX18+BB18+BF18+BJ18+BN18+BR18+BV18+BZ18+CD18+CH18+CL18+CP18+CT18+CX18+DB18+DF18+DJ18+DN18+DR18+DV18 -> 140 | EA18: =G18+K18+O18+S18+W18+AA18+AE18+AI18+AM18+AQ18+AU18+AY18+BC18+BG18+BK18+BO18+BS18+BW18+CA18+CE18+CI18+CM18+CQ18+CU18+CY18+DC18+DG18+DK18+DO18+DS18+DW18 -> 74 | EB18: =H18+L18+P18+T18+X18+AB18+AF18+AJ18+AN18+AR18+AV18+AZ18+BD18+BH18+BL18+BP18+BT18+BX18+CB18+CF18+CJ18+CN18+CR18+CV18+CZ18+DD18+DH18+DL18+DP18+DT18+DX18 -> 56 | EC18: =I18+M18+Q18+U18+Y18+AC18+AG18+AK18+AO18+AS18+AW18+BA18+BE18+BI18+BM18+BQ18+BU18+BY18+CC18+CG18+CK18+CO18+CS18+CW18+DA18+DE18+DI18+DM18+DQ18+DU18+DY18 -> 0
A19: 7 | B19: GSBVM503001TSBH07045 | C19: GSBV MEMORIAL MULTI SPECIALTY HOSPITAL | D19: OPP. RAJEEV GANDHI AUDITORUM, KHALEELWADI, NIZAMABAD - 503001. | E19: 50 | F19: 5 | G19: 5 | H19: 2 | J19: 5 | K19: 2 | L19: 2 | N19: 5 | O19: 2 | P19: 2 | R19: 5 | S19: 5 | T19: 2 | V19: 5 | W19: 5 | X19: 2 | Z19: 5 | AA19: 5 | AB19: 2 | AF19: 2 | AH19: 5 | AI19: 2 | AJ19: 2 | AL19: 5 | AM19: 2 | AN19: 2 | AP19: 5 | AQ19: 5 | AR19: 2 | AT19: 5 | AU19: 2 | AV19: 2 | AX19: 5 | AY19: 2 | AZ19: 2 | BB19: 5 | BC19: 2 | BD19: 2 | BJ19: 5 | BK19: 2 | BL19: 2 | BN19: 5 | BO19: 2 | BP19: 2 | BR19: 5 | BS19: 5 | BT19: 2 | BV19: 5 | BX19: 2 | BZ19: 5 | CB19: 10 | CD19: 5 | CF19: 2 | CH19: 5 | CJ19: 2 | CL19: 25 | CN19: 2 | CP19: 5 | CQ19: 5 | CR19: 2 | CT19: 5 | CU19: 2 | CV19: 2 | CX19: 5 | CY19: 5 | CZ19: 2 | DB19: 5 | DC19: 5 | DD19: 2 | DF19: 5 | DG19: 5 | DH19: 2 | DN19: 5 | DO19: 5 | DP19: 2 | DR19: 5 | DT19: 2 | DV19: 5 | DW19: 5 | DX19: 2 | DZ19: =F19+J19+N19+R19+V19+Z19+AD19+AH19+AL19+AP19+AT19+AX19+BB19+BF19+BJ19+BN19+BR19+BV19+BZ19+CD19+CH19+CL19+CP19+CT19+CX19+DB19+DF19+DJ19+DN19+DR19+DV19 -> 160 | EA19: =G19+K19+O19+S19+W19+AA19+AE19+AI19+AM19+AQ19+AU19+AY19+BC19+BG19+BK19+BO19+BS19+BW19+CA19+CE19+CI19+CM19+CQ19+CU19+CY19+DC19+DG19+DK19+DO19+DS19+DW19 -> 80 | EB19: =H19+L19+P19+T19+X19+AB19+AF19+AJ19+AN19+AR19+AV19+AZ19+BD19+BH19+BL19+BP19+BT19+BX19+CB19+CF19+CJ19+CN19+CR19+CV19+CZ19+DD19+DH19+DL19+DP19+DT19+DX19 -> 66 | EC19: =I19+M19+Q19+U19+Y19+AC19+AG19+AK19+AO19+AS19+AW19+BA19+BE19+BI19+BM19+BQ19+BU19+BY19+CC19+CG19+CK19+CO19+CS19+CW19+DA19+DE19+DI19+DM19+DQ19+DU19+DY19 -> 0
A20: 8 | B20: INDUR503001TSBH09851 | C20: INDUR CANCER HOSPITAL | D20: PANGRA, MADHAVA NAGAR, HYDERABAD ROAD, NIZAMABAD - 503001. | E20: 50 | F20: 5 | G20: 5 | H20: 2 | J20: 5 | L20: 2 | N20: 5 | O20: 2 | P20: 2 | R20: 5 | T20: 2 | V20: 5 | X20: 2 | Z20: 5 | AB20: 2 | AF20: 2 | AH20: 5 | AI20: 2 | AJ20: 2 | AL20: 5 | AM20: 2 | AN20: 2 | AP20: 5 | AQ20: 5 | AR20: 2 | AT20: 5 | AV20: 2 | AX20: 5 | AZ20: 2 | BB20: 5 | BD20: 2 | BJ20: 5 | BK20: 2 | BL20: 2 | BN20: 5 | BP20: 2 | BR20: 5 | BT20: 2 | BV20: 5 | BW20: 7 | BX20: 2 | BZ20: 5 | CA20: 7 | CD20: 5 | CF20: 2 | CH20: 5 | CJ20: 2 | CL20: 5 | CN20: 2 | CP20: 5 | CR20: 2 | CT20: 5 | CU20: 2 | CV20: 2 | CX20: 5 | CZ20: 2 | DD20: 2 | DF20: 5 | DH20: 2 | DN20: 5 | DP20: 2 | DR20: 5 | DT20: 2 | DV20: 5 | DX20: 2 | DZ20: =F20+J20+N20+R20+V20+Z20+AD20+AH20+AL20+AP20+AT20+AX20+BB20+BF20+BJ20+BN20+BR20+BV20+BZ20+CD20+CH20+CL20+CP20+CT20+CX20+DB20+DF20+DJ20+DN20+DR20+DV20 -> 135 | EA20: =G20+K20+O20+S20+W20+AA20+AE20+AI20+AM20+AQ20+AU20+AY20+BC20+BG20+BK20+BO20+BS20+BW20+CA20+CE20+CI20+CM20+CQ20+CU20+CY20+DC20+DG20+DK20+DO20+DS20+DW20 -> 34 | EB20: =H20+L20+P20+T20+X20+AB20+AF20+AJ20+AN20+AR20+AV20+AZ20+BD20+BH20+BL20+BP20+BT20+BX20+CB20+CF20+CJ20+CN20+CR20+CV20+CZ20+DD20+DH20+DL20+DP20+DT20+DX20 -> 56 | EC20: =I20+M20+Q20+U20+Y20+AC20+AG20+AK20+AO20+AS20+AW20+BA20+BE20+BI20+BM20+BQ20+BU20+BY20+CC20+CG20+CK20+CO20+CS20+CW20+DA20+DE20+DI20+DM20+DQ20+DU20+DY20 -> 0
A21: 9 | B21: INDUS503001TSBH08523 | C21: INDUS SUPER SPECIALITY HOSPITAL | D21: H.No. 5-6-192/194, SARASWATHI NAGAR, HYDERABAD ROAD, NIZAMABAD - 503001. | E21: 50 | F21: 5 | G21: 5 | H21: 2 | J21: 5 | L21: 2 | N21: 5 | O21: 2 | P21: 2 | R21: 5 | T21: 2 | V21: 5 | W21: 5 | X21: 2 | Z21: 5 | AA21: 5 | AB21: 2 | AF21: 2 | AH21: 5 | AI21: 2 | AJ21: 2 | AL21: 5 | AM21: 2 | AN21: 2 | AP21: 5 | AQ21: 5 | AR21: 2 | AT21: 5 | AV21: 2 | AX21: 5 | AY21: 2 | AZ21: 2 | BB21: 5 | BD21: 2 | BJ21: 5 | BK21: 2 | BL21: 2 | BN21: 5 | BO21: 5 | BP21: 2 | BR21: 5 | BS21: 2 | BT21: 2 | BV21: 5 | BW21: 5 | BX21: 2 | BZ21: 5 | CD21: 5 | CE21: 5 | CF21: 2 | CH21: 5 | CJ21: 2 | CL21: 5 | CM21: 5 | CN21: 2 | CP21: 5 | CR21: 2 | CT21: 5 | CU21: 2 | CV21: 2 | CX21: 5 | CZ21: 2 | DB21: 5 | DC21: 5 | DD21: 2 | DF21: 5 | DH21: 2 | DN21: 5 | DO21: 5 | DP21: 2 | DR21: 5 | DT21: 2 | DV21: 5 | DX21: 2 | DZ21: =F21+J21+N21+R21+V21+Z21+AD21+AH21+AL21+AP21+AT21+AX21+BB21+BF21+BJ21+BN21+BR21+BV21+BZ21+CD21+CH21+CL21+CP21+CT21+CX21+DB21+DF21+DJ21+DN21+DR21+DV21 -> 140 | EA21: =G21+K21+O21+S21+W21+AA21+AE21+AI21+AM21+AQ21+AU21+AY21+BC21+BG21+BK21+BO21+BS21+BW21+CA21+CE21+CI21+CM21+CQ21+CU21+CY21+DC21+DG21+DK21+DO21+DS21+DW21 -> 64 | EB21: =H21+L21+P21+T21+X21+AB21+AF21+AJ21+AN21+AR21+AV21+AZ21+BD21+BH21+BL21+BP21+BT21+BX21+CB21+CF21+CJ21+CN21+CR21+CV21+CZ21+DD21+DH21+DL21+DP21+DT21+DX21 -> 56 | EC21: =I21+M21+Q21+U21+Y21+AC21+AG21+AK21+AO21+AS21+AW21+BA21+BE21+BI21+BM21+BQ21+BU21+BY21+CC21+CG21+CK21+CO21+CS21+CW21+DA21+DE21+DI21+DM21+DQ21+DU21+DY21 -> 0
A22: 10 | C22: METRO MULTISPECIALITY HOSPITAL | D22: H.No. 5-6-111, Near Teja Hospital, Dwarakanagar, Nizamabad | E22: 50 | F22: 5 | G22: 5 | H22: 2 | J22: 5 | L22: 2 | N22: 5 | O22: 2 | P22: 2 | R22: 5 | T22: 2 | V22: 5 | W22: 5 | X22: 2 | Z22: 5 | AA22: 5 | AB22: 2 | AF22: 2 | AH22: 5 | AI22: 2 | AJ22: 2 | AL22: 5 | AM22: 2 | AN22: 2 | AP22: 5 | AQ22: 5 | AR22: 2 | AT22: 5 | AV22: 2 | AX22: 5 | AY22: 2 | AZ22: 2 | BB22: 5 | BD22: 2 | BJ22: 5 | BK22: 2 | BL22: 2 | BN22: 5 | BO22: 5 | BP22: 2 | BR22: 5 | BS22: 2 | BT22: 2 | BV22: 5 | BW22: 5 | BX22: 2 | BZ22: 5 | CD22: 5 | CE22: 5 | CF22: 2 | CH22: 5 | CJ22: 2 | CL22: 5 | CM22: 5 | CN22: 2 | CP22: 5 | CR22: 2 | CT22: 5 | CU22: 2 | CV22: 2 | CX22: 5 | CZ22: 2 | DB22: 5 | DC22: 5 | DD22: 2 | DF22: 5 | DH22: 2 | DN22: 5 | DO22: 5 | DP22: 2 | DR22: 5 | DT22: 2 | DV22: 5 | DX22: 2 | DZ22: =F22+J22+N22+R22+V22+Z22+AD22+AH22+AL22+AP22+AT22+AX22+BB22+BF22+BJ22+BN22+BR22+BV22+BZ22+CD22+CH22+CL22+CP22+CT22+CX22+DB22+DF22+DJ22+DN22+DR22+DV22 -> 140 | EA22: =G22+K22+O22+S22+W22+AA22+AE22+AI22+AM22+AQ22+AU22+AY22+BC22+BG22+BK22+BO22+BS22+BW22+CA22+CE22+CI22+CM22+CQ22+CU22+CY22+DC22+DG22+DK22+DO22+DS22+DW22 -> 64 | EB22: =H22+L22+P22+T22+X22+AB22+AF22+AJ22+AN22+AR22+AV22+AZ22+BD22+BH22+BL22+BP22+BT22+BX22+CB22+CF22+CJ22+CN22+CR22+CV22+CZ22+DD22+DH22+DL22+DP22+DT22+DX22 -> 56 | EC22: =I22+M22+Q22+U22+Y22+AC22+AG22+AK22+AO22+AS22+AW22+BA22+BE22+BI22+BM22+BQ22+BU22+BY22+CC22+CG22+CK22+CO22+CS22+CW22+DA22+DE22+DI22+DM22+DQ22+DU22+DY22 -> 0
A23: 11 | B23: NOVAL503001TSBH08513 | C23: NOVALIFE HOSPITAL | D23: H.No.5-6-293, SARASWATHI NAGAR, NIZAMABAD - 503001. | E23: 50 | F23: 5 | G23: 5 | H23: 2 | J23: 5 | K23: 5 | L23: 2 | N23: 5 | O23: 2 | P23: 2 | R23: 5 | S23: 2 | T23: 2 | V23: 5 | W23: 5 | X23: 2 | Z23: 5 | AA23: 5 | AB23: 2 | AF23: 2 | AH23: 5 | AI23: 2 | AJ23: 2 | AL23: 5 | AM23: 2 | AN23: 2 | AP23: 5 | AQ23: 5 | AR23: 2 | AT23: 5 | AU23: 5 | AV23: 2 | AX23: 5 | AY23: 2 | AZ23: 2 | BB23: 5 | BD23: 2 | BJ23: 5 | BK23: 2 | BL23: 2 | BN23: 5 | BP23: 2 | BR23: 5 | BT23: 2 | BV23: 5 | BX23: 2 | BZ23: 5 | CA23: 5 | CC23: 5 | CD23: 5 | CE23: 5 | CF23: 2 | CH23: 5 | CJ23: 2 | CL23: 5 | CM23: 5 | CN23: 2 | CP23: 5 | CQ23: 5 | CR23: 2 | CT23: 5 | CV23: 2 | CX23: 5 | CZ23: 2 | DB23: 5 | DD23: 2 | DF23: 5 | DH23: 2 | DN23: 5 | DP23: 2 | DR23: 5 | DT23: 2 | DV23: 5 | DX23: 2 | DZ23: =F23+J23+N23+R23+V23+Z23+AD23+AH23+AL23+AP23+AT23+AX23+BB23+BF23+BJ23+BN23+BR23+BV23+BZ23+CD23+CH23+CL23+CP23+CT23+CX23+DB23+DF23+DJ23+DN23+DR23+DV23 -> 140 | EA23: =G23+K23+O23+S23+W23+AA23+AE23+AI23+AM23+AQ23+AU23+AY23+BC23+BG23+BK23+BO23+BS23+BW23+CA23+CE23+CI23+CM23+CQ23+CU23+CY23+DC23+DG23+DK23+DO23+DS23+DW23 -> 62 | EB23: =H23+L23+P23+T23+X23+AB23+AF23+AJ23+AN23+AR23+AV23+AZ23+BD23+BH23+BL23+BP23+BT23+BX23+CB23+CF23+CJ23+CN23+CR23+CV23+CZ23+DD23+DH23+DL23+DP23+DT23+DX23 -> 56 | EC23: =I23+M23+Q23+U23+Y23+AC23+AG23+AK23+AO23+AS23+AW23+BA23+BE23+BI23+BM23+BQ23+BU23+BY23+CC23+CG23+CK23+CO23+CS23+CW23+DA23+DE23+DI23+DM23+DQ23+DU23+DY23 -> 5
A24: 12 | B24: RRLIF503001TSBH00887 | C24: R R LIFE LINE HOSPITAL NIZAMABAD | D24: H.No. 5-6-766/1, OPP. RED CROSS BLOOD BANK, KHALEEL WADI, NIZAMABAD - 503001. | E24: 50 | F24: 5 | G24: 5 | H24: 2 | J24: 5 | K24: 5 | L24: 2 | N24: 5 | O24: 5 | P24: 2 | R24: 5 | S24: 2 | T24: 2 | V24: 5 | W24: 5 | X24: 2 | Z24: 5 | AA24: 5 | AB24: 2 | AF24: 2 | AH24: 5 | AI24: 2 | AJ24: 2 | AL24: 2 | AM24: 2 | AN24: 2 | AP24: 5 | AQ24: 5 | AR24: 2 | AT24: 5 | AU24: 5 | AV24: 2 | AX24: 5 | AY24: 2 | AZ24: 2 | BB24: 5 | BD24: 2 | BJ24: 5 | BK24: 2 | BL24: 2 | BN24: 5 | BO24: 5 | BP24: 2 | BR24: 5 | BT24: 2 | BV24: 5 | BX24: 2 | BZ24: 5 | CB24: 3 | CC24: 3 | CD24: 5 | CF24: 2 | CH24: 5 | CJ24: 2 | CL24: 5 | CN24: 2 | CP24: 5 | CR24: 2 | CT24: 5 | CV24: 2 | CX24: 5 | CY24: 5 | CZ24: 2 | DB24: 5 | DD24: 2 | DF24: 5 | DG24: 5 | DH24: 2 | DN24: 5 | DP24: 2 | DR24: 5 | DT24: 2 | DV24: 5 | DW24: 5 | DX24: 2 | DZ24: =F24+J24+N24+R24+V24+Z24+AD24+AH24+AL24+AP24+AT24+AX24+BB24+BF24+BJ24+BN24+BR24+BV24+BZ24+CD24+CH24+CL24+CP24+CT24+CX24+DB24+DF24+DJ24+DN24+DR24+DV24 -> 137 | EA24: =G24+K24+O24+S24+W24+AA24+AE24+AI24+AM24+AQ24+AU24+AY24+BC24+BG24+BK24+BO24+BS24+BW24+CA24+CE24+CI24+CM24+CQ24+CU24+CY24+DC24+DG24+DK24+DO24+DS24+DW24 -> 65 | EB24: =H24+L24+P24+T24+X24+AB24+AF24+AJ24+AN24+AR24+AV24+AZ24+BD24+BH24+BL24+BP24+BT24+BX24+CB24+CF24+CJ24+CN24+CR24+CV24+CZ24+DD24+DH24+DL24+DP24+DT24+DX24 -> 59 | EC24: =I24+M24+Q24+U24+Y24+AC24+AG24+AK24+AO24+AS24+AW24+BA24+BE24+BI24+BM24+BQ24+BU24+BY24+CC24+CG24+CK24+CO24+CS24+CW24+DA24+DE24+DI24+DM24+DQ24+DU24+DY24 -> 3
A25: 13 | C25: SAI NEURO SUPER SPECIALITY HOSPITAL | D25: H.NO. 5-6-36, Road No -2, Khaleelwadi, Nizamabad 503003 | E25: 50 | F25: 5 | G25: 5 | H25: 2 | J25: 5 | K25: 5 | L25: 2 | N25: 5 | O25: 5 | P25: 2 | R25: 5 | S25: 2 | T25: 2 | V25: 5 | W25: 5 | X25: 2 | Z25: 5 | AA25: 5 | AB25: 2 | AF25: 2 | AH25: 5 | AI25: 2 | AJ25: 2 | AL25: 2 | AM25: 2 | AN25: 2 | AP25: 5 | AQ25: 5 | AR25: 2 | AT25: 5 | AU25: 5 | AV25: 2 | AX25: 5 | AY25: 2 | AZ25: 2 | BB25: 5 | BD25: 2 | BJ25: 5 | BK25: 2 | BL25: 2 | BN25: 5 | BO25: 5 | BP25: 2 | BR25: 5 | BT25: 2 | BV25: 5 | BX25: 2 | BZ25: 5 | CB25: 3 | CC25: 3 | CD25: 5 | CF25: 2 | CH25: 5 | CJ25: 2 | CL25: 5 | CN25: 2 | CP25: 5 | CR25: 2 | CT25: 5 | CV25: 2 | CX25: 5 | CY25: 5 | CZ25: 2 | DB25: 5 | DD25: 2 | DF25: 5 | DG25: 5 | DH25: 2 | DN25: 5 | DP25: 2 | DR25: 5 | DT25: 2 | DV25: 5 | DW25: 5 | DX25: 2 | DZ25: =F25+J25+N25+R25+V25+Z25+AD25+AH25+AL25+AP25+AT25+AX25+BB25+BF25+BJ25+BN25+BR25+BV25+BZ25+CD25+CH25+CL25+CP25+CT25+CX25+DB25+DF25+DJ25+DN25+DR25+DV25 -> 137 | EA25: =G25+K25+O25+S25+W25+AA25+AE25+AI25+AM25+AQ25+AU25+AY25+BC25+BG25+BK25+BO25+BS25+BW25+CA25+CE25+CI25+CM25+CQ25+CU25+CY25+DC25+DG25+DK25+DO25+DS25+DW25 -> 65 | EB25: =H25+L25+P25+T25+X25+AB25+AF25+AJ25+AN25+AR25+AV25+AZ25+BD25+BH25+BL25+BP25+BT25+BX25+CB25+CF25+CJ25+CN25+CR25+CV25+CZ25+DD25+DH25+DL25+DP25+DT25+DX25 -> 59 | EC25: =I25+M25+Q25+U25+Y25+AC25+AG25+AK25+AO25+AS25+AW25+BA25+BE25+BI25+BM25+BQ25+BU25+BY25+CC25+CG25+CK25+CO25+CS25+CW25+DA25+DE25+DI25+DM25+DQ25+DU25+DY25 -> 3
A26: 14 | B26: SRIGU503001TSBH06796 | C26: SRI GURU RAGHAVENDRA SUNRISE HOSPITAL | D26: H.No.5-7-93 & 5-7-94, OPP: MUNCIPAL COMPLEX, NIZAMABAD - 503001. | E26: 50 | F26: 5 | G26: 5 | H26: 2 | J26: 5 | K26: 5 | L26: 2 | N26: 5 | O26: 5 | P26: 2 | R26: 5 | S26: 2 | T26: 2 | V26: 5 | W26: 5 | X26: 2 | Z26: 5 | AA26: 5 | AB26: 2 | AF26: 2 | AH26: 5 | AI26: 5 | AJ26: 2 | AL26: 5 | AM26: 2 | AN26: 2 | AP26: 5 | AQ26: 5 | AR26: 2 | AT26: 5 | AU26: 5 | AV26: 2 | AX26: 5 | AY26: 2 | AZ26: 2 | BB26: 5 | BC26: 5 | BD26: 2 | BJ26: 5 | BK26: 2 | BL26: 2 | BN26: 5 | BO26: 5 | BP26: 2 | BR26: 5 | BS26: 2 | BT26: 2 | BV26: 5 | BW26: 5 | BX26: 2 | BZ26: 5 | CA26: 5 | CD26: 5 | CF26: 2 | CH26: 5 | CJ26: 2 | CL26: 5 | CN26: 2 | CP26: 5 | CQ26: 5 | CR26: 2 | CT26: 5 | CU26: 5 | CV26: 2 | CX26: 5 | CY26: 5 | CZ26: 2 | DB26: 5 | DC26: 5 | DD26: 2 | DF26: 5 | DG26: 5 | DH26: 2 | DN26: 5 | DO26: 5 | DP26: 2 | DR26: 5 | DT26: 2 | DV26: 5 | DW26: 5 | DX26: 2 | DZ26: =F26+J26+N26+R26+V26+Z26+AD26+AH26+AL26+AP26+AT26+AX26+BB26+BF26+BJ26+BN26+BR26+BV26+BZ26+CD26+CH26+CL26+CP26+CT26+CX26+DB26+DF26+DJ26+DN26+DR26+DV26 -> 140 | EA26: =G26+K26+O26+S26+W26+AA26+AE26+AI26+AM26+AQ26+AU26+AY26+BC26+BG26+BK26+BO26+BS26+BW26+CA26+CE26+CI26+CM26+CQ26+CU26+CY26+DC26+DG26+DK26+DO26+DS26+DW26 -> 105 | EB26: =H26+L26+P26+T26+X26+AB26+AF26+AJ26+AN26+AR26+AV26+AZ26+BD26+BH26+BL26+BP26+BT26+BX26+CB26+CF26+CJ26+CN26+CR26+CV26+CZ26+DD26+DH26+DL26+DP26+DT26+DX26 -> 56 | EC26: =I26+M26+Q26+U26+Y26+AC26+AG26+AK26+AO26+AS26+AW26+BA26+BE26+BI26+BM26+BQ26+BU26+BY26+CC26+CG26+CK26+CO26+CS26+CW26+DA26+DE26+DI26+DM26+DQ26+DU26+DY26 -> 0
A27: 15 | B27: SRIKR503001TSBH09853 | C27: SRI KRISHNA NEURO & MULTI SPECIALITY HOSPITAL | D27: H.No. 5-6-385 & 386, C/o. BOMBAY NURSING HOME, YELLAMMA GUTTA X ROAD, HYDERABAD ROAD, NIZAMABAD - 503001. | E27: 50 | F27: 5 | G27: 5 | H27: 2 | J27: 5 | K27: 5 | L27: 2 | N27: 5 | O27: 5 | P27: 2 | R27: 5 | S27: 2 | T27: 2 | V27: 5 | W27: 5 | X27: 2 | Z27: 5 | AA27: 5 | AB27: 2 | AF27: 2 | AH27: 5 | AI27: 5 | AJ27: 2 | AL27: 5 | AM27: 5 | AN27: 2 | AP27: 5 | AQ27: 5 | AR27: 2 | AT27: 5 | AU27: 5 | AV27: 2 | AX27: 5 | AY27: 2 | AZ27: 2 | BB27: 5 | BC27: 5 | BD27: 2 | BJ27: 5 | BK27: 2 | BL27: 2 | BN27: 5 | BO27: 5 | BP27: 2 | BR27: 5 | BS27: 2 | BT27: 2 | BV27: 10 | BX27: 2 | BZ27: 5 | CB27: 5 | CC27: 5 | CD27: 5 | CF27: 2 | CH27: 5 | CJ27: 2 | CL27: 5 | CN27: 2 | CP27: 5 | CQ27: 5 | CR27: 2 | CT27: 5 | CU27: 5 | CV27: 2 | CX27: 5 | CY27: 5 | CZ27: 2 | DB27: 5 | DC27: 5 | DD27: 2 | DF27: 5 | DH27: 2 | DN27: 5 | DP27: 2 | DR27: 5 | DS27: 5 | DT27: 2 | DV27: 5 | DW27: 10 | DX27: 2 | DZ27: =F27+J27+N27+R27+V27+Z27+AD27+AH27+AL27+AP27+AT27+AX27+BB27+BF27+BJ27+BN27+BR27+BV27+BZ27+CD27+CH27+CL27+CP27+CT27+CX27+DB27+DF27+DJ27+DN27+DR27+DV27 -> 145 | EA27: =G27+K27+O27+S27+W27+AA27+AE27+AI27+AM27+AQ27+AU27+AY27+BC27+BG27+BK27+BO27+BS27+BW27+CA27+CE27+CI27+CM27+CQ27+CU27+CY27+DC27+DG27+DK27+DO27+DS27+DW27 -> 98 | EB27: =H27+L27+P27+T27+X27+AB27+AF27+AJ27+AN27+AR27+AV27+AZ27+BD27+BH27+BL27+BP27+BT27+BX27+CB27+CF27+CJ27+CN27+CR27+CV27+CZ27+DD27+DH27+DL27+DP27+DT27+DX27 -> 61 | EC27: =I27+M27+Q27+U27+Y27+AC27+AG27+AK27+AO27+AS27+AW27+BA27+BE27+BI27+BM27+BQ27+BU27+BY27+CC27+CG27+CK27+CO27+CS27+CW27+DA27+DE27+DI27+DM27+DQ27+DU27+DY27 -> 5
A28: 16 | B28: SRIMA503001TSBH00974 | C28: SRI MAHALAXMI CHILDRENS HOSPITAL | D28: H.No. 5-7-7/1 , BESIDE NALANDA WOMENS DEGREE COLLEGE, KHALEELWADI, NIZAMABAD - 503001. | E28: 50 | F28: 5 | G28: 5 | H28: 2 | J28: 5 | K28: 5 | L28: 2 | N28: 5 | O28: 5 | P28: 2 | R28: 5 | S28: 2 | T28: 2 | V28: 5 | W28: 5 | X28: 2 | Z28: 5 | AA28: 5 | AB28: 2 | AF28: 2 | AH28: 5 | AI28: 5 | AJ28: 2 | AL28: 5 | AM28: 5 | AN28: 2 | AP28: 5 | AQ28: 5 | AR28: 2 | AT28: 5 | AU28: 5 | AV28: 2 | AX28: 5 | AZ28: 2 | BB28: 5 | BC28: 5 | BD28: 2 | BJ28: 5 | BK28: 2 | BL28: 2 | BN28: 5 | BO28: 5 | BP28: 2 | BR28: 5 | BS28: 2 | BT28: 2 | BV28: 5 | BW28: 5 | BX28: 2 | BZ28: 5 | CD28: 5 | CE28: 5 | CF28: 2 | CH28: 5 | CJ28: 2 | CL28: 5 | CM28: 5 | CN28: 2 | CP28: 5 | CQ28: 5 | CR28: 2 | CT28: 5 | CU28: 5 | CV28: 2 | CX28: 5 | CY28: 5 | CZ28: 2 | DB28: 5 | DC28: 5 | DD28: 2 | DF28: 5 | DH28: 2 | DN28: 5 | DO28: 5 | DP28: 2 | DR28: 10 | DT28: 2 | DV28: 5 | DW28: 5 | DX28: 2 | DZ28: =F28+J28+N28+R28+V28+Z28+AD28+AH28+AL28+AP28+AT28+AX28+BB28+BF28+BJ28+BN28+BR28+BV28+BZ28+CD28+CH28+CL28+CP28+CT28+CX28+DB28+DF28+DJ28+DN28+DR28+DV28 -> 145 | EA28: =G28+K28+O28+S28+W28+AA28+AE28+AI28+AM28+AQ28+AU28+AY28+BC28+BG28+BK28+BO28+BS28+BW28+CA28+CE28+CI28+CM28+CQ28+CU28+CY28+DC28+DG28+DK28+DO28+DS28+DW28 -> 106 | EB28: =H28+L28+P28+T28+X28+AB28+AF28+AJ28+AN28+AR28+AV28+AZ28+BD28+BH28+BL28+BP28+BT28+BX28+CB28+CF28+CJ28+CN28+CR28+CV28+CZ28+DD28+DH28+DL28+DP28+DT28+DX28 -> 56 | EC28: =I28+M28+Q28+U28+Y28+AC28+AG28+AK28+AO28+AS28+AW28+BA28+BE28+BI28+BM28+BQ28+BU28+BY28+CC28+CG28+CK28+CO28+CS28+CW28+DA28+DE28+DI28+DM28+DQ28+DU28+DY28 -> 0
A29: 17 | B29: SRIVI503001TSBH06146 | C29: SRI VISHNU HOSPITAL | D29: ABOVE KOTAK MAHINDRA BANK, OPP: CENTRAL LIBRARY, KHALEELWADI, NIZAMABAD - 503001. | E29: 50 | F29: 5 | G29: 5 | H29: 2 | J29: 5 | K29: 5 | L29: 2 | N29: 5 | O29: 5 | P29: 2 | R29: 5 | S29: 2 | T29: 2 | V29: 5 | X29: 2 | Z29: 5 | AB29: 2 | AF29: 2 | AH29: 5 | AI29: 5 | AJ29: 2 | AL29: 5 | AM29: 5 | AN29: 2 | AP29: 5 | AQ29: 5 | AR29: 2 | AT29: 5 | AU29: 5 | AV29: 2 | AX29: 5 | AY29: 5 | AZ29: 2 | BB29: 5 | BC29: 5 | BD29: 2 | BJ29: 5 | BK29: 2 | BL29: 2 | BN29: 5 | BO29: 5 | BP29: 2 | BR29: 5 | BS29: 2 | BT29: 2 | BV29: 5 | BX29: 2 | BZ29: 5 | CA29: 5 | CD29: 5 | CF29: 2 | CH29: 5 | CJ29: 2 | CL29: 5 | CN29: 2 | CP29: 5 | CR29: 2 | CT29: 5 | CU29: 5 | CV29: 2 | CX29: 5 | CZ29: 2 | DB29: 5 | DC29: 5 | DD29: 2 | DF29: 5 | DH29: 2 | DN29: 5 | DO29: 5 | DP29: 2 | DR29: 5 | DT29: 2 | DV29: 5 | DW29: 5 | DX29: 2 | DZ29: =F29+J29+N29+R29+V29+Z29+AD29+AH29+AL29+AP29+AT29+AX29+BB29+BF29+BJ29+BN29+BR29+BV29+BZ29+CD29+CH29+CL29+CP29+CT29+CX29+DB29+DF29+DJ29+DN29+DR29+DV29 -> 140 | EA29: =G29+K29+O29+S29+W29+AA29+AE29+AI29+AM29+AQ29+AU29+AY29+BC29+BG29+BK29+BO29+BS29+BW29+CA29+CE29+CI29+CM29+CQ29+CU29+CY29+DC29+DG29+DK29+DO29+DS29+DW29 -> 81 | EB29: =H29+L29+P29+T29+X29+AB29+AF29+AJ29+AN29+AR29+AV29+AZ29+BD29+BH29+BL29+BP29+BT29+BX29+CB29+CF29+CJ29+CN29+CR29+CV29+CZ29+DD29+DH29+DL29+DP29+DT29+DX29 -> 56 | EC29: =I29+M29+Q29+U29+Y29+AC29+AG29+AK29+AO29+AS29+AW29+BA29+BE29+BI29+BM29+BQ29+BU29+BY29+CC29+CG29+CK29+CO29+CS29+CW29+DA29+DE29+DI29+DM29+DQ29+DU29+DY29 -> 0
A30: 18 | B30: SRINI503001TSBH06147 | C30: SRINIVAS GASTRO & LIVER CARE HOSPITAL | D30: H.No.5-6-742/743, BESIDE MRO OFFICE, OPP: DEO OFFICE AND CENTRAL LIBRARY, KHALEELWADI, NIZAMABAD - 503001. | E30: 50 | F30: 5 | G30: 5 | H30: 2 | J30: 5 | K30: 5 | L30: 2 | N30: 5 | O30: 5 | P30: 2 | R30: 5 | S30: 2 | T30: 2 | V30: 5 | W30: 5 | X30: 2 | Z30: 5 | AB30: 2 | AF30: 2 | AH30: 5 | AI30: 5 | AJ30: 2 | AL30: 5 | AM30: 5 | AN30: 2 | AP30: 5 | AQ30: 5 | AR30: 2 | AT30: 5 | AU30: 5 | AV30: 2 | AX30: 5 | AY30: 5 | AZ30: 2 | BB30: 5 | BC30: 5 | BD30: 2 | BJ30: 5 | BK30: 2 | BL30: 2 | BN30: 5 | BO30: 5 | BP30: 2 | BR30: 5 | BT30: 2 | BV30: 5 | BX30: 2 | BZ30: 5 | CD30: 5 | CF30: 2 | CH30: 5 | CJ30: 2 | CL30: 5 | CN30: 2 | CP30: 5 | CR30: 2 | CT30: 5 | CU30: 5 | CV30: 2 | CX30: 5 | CZ30: 2 | DB30: 5 | DC30: 5 | DD30: 2 | DF30: 5 | DH30: 2 | DN30: 5 | DO30: 5 | DP30: 2 | DR30: 5 | DT30: 2 | DV30: 5 | DW30: 5 | DX30: 2 | DZ30: =F30+J30+N30+R30+V30+Z30+AD30+AH30+AL30+AP30+AT30+AX30+BB30+BF30+BJ30+BN30+BR30+BV30+BZ30+CD30+CH30+CL30+CP30+CT30+CX30+DB30+DF30+DJ30+DN30+DR30+DV30 -> 140 | EA30: =G30+K30+O30+S30+W30+AA30+AE30+AI30+AM30+AQ30+AU30+AY30+BC30+BG30+BK30+BO30+BS30+BW30+CA30+CE30+CI30+CM30+CQ30+CU30+CY30+DC30+DG30+DK30+DO30+DS30+DW30 -> 79 | EB30: =H30+L30+P30+T30+X30+AB30+AF30+AJ30+AN30+AR30+AV30+AZ30+BD30+BH30+BL30+BP30+BT30+BX30+CB30+CF30+CJ30+CN30+CR30+CV30+CZ30+DD30+DH30+DL30+DP30+DT30+DX30 -> 56 | EC30: =I30+M30+Q30+U30+Y30+AC30+AG30+AK30+AO30+AS30+AW30+BA30+BE30+BI30+BM30+BQ30+BU30+BY30+CC30+CG30+CK30+CO30+CS30+CW30+DA30+DE30+DI30+DM30+DQ30+DU30+DY30 -> 0
A31: 19 | B31: SVRMU503001TSBH08033 | C31: SVR MULTI SPECIALITY HOSPITAL | D31: KHALEELWADI, NIZAMABAD - 503001. | E31: 50 | F31: 5 | G31: 5 | H31: 2 | J31: 5 | K31: 5 | L31: 2 | N31: 5 | O31: 5 | P31: 2 | R31: 5 | T31: 2 | V31: 2 | X31: 2 | Z31: 5 | AA31: 5 | AB31: 2 | AF31: 2 | AH31: 5 | AI31: 5 | AJ31: 2 | AL31: 5 | AM31: 5 | AN31: 2 | AP31: 5 | AQ31: 5 | AR31: 2 | AT31: 5 | AV31: 2 | AX31: 5 | AY31: 5 | AZ31: 2 | BB31: 5 | BC31: 5 | BD31: 2 | BJ31: 5 | BK31: 2 | BL31: 2 | BN31: 5 | BO31: 5 | BP31: 2 | BR31: 5 | BT31: 2 | BV31: 5 | BX31: 2 | BZ31: 5 | CD31: 5 | CE31: 5 | CF31: 2 | CH31: 5 | CJ31: 2 | CL31: 5 | CN31: 2 | CP31: 5 | CQ31: 5 | CR31: 2 | CT31: 5 | CU31: 5 | CV31: 2 | CX31: 5 | CZ31: 2 | DB31: 5 | DC31: 5 | DD31: 2 | DF31: 5 | DH31: 2 | DN31: 5 | DO31: 5 | DP31: 2 | DR31: 5 | DS31: 5 | DT31: 2 | DV31: 5 | DW31: 5 | DX31: 2 | DZ31: =F31+J31+N31+R31+V31+Z31+AD31+AH31+AL31+AP31+AT31+AX31+BB31+BF31+BJ31+BN31+BR31+BV31+BZ31+CD31+CH31+CL31+CP31+CT31+CX31+DB31+DF31+DJ31+DN31+DR31+DV31 -> 137 | EA31: =G31+K31+O31+S31+W31+AA31+AE31+AI31+AM31+AQ31+AU31+AY31+BC31+BG31+BK31+BO31+BS31+BW31+CA31+CE31+CI31+CM31+CQ31+CU31+CY31+DC31+DG31+DK31+DO31+DS31+DW31 -> 87 | EB31: =H31+L31+P31+T31+X31+AB31+AF31+AJ31+AN31+AR31+AV31+AZ31+BD31+BH31+BL31+BP31+BT31+BX31+CB31+CF31+CJ31+CN31+CR31+CV31+CZ31+DD31+DH31+DL31+DP31+DT31+DX31 -> 56 | EC31: =I31+M31+Q31+U31+Y31+AC31+AG31+AK31+AO31+AS31+AW31+BA31+BE31+BI31+BM31+BQ31+BU31+BY31+CC31+CG31+CK31+CO31+CS31+CW31+DA31+DE31+DI31+DM31+DQ31+DU31+DY31 -> 0
A32: 20 | B32: VIJAY503001TSBH00903 | C32: VIJAYALAKSHMI HOSPITAL | D32: H.No. 5-6-767, NEAR RAJIV GANDHI AUDITORIUM, OPP: RED CROSS BLOOD BANK, KHALEELWADI, NIZAMABAD - 503001. | E32: 50 | F32: 5 | G32: 5 | H32: 2 | J32: 5 | K32: 5 | L32: 2 | N32: 5 | O32: 5 | P32: 2 | R32: 5 | S32: 5 | T32: 2 | V32: 5 | X32: 2 | Z32: 5 | AA32: 5 | AB32: 2 | AF32: 2 | AH32: 5 | AI32: 5 | AJ32: 2 | AL32: 5 | AM32: 5 | AN32: 2 | AP32: 5 | AQ32: 5 | AR32: 2 | AT32: 10 | AV32: 2 | AX32: 15 | AZ32: 2 | BB32: 5 | BC32: 5 | BD32: 2 | BJ32: 5 | BK32: 2 | BL32: 2 | BN32: 5 | BO32: 5 | BP32: 2 | BR32: 5 | BS32: 2 | BT32: 2 | BV32: 5 | BW32: 5 | BX32: 2 | BZ32: 5 | CC32: 5 | CD32: 5 | CE32: 5 | CF32: 2 | CH32: 5 | CJ32: 2 | CL32: 5 | CM32: 5 | CN32: 2 | CP32: 5 | CQ32: 5 | CR32: 2 | CT32: 5 | CV32: 2 | CX32: 5 | CY32: 5 | CZ32: 2 | DB32: 5 | DD32: 2 | DF32: 5 | DG32: 5 | DH32: 2 | DN32: 5 | DP32: 2 | DR32: 5 | DT32: 2 | DV32: 5 | DW32: 5 | DX32: 2 | DZ32: =F32+J32+N32+R32+V32+Z32+AD32+AH32+AL32+AP32+AT32+AX32+BB32+BF32+BJ32+BN32+BR32+BV32+BZ32+CD32+CH32+CL32+CP32+CT32+CX32+DB32+DF32+DJ32+DN32+DR32+DV32 -> 155 | EA32: =G32+K32+O32+S32+W32+AA32+AE32+AI32+AM32+AQ32+AU32+AY32+BC32+BG32+BK32+BO32+BS32+BW32+CA32+CE32+CI32+CM32+CQ32+CU32+CY32+DC32+DG32+DK32+DO32+DS32+DW32 -> 89 | EB32: =H32+L32+P32+T32+X32+AB32+AF32+AJ32+AN32+AR32+AV32+AZ32+BD32+BH32+BL32+BP32+BT32+BX32+CB32+CF32+CJ32+CN32+CR32+CV32+CZ32+DD32+DH32+DL32+DP32+DT32+DX32 -> 56 | EC32: =I32+M32+Q32+U32+Y32+AC32+AG32+AK32+AO32+AS32+AW32+BA32+BE32+BI32+BM32+BQ32+BU32+BY32+CC32+CG32+CK32+CO32+CS32+CW32+DA32+DE32+DI32+DM32+DQ32+DU32+DY32 -> 5
B33: 49 TO 20 BEDS HCFs
A34: 21 | B34: VAISH503001TSBH06135 | C34: VAISHNAVI HOSPITAL | D34: H.No. 5-6-180/B, SARASWATINAGAR, BEHIND PRAGATHI HOSPITAL, NIZAMABAD - 503001. | E34: 35 | F34: 3 | J34: 5 | K34: 5 | R34: 2 | S34: 3 | V34: 5 | Z34: 2 | AH34: 3 | AL34: 3 | AQ34: 3 | AT34: 3 | AX34: 3 | BN34: 5 | BR34: 5 | BV34: 5 | CA34: 5 | CT34: 2 | CX34: 2 | CY34: 2 | DB34: 3 | DF34: 2 | DG34: 2 | DR34: 2 | DZ34: =F34+J34+N34+R34+V34+Z34+AD34+AH34+AL34+AP34+AT34+AX34+BB34+BF34+BJ34+BN34+BR34+BV34+BZ34+CD34+CH34+CL34+CP34+CT34+CX34+DB34+DF34+DJ34+DN34+DR34+DV34 -> 55 | EA34: =G34+K34+O34+S34+W34+AA34+AE34+AI34+AM34+AQ34+AU34+AY34+BC34+BG34+BK34+BO34+BS34+BW34+CA34+CE34+CI34+CM34+CQ34+CU34+CY34+DC34+DG34+DK34+DO34+DS34+DW34 -> 20 | EB34: =H34+L34+P34+T34+X34+AB34+AF34+AJ34+AN34+AR34+AV34+AZ34+BD34+BH34+BL34+BP34+BT34+BX34+CB34+CF34+CJ34+CN34+CR34+CV34+CZ34+DD34+DH34+DL34+DP34+DT34+DX34 -> 0 | EC34: =I34+M34+Q34+U34+Y34+AC34+AG34+AK34+AO34+AS34+AW34+BA34+BE34+BI34+BM34+BQ34+BU34+BY34+CC34+CG34+CK34+CO34+CS34+CW34+DA34+DE34+DI34+DM34+DQ34+DU34+DY34 -> 0
A35: 22 | B35: SRICH503001TSBH17451 | C35: SRI CHAKRA HOSPITALS | D35: BESIDE SYNDICATE BANK, KHALEELWADI, NIZAMABAD - 503001. | E35: 30 | F35: 2 | G35: 2 | J35: 3 | O35: 2 | W35: 2 | AA35: 2 | AI35: 2 | AQ35: 2 | AX35: 2 | AY35: 2 | BC35: 3 | BS35: 2 | BW35: 2 | CA35: 2 | CE35: 2 | CM35: 2 | CP35: 2 | CT35: 3 | DB35: 3 | DO35: 2 | DR35: 5 | DV35: 5 | DZ35: =F35+J35+N35+R35+V35+Z35+AD35+AH35+AL35+AP35+AT35+AX35+BB35+BF35+BJ35+BN35+BR35+BV35+BZ35+CD35+CH35+CL35+CP35+CT35+CX35+DB35+DF35+DJ35+DN35+DR35+DV35 -> 25 | EA35: =G35+K35+O35+S35+W35+AA35+AE35+AI35+AM35+AQ35+AU35+AY35+BC35+BG35+BK35+BO35+BS35+BW35+CA35+CE35+CI35+CM35+CQ35+CU35+CY35+DC35+DG35+DK35+DO35+DS35+DW35 -> 29 | EB35: =H35+L35+P35+T35+X35+AB35+AF35+AJ35+AN35+AR35+AV35+AZ35+BD35+BH35+BL35+BP35+BT35+BX35+CB35+CF35+CJ35+CN35+CR35+CV35+CZ35+DD35+DH35+DL35+DP35+DT35+DX35 -> 0 | EC35: =I35+M35+Q35+U35+Y35+AC35+AG35+AK35+AO35+AS35+AW35+BA35+BE35+BI35+BM35+BQ35+BU35+BY35+CC35+CG35+CK35+CO35+CS35+CW35+DA35+DE35+DI35+DM35+DQ35+DU35+DY35 -> 0
A36: 23 | B36: SRIRA503001TSBH00950 | C36: SRI RAKSHA HOSPITAL | D36: PRAGATHI HOSPITAL BACKSIDE LANE, DWARAKA NAGAR, NIZAMABAD - 503001. | E36: 30 | F36: 2 | J36: 2 | S36: 3 | AA36: 2 | AI36: 2 | AM36: 2 | AQ36: 2 | AT36: 2 | AY36: 2 | BB36: 2 | BK36: 2 | BO36: 2 | BS36: 2 | BW36: 2 | CA36: 2 | CP36: 2 | CT36: 2 | CX36: 2 | DC36: 2 | DG36: 2 | DO36: 2 | DR36: 2 | DZ36: =F36+J36+N36+R36+V36+Z36+AD36+AH36+AL36+AP36+AT36+AX36+BB36+BF36+BJ36+BN36+BR36+BV36+BZ36+CD36+CH36+CL36+CP36+CT36+CX36+DB36+DF36+DJ36+DN36+DR36+DV36 -> 16 | EA36: =G36+K36+O36+S36+W36+AA36+AE36+AI36+AM36+AQ36+AU36+AY36+BC36+BG36+BK36+BO36+BS36+BW36+CA36+CE36+CI36+CM36+CQ36+CU36+CY36+DC36+DG36+DK36+DO36+DS36+DW36 -> 29 | EB36: =H36+L36+P36+T36+X36+AB36+AF36+AJ36+AN36+AR36+AV36+AZ36+BD36+BH36+BL36+BP36+BT36+BX36+CB36+CF36+CJ36+CN36+CR36+CV36+CZ36+DD36+DH36+DL36+DP36+DT36+DX36 -> 0 | EC36: =I36+M36+Q36+U36+Y36+AC36+AG36+AK36+AO36+AS36+AW36+BA36+BE36+BI36+BM36+BQ36+BU36+BY36+CC36+CG36+CK36+CO36+CS36+CW36+DA36+DE36+DI36+DM36+DQ36+DU36+DY36 -> 0
A37: 24 | C37: ESHWAR RAM HOSPITAL | D37: DR. NO. 6-2-119/1, BEHIND AYYAPPA SWAMY TEMPLE, KANTESHWAR, NIZAMABAD 503002 | E37: 25 | F37: 2 | J37: 2 | S37: 3 | AA37: 2 | AI37: 2 | AM37: 2 | AQ37: 2 | AT37: 2 | AY37: 2 | BB37: 2 | BK37: 2 | BO37: 2 | BS37: 2 | BW37: 2 | CA37: 2 | CP37: 2 | CT37: 2 | CX37: 2 | DC37: 2 | DG37: 2 | DO37: 2 | DR37: 2 | DZ37: =F37+J37+N37+R37+V37+Z37+AD37+AH37+AL37+AP37+AT37+AX37+BB37+BF37+BJ37+BN37+BR37+BV37+BZ37+CD37+CH37+CL37+CP37+CT37+CX37+DB37+DF37+DJ37+DN37+DR37+DV37 -> 16 | EA37: =G37+K37+O37+S37+W37+AA37+AE37+AI37+AM37+AQ37+AU37+AY37+BC37+BG37+BK37+BO37+BS37+BW37+CA37+CE37+CI37+CM37+CQ37+CU37+CY37+DC37+DG37+DK37+DO37+DS37+DW37 -> 29 | EB37: =H37+L37+P37+T37+X37+AB37+AF37+AJ37+AN37+AR37+AV37+AZ37+BD37+BH37+BL37+BP37+BT37+BX37+CB37+CF37+CJ37+CN37+CR37+CV37+CZ37+DD37+DH37+DL37+DP37+DT37+DX37 -> 0 | EC37: =I37+M37+Q37+U37+Y37+AC37+AG37+AK37+AO37+AS37+AW37+BA37+BE37+BI37+BM37+BQ37+BU37+BY37+CC37+CG37+CK37+CO37+CS37+CW37+DA37+DE37+DI37+DM37+DQ37+DU37+DY37 -> 0
A38: 25 | B38: LIONS503001TSBH01124 | C38: LIONS EYE HOSPITAL | D38: OPP: RAJEEV GANDHI AUDITORIUM, KHALEEL WADI, NIZAMABAD - 503001. | E38: 25 | F38: 2 | J38: 2 | N38: 2 | Z38: 2 | AI38: 2 | AL38: 2 | AP38: 2 | AT38: 2 | AY38: 2 | BR38: 2 | BV38: 2 | BZ38: 2 | CD38: 2 | CL38: 2 | CP38: 2 | CT38: 3 | CX38: 2 | DG38: 3 | DO38: 2 | DR38: 2 | DZ38: =F38+J38+N38+R38+V38+Z38+AD38+AH38+AL38+AP38+AT38+AX38+BB38+BF38+BJ38+BN38+BR38+BV38+BZ38+CD38+CH38+CL38+CP38+CT38+CX38+DB38+DF38+DJ38+DN38+DR38+DV38 -> 33 | EA38: =G38+K38+O38+S38+W38+AA38+AE38+AI38+AM38+AQ38+AU38+AY38+BC38+BG38+BK38+BO38+BS38+BW38+CA38+CE38+CI38+CM38+CQ38+CU38+CY38+DC38+DG38+DK38+DO38+DS38+DW38 -> 9 | EB38: =H38+L38+P38+T38+X38+AB38+AF38+AJ38+AN38+AR38+AV38+AZ38+BD38+BH38+BL38+BP38+BT38+BX38+CB38+CF38+CJ38+CN38+CR38+CV38+CZ38+DD38+DH38+DL38+DP38+DT38+DX38 -> 0 | EC38: =I38+M38+Q38+U38+Y38+AC38+AG38+AK38+AO38+AS38+AW38+BA38+BE38+BI38+BM38+BQ38+BU38+BY38+CC38+CG38+CK38+CO38+CS38+CW38+DA38+DE38+DI38+DM38+DQ38+DU38+DY38 -> 0
