Workbook

Sheet Total
B1: NOVEMBER - 2023 MONTH REPORT ABSTRACT
B2: DISTRICT | C2: NO.OF HCFs | D2: NO.OF BEDS | E2: YELLOW | F2: RED | G2: BLUE | H2: WHITE | I2: TOTAL
E3: Values are in Kilograms
B4: NIZAMABAD | C4: ='Area Wise Total'!D13 -> 373 | D4: ='Area Wise Total'!E13 -> 5509 | E4: ='Area Wise Total'!F13 -> 10608 | F4: ='Area Wise Total'!G13 -> 6376 | G4: ='Area Wise Total'!H13 -> 15 | H4: ='Area Wise Total'!I13 -> 22 | I4: =SUM(E4:H4) -> 17021
B5: KAMAREDDY | C5: ='Area Wise Total'!D19 -> 187 | D5: ='Area Wise Total'!E19 -> 1929 | E5: ='Area Wise Total'!F19 -> 5249 | F5: ='Area Wise Total'!G19 -> 3150 | G5: ='Area Wise Total'!H19 -> 12 | H5: ='Area Wise Total'!I19 -> 0 | I5: =SUM(E5:H5) -> 8411
B6: NIRMAL | C6: ='Area Wise Total'!D25 -> 107 | D6: ='Area Wise Total'!E25 -> 1658 | E6: ='Area Wise Total'!F25 -> 2259 | F6: ='Area Wise Total'!G25 -> 1424 | G6: ='Area Wise Total'!H25 -> 6 | H6: ='Area Wise Total'!I25 -> 3 | I6: =SUM(E6:H6) -> 3692
B7: ADILABAD | C7: ='Area Wise Total'!D29 -> 121 | D7: ='Area Wise Total'!E29 -> 1604 | E7: ='Area Wise Total'!F29 -> 2020 | F7: ='Area Wise Total'!G29 -> 1360 | G7: ='Area Wise Total'!H29 -> 2 | H7: ='Area Wise Total'!I29 -> 5 | I7: =SUM(E7:H7) -> 3387
B8: ASIFABAD | C8: ='Area Wise Total'!D33 -> 49 | D8: ='Area Wise Total'!E33 -> 649 | E8: ='Area Wise Total'!F33 -> 1209 | F8: ='Area Wise Total'!G33 -> 705 | G8: ='Area Wise Total'!H33 -> 10 | H8: ='Area Wise Total'!I33 -> 0 | I8: =SUM(E8:H8) -> 1924
B9: CLOSED HCFS | E9: ='Area Wise Total'!F35 -> 0 | F9: ='Area Wise Total'!G35 -> 0 | G9: ='Area Wise Total'!H35 -> 0 | H9: ='Area Wise Total'!I35 -> 0 | I9: =SUM(E9:H9) -> 0
B10: TOTAL | C10: =SUM(C4:C9) -> 837 | D10: =SUM(D4:D9) -> 11349 | E10: =SUM(E4:E8) -> 21345 | F10: =SUM(F4:F8) -> 13015 | G10: =SUM(G4:G8) -> 45 | H10: =SUM(H4:H8) -> 30 | I10: =SUM(I4:I8) -> 34435
B12: DETAILS OF COLOURS
B13: YELLOW | C13: INCENERABLE WASTE
B14: RED | C14: AUTOCLAVE WASTE
B15: BLUE | C15: SHREDDING, BROKEN GLASS, METALIC BODY IMPLANTS
B16: WHITE | C16: SHARPENS, NEEDLES, BLADES, SCALPELS, NAILS, LANCETS

Sheet Area Wise Total
B2: STATEMENT SHOWING AREA WISE RECEIVED BIO - MEDICAL WASTE
B3: NOVEMBER - 2023
B4: District | C4: Areas | D4: HCF's | E4: Beds | F4: Yellow | G4: Red | H4: Blue | I4: White
B6: Nizamabad | C6: Nizamabad | D6: =COUNTIF(Nizamabad!A4:A8,">0")+COUNTIF(Nizamabad!A12:A247,">0") -> 237 | E6: =SUM(Nizamabad!E4:E8)+SUM(Nizamabad!E12:E247) -> 3928 | F6: =SUM(Nizamabad!DZ4:DZ8)+SUM(Nizamabad!DZ12:DZ247) -> 6892 | G6: =SUM(Nizamabad!EA4:EA8)+SUM(Nizamabad!EA12:EA247) -> 4578 | H6: =SUM(Nizamabad!EB4:EB8)+SUM(Nizamabad!EB12:EB247) -> 0 | I6: =SUM(Nizamabad!EC4:EC8)+SUM(Nizamabad!EC12:EC247) -> 0
C7: Armoor | D7: =COUNTIF(Nizamabad!A249:A307,">0") -> 59 | E7: =SUM(Nizamabad!E249:E307) -> 704 | F7: =SUM(Nizamabad!DZ249:DZ307) -> 1837 | G7: =SUM(Nizamabad!EA249:EA307) -> 937 | H7: =SUM(Nizamabad!EB249:EB307) -> 15 | I7: =SUM(Nizamabad!EC249:EC307) -> 22
C8: Bodhan | D8: =COUNTIF(Nizamabad!A309:A349, ">0")+COUNTIF(Nizamabad!A9,">0") -> 42 | E8: =Nizamabad!E9+SUM(Nizamabad!E309:E349) -> 437 | F8: =Nizamabad!DZ9+SUM(Nizamabad!DZ309:DZ349) -> 1458 | G8: =Nizamabad!EA9+SUM(Nizamabad!EA309:EA349) -> 708 | H8: =Nizamabad!EB9+SUM(Nizamabad!EB309:EB349) -> 0 | I8: =Nizamabad!EC9+SUM(Nizamabad!EC309:EC349) -> 0
C9: Dichpally | D9: =COUNTIF(Nizamabad!A351:A353, ">0") -> 3 | E9: =SUM(Nizamabad!E351:E353) -> 36 | F9: =SUM(Nizamabad!DZ351:DZ353) -> 3 | G9: =SUM(Nizamabad!EA351:EA353) -> 1 | H9: =SUM(Nizamabad!EB351:EB353) -> 0 | I9: =SUM(Nizamabad!EC351:EC353) -> 0
C10: Varni | D10: =COUNTIF(Nizamabad!A355:A356, ">0") -> 2 | E10: =SUM(Nizamabad!E355:E356) -> 31 | F10: =SUM(Nizamabad!DZ355:DZ356) -> 3 | G10: =SUM(Nizamabad!EA355:EA356) -> 0 | H10: =SUM(Nizamabad!EB355:EB356) -> 0 | I10: =SUM(Nizamabad!EC355:EC356) -> 0
C11: Navipet | D11: =COUNTIF(Nizamabad!A358:A359,">0") -> 2 | E11: =SUM(Nizamabad!E358:E359) -> 37 | F11: =SUM(Nizamabad!DZ358:DZ359) -> 62 | G11: =SUM(Nizamabad!EA358:EA359) -> 50 | H11: =SUM(Nizamabad!EB358:EB359) -> 0 | I11: =SUM(Nizamabad!EC358:EC359) -> 0
C12: Govt.HCFs. | D12: =COUNTIF(Nizamabad!A361:A388,">0") -> 28 | E12: =SUM(Nizamabad!E361:E388) -> 336 | F12: =SUM(Nizamabad!DZ361:DZ388) -> 353 | G12: =SUM(Nizamabad!EA361:EA388) -> 102 | H12: =SUM(Nizamabad!EB361:EB388) -> 0 | I12: =SUM(Nizamabad!EC361:EC388) -> 0
C13: Total: | D13: =SUM(D6:D12) -> 373 | E13: =SUM(E6:E12) -> 5509 | F13: =SUM(F6:F12) -> 10608 | G13: =SUM(G6:G12) -> 6376 | H13: =SUM(H6:H12) -> 15 | I13: =SUM(I6:I12) -> 22
B15: Kamareddy | C15: Kamareddy | D15: =COUNTIF(Kamareddy!A4:A5, ">0")+COUNTIF(Kamareddy!A9:A130, ">0") -> 124 | E15: =SUM(Kamareddy!E4:E5)+SUM(Kamareddy!E9:E130) -> 1152 | F15: =SUM(Kamareddy!DZ4:DZ5)+SUM(Kamareddy!DZ9:DZ130) -> 3707 | G15: =SUM(Kamareddy!EA4:EA5)+SUM(Kamareddy!EA9:EA130) -> 2260 | H15: =SUM(Kamareddy!EB4:EB5)+SUM(Kamareddy!EB9:EB130) -> 12 | I15: =SUM(Kamareddy!EC4:EC5)+SUM(Kamareddy!EC9:EC130) -> 0
C16: Banswada | D16: =COUNTIF(Kamareddy!A6,">0")+COUNTIF(Kamareddy!A132:A158, ">0") -> 27 | E16: =Kamareddy!E6+SUM(Kamareddy!E132:E158) -> 279 | F16: =Kamareddy!DZ6+SUM(Kamareddy!DZ132:DZ158) -> 798 | G16: =Kamareddy!EA6+SUM(Kamareddy!EA132:EA158) -> 549 | H16: =Kamareddy!EB6+SUM(Kamareddy!EB132:EB158) -> 0 | I16: =Kamareddy!EC6+SUM(Kamareddy!EC132:EC158) -> 0
C17: Yellareddy | D17: =COUNTIF(Kamareddy!A160:A169,">0") -> 10 | E17: =SUM(Kamareddy!E160:E169) -> 222 | F17: =SUM(Kamareddy!DZ160:DZ169) -> 414 | G17: =SUM(Kamareddy!EA160:EA169) -> 271 | H17: =SUM(Kamareddy!EB160:EB169) -> 0 | I17: =SUM(Kamareddy!EC160:EC169) -> 0
C18: Govt.HCFs. | D18: =COUNTIF(Kamareddy!A171:A196,">0") -> 26 | E18: =SUM(Kamareddy!E171:E196) -> 276 | F18: =SUM(Kamareddy!DZ171:DZ196) -> 330 | G18: =SUM(Kamareddy!EA171:EA196) -> 70 | H18: =SUM(Kamareddy!EB171:EB196) -> 0 | I18: =SUM(Kamareddy!EC171:EC196) -> 0
C19: Total: | D19: =SUM(D15:D18) -> 187 | E19: =SUM(E15:E18) -> 1929 | F19: =SUM(F15:F18) -> 5249 | G19: =SUM(G15:G18) -> 3150 | H19: =SUM(H15:H18) -> 12 | I19: =SUM(I15:I18) -> 0
B21: Nirmal | C21: Nirmal | D21: =COUNTIF(Nirmal!A4:A5,">0")+COUNTIF(Nirmal!A9:A77,">0") -> 71 | E21: =SUM(Nirmal!E4:E5)+SUM(Nirmal!E9:E77) -> 1197 | F21: =SUM(Nirmal!DZ4:DZ5)+SUM(Nirmal!DZ9:DZ77) -> 1520 | G21: =SUM(Nirmal!EA4:EA5)+SUM(Nirmal!EA9:EA77) -> 968 | H21: =SUM(Nirmal!EB4:EB5)+SUM(Nirmal!EB9:EB77) -> 5 | I21: =SUM(Nirmal!EC4:EC5)+SUM(Nirmal!EC9:EC77) -> 3
C22: Bhainsa | D22: =COUNTIF(Nirmal!A6,">0")+COUNTIF(Nirmal!A79:A95,">0") -> 18 | E22: =Nirmal!E6+SUM(Nirmal!E79:E95) -> 302 | F22: =Nirmal!DZ6+SUM(Nirmal!DZ79:DZ95) -> 487 | G22: =Nirmal!EA6+SUM(Nirmal!EA79:EA95) -> 407 | H22: =Nirmal!EB6+SUM(Nirmal!EB79:EB95) -> 1 | I22: =Nirmal!EC6+SUM(Nirmal!EC79:EC95) -> 0
C23: Mudhole | D23: =COUNTIF(Nirmal!A97:A99, ">0") -> 3 | E23: =SUM(Nirmal!E97:E99) -> 45 | F23: =SUM(Nirmal!DZ97:DZ99) -> 57 | G23: =SUM(Nirmal!EA97:EA99) -> 36 | H23: =SUM(Nirmal!EB97:EB99) -> 0 | I23: =SUM(Nirmal!EC97:EC99) -> 0
C24: Govt.HCFs. | D24: =COUNTIF(Nirmal!A101:A115, ">0") -> 15 | E24: =SUM(Nirmal!E101:E115) -> 114 | F24: =SUM(Nirmal!DZ101:DZ115) -> 195 | G24: =SUM(Nirmal!EA101:EA115) -> 13 | H24: =SUM(Nirmal!EB101:EB115) -> 0 | I24: =SUM(Nirmal!EC101:EC115) -> 0
C25: Total: | D25: =SUM(D21:D24) -> 107 | E25: =SUM(E21:E24) -> 1658 | F25: =SUM(F21:F24) -> 2259 | G25: =SUM(G21:G24) -> 1424 | H25: =SUM(H21:H24) -> 6 | I25: =SUM(I21:I24) -> 3
B27: Adilabad | C27: Adilabad | D27: =COUNTIF(Adilabad!A3:A78,">0") -> 74 | E27: =SUM(Adilabad!E4:E78) -> 1373 | F27: =SUM(Adilabad!DZ4:DZ78) -> 1690 | G27: =SUM(Adilabad!EA4:EA78) -> 1313 | H27: =SUM(Adilabad!EB4:EB78) -> 2 | I27: =SUM(Adilabad!EC4:EC78) -> 5
C28: Govt.HCFs. | D28: =COUNTIF(Adilabad!A80:A126,">0") -> 47 | E28: =SUM(Adilabad!E80:E126) -> 231 | F28: =SUM(Adilabad!DZ80:DZ126) -> 330 | G28: =SUM(Adilabad!EA80:EA126) -> 47 | H28: =SUM(Adilabad!EB80:EB126) -> 0 | I28: =SUM(Adilabad!EC80:EC126) -> 0
C29: Total | D29: =SUM(D27:D28) -> 121 | E29: =SUM(Adilabad!E4:E130) -> 1604 | F29: =SUM(F27:F28) -> 2020 | G29: =SUM(G27:G28) -> 1360 | H29: =SUM(H27:H28) -> 2 | I29: =SUM(I27:I28) -> 5
B31: Asifabad | C31: Asifabad | D31: =COUNTIF(Asifabad!A4:A30, ">0") -> 27 | E31: =SUM(Asifabad!E4:E30) -> 493 | F31: =SUM(Asifabad!DZ4:DZ30) -> 924 | G31: =SUM(Asifabad!EA4:EA30) -> 692 | H31: =SUM(Asifabad!EB4:EB30) -> 10 | I31: =SUM(Asifabad!EC2:EC30) -> 0
C32: Govt.HCFs. | D32: =COUNTIF(Asifabad!A32:A53, ">0") -> 22 | E32: =SUM(Asifabad!E32:E53) -> 156 | F32: =SUM(Asifabad!DZ32:DZ53) -> 285 | G32: =SUM(Asifabad!EA32:EA53) -> 13 | H32: =SUM(Asifabad!EB32:EB53) -> 0 | I32: =SUM(Asifabad!EC32:EC53) -> 0
B33: Asifabad | C33: Total | D33: =SUM(D31:D32) -> 49 | E33: =SUM(E31:E32) -> 649 | F33: =SUM(F31:F32) -> 1209 | G33: =SUM(G31:G32) -> 705 | H33: =SUM(H31:H32) -> 10 | I33: =SUM(I31:I32) -> 0
B35: Closed HCFs | D35: =COUNTIF(Nizamabad!A390:A404, ">0")+COUNTIF(Kamareddy!A198:A200, ">0")+COUNTIF(Nirmal!A117:A123, ">0")+COUNTIF(Adilabad!A128:A130, ">0")+COUNTIF(Asifabad!A55:A58, ">0") -> 32 | E35: =SUM(Nizamabad!E390:E404)+SUM(Kamareddy!E198:E200)+SUM(Nirmal!E117:E123)+SUM(Adilabad!E128:E130)+SUM(Asifabad!E55:E58) -> 290
B37: Grand Total | D37: =D13+D19+D25+D29+D33 -> 837 | E37: =E13+E19+E25+E29+E33 -> 11349 | F37: =F13+F19+F25+F29+F33+F35 -> 21345 | G37: =G13+G19+G25+G29+G33+G35 -> 13015 | H37: =H13+H19+H25+H29+H33+H35 -> 45 | I37: =I13+I19+I25+I29+I33+I35 -> 30

Sheet Nizamabad
A1: NOVEMBER - 2023 MONTH REPORT | F1: 45231 | J1: 45232 | N1: 45233 | R1: 45234 | V1: 45235 | Z1: 45236 | AD1: 45237 | AH1: 45238 | AL1: 45239 | AP1: 45240 | AT1: 45241 | AX1: 45242 | BB1: 45243 | BF1: 45244 | BJ1: 45245 | BN1: 45246 | BR1: 45247 | BV1: 45248 | BZ1: 45249 | CD1: 45250 | CH1: 45251 | CL1: 45252 | CP1: 45253 | CT1: 45254 | CX1: 45255 | DB1: 45256 | DF1: 45257 | DJ1: 45258 | DN1: 45259 | DR1: 45260 | DZ1: TOTAL
A2: SNO | B2: HCF ID | C2: NAME OF THE HCF | D2: ADDRESS OF THE HCFS | E2: NO.OF BEDS | F2: Yellow | G2: Red | H2: Blue | I2: White | J2: Yellow | K2: Red | L2: Blue | M2: White | N2: Yellow | O2: Red | P2: Blue | Q2: White | R2: Yellow | S2: Red | T2: Blue | U2: White | V2: Yellow | W2: Red | X2: Blue | Y2: White | Z2: Yellow | AA2: Red | AB2: Blue | AC2: White | AD2: Yellow | AE2: Red | AF2: Blue | AG2: White | AH2: Yellow | AI2: Red | AJ2: Blue | AK2: White | AL2: Yellow | AM2: Red | AN2: Blue | AO2: White | AP2: Yellow | AQ2: Red | AR2: Blue | AS2: White | AT2: Yellow | AU2: Red | AV2: Blue | AW2: White | AX2: Yellow | AY2: Red | AZ2: Blue | BA2: White | BB2: Yellow | BC2: Red | BD2: Blue | BE2: White | BF2: Yellow | BG2: Red | BH2: Blue | BI2: White | BJ2: Yellow | BK2: Red | BL2: Blue | BM2: White | BN2: Yellow | BO2: Red | BP2: Blue | BQ2: White | BR2: Yellow | BS2: Red | BT2: Blue | BU2: White | BV2: Yellow | BW2: Red | BX2: Blue | BY2: White | BZ2: Yellow | CA2: Red | CB2: Blue | CC2: White | CD2: Yellow | CE2: Red | CF2: Blue | CG2: White | CH2: Yellow | CI2: Red | CJ2: Blue | CK2: White | CL2: Yellow | CM2: Red | CN2: Blue | CO2: White | CP2: Yellow | CQ2: Red | CR2: Blue | CS2: White | CT2: Yellow | CU2: Red | CV2: Blue | CW2: White | CX2: Yellow | CY2: Red | CZ2: Blue | DA2: White | DB2: Yellow | DC2: Red | DD2: Blue | DE2: White | DF2: Yellow | DG2: Red | DH2: Blue | DI2: White | DJ2: Yellow | DK2: Red | DL2: Blue | DM2: White | DN2: Yellow | DO2: Red | DP2: Blue | DQ2: White | DR2: Yellow | DS2: Red | DT2: Blue | DU2: White | DV2: Yellow | DW2: Red | DX2: Blue | DY2: White | DZ2: Yellow | EA2: Red | EB2: Blue | EC2: White
A3: NIZAMABAD 100 AND ABOVE BEDS HCFs
A4: 1 | B4: GOVER503001TSBH00988 | C4: GOVT. DIST. HOSPITAL | D4: BESIDE NIZAMABAD BUS STATION, NIZAMABAD - 503001 | E4: 750 | F4: 48 | G4: 24 | J4: 32 | K4: 40 | N4: 32 | O4: 24 | R4: 40 | S4: 32 | Z4: 40 | AA4: 32 | AD4: 32 | AE4: 40 | AH4: 40 | AI4: 32 | AL4: 50 | AP4: 40 | AT4: 21 | AU4: 28 | BB4: =9*4 -> 36 | BC4: =3*9 -> 27 | BF4: 40 | BG4: 40 | BJ4: 32 | BK4: 32 | BN4: 40 | BO4: 30 | BR4: 32 | BS4: 40 | BV4: 40 | BW4: 32 | CD4: 40 | CE4: 32 | CH4: 40 | CI4: 29 | CL4: 32 | CM4: 32 | CP4: 40 | CQ4: 32 | CT4: 24 | CU4: 40 | CX4: 32 | CY4: 40 | DF4: 32 | DG4: 24 | DJ4: 28 | DK4: 28 | DN4: 18 | DO4: 24 | DR4: 24 | DS4: 32 | DZ4: =F4+J4+N4+R4+V4+Z4+AD4+AH4+AL4+AP4+AT4+AX4+BB4+BF4+BJ4+BN4+BR4+BV4+BZ4+CD4+CH4+CL4+CP4+CT4+CX4+DB4+DF4+DJ4+DN4+DR4+DV4 -> 905 | EA4: =G4+K4+O4+S4+W4+AA4+AE4+AI4+AM4+AQ4+AU4+AY4+BC4+BG4+BK4+BO4+BS4+BW4+CA4+CE4+CI4+CM4+CQ4+CU4+CY4+DC4+DG4+DK4+DO4+DS4+DW4 -> 766 | EB4: =H4+L4+P4+T4+X4+AB4+AF4+AJ4+AN4+AR4+AV4+AZ4+BD4+BH4+BL4+BP4+BT4+BX4+CB4+CF4+CJ4+CN4+CR4+CV4+CZ4+DD4+DH4+DL4+DP4+DT4+DX4 -> 0 | EC4: =I4+M4+Q4+U4+Y4+AC4+AG4+AK4+AO4+AS4+AW4+BA4+BE4+BI4+BM4+BQ4+BU4+BY4+CC4+CG4+CK4+CO4+CS4+CW4+DA4+DE4+DI4+DM4+DQ4+DU4+DY4 -> 0
A5: 2 | B5: MEGHN503003TSBH00905 | C5: MEGHANA INSTITUTE OF DENTAL SCIENCE | D5: VARNI ROAD, MALLARAM VILLAGE, NIZAMABAD - 503001 | E5: 200 | F5: 5 | G5: 5 | J5: 5 | K5: 5 | N5: 5 | O5: 5 | R5: 5 | S5: 5 | Z5: 5 | AA5: 5 | AD5: 5 | AE5: 5 | AH5: 5 | AI5: 5 | AL5: 5 | AM5: 5 | AP5: 5 | AQ5: 5 | AT5: 5 | AU5: 5 | BB5: 5 | BC5: 5 | BF5: 5 | BG5: 5 | BJ5: 5 | BK5: 5 | BN5: 5 | BO5: 5 | BR5: 5 | BS5: 5 | BV5: 5 | BW5: 5 | CD5: 5 | CE5: 5 | CH5: 5 | CI5: 5 | CL5: 5 | CM5: 5 | CP5: 5 | CQ5: 5 | CT5: 5 | CU5: 5 | CX5: 5 | CY5: 5 | DF5: 5 | DG5: 5 | DJ5: 5 | DK5: 5 | DN5: 5 | DO5: 5 | DR5: 5 | DS5: 5 | DZ5: =F5+J5+N5+R5+V5+Z5+AD5+AH5+AL5+AP5+AT5+AX5+BB5+BF5+BJ5+BN5+BR5+BV5+BZ5+CD5+CH5+CL5+CP5+CT5+CX5+DB5+DF5+DJ5+DN5+DR5+DV5 -> 130 | EA5: =G5+K5+O5+S5+W5+AA5+AE5+AI5+AM5+AQ5+AU5+AY5+BC5+BG5+BK5+BO5+BS5+BW5+CA5+CE5+CI5+CM5+CQ5+CU5+CY5+DC5+DG5+DK5+DO5+DS5+DW5 -> 130 | EB5: =H5+L5+P5+T5+X5+AB5+AF5+AJ5+AN5+AR5+AV5+AZ5+BD5+BH5+BL5+BP5+BT5+BX5+CB5+CF5+CJ5+CN5+CR5+CV5+CZ5+DD5+DH5+DL5+DP5+DT5+DX5 -> 0 | EC5: =I5+M5+Q5+U5+Y5+AC5+AG5+AK5+AO5+AS5+AW5+BA5+BE5+BI5+BM5+BQ5+BU5+BY5+CC5+CG5+CK5+CO5+CS5+CW5+DA5+DE5+DI5+DM5+DQ5+DU5+DY5 -> 0
A6: 3 | B6: PRAGA503001TSBH06142 | C6: PRAGATHI HOSPITAL | D6: HYDERABAD ROAD, PRAGATHI NAGAR, NIZAMABAD - 503001 | E6: 150 | F6: 5 | G6: 5 | J6: 5 | K6: 5 | N6: 5 | O6: 5 | R6: 5 | S6: 5 | Z6: 5 | AA6: 5 | AD6: 5 | AE6: 5 | AH6: 5 | AI6: 5 | AL6: 5 | AM6: 5 | AP6: 5 | AQ6: 5 | AT6: 5 | AU6: 5 | BB6: 5 | BC6: 5 | BF6: 6 | BG6: 6 | BJ6: 5 | BK6: 5 | BN6: 5 | BO6: 5 | BR6: 5 | BS6: 5 | BV6: 5 | BW6: 5 | CD6: 5 | CE6: 5 | CH6: 5 | CI6: 5 | CL6: 5 | CM6: 5 | CP6: 5 | CQ6: 5 | CT6: 5 | CU6: 5 | CX6: 5 | CY6: 5 | DF6: 5 | DG6: 5 | DJ6: 5 | DK6: 5 | DN6: 5 | DO6: 5 | DR6: 5 | DS6: 5 | DZ6: =F6+J6+N6+R6+V6+Z6+AD6+AH6+AL6+AP6+AT6+AX6+BB6+BF6+BJ6+BN6+BR6+BV6+BZ6+CD6+CH6+CL6+CP6+CT6+CX6+DB6+DF6+DJ6+DN6+DR6+DV6 -> 131 | EA6: =G6+K6+O6+S6+W6+AA6+AE6+AI6+AM6+AQ6+AU6+AY6+BC6+BG6+BK6+BO6+BS6+BW6+CA6+CE6+CI6+CM6+CQ6+CU6+CY6+DC6+DG6+DK6+DO6+DS6+DW6 -> 131 | EB6: =H6+L6+P6+T6+X6+AB6+AF6+AJ6+AN6+AR6+AV6+AZ6+BD6+BH6+BL6+BP6+BT6+BX6+CB6+CF6+CJ6+CN6+CR6+CV6+CZ6+DD6+DH6+DL6+DP6+DT6+DX6 -> 0 | EC6: =I6+M6+Q6+U6+Y6+AC6+AG6+AK6+AO6+AS6+AW6+BA6+BE6+BI6+BM6+BQ6+BU6+BY6+CC6+CG6+CK6+CO6+CS6+CW6+DA6+DE6+DI6+DM6+DQ6+DU6+DY6 -> 0
A7: 4 | B7: PRUDE503002TSBH17373 | C7: PRUDENCE HOSPITALS | D7: H.NO. 1-12-121/A, OPP: YENDALA TOWERS, PRAGATHI NAGAR, NIZAMABAD | E7: 100 | F7: 5 | G7: 5 | J7: 5 | K7: 5 | N7: 5 | R7: 5 | S7: 5 | Z7: 5 | AD7: 5 | AH7: 5 | AI7: 5 | AL7: 5 | AM7: 5 | AP7: 5 | AQ7: 5 | AT7: 5 | AU7: 5 | BB7: 5 | BC7: 5 | BF7: 6 | BG7: 6 | BJ7: 5 | BK7: 5 | BN7: 5 | BO7: 5 | BR7: 5 | BS7: 5 | BV7: 5 | BW7: 5 | CD7: 5 | CE7: 5 | CH7: 5 | CI7: 5 | CL7: 5 | CM7: 5 | CP7: 5 | CQ7: 5 | CT7: 5 | CU7: 5 | CX7: 5 | CY7: 5 | DF7: 5 | DG7: 5 | DJ7: 5 | DK7: 5 | DN7: 5 | DO7: 5 | DR7: 5 | DS7: 5 | DZ7: =F7+J7+N7+R7+V7+Z7+AD7+AH7+AL7+AP7+AT7+AX7+BB7+BF7+BJ7+BN7+BR7+BV7+BZ7+CD7+CH7+CL7+CP7+CT7+CX7+DB7+DF7+DJ7+DN7+DR7+DV7 -> 131 | EA7: =G7+K7+O7+S7+W7+AA7+AE7+AI7+AM7+AQ7+AU7+AY7+BC7+BG7+BK7+BO7+BS7+BW7+CA7+CE7+CI7+CM7+CQ7+CU7+CY7+DC7+DG7+DK7+DO7+DS7+DW7 -> 116 | EB7: =H7+L7+P7+T7+X7+AB7+AF7+AJ7+AN7+AR7+AV7+AZ7+BD7+BH7+BL7+BP7+BT7+BX7+CB7+CF7+CJ7+CN7+CR7+CV7+CZ7+DD7+DH7+DL7+DP7+DT7+DX7 -> 0 | EC7: =I7+M7+Q7+U7+Y7+AC7+AG7+AK7+AO7+AS7+AW7+BA7+BE7+BI7+BM7+BQ7+BU7+BY7+CC7+CG7+CK7+CO7+CS7+CW7+DA7+DE7+DI7+DM7+DQ7+DU7+DY7 -> 0
A8: 5 | B8: MEDIC503001TSBH09849 | C8: MEDICOVER HOSPITAL | D8: H.No. 5-11-744, BESIDE LIC OF INDIA, YELLAMMA GUTTA X ROAD, HYDERABAD ROAD, NIZAMABAD - 503001 | E8: 100 | G8: 5 | K8: 5 | N8: 5 | O8: 5 | R8: 5 | S8: 5 | Z8: 5 | AA8: 5 | AD8: 5 | AE8: 5 | AH8: 5 | AI8: 5 | AL8: 5 | AM8: 5 | AP8: 5 | AQ8: 5 | AT8: 5 | AU8: 5 | BB8: 5 | BC8: 5 | BF8: 6 | BG8: 6 | BJ8: 5 | BK8: 5 | BN8: 5 | BO8: 5 | BR8: 5 | BS8: 5 | BV8: 5 | BW8: 5 | CD8: 5 | CE8: 5 | CH8: 5 | CI8: 5 | CL8: 5 | CM8: 5 | CP8: 5 | CQ8: 5 | CT8: 5 | CU8: 5 | CX8: 5 | CY8: 5 | DF8: 5 | DG8: 5 | DJ8: 5 | DK8: 5 | DN8: 5 | DO8: 5 | DS8: 5 | DZ8: =F8+J8+N8+R8+V8+Z8+AD8+AH8+AL8+AP8+AT8+AX8+BB8+BF8+BJ8+BN8+BR8+BV8+BZ8+CD8+CH8+CL8+CP8+CT8+CX8+DB8+DF8+DJ8+DN8+DR8+DV8 -> 116 | EA8: =G8+K8+O8+S8+W8+AA8+AE8+AI8+AM8+AQ8+AU8+AY8+BC8+BG8+BK8+BO8+BS8+BW8+CA8+CE8+CI8+CM8+CQ8+CU8+CY8+DC8+DG8+DK8+DO8+DS8+DW8 -> 131 | EB8: =H8+L8+P8+T8+X8+AB8+AF8+AJ8+AN8+AR8+AV8+AZ8+BD8+BH8+BL8+BP8+BT8+BX8+CB8+CF8+CJ8+CN8+CR8+CV8+CZ8+DD8+DH8+DL8+DP8+DT8+DX8 -> 0 | EC8: =I8+M8+Q8+U8+Y8+AC8+AG8+AK8+AO8+AS8+AW8+BA8+BE8+BI8+BM8+BQ8+BU8+BY8+CC8+CG8+CK8+CO8+CS8+CW8+DA8+DE8+DI8+DM8+DQ8+DU8+DY8 -> 0
A9: 6 | B9: DISTR503185TSBH08531 | C9: AREA HOSPITAL, BODHAN | D9: NEAR AMBEDKAR CHOWRASTA, BODHAN - 503185 | E9: 100 | F9: 1 | J9: 3 | K9: 1 | N9: 1 | R9: 2 | S9: 1 | Z9: 6 | AA9: 1 | AD9: 4 | AE9: 1 | AH9: 2 | AI9: 1 | AL9: 5 | AM9: 1 | AP9: 5 | AQ9: 1 | AT9: 5 | AU9: 1 | BB9: 5 | BC9: 1 | BF9: 5 | BJ9: 12 | BN9: 12 | BR9: 12 | BS9: 2 | BV9: 12 | CD9: 12 | CH9: 12 | CL9: 12 | CP9: 12 | CT9: 12 | CX9: 12 | DF9: 12 | DJ9: 12 | DN9: 12 | DR9: 8 | DZ9: =F9+J9+N9+R9+V9+Z9+AD9+AH9+AL9+AP9+AT9+AX9+BB9+BF9+BJ9+BN9+BR9+BV9+BZ9+CD9+CH9+CL9+CP9+CT9+CX9+DB9+DF9+DJ9+DN9+DR9+DV9 -> 208 | EA9: =G9+K9+O9+S9+W9+AA9+AE9+AI9+AM9+AQ9+AU9+AY9+BC9+BG9+BK9+BO9+BS9+BW9+CA9+CE9+CI9+CM9+CQ9+CU9+CY9+DC9+DG9+DK9+DO9+DS9+DW9 -> 11 | EB9: =H9+L9+P9+T9+X9+AB9+AF9+AJ9+AN9+AR9+AV9+AZ9+BD9+BH9+BL9+BP9+BT9+BX9+CB9+CF9+CJ9+CN9+CR9+CV9+CZ9+DD9+DH9+DL9+DP9+DT9+DX9 -> 0 | EC9: =I9+M9+Q9+U9+Y9+AC9+AG9+AK9+AO9+AS9+AW9+BA9+BE9+BI9+BM9+BQ9+BU9+BY9+CC9+CG9+CK9+CO9+CS9+CW9+DA9+DE9+DI9+DM9+DQ9+DU9+DY9 -> 0
B10: 80 TO 50 BEDS HCFs
B11: NIZAMABAD
A12: 1 | B12: PRATI503001TSBH00889 | C12: PRATHIBHA SUPER SPECIALITY HOSPITAL | D12: BESIDE LANE OF JOYALLUKKAS JEWELLERS, HYDERABAD ROAD, KAKATIYA STREET, NIZAMABAD - 503001. | E12: 80 | F12: 5 | G12: 5 | J12: 5 | N12: 5 | O12: 5 | R12: 5 | S12: 5 | Z12: 5 | AA12: 5 | AD12: 5 | AH12: 5 | AI12: 5 | AL12: 5 | AM12: 5 | AP12: 5 | AQ12: 5 | AT12: 5 | BB12: 5 | BC12: 5 | BF12: 5 | BG12: 5 | BJ12: 5 | BK12: 5 | BN12: 5 | BO12: 5 | BR12: 5 | BS12: 5 | BV12: 5 | BW12: 5 | CD12: 5 | CE12: 5 | CH12: 5 | CI12: 5 | CL12: 5 | CM12: 5 | CP12: 5 | CQ12: 3 | CT12: 5 | CU12: 5 | CX12: 5 | CY12: 5 | DF12: 5 | DG12: 5 | DJ12: 5 | DK12: 5 | DN12: 5 | DR12: 5 | DZ12: =F12+J12+N12+R12+V12+Z12+AD12+AH12+AL12+AP12+AT12+AX12+BB12+BF12+BJ12+BN12+BR12+BV12+BZ12+CD12+CH12+CL12+CP12+CT12+CX12+DB12+DF12+DJ12+DN12+DR12+DV12 -> 130 | EA12: =G12+K12+O12+S12+W12+AA12+AE12+AI12+AM12+AQ12+AU12+AY12+BC12+BG12+BK12+BO12+BS12+BW12+CA12+CE12+CI12+CM12+CQ12+CU12+CY12+DC12+DG12+DK12+DO12+DS12+DW12 -> 103 | EB12: =H12+L12+P12+T12+X12+AB12+AF12+AJ12+AN12+AR12+AV12+AZ12+BD12+BH12+BL12+BP12+BT12+BX12+CB12+CF12+CJ12+CN12+CR12+CV12+CZ12+DD12+DH12+DL12+DP12+DT12+DX12 -> 0 | EC12: =I12+M12+Q12+U12+Y12+AC12+AG12+AK12+AO12+AS12+AW12+BA12+BE12+BI12+BM12+BQ12+BU12+BY12+CC12+CG12+CK12+CO12+CS12+CW12+DA12+DE12+DI12+DM12+DQ12+DU12+DY12 -> 0
A13: 2 | B13: SHIVA503001TSBH00427 | C13: SHIVA SAI EMERGENCY AND MULTI SPECIALITY HOSPITAL | D13: OPP: TELANGANA GRAMEENA BANK, KHALEEL WADI, NIZAMABAD - 503001 | E13: 53 | F13: 5 | G13: 5 | J13: 5 | K13: 5 | N13: 5 | R13: 5 | S13: 5 | Z13: 5 | AA13: 5 | AD13: 5 | AE13: 5 | AH13: 5 | AI13: 5 | AL13: 5 | AM13: 5 | AP13: 5 | AQ13: 5 | AT13: 5 | BB13: 5 | BF13: 5 | BJ13: 5 | BN13: 5 | BO13: 5 | BR13: 5 | BV13: 5 | CD13: 5 | CH13: 5 | CI13: 5 | CL13: 5 | CP13: 5 | CQ13: 5 | CT13: 5 | CU13: 5 | CX13: 5 | CY13: 5 | DF13: 5 | DG13: 5 | DJ13: 5 | DK13: 5 | DN13: 5 | DO13: 5 | DR13: 5 | DS13: 5 | DZ13: =F13+J13+N13+R13+V13+Z13+AD13+AH13+AL13+AP13+AT13+AX13+BB13+BF13+BJ13+BN13+BR13+BV13+BZ13+CD13+CH13+CL13+CP13+CT13+CX13+DB13+DF13+DJ13+DN13+DR13+DV13 -> 130 | EA13: =G13+K13+O13+S13+W13+AA13+AE13+AI13+AM13+AQ13+AU13+AY13+BC13+BG13+BK13+BO13+BS13+BW13+CA13+CE13+CI13+CM13+CQ13+CU13+CY13+DC13+DG13+DK13+DO13+DS13+DW13 -> 85 | EB13: =H13+L13+P13+T13+X13+AB13+AF13+AJ13+AN13+AR13+AV13+AZ13+BD13+BH13+BL13+BP13+BT13+BX13+CB13+CF13+CJ13+CN13+CR13+CV13+CZ13+DD13+DH13+DL13+DP13+DT13+DX13 -> 0 | EC13: =I13+M13+Q13+U13+Y13+AC13+AG13+AK13+AO13+AS13+AW13+BA13+BE13+BI13+BM13+BQ13+BU13+BY13+CC13+CG13+CK13+CO13+CS13+CW13+DA13+DE13+DI13+DM13+DQ13+DU13+DY13 -> 0
A14: 3 | B14: BOMBA503001TSBH00885 | C14: BOMBAY NURSING HOME | D14: YELLAMMA GUTTA X ROAD, HYDERABAD ROAD, NIZAMABAD - 503001 | E14: 50 | F14: 5 | G14: 5 | J14: 5 | K14: 5 | N14: 5 | S14: 5 | AA14: 5 | AD14: 5 | AH14: 5 | AL14: 5 | AP14: 5 | AQ14: 5 | AT14: 5 | BB14: 5 | BF14: 5 | BJ14: 5 | BN14: 5 | BS14: 5 | BW14: 5 | CE14: 5 | CH14: 5 | CM14: 5 | CP14: 5 | CT14: 5 | CU14: 5 | CX14: 5 | CY14: 5 | DF14: 5 | DJ14: 5 | DN14: 5 | DR14: 5 | DZ14: =F14+J14+N14+R14+V14+Z14+AD14+AH14+AL14+AP14+AT14+AX14+BB14+BF14+BJ14+BN14+BR14+BV14+BZ14+CD14+CH14+CL14+CP14+CT14+CX14+DB14+DF14+DJ14+DN14+DR14+DV14 -> 100 | EA14: =G14+K14+O14+S14+W14+AA14+AE14+AI14+AM14+AQ14+AU14+AY14+BC14+BG14+BK14+BO14+BS14+BW14+CA14+CE14+CI14+CM14+CQ14+CU14+CY14+DC14+DG14+DK14+DO14+DS14+DW14 -> 55 | EB14: =H14+L14+P14+T14+X14+AB14+AF14+AJ14+AN14+AR14+AV14+AZ14+BD14+BH14+BL14+BP14+BT14+BX14+CB14+CF14+CJ14+CN14+CR14+CV14+CZ14+DD14+DH14+DL14+DP14+DT14+DX14 -> 0 | EC14: =I14+M14+Q14+U14+Y14+AC14+AG14+AK14+AO14+AS14+AW14+BA14+BE14+BI14+BM14+BQ14+BU14+BY14+CC14+CG14+CK14+CO14+CS14+CW14+DA14+DE14+DI14+DM14+DQ14+DU14+DY14 -> 0
A15: 4 | B15: BRIND503001TSBH00922 | C15: BRINDAVAN HOSPITAL | D15: OPP: RED CROSS BOLLD BANK, BEHIND DR. PRABHAKAR CHILDREN HOSPITAL, KHALEELWADI, NIZAMABAD - 503001. | E15: 50 | F15: 5 | G15: 5 | J15: 5 | N15: 5 | O15: 5 | R15: 5 | S15: 5 | Z15: 5 | AA15: 5 | AD15: 5 | AE15: 5 | AH15: 5 | AI15: 5 | AL15: 5 | AM15: 5 | AP15: 5 | AQ15: 5 | AT15: 5 | AU15: 5 | BB15: 5 | BC15: 5 | BF15: 5 | BG15: 5 | BJ15: 5 | BK15: 5 | BN15: 5 | BO15: 5 | BR15: 5 | BV15: 5 | CD15: 5 | CH15: 5 | CI15: 5 | CL15: 5 | CP15: 5 | CQ15: 5 | CT15: 5 | CU15: 5 | CX15: 5 | CY15: 5 | DF15: 5 | DG15: 5 | DJ15: 5 | DK15: 5 | DN15: 5 | DO15: 5 | DR15: 5 | DS15: 5 | DZ15: =F15+J15+N15+R15+V15+Z15+AD15+AH15+AL15+AP15+AT15+AX15+BB15+BF15+BJ15+BN15+BR15+BV15+BZ15+CD15+CH15+CL15+CP15+CT15+CX15+DB15+DF15+DJ15+DN15+DR15+DV15 -> 130 | EA15: =G15+K15+O15+S15+W15+AA15+AE15+AI15+AM15+AQ15+AU15+AY15+BC15+BG15+BK15+BO15+BS15+BW15+CA15+CE15+CI15+CM15+CQ15+CU15+CY15+DC15+DG15+DK15+DO15+DS15+DW15 -> 105 | EB15: =H15+L15+P15+T15+X15+AB15+AF15+AJ15+AN15+AR15+AV15+AZ15+BD15+BH15+BL15+BP15+BT15+BX15+CB15+CF15+CJ15+CN15+CR15+CV15+CZ15+DD15+DH15+DL15+DP15+DT15+DX15 -> 0 | EC15: =I15+M15+Q15+U15+Y15+AC15+AG15+AK15+AO15+AS15+AW15+BA15+BE15+BI15+BM15+BQ15+BU15+BY15+CC15+CG15+CK15+CO15+CS15+CW15+DA15+DE15+DI15+DM15+DQ15+DU15+DY15 -> 0
A16: 5 | B16: CITYM503001TSBH16522 | C16: CITY MULTISPECIALITY HOSPITAL | D16: H.No.7-11-723/3, KHOJA COLONY, BODHAN ROAD, NIZAMABAD | E16: 50 | F16: 2 | J16: 2 | N16: 2 | R16: 2 | Z16: 2 | AD16: 2 | AH16: 2 | AL16: 2 | AP16: 4 | AT16: 5 | BB16: 2 | BF16: 2 | BJ16: 2 | BN16: 2 | BR16: 2 | BV16: 2 | CD16: 2 | CH16: 2 | CL16: 2 | CM16: 2 | CQ16: 2 | CT16: 2 | CU16: 2 | CY16: 2 | DG16: 2 | DK16: 2 | DO16: 2 | DS16: 2 | DZ16: =F16+J16+N16+R16+V16+Z16+AD16+AH16+AL16+AP16+AT16+AX16+BB16+BF16+BJ16+BN16+BR16+BV16+BZ16+CD16+CH16+CL16+CP16+CT16+CX16+DB16+DF16+DJ16+DN16+DR16+DV16 -> 45 | EA16: =G16+K16+O16+S16+W16+AA16+AE16+AI16+AM16+AQ16+AU16+AY16+BC16+BG16+BK16+BO16+BS16+BW16+CA16+CE16+CI16+CM16+CQ16+CU16+CY16+DC16+DG16+DK16+DO16+DS16+DW16 -> 16 | EB16: =H16+L16+P16+T16+X16+AB16+AF16+AJ16+AN16+AR16+AV16+AZ16+BD16+BH16+BL16+BP16+BT16+BX16+CB16+CF16+CJ16+CN16+CR16+CV16+CZ16+DD16+DH16+DL16+DP16+DT16+DX16 -> 0 | EC16: =I16+M16+Q16+U16+Y16+AC16+AG16+AK16+AO16+AS16+AW16+BA16+BE16+BI16+BM16+BQ16+BU16+BY16+CC16+CG16+CK16+CO16+CS16+CW16+DA16+DE16+DI16+DM16+DQ16+DU16+DY16 -> 0
A17: 6 | B17: DREAM503001TSBH06107 | C17: DREAMLAND HOPE HOSPITAL | D17: H.No. 5-4-387/3, OPP.OLD JJ HOSPITAL, POCHAMMA GALLY, NIZAMABAD - 503001. | E17: 50 | F17: 5 | J17: 5 | K17: 5 | N17: 5 | O17: 5 | R17: 5 | Z17: 5 | AD17: 5 | AE17: 5 | AH17: 5 | AL17: 5 | AM17: 5 | AP17: 5 | AQ17: 5 | AT17: 5 | AU17: 5 | BB17: 5 | BC17: 5 | BF17: 5 | BG17: 5 | BJ17: 5 | BK17: 5 | BN17: 5 | BO17: 5 | BR17: 5 | BS17: 5 | BV17: 5 | BW17: 5 | CD17: 5 | CE17: 5 | CH17: 5 | CL17: 5 | CM17: 5 | CP17: 5 | CT17: 5 | CU17: 5 | CX17: 5 | CY17: 5 | DF17: 5 | DG17: 5 | DJ17: 5 | DK17: 5 | DN17: 5 | DO17: 5 | DR17: 5 | DS17: 5 | DZ17: =F17+J17+N17+R17+V17+Z17+AD17+AH17+AL17+AP17+AT17+AX17+BB17+BF17+BJ17+BN17+BR17+BV17+BZ17+CD17+CH17+CL17+CP17+CT17+CX17+DB17+DF17+DJ17+DN17+DR17+DV17 -> 130 | EA17: =G17+K17+O17+S17+W17+AA17+AE17+AI17+AM17+AQ17+AU17+AY17+BC17+BG17+BK17+BO17+BS17+BW17+CA17+CE17+CI17+CM17+CQ17+CU17+CY17+DC17+DG17+DK17+DO17+DS17+DW17 -> 100 | EB17: =H17+L17+P17+T17+X17+AB17+AF17+AJ17+AN17+AR17+AV17+AZ17+BD17+BH17+BL17+BP17+BT17+BX17+CB17+CF17+CJ17+CN17+CR17+CV17+CZ17+DD17+DH17+DL17+DP17+DT17+DX17 -> 0 | EC17: =I17+M17+Q17+U17+Y17+AC17+AG17+AK17+AO17+AS17+AW17+BA17+BE17+BI17+BM17+BQ17+BU17+BY17+CC17+CG17+CK17+CO17+CS17+CW17+DA17+DE17+DI17+DM17+DQ17+DU17+DY17 -> 0
A18: 7 | B18: GSBVM503001TSBH07045 | C18: GSBV MEMORIAL MULTI SPECIALTY HOSPITAL | D18: OPP. RAJEEV GANDHI AUDITORUM, KHALEELWADI, NIZAMABAD - 503001. | E18: 50 | F18: 5 | G18: 5 | J18: 5 | K18: 5 | N18: 5 | O18: 5 | R18: 5 | S18: 5 | Z18: 5 | AA18: 5 | AD18: 5 | AE18: 5 | AH18: 5 | AI18: 5 | AL18: 5 | AM18: 5 | AP18: 5 | AQ18: 5 | AT18: 5 | AU18: 5 | BB18: 5 | BC18: 5 | BF18: 5 | BG18: 5 | BJ18: 5 | BK18: 5 | BO18: 5 | BR18: 5 | BV18: 5 | CD18: 5 | CH18: 5 | CI18: 5 | CL18: 5 | CP18: 5 | CQ18: 5 | CT18: 5 | CU18: 5 | CX18: 5 | CY18: 5 | DF18: 5 | DG18: 5 | DJ18: 5 | DK18: 5 | DN18: 5 | DO18: 5 | DR18: 5 | DS18: 5 | DZ18: =F18+J18+N18+R18+V18+Z18+AD18+AH18+AL18+AP18+AT18+AX18+BB18+BF18+BJ18+BN18+BR18+BV18+BZ18+CD18+CH18+CL18+CP18+CT18+CX18+DB18+DF18+DJ18+DN18+DR18+DV18 -> 125 | EA18: =G18+K18+O18+S18+W18+AA18+AE18+AI18+AM18+AQ18+AU18+AY18+BC18+BG18+BK18+BO18+BS18+BW18+CA18+CE18+CI18+CM18+CQ18+CU18+CY18+DC18+DG18+DK18+DO18+DS18+DW18 -> 110 | EB18: =H18+L18+P18+T18+X18+AB18+AF18+AJ18+AN18+AR18+AV18+AZ18+BD18+BH18+BL18+BP18+BT18+BX18+CB18+CF18+CJ18+CN18+CR18+CV18+CZ18+DD18+DH18+DL18+DP18+DT18+DX18 -> 0 | EC18: =I18+M18+Q18+U18+Y18+AC18+AG18+AK18+AO18+AS18+AW18+BA18+BE18+BI18+BM18+BQ18+BU18+BY18+CC18+CG18+CK18+CO18+CS18+CW18+DA18+DE18+DI18+DM18+DQ18+DU18+DY18 -> 0
A19: 8 | B19: INDUR503001TSBH09851 | C19: INDUR CANCER HOSPITAL | D19: PANGRA, MADHAVA NAGAR, HYDERABAD ROAD, NIZAMABAD - 503001. | E19: 50 | G19: 1 | K19: 1 | O19: 1 | S19: 1 | Z19: 1 | AD19: 1 | AH19: 1 | AL19: 1 | AP19: 4 | AT19: 4 | BB19: 1 | BF19: 1 | BJ19: 1 | BN19: 1 | BR19: 3 | BV19: 1 | CD19: 3 | CH19: 3 | CL19: 1 | CM19: 1 | CP19: 1 | CT19: 3 | CX19: 1 | DF19: 3 | DK19: 1 | DN19: 3 | DR19: 2 | DZ19: =F19+J19+N19+R19+V19+Z19+AD19+AH19+AL19+AP19+AT19+AX19+BB19+BF19+BJ19+BN19+BR19+BV19+BZ19+CD19+CH19+CL19+CP19+CT19+CX19+DB19+DF19+DJ19+DN19+DR19+DV19 -> 40 | EA19: =G19+K19+O19+S19+W19+AA19+AE19+AI19+AM19+AQ19+AU19+AY19+BC19+BG19+BK19+BO19+BS19+BW19+CA19+CE19+CI19+CM19+CQ19+CU19+CY19+DC19+DG19+DK19+DO19+DS19+DW19 -> 6 | EB19: =H19+L19+P19+T19+X19+AB19+AF19+AJ19+AN19+AR19+AV19+AZ19+BD19+BH19+BL19+BP19+BT19+BX19+CB19+CF19+CJ19+CN19+CR19+CV19+CZ19+DD19+DH19+DL19+DP19+DT19+DX19 -> 0 | EC19: =I19+M19+Q19+U19+Y19+AC19+AG19+AK19+AO19+AS19+AW19+BA19+BE19+BI19+BM19+BQ19+BU19+BY19+CC19+CG19+CK19+CO19+CS19+CW19+DA19+DE19+DI19+DM19+DQ19+DU19+DY19 -> 0
A20: 9 | B20: INDUS503001TSBH08523 | C20: INDUS SUPER SPECIALITY HOSPITAL | D20: H.No. 5-6-192/194, SARASWATHI NAGAR, HYDERABAD ROAD, NIZAMABAD - 503001. | E20: 50 | F20: 5 | J20: 5 | N20: 5 | S20: 5 | AA20: 5 | AD20: 5 | AH20: 5 | AL20: 5 | AP20: 5 | AT20: 5 | BB20: 5 | BF20: 5 | BJ20: 5 | BN20: 5 | BO20: 5 | BS20: 5 | BW20: 5 | CE20: 5 | CH20: 5 | CM20: 5 | CP20: 5 | CT20: 5 | CU20: 5 | CX20: 5 | CY20: 5 | DF20: 5 | DG20: 5 | DJ20: 5 | DK20: 5 | DN20: 5 | DR20: 5 | DZ20: =F20+J20+N20+R20+V20+Z20+AD20+AH20+AL20+AP20+AT20+AX20+BB20+BF20+BJ20+BN20+BR20+BV20+BZ20+CD20+CH20+CL20+CP20+CT20+CX20+DB20+DF20+DJ20+DN20+DR20+DV20 -> 100 | EA20: =G20+K20+O20+S20+W20+AA20+AE20+AI20+AM20+AQ20+AU20+AY20+BC20+BG20+BK20+BO20+BS20+BW20+CA20+CE20+CI20+CM20+CQ20+CU20+CY20+DC20+DG20+DK20+DO20+DS20+DW20 -> 55 | EB20: =H20+L20+P20+T20+X20+AB20+AF20+AJ20+AN20+AR20+AV20+AZ20+BD20+BH20+BL20+BP20+BT20+BX20+CB20+CF20+CJ20+CN20+CR20+CV20+CZ20+DD20+DH20+DL20+DP20+DT20+DX20 -> 0 | EC20: =I20+M20+Q20+U20+Y20+AC20+AG20+AK20+AO20+AS20+AW20+BA20+BE20+BI20+BM20+BQ20+BU20+BY20+CC20+CG20+CK20+CO20+CS20+CW20+DA20+DE20+DI20+DM20+DQ20+DU20+DY20 -> 0
A21: 10 | B21: MANOR503001TSBH01042 | C21: MANORAMA SUPER SPECIALITY HOSPITAL | D21: SARASWATHI NAGAR, KHALEELWADI, HYDERABAD ROAD, NIZAMABAD - 503001. | E21: 50 | F21: 5 | G21: 5 | J21: 5 | K21: 5 | N21: 5 | R21: 5 | S21: 5 | Z21: 5 | AA21: 5 | AD21: 5 | AH21: 5 | AI21: 5 | AL21: 5 | AM21: 5 | AP21: 5 | AQ21: 5 | AT21: 5 | AU21: 5 | BB21: 5 | BC21: 5 | BF21: 5 | BG21: 5 | BJ21: 5 | BK21: 5 | BN21: 5 | BO21: 5 | BR21: 5 | BV21: 5 | CD21: 5 | CH21: 5 | CI21: 5 | CL21: 5 | CP21: 5 | CQ21: 5 | CT21: 5 | CU21: 5 | CX21: 5 | CY21: 5 | DF21: 5 | DG21: 5 | DJ21: 5 | DK21: 5 | DN21: 5 | DO21: 5 | DR21: 5 | DS21: 5 | DZ21: =F21+J21+N21+R21+V21+Z21+AD21+AH21+AL21+AP21+AT21+AX21+BB21+BF21+BJ21+BN21+BR21+BV21+BZ21+CD21+CH21+CL21+CP21+CT21+CX21+DB21+DF21+DJ21+DN21+DR21+DV21 -> 130 | EA21: =G21+K21+O21+S21+W21+AA21+AE21+AI21+AM21+AQ21+AU21+AY21+BC21+BG21+BK21+BO21+BS21+BW21+CA21+CE21+CI21+CM21+CQ21+CU21+CY21+DC21+DG21+DK21+DO21+DS21+DW21 -> 100 | EB21: =H21+L21+P21+T21+X21+AB21+AF21+AJ21+AN21+AR21+AV21+AZ21+BD21+BH21+BL21+BP21+BT21+BX21+CB21+CF21+CJ21+CN21+CR21+CV21+CZ21+DD21+DH21+DL21+DP21+DT21+DX21 -> 0 | EC21: =I21+M21+Q21+U21+Y21+AC21+AG21+AK21+AO21+AS21+AW21+BA21+BE21+BI21+BM21+BQ21+BU21+BY21+CC21+CG21+CK21+CO21+CS21+CW21+DA21+DE21+DI21+DM21+DQ21+DU21+DY21 -> 0
A22: 11 | B22: NOVAL503001TSBH08513 | C22: NOVALIFE HOSPITAL | D22: H.No.5-6-293, SARASWATHI NAGAR, NIZAMABAD - 503001. | E22: 50 | F22: 5 | J22: 5 | K22: 5 | N22: 5 | O22: 5 | R22: 5 | Z22: 5 | AD22: 5 | AE22: 5 | AH22: 5 | AL22: 5 | AM22: 5 | AP22: 5 | AQ22: 5 | AT22: 5 | AU22: 5 | BB22: 5 | BC22: 5 | BF22: 5 | BG22: 5 | BJ22: 5 | BN22: 5 | BO22: 5 | BR22: 5 | BS22: 5 | BV22: 5 | BW22: 5 | CD22: 5 | CE22: 5 | CH22: 5 | CL22: 5 | CM22: 5 | CP22: 5 | CT22: 5 | CU22: 5 | CX22: 5 | CY22: 5 | DF22: 5 | DG22: 5 | DJ22: 5 | DK22: 5 | DN22: 5 | DO22: 5 | DR22: 5 | DS22: 5 | DZ22: =F22+J22+N22+R22+V22+Z22+AD22+AH22+AL22+AP22+AT22+AX22+BB22+BF22+BJ22+BN22+BR22+BV22+BZ22+CD22+CH22+CL22+CP22+CT22+CX22+DB22+DF22+DJ22+DN22+DR22+DV22 -> 130 | EA22: =G22+K22+O22+S22+W22+AA22+AE22+AI22+AM22+AQ22+AU22+AY22+BC22+BG22+BK22+BO22+BS22+BW22+CA22+CE22+CI22+CM22+CQ22+CU22+CY22+DC22+DG22+DK22+DO22+DS22+DW22 -> 95 | EB22: =H22+L22+P22+T22+X22+AB22+AF22+AJ22+AN22+AR22+AV22+AZ22+BD22+BH22+BL22+BP22+BT22+BX22+CB22+CF22+CJ22+CN22+CR22+CV22+CZ22+DD22+DH22+DL22+DP22+DT22+DX22 -> 0 | EC22: =I22+M22+Q22+U22+Y22+AC22+AG22+AK22+AO22+AS22+AW22+BA22+BE22+BI22+BM22+BQ22+BU22+BY22+CC22+CG22+CK22+CO22+CS22+CW22+DA22+DE22+DI22+DM22+DQ22+DU22+DY22 -> 0
A23: 12 | B23: RRLIF503001TSBH00887 | C23: R R LIFE LINE HOSPITAL NIZAMABAD | D23: H.No. 5-6-766/1, OPP. RED CROSS BLOOD BANK, KHALEEL WADI, NIZAMABAD - 503001. | E23: 50 | F23: 5 | G23: 5 | J23: 5 | N23: 5 | O23: 5 | R23: 5 | S23: 5 | Z23: 5 | AA23: 5 | AD23: 5 | AH23: 5 | AI23: 5 | AL23: 5 | AM23: 5 | AP23: 5 | AQ23: 5 | AT23: 5 | AU23: 5 | BB23: 5 | BC23: 5 | BF23: 5 | BG23: 5 | BJ23: 5 | BK23: 5 | BN23: 5 | BO23: 5 | BR23: 5 | BV23: 5 | CD23: 5 | CH23: 5 | CI23: 5 | CL23: 5 | CP23: 5 | CQ23: 5 | CT23: 5 | CU23: 5 | CX23: 5 | CY23: 5 | DF23: 5 | DG23: 5 | DJ23: 5 | DK23: 5 | DN23: 5 | DO23: 5 | DR23: 5 | DS23: 5 | DZ23: =F23+J23+N23+R23+V23+Z23+AD23+AH23+AL23+AP23+AT23+AX23+BB23+BF23+BJ23+BN23+BR23+BV23+BZ23+CD23+CH23+CL23+CP23+CT23+CX23+DB23+DF23+DJ23+DN23+DR23+DV23 -> 130 | EA23: =G23+K23+O23+S23+W23+AA23+AE23+AI23+AM23+AQ23+AU23+AY23+BC23+BG23+BK23+BO23+BS23+BW23+CA23+CE23+CI23+CM23+CQ23+CU23+CY23+DC23+DG23+DK23+DO23+DS23+DW23 -> 100 | EB23: =H23+L23+P23+T23+X23+AB23+AF23+AJ23+AN23+AR23+AV23+AZ23+BD23+BH23+BL23+BP23+BT23+BX23+CB23+CF23+CJ23+CN23+CR23+CV23+CZ23+DD23+DH23+DL23+DP23+DT23+DX23 -> 0 | EC23: =I23+M23+Q23+U23+Y23+AC23+AG23+AK23+AO23+AS23+AW23+BA23+BE23+BI23+BM23+BQ23+BU23+BY23+CC23+CG23+CK23+CO23+CS23+CW23+DA23+DE23+DI23+DM23+DQ23+DU23+DY23 -> 0
A24: 13 | B24: SRIGU503001TSBH06796 | C24: SRI GURU RAGHAVENDRA SUNRISE HOSPITAL | D24: H.No.5-7-93 & 5-7-94, OPP: MUNCIPAL COMPLEX, NIZAMABAD - 503001. | E24: 50 | F24: 5 | G24: 5 | J24: 5 | K24: 5 | N24: 5 | O24: 5 | R24: 5 | Z24: 5 | AA24: 5 | AD24: 5 | AE24: 5 | AH24: 5 | AL24: 5 | AM24: 5 | AP24: 5 | AQ24: 5 | AT24: 5 | AU24: 5 | BB24: 5 | BC24: 5 | BF24: 5 | BG24: 5 | BJ24: 5 | BK24: 5 | BN24: 5 | BO24: 5 | BR24: 5 | BS24: 5 | BV24: 5 | BW24: 5 | CD24: 5 | CE24: 5 | CH24: 5 | CL24: 5 | CM24: 5 | CP24: 5 | CT24: 5 | CU24: 5 | CX24: 5 | CY24: 5 | DF24: 5 | DG24: 5 | DJ24: 5 | DK24: 5 | DN24: 5 | DO24: 5 | DS24: 5 | DZ24: =F24+J24+N24+R24+V24+Z24+AD24+AH24+AL24+AP24+AT24+AX24+BB24+BF24+BJ24+BN24+BR24+BV24+BZ24+CD24+CH24+CL24+CP24+CT24+CX24+DB24+DF24+DJ24+DN24+DR24+DV24 -> 125 | EA24: =G24+K24+O24+S24+W24+AA24+AE24+AI24+AM24+AQ24+AU24+AY24+BC24+BG24+BK24+BO24+BS24+BW24+CA24+CE24+CI24+CM24+CQ24+CU24+CY24+DC24+DG24+DK24+DO24+DS24+DW24 -> 110 | EB24: =H24+L24+P24+T24+X24+AB24+AF24+AJ24+AN24+AR24+AV24+AZ24+BD24+BH24+BL24+BP24+BT24+BX24+CB24+CF24+CJ24+CN24+CR24+CV24+CZ24+DD24+DH24+DL24+DP24+DT24+DX24 -> 0 | EC24: =I24+M24+Q24+U24+Y24+AC24+AG24+AK24+AO24+AS24+AW24+BA24+BE24+BI24+BM24+BQ24+BU24+BY24+CC24+CG24+CK24+CO24+CS24+CW24+DA24+DE24+DI24+DM24+DQ24+DU24+DY24 -> 0
A25: 14 | B25: SRIKR503001TSBH09853 | C25: SRI KRISHNA NEURO & SUPER SPECIALITY HOSPITAL | D25: H.No. 5-6-385 & 386, C/o. BOMBAY NURSING HOME, YELLAMMA GUTTA X ROAD, HYDERABAD ROAD, NIZAMABAD - 503001. | E25: 50 | F25: 5 | J25: 5 | K25: 5 | N25: 5 | O25: 5 | R25: 5 | Z25: 5 | AA25: 5 | AD25: 5 | AH25: 5 | AL25: 5 | AM25: 5 | AP25: 5 | AQ25: 5 | AT25: 5 | AU25: 5 | BB25: 5 | BC25: 5 | BF25: 5 | BG25: 5 | BJ25: 5 | BK25: 5 | BN25: 5 | BO25: 5 | BR25: 5 | BS25: 5 | BV25: 5 | BW25: 5 | CD25: 5 | CE25: 5 | CH25: 5 | CL25: 5 | CM25: 5 | CP25: 5 | CT25: 5 | CU25: 5 | CX25: 5 | CY25: 5 | DF25: 5 | DG25: 5 | DJ25: 5 | DK25: 5 | DN25: 5 | DO25: 5 | DR25: 5 | DS25: 5 | DZ25: =F25+J25+N25+R25+V25+Z25+AD25+AH25+AL25+AP25+AT25+AX25+BB25+BF25+BJ25+BN25+BR25+BV25+BZ25+CD25+CH25+CL25+CP25+CT25+CX25+DB25+DF25+DJ25+DN25+DR25+DV25 -> 130 | EA25: =G25+K25+O25+S25+W25+AA25+AE25+AI25+AM25+AQ25+AU25+AY25+BC25+BG25+BK25+BO25+BS25+BW25+CA25+CE25+CI25+CM25+CQ25+CU25+CY25+DC25+DG25+DK25+DO25+DS25+DW25 -> 100 | EB25: =H25+L25+P25+T25+X25+AB25+AF25+AJ25+AN25+AR25+AV25+AZ25+BD25+BH25+BL25+BP25+BT25+BX25+CB25+CF25+CJ25+CN25+CR25+CV25+CZ25+DD25+DH25+DL25+DP25+DT25+DX25 -> 0 | EC25: =I25+M25+Q25+U25+Y25+AC25+AG25+AK25+AO25+AS25+AW25+BA25+BE25+BI25+BM25+BQ25+BU25+BY25+CC25+CG25+CK25+CO25+CS25+CW25+DA25+DE25+DI25+DM25+DQ25+DU25+DY25 -> 0
A26: 15 | B26: SRIMA503001TSBH00974 | C26: SRI MAHALAXMI CHILDRENS HOSPITAL | D26: H.No. 5-7-7/1 , BESIDE NALANDA WOMENS DEGREE COLLEGE, KHALEELWADI, NIZAMABAD - 503001. | E26: 50 | F26: 5 | J26: 5 | N26: 5 | O26: 5 | R26: 5 | S26: 5 | Z26: 5 | AD26: 5 | AE26: 5 | AH26: 5 | AI26: 5 | AL26: 5 | AM26: 5 | AP26: 5 | AQ26: 5 | AT26: 5 | AU26: 5 | BB26: 5 | BC26: 5 | BF26: 5 | BG26: 5 | BJ26: 5 | BK26: 5 | BN26: 5 | BO26: 5 | BR26: 5 | BV26: 5 | CD26: 5 | CH26: 5 | CI26: 5 | CL26: 5 | CQ26: 5 | CT26: 5 | CU26: 5 | CX26: 5 | CY26: 5 | DF26: 5 | DG26: 5 | DJ26: 5 | DK26: 5 | DN26: 5 | DO26: 5 | DR26: 5 | DS26: 5 | DZ26: =F26+J26+N26+R26+V26+Z26+AD26+AH26+AL26+AP26+AT26+AX26+BB26+BF26+BJ26+BN26+BR26+BV26+BZ26+CD26+CH26+CL26+CP26+CT26+CX26+DB26+DF26+DJ26+DN26+DR26+DV26 -> 125 | EA26: =G26+K26+O26+S26+W26+AA26+AE26+AI26+AM26+AQ26+AU26+AY26+BC26+BG26+BK26+BO26+BS26+BW26+CA26+CE26+CI26+CM26+CQ26+CU26+CY26+DC26+DG26+DK26+DO26+DS26+DW26 -> 95 | EB26: =H26+L26+P26+T26+X26+AB26+AF26+AJ26+AN26+AR26+AV26+AZ26+BD26+BH26+BL26+BP26+BT26+BX26+CB26+CF26+CJ26+CN26+CR26+CV26+CZ26+DD26+DH26+DL26+DP26+DT26+DX26 -> 0 | EC26: =I26+M26+Q26+U26+Y26+AC26+AG26+AK26+AO26+AS26+AW26+BA26+BE26+BI26+BM26+BQ26+BU26+BY26+CC26+CG26+CK26+CO26+CS26+CW26+DA26+DE26+DI26+DM26+DQ26+DU26+DY26 -> 0
A27: 16 | B27: SRIVI503001TSBH06146 | C27: SRI VISHNU HOSPITAL | D27: ABOVE KOTAK MAHINDRA BANK, OPP: CENTRAL LIBRARY, KHALEELWADI, NIZAMABAD - 503001. | E27: 50 | F27: 5 | G27: 5 | J27: 5 | N27: 5 | O27: 5 | R27: 5 | Z27: 5 | AD27: 5 | AE27: 5 | AH27: 5 | AL27: 5 | AM27: 5 | AP27: 5 | AQ27: 5 | AT27: 5 | AU27: 5 | BB27: 5 | BC27: 5 | BF27: 5 | BG27: 5 | BJ27: 5 | BK27: 5 | BN27: 5 | BO27: 5 | BR27: 5 | BS27: 5 | BV27: 5 | BW27: 5 | CD27: 5 | CE27: 5 | CH27: 5 | CL27: 5 | CM27: 5 | CP27: 5 | CT27: 5 | CU27: 5 | CX27: 5 | CY27: 5 | DF27: 5 | DG27: 5 | DJ27: 5 | DK27: 5 | DN27: 5 | DO27: 5 | DR27: 5 | DS27: 5 | DZ27: =F27+J27+N27+R27+V27+Z27+AD27+AH27+AL27+AP27+AT27+AX27+BB27+BF27+BJ27+BN27+BR27+BV27+BZ27+CD27+CH27+CL27+CP27+CT27+CX27+DB27+DF27+DJ27+DN27+DR27+DV27 -> 130 | EA27: =G27+K27+O27+S27+W27+AA27+AE27+AI27+AM27+AQ27+AU27+AY27+BC27+BG27+BK27+BO27+BS27+BW27+CA27+CE27+CI27+CM27+CQ27+CU27+CY27+DC27+DG27+DK27+DO27+DS27+DW27 -> 100 | EB27: =H27+L27+P27+T27+X27+AB27+AF27+AJ27+AN27+AR27+AV27+AZ27+BD27+BH27+BL27+BP27+BT27+BX27+CB27+CF27+CJ27+CN27+CR27+CV27+CZ27+DD27+DH27+DL27+DP27+DT27+DX27 -> 0 | EC27: =I27+M27+Q27+U27+Y27+AC27+AG27+AK27+AO27+AS27+AW27+BA27+BE27+BI27+BM27+BQ27+BU27+BY27+CC27+CG27+CK27+CO27+CS27+CW27+DA27+DE27+DI27+DM27+DQ27+DU27+DY27 -> 0
A28: 17 | B28: SRINI503001TSBH06147 | C28: SRINIVAS GASTRO & LIVER CARE HOSPITAL | D28: H.No.5-6-742/743, BESIDE MRO OFFICE, OPP: DEO OFFICE AND CENTRAL LIBRARY, KHALEELWADI, NIZAMABAD - 503001. | E28: 50 | F28: 5 | G28: 5 | J28: 5 | K28: 5 | N28: 5 | R28: 5 | S28: 5 | Z28: 5 | AA28: 5 | AD28: 5 | AH28: 5 | AI28: 5 | AL28: 5 | AM28: 5 | AP28: 5 | AQ28: 5 | AT28: 5 | AU28: 5 | BB28: 5 | BC28: 5 | BF28: 5 | BG28: 5 | BJ28: 5 | BK28: 5 | BN28: 5 | BO28: 5 | BR28: 5 | BV28: 5 | CD28: 5 | CH28: 5 | CI28: 5 | CL28: 5 | CP28: 5 | CQ28: 5 | CT28: 5 | CU28: 5 | CX28: 5 | CY28: 5 | DF28: 5 | DG28: 5 | DJ28: 5 | DK28: 5 | DN28: 5 | DO28: 5 | DR28: 5 | DS28: 5 | DZ28: =F28+J28+N28+R28+V28+Z28+AD28+AH28+AL28+AP28+AT28+AX28+BB28+BF28+BJ28+BN28+BR28+BV28+BZ28+CD28+CH28+CL28+CP28+CT28+CX28+DB28+DF28+DJ28+DN28+DR28+DV28 -> 130 | EA28: =G28+K28+O28+S28+W28+AA28+AE28+AI28+AM28+AQ28+AU28+AY28+BC28+BG28+BK28+BO28+BS28+BW28+CA28+CE28+CI28+CM28+CQ28+CU28+CY28+DC28+DG28+DK28+DO28+DS28+DW28 -> 100 | EB28: =H28+L28+P28+T28+X28+AB28+AF28+AJ28+AN28+AR28+AV28+AZ28+BD28+BH28+BL28+BP28+BT28+BX28+CB28+CF28+CJ28+CN28+CR28+CV28+CZ28+DD28+DH28+DL28+DP28+DT28+DX28 -> 0 | EC28: =I28+M28+Q28+U28+Y28+AC28+AG28+AK28+AO28+AS28+AW28+BA28+BE28+BI28+BM28+BQ28+BU28+BY28+CC28+CG28+CK28+CO28+CS28+CW28+DA28+DE28+DI28+DM28+DQ28+DU28+DY28 -> 0
A29: 18 | B29: SVRMU503001TSBH08033 | C29: SVR MULTI SPECIALITY HOSPITAL | D29: KHALEELWADI, NIZAMABAD - 503001. | E29: 50 | F29: 5 | G29: 5 | J29: 5 | K29: 5 | N29: 5 | O29: 5 | R29: 5 | S29: 5 | Z29: 5 | AD29: 5 | AE29: 5 | AH29: 5 | AL29: 5 | AM29: 5 | AP29: 5 | AQ29: 5 | AT29: 5 | AU29: 5 | BB29: 5 | BC29: 5 | BF29: 5 | BG29: 5 | BJ29: 5 | BK29: 5 | BN29: 5 | BO29: 5 | BR29: 5 | BS29: 5 | BV29: 5 | BW29: 5 | CD29: 5 | CE29: 5 | CH29: 5 | CL29: 5 | CM29: 5 | CP29: 5 | CT29: 5 | CU29: 5 | CX29: 5 | CY29: 5 | DF29: 5 | DG29: 5 | DJ29: 5 | DK29: 5 | DN29: 5 | DO29: 5 | DR29: 5 | DS29: 5 | DZ29: =F29+J29+N29+R29+V29+Z29+AD29+AH29+AL29+AP29+AT29+AX29+BB29+BF29+BJ29+BN29+BR29+BV29+BZ29+CD29+CH29+CL29+CP29+CT29+CX29+DB29+DF29+DJ29+DN29+DR29+DV29 -> 130 | EA29: =G29+K29+O29+S29+W29+AA29+AE29+AI29+AM29+AQ29+AU29+AY29+BC29+BG29+BK29+BO29+BS29+BW29+CA29+CE29+CI29+CM29+CQ29+CU29+CY29+DC29+DG29+DK29+DO29+DS29+DW29 -> 110 | EB29: =H29+L29+P29+T29+X29+AB29+AF29+AJ29+AN29+AR29+AV29+AZ29+BD29+BH29+BL29+BP29+BT29+BX29+CB29+CF29+CJ29+CN29+CR29+CV29+CZ29+DD29+DH29+DL29+DP29+DT29+DX29 -> 0 | EC29: =I29+M29+Q29+U29+Y29+AC29+AG29+AK29+AO29+AS29+AW29+BA29+BE29+BI29+BM29+BQ29+BU29+BY29+CC29+CG29+CK29+CO29+CS29+CW29+DA29+DE29+DI29+DM29+DQ29+DU29+DY29 -> 0
A30: 19 | B30: VIJAY503001TSBH00903 | C30: VIJAYALAKSHMI HOSPITAL | D30: H.No. 5-6-767, NEAR RAJIV GANDHI AUDITORIUM, OPP: RED CROSS BLOOD BANK, KHALEELWADI, NIZAMABAD - 503001. | E30: 50 | G30: 5 | K30: 5 | N30: 5 | O30: 5 | R30: 5 | S30: 5 | Z30: 5 | AA30: 5 | AD30: 5 | AE30: 5 | AI30: 5 | AM30: 5 | AT30: 5 | BF30: 5 | BG30: 5 | BN30: 5 | BW30: 5 | CI30: 5 | CM30: 5 | CQ30: 5 | CU30: 5 | CY30: 5 | DN30: 5 | DR30: 5 | DZ30: =F30+J30+N30+R30+V30+Z30+AD30+AH30+AL30+AP30+AT30+AX30+BB30+BF30+BJ30+BN30+BR30+BV30+BZ30+CD30+CH30+CL30+CP30+CT30+CX30+DB30+DF30+DJ30+DN30+DR30+DV30 -> 45 | EA30: =G30+K30+O30+S30+W30+AA30+AE30+AI30+AM30+AQ30+AU30+AY30+BC30+BG30+BK30+BO30+BS30+BW30+CA30+CE30+CI30+CM30+CQ30+CU30+CY30+DC30+DG30+DK30+DO30+DS30+DW30 -> 75 | EB30: =H30+L30+P30+T30+X30+AB30+AF30+AJ30+AN30+AR30+AV30+AZ30+BD30+BH30+BL30+BP30+BT30+BX30+CB30+CF30+CJ30+CN30+CR30+CV30+CZ30+DD30+DH30+DL30+DP30+DT30+DX30 -> 0 | EC30: =I30+M30+Q30+U30+Y30+AC30+AG30+AK30+AO30+AS30+AW30+BA30+BE30+BI30+BM30+BQ30+BU30+BY30+CC30+CG30+CK30+CO30+CS30+CW30+DA30+DE30+DI30+DM30+DQ30+DU30+DY30 -> 0
B31: 49 TO 20 BEDS HCFs
A32: 20 | B32: VAISH503001TSBH06135 | C32: VAISHNAVI HOSPITAL | D32: H.No. 5-6-180/B, SARASWATINAGAR, BEHIND PRAGATHI HOSPITAL, NIZAMABAD - 503001. | E32: 35 | F32: 3 | K32: 2 | O32: 2 | R32: 3 | AA32: 2 | AE32: 2 | CT32: 2 | CX32: 2 | DG32: 2 | DK32: 2 | DN32: 3 | DR32: 2 | DZ32: =F32+J32+N32+R32+V32+Z32+AD32+AH32+AL32+AP32+AT32+AX32+BB32+BF32+BJ32+BN32+BR32+BV32+BZ32+CD32+CH32+CL32+CP32+CT32+CX32+DB32+DF32+DJ32+DN32+DR32+DV32 -> 15 | EA32: =G32+K32+O32+S32+W32+AA32+AE32+AI32+AM32+AQ32+AU32+AY32+BC32+BG32+BK32+BO32+BS32+BW32+CA32+CE32+CI32+CM32+CQ32+CU32+CY32+DC32+DG32+DK32+DO32+DS32+DW32 -> 12 | EB32: =H32+L32+P32+T32+X32+AB32+AF32+AJ32+AN32+AR32+AV32+AZ32+BD32+BH32+BL32+BP32+BT32+BX32+CB32+CF32+CJ32+CN32+CR32+CV32+CZ32+DD32+DH32+DL32+DP32+DT32+DX32 -> 0 | EC32: =I32+M32+Q32+U32+Y32+AC32+AG32+AK32+AO32+AS32+AW32+BA32+BE32+BI32+BM32+BQ32+BU32+BY32+CC32+CG32+CK32+CO32+CS32+CW32+DA32+DE32+DI32+DM32+DQ32+DU32+DY32 -> 0
A33: 21 | B33: SRICH503001TSBH17451 | C33: SRI CHAKRA HOSPITALS | D33: BESIDE SYNDICATE BANK, KHALEELWADI, NIZAMABAD - 503001. | E33: 30 | F33: 3 | J33: 3 | N33: 3 | S33: 2 | AA33: 2 | AD33: 3 | AI33: 3 | AM33: 5 | AQ33: 3 | BS33: 5 | BV33: 5 | CE33: 5 | CH33: 3 | CL33: 3 | CP33: 3 | CT33: 2 | CX33: 2 | DG33: 2 | DK33: 2 | DN33: 3 | DR33: 2 | DZ33: =F33+J33+N33+R33+V33+Z33+AD33+AH33+AL33+AP33+AT33+AX33+BB33+BF33+BJ33+BN33+BR33+BV33+BZ33+CD33+CH33+CL33+CP33+CT33+CX33+DB33+DF33+DJ33+DN33+DR33+DV33 -> 35 | EA33: =G33+K33+O33+S33+W33+AA33+AE33+AI33+AM33+AQ33+AU33+AY33+BC33+BG33+BK33+BO33+BS33+BW33+CA33+CE33+CI33+CM33+CQ33+CU33+CY33+DC33+DG33+DK33+DO33+DS33+DW33 -> 29 | EB33: =H33+L33+P33+T33+X33+AB33+AF33+AJ33+AN33+AR33+AV33+AZ33+BD33+BH33+BL33+BP33+BT33+BX33+CB33+CF33+CJ33+CN33+CR33+CV33+CZ33+DD33+DH33+DL33+DP33+DT33+DX33 -> 0 | EC33: =I33+M33+Q33+U33+Y33+AC33+AG33+AK33+AO33+AS33+AW33+BA33+BE33+BI33+BM33+BQ33+BU33+BY33+CC33+CG33+CK33+CO33+CS33+CW33+DA33+DE33+DI33+DM33+DQ33+DU33+DY33 -> 0
A34: 22 | B34: SRIRA503001TSBH00950 | C34: SRI RAKSHA HOSPITAL | D34: PRAGATHI HOSPITAL BACKSIDE LANE, DWARAKA NAGAR, NIZAMABAD - 503001. | E34: 30 | G34: 2 | K34: 2 | N34: 3 | S34: 2 | AA34: 2 | AD34: 3 | AM34: 2 | AQ34: 3 | BC34: 2 | BK34: 3 | BS34: 5 | BW34: 2 | CE34: 2 | CL34: 3 | CQ34: 3 | CT34: 2 | CX34: 2 | DG34: 2 | DK34: 2 | DN34: 3 | DR34: 2 | DZ34: =F34+J34+N34+R34+V34+Z34+AD34+AH34+AL34+AP34+AT34+AX34+BB34+BF34+BJ34+BN34+BR34+BV34+BZ34+CD34+CH34+CL34+CP34+CT34+CX34+DB34+DF34+DJ34+DN34+DR34+DV34 -> 18 | EA34: =G34+K34+O34+S34+W34+AA34+AE34+AI34+AM34+AQ34+AU34+AY34+BC34+BG34+BK34+BO34+BS34+BW34+CA34+CE34+CI34+CM34+CQ34+CU34+CY34+DC34+DG34+DK34+DO34+DS34+DW34 -> 34 | EB34: =H34+L34+P34+T34+X34+AB34+AF34+AJ34+AN34+AR34+AV34+AZ34+BD34+BH34+BL34+BP34+BT34+BX34+CB34+CF34+CJ34+CN34+CR34+CV34+CZ34+DD34+DH34+DL34+DP34+DT34+DX34 -> 0 | EC34: =I34+M34+Q34+U34+Y34+AC34+AG34+AK34+AO34+AS34+AW34+BA34+BE34+BI34+BM34+BQ34+BU34+BY34+CC34+CG34+CK34+CO34+CS34+CW34+DA34+DE34+DI34+DM34+DQ34+DU34+DY34 -> 0
A35: 23 | B35: LIONS503001TSBH01124 | C35: LIONS EYE HOSPITAL | D35: OPP: RAJEEV GANDHI AUDITORIUM, KHALEEL WADI, NIZAMABAD - 503001. | E35: 25 | F35: 3 | J35: 3 | O35: 2 | S35: 2 | AA35: 2 | AE35: 2 | AH35: 3 | AM35: 2 | AQ35: 3 | AT35: 2 | BF35: 2 | BK35: 3 | BS35: 5 | BW35: 2 | CH35: 3 | CM35: 3 | CP35: 3 | CT35: 2 | CX35: 2 | DG35: 2 | DK35: 2 | DN35: 3 | DR35: 2 | DZ35: =F35+J35+N35+R35+V35+Z35+AD35+AH35+AL35+AP35+AT35+AX35+BB35+BF35+BJ35+BN35+BR35+BV35+BZ35+CD35+CH35+CL35+CP35+CT35+CX35+DB35+DF35+DJ35+DN35+DR35+DV35 -> 28 | EA35: =G35+K35+O35+S35+W35+AA35+AE35+AI35+AM35+AQ35+AU35+AY35+BC35+BG35+BK35+BO35+BS35+BW35+CA35+CE35+CI35+CM35+CQ35+CU35+CY35+DC35+DG35+DK35+DO35+DS35+DW35 -> 30 | EB35: =H35+L35+P35+T35+X35+AB35+AF35+AJ35+AN35+AR35+AV35+AZ35+BD35+BH35+BL35+BP35+BT35+BX35+CB35+CF35+CJ35+CN35+CR35+CV35+CZ35+DD35+DH35+DL35+DP35+DT35+DX35 -> 0 | EC35: =I35+M35+Q35+U35+Y35+AC35+AG35+AK35+AO35+AS35+AW35+BA35+BE35+BI35+BM35+BQ35+BU35+BY35+CC35+CG35+CK35+CO35+CS35+CW35+DA35+DE35+DI35+DM35+DQ35+DU35+DY35 -> 0
A36: 24 | B36: RITVI503002TSBH09855 | C36: RITVIK HOSPITAL | D36: OPP: SHESHANK HOSPITAL, OPP: BUS STAND ROAD, KHALEELWADI, NIZAMABAD - 503001. | E36: 25 | G36: 2 | K36: 3 | N36: 3 | S36: 2 | Z36: 3 | AD36: 3 | AH36: 3 | AM36: 2 | AQ36: 3 | BG36: 2 | BK36: 3 | BS36: 2 | BW36: 2 | CE36: 2 | CH36: 2 | CM36: 2 | CT36: 2 | CX36: 2 | DG36: 2 | DK36: 2 | DN36: 3 | DR36: 2 | DZ36: =F36+J36+N36+R36+V36+Z36+AD36+AH36+AL36+AP36+AT36+AX36+BB36+BF36+BJ36+BN36+BR36+BV36+BZ36+CD36+CH36+CL36+CP36+CT36+CX36+DB36+DF36+DJ36+DN36+DR36+DV36 -> 23 | EA36: =G36+K36+O36+S36+W36+AA36+AE36+AI36+AM36+AQ36+AU36+AY36+BC36+BG36+BK36+BO36+BS36+BW36+CA36+CE36+CI36+CM36+CQ36+CU36+CY36+DC36+DG36+DK36+DO36+DS36+DW36 -> 29 | EB36: =H36+L36+P36+T36+X36+AB36+AF36+AJ36+AN36+AR36+AV36+AZ36+BD36+BH36+BL36+BP36+BT36+BX36+CB36+CF36+CJ36+CN36+CR36+CV36+CZ36+DD36+DH36+DL36+DP36+DT36+DX36 -> 0 | EC36: =I36+M36+Q36+U36+Y36+AC36+AG36+AK36+AO36+AS36+AW36+BA36+BE36+BI36+BM36+BQ36+BU36+BY36+CC36+CG36+CK36+CO36+CS36+CW36+DA36+DE36+DI36+DM36+DQ36+DU36+DY36 -> 0
A37: 25 | B37: SAIAS503001TSBH09856 | C37: SAI ASHWINI HOSPITAL | D37: KHALEELWADI, NIZAMABAD - 503001. | E37: 25 | F37: 3 | J37: 3 | O37: 2 | R37: 3 | Z37: 3 | AE37: 2 | AH37: 3 | AM37: 2 | AQ37: 3 | AU37: 2 | BW37: 2 | CE37: 2 | CH37: 3 | CP37: 3 | CT37: 2 | CX37: 2 | DG37: 2 | DK37: 2 | DN37: 3 | DR37: 2 | DZ37: =F37+J37+N37+R37+V37+Z37+AD37+AH37+AL37+AP37+AT37+AX37+BB37+BF37+BJ37+BN37+BR37+BV37+BZ37+CD37+CH37+CL37+CP37+CT37+CX37+DB37+DF37+DJ37+DN37+DR37+DV37 -> 30 | EA37: =G37+K37+O37+S37+W37+AA37+AE37+AI37+AM37+AQ37+AU37+AY37+BC37+BG37+BK37+BO37+BS37+BW37+CA37+CE37+CI37+CM37+CQ37+CU37+CY37+DC37+DG37+DK37+DO37+DS37+DW37 -> 19 | EB37: =H37+L37+P37+T37+X37+AB37+AF37+AJ37+AN37+AR37+AV37+AZ37+BD37+BH37+BL37+BP37+BT37+BX37+CB37+CF37+CJ37+CN37+CR37+CV37+CZ37+DD37+DH37+DL37+DP37+DT37+DX37 -> 0 | EC37: =I37+M37+Q37+U37+Y37+AC37+AG37+AK37+AO37+AS37+AW37+BA37+BE37+BI37+BM37+BQ37+BU37+BY37+CC37+CG37+CK37+CO37+CS37+CW37+DA37+DE37+DI37+DM37+DQ37+DU37+DY37 -> 0
A38: 26 | B38: VIKRA503001TSBH09857 | C38: VIKRAM HOSPITAL | D38: D.No. 5-6-164, BESIDE Dr. LAXMA REDDY HOSPITAL, MEENAKSHI HOSPITAL LANE, DWARAKANAGAR, NIZAMABAD - 503001. | E38: 25 | N38: 3 | S38: 2 | AA38: 2 | AD38: 3 | AH38: 3 | AM38: 2 | AQ38: 3 | AT38: 2 | BC38: 2 | BF38: 2 | BJ38: 3 | BS38: 2 | BW38: 2 | CE38: 2 | CH38: 3 | CM38: 2 | CP38: 3 | CT38: 2 | CX38: 2 | DG38: 2 | DK38: 2 | DN38: 3 | DR38: 2 | DZ38: =F38+J38+N38+R38+V38+Z38+AD38+AH38+AL38+AP38+AT38+AX38+BB38+BF38+BJ38+BN38+BR38+BV38+BZ38+CD38+CH38+CL38+CP38+CT38+CX38+DB38+DF38+DJ38+DN38+DR38+DV38 -> 31 | EA38: =G38+K38+O38+S38+W38+AA38+AE38+AI38+AM38+AQ38+AU38+AY38+BC38+BG38+BK38+BO38+BS38+BW38+CA38+CE38+CI38+CM38+CQ38+CU38+CY38+DC38+DG38+DK38+DO38+DS38+DW38 -> 23 | EB38: =H38+L38+P38+T38+X38+AB38+AF38+AJ38+AN38+AR38+AV38+AZ38+BD38+BH38+BL38+BP38+BT38+BX38+CB38+CF38+CJ38+CN38+CR38+CV38+CZ38+DD38+DH38+DL38+DP38+DT38+DX38 -> 0 | EC38: =I38+M38+Q38+U38+Y38+AC38+AG38+AK38+AO38+AS38+AW38+BA38+BE38+BI38+BM38+BQ38+BU38+BY38+CC38+CG38+CK38+CO38+CS38+CW38+DA38+DE38+DI38+DM38+DQ38+DU38+DY38 -> 0
A39: 27 | B39: GANGA503001TSBH06109 | C39: GANGA SARASWATHI CHILDRENS HOSPITAL | D39: DWARAKA NAGAR, NIZAMABAD - 503001. | E39: 25 | G39: 2 | K39: 2 | N39: 3 | R39: 3 | Z39: 3 | AD39: 3 | AI39: 2 | AM39: 2 | AQ39: 3 | BG39: 2 | BK39: 3 | BR39: 3 | BV39: 3 | CD39: 3 | CI39: 2 | CL39: 2 | CQ39: 2 | CT39: 2 | CX39: 2 | DG39: 2 | DK39: 2 | DN39: 3 | DR39: 2 | DZ39: =F39+J39+N39+R39+V39+Z39+AD39+AH39+AL39+AP39+AT39+AX39+BB39+BF39+BJ39+BN39+BR39+BV39+BZ39+CD39+CH39+CL39+CP39+CT39+CX39+DB39+DF39+DJ39+DN39+DR39+DV39 -> 32 | EA39: =G39+K39+O39+S39+W39+AA39+AE39+AI39+AM39+AQ39+AU39+AY39+BC39+BG39+BK39+BO39+BS39+BW39+CA39+CE39+CI39+CM39+CQ39+CU39+CY39+DC39+DG39+DK39+DO39+DS39+DW39 -> 24 | EB39: =H39+L39+P39+T39+X39+AB39+AF39+AJ39+AN39+AR39+AV39+AZ39+BD39+BH39+BL39+BP39+BT39+BX39+CB39+CF39+CJ39+CN39+CR39+CV39+CZ39+DD39+DH39+DL39+DP39+DT39+DX39 -> 0 | EC39: =I39+M39+Q39+U39+Y39+AC39+AG39+AK39+AO39+AS39+AW39+BA39+BE39+BI39+BM39+BQ39+BU39+BY39+CC39+CG39+CK39+CO39+CS39+CW39+DA39+DE39+DI39+DM39+DQ39+DU39+DY39 -> 0
A40: 28 | B40: ADARS503001TSBH09854 | C40: ADARSH MATERNITY NURSING HOME | D40: Dr. ANNAPURNA HOSPITAL, H.NO.5-7-624/12, KHALEELWADI, NIZAMABAD - 503001. | E40: 24 | F40: 2 | N40: 3 | AA40: 2 | AD40: 3 | AM40: 2 | AQ40: 3 | AT40: 2 | BB40: 2 | BF40: 2 | BJ40: 3 | BN40: 5 | BS40: 2 | BW40: 2 | CE40: 2 | CM40: 3 | CT40: 2 | CX40: 2 | DG40: 2 | DK40: 2 | DN40: 3 | DR40: 2 | DZ40: =F40+J40+N40+R40+V40+Z40+AD40+AH40+AL40+AP40+AT40+AX40+BB40+BF40+BJ40+BN40+BR40+BV40+BZ40+CD40+CH40+CL40+CP40+CT40+CX40+DB40+DF40+DJ40+DN40+DR40+DV40 -> 31 | EA40: =G40+K40+O40+S40+W40+AA40+AE40+AI40+AM40+AQ40+AU40+AY40+BC40+BG40+BK40+BO40+BS40+BW40+CA40+CE40+CI40+CM40+CQ40+CU40+CY40+DC40+DG40+DK40+DO40+DS40+DW40 -> 20 | EB40: =H40+L40+P40+T40+X40+AB40+AF40+AJ40+AN40+AR40+AV40+AZ40+BD40+BH40+BL40+BP40+BT40+BX40+CB40+CF40+CJ40+CN40+CR40+CV40+CZ40+DD40+DH40+DL40+DP40+DT40+DX40 -> 0 | EC40: =I40+M40+Q40+U40+Y40+AC40+AG40+AK40+AO40+AS40+AW40+BA40+BE40+BI40+BM40+BQ40+BU40+BY40+CC40+CG40+CK40+CO40+CS40+CW40+DA40+DE40+DI40+DM40+DQ40+DU40+DY40 -> 0
...

Sheet Kamareddy
A1: NOVEMBER - 2023 MONTH REPORT | F1: 45231 | J1: 45232 | N1: 45233 | R1: 45234 | V1: 45235 | Z1: 45236 | AD1: 45237 | AH1: 45238 | AL1: 45239 | AP1: 45240 | AT1: 45241 | AX1: 45242 | BB1: 45243 | BF1: 45244 | BJ1: 45245 | BN1: 45246 | BR1: 45247 | BV1: 45248 | BZ1: 45249 | CD1: 45250 | CH1: 45251 | CL1: 45252 | CP1: 45253 | CT1: 45254 | CX1: 45255 | DB1: 45256 | DF1: 45257 | DJ1: 45258 | DN1: 45259 | DR1: 45260 | DZ1: TOTAL
A2: SNO | B2: HCF ID | C2: NAME OF THE HCF | D2: ADDRESS OF THE HCFS | E2: NO.OF BEDS | F2: Yellow | G2: Red | H2: Blue | I2: White | J2: Yellow | K2: Red | L2: Blue | M2: White | N2: Yellow | O2: Red | P2: Blue | Q2: White | R2: Yellow | S2: Red | T2: Blue | U2: White | V2: Yellow | W2: Red | X2: Blue | Y2: White | Z2: Yellow | AA2: Red | AB2: Blue | AC2: White | AD2: Yellow | AE2: Red | AF2: Blue | AG2: White | AH2: Yellow | AI2: Red | AJ2: Blue | AK2: White | AL2: Yellow | AM2: Red | AN2: Blue | AO2: White | AP2: Yellow | AQ2: Red | AR2: Blue | AS2: White | AT2: Yellow | AU2: Red | AV2: Blue | AW2: White | AX2: Yellow | AY2: Red | AZ2: Blue | BA2: White | BB2: Yellow | BC2: Red | BD2: Blue | BE2: White | BF2: Yellow | BG2: Red | BH2: Blue | BI2: White | BJ2: Yellow | BK2: Red | BL2: Blue | BM2: White | BN2: Yellow | BO2: Red | BP2: Blue | BQ2: White | BR2: Yellow | BS2: Red | BT2: Blue | BU2: White | BV2: Yellow | BW2: Red | BX2: Blue | BY2: White | BZ2: Yellow | CA2: Red | CB2: Blue | CC2: White | CD2: Yellow | CE2: Red | CF2: Blue | CG2: White | CH2: Yellow | CI2: Red | CJ2: Blue | CK2: White | CL2: Yellow | CM2: Red | CN2: Blue | CO2: White | CP2: Yellow | CQ2: Red | CR2: Blue | CS2: White | CT2: Yellow | CU2: Red | CV2: Blue | CW2: White | CX2: Yellow | CY2: Red | CZ2: Blue | DA2: White | DB2: Yellow | DC2: Red | DD2: Blue | DE2: White | DF2: Yellow | DG2: Red | DH2: Blue | DI2: White | DJ2: Yellow | DK2: Red | DL2: Blue | DM2: White | DN2: Yellow | DO2: Red | DP2: Blue | DQ2: White | DR2: Yellow | DS2: Red | DT2: Blue | DU2: White | DV2: Yellow | DW2: Red | DX2: Blue | DY2: White | DZ2: Yellow | EA2: Red | EB2: Blue | EC2: White
A3: KAMAREDDY 100 AND ABOVE BEDS HCFs
A4: 1 | B4: AREAH503111TSBH06149 | C4: AREA HOSPITAL, KAMAREDDY | D4: STATION ROAD, KAMAREDDY - 503111. | E4: 100 | F4: 8 | G4: 4 | J4: 9 | N4: 4 | O4: 8 | R4: 12 | Z4: 9 | AD4: 12 | AH4: 12 | AL4: 12 | AP4: 12 | AT4: 13 | BB4: 12 | BF4: 4 | BJ4: 8 | BN4: 4 | BR4: 8 | BT4: 4 | BV4: 8 | BX4: 4 | CD4: 12 | CE4: 2 | CH4: 8 | CJ4: 4 | CL4: 8 | CM4: 4 | CQ4: 8 | CU4: 4 | CX4: 8 | CY4: 4 | DF4: 8 | DG4: 4 | DJ4: 4 | DK4: 8 | DN4: 4 | DO4: 8 | DR4: 8 | DS4: 4 | DZ4: =F4+J4+N4+R4+V4+Z4+AD4+AH4+AL4+AP4+AT4+AX4+BB4+BF4+BJ4+BN4+BR4+BV4+BZ4+CD4+CH4+CL4+CP4+CT4+CX4+DB4+DF4+DJ4+DN4+DR4+DV4 -> 207 | EA4: =G4+K4+O4+S4+W4+AA4+AE4+AI4+AM4+AQ4+AU4+AY4+BC4+BG4+BK4+BO4+BS4+BW4+CA4+CE4+CI4+CM4+CQ4+CU4+CY4+DC4+DG4+DK4+DO4+DS4+DW4 -> 58 | EB4: =H4+L4+P4+T4+X4+AB4+AF4+AJ4+AN4+AR4+AV4+AZ4+BD4+BH4+BL4+BP4+BT4+BX4+CB4+CF4+CJ4+CN4+CR4+CV4+CZ4+DD4+DH4+DL4+DP4+DT4+DX4 -> 12 | EC4: =I4+M4+Q4+U4+Y4+AC4+AG4+AK4+AO4+AS4+AW4+BA4+BE4+BI4+BM4+BQ4+BU4+BY4+CC4+CG4+CK4+CO4+CS4+CW4+DA4+DE4+DI4+DM4+DQ4+DU4+DY4 -> 0
A5: 2 | B5: JEEVA503111TSBH06112 | C5: JEEVADAN HOSPITAL | D5: NIZAM SAGAR ROAD, KAMAREDDY - 503111. | E5: 100 | G5: 5 | K5: 5 | O5: 5 | S5: 5 | Z5: 5 | AD5: 5 | AH5: 5 | AL5: 5 | AQ5: 5 | AU5: 5 | BB5: 5 | BF5: 5 | BJ5: 5 | BN5: 5 | BR5: 5 | BV5: 5 | CD5: 5 | CH5: 5 | CL5: 4 | CP5: 5 | CT5: 5 | CX5: 5 | DF5: 5 | DJ5: 5 | DN5: 5 | DR5: 5 | DZ5: =F5+J5+N5+R5+V5+Z5+AD5+AH5+AL5+AP5+AT5+AX5+BB5+BF5+BJ5+BN5+BR5+BV5+BZ5+CD5+CH5+CL5+CP5+CT5+CX5+DB5+DF5+DJ5+DN5+DR5+DV5 -> 99 | EA5: =G5+K5+O5+S5+W5+AA5+AE5+AI5+AM5+AQ5+AU5+AY5+BC5+BG5+BK5+BO5+BS5+BW5+CA5+CE5+CI5+CM5+CQ5+CU5+CY5+DC5+DG5+DK5+DO5+DS5+DW5 -> 30 | EB5: =H5+L5+P5+T5+X5+AB5+AF5+AJ5+AN5+AR5+AV5+AZ5+BD5+BH5+BL5+BP5+BT5+BX5+CB5+CF5+CJ5+CN5+CR5+CV5+CZ5+DD5+DH5+DL5+DP5+DT5+DX5 -> 0 | EC5: =I5+M5+Q5+U5+Y5+AC5+AG5+AK5+AO5+AS5+AW5+BA5+BE5+BI5+BM5+BQ5+BU5+BY5+CC5+CG5+CK5+CO5+CS5+CW5+DA5+DE5+DI5+DM5+DQ5+DU5+DY5 -> 0
A6: 3 | B6: AREAH503187TSBH08193 | C6: AREA HOSPITAL, BANSWADA | D6: BESIDE POST OFFFICE, BANSWADA - 503187 | E6: 100 | F6: 4 | G6: 8 | J6: 4 | K6: 8 | N6: 4 | O6: 8 | R6: 8 | S6: 1 | Z6: 8 | AA6: 4 | AD6: 8 | AE6: 4 | AH6: 8 | AI6: 4 | AL6: 4 | AM6: 8 | AP6: 8 | AQ6: 4 | AT6: 8 | AU6: 4 | BB6: 8 | BC6: 4 | BF6: 4 | BG6: 8 | BJ6: 4 | BK6: 8 | BN6: 8 | BO6: 4 | BR6: 8 | BS6: 4 | BV6: 4 | BW6: 8 | CD6: 8 | CE6: 4 | CH6: 4 | CI6: 8 | CL6: 8 | CM6: 4 | CP6: 8 | CQ6: 4 | CT6: 8 | CU6: 4 | CX6: 8 | CY6: 4 | DF6: 8 | DG6: 4 | DJ6: 8 | DK6: 4 | DN6: 8 | DO6: 4 | DR6: 8 | DS6: 4 | DZ6: =F6+J6+N6+R6+V6+Z6+AD6+AH6+AL6+AP6+AT6+AX6+BB6+BF6+BJ6+BN6+BR6+BV6+BZ6+CD6+CH6+CL6+CP6+CT6+CX6+DB6+DF6+DJ6+DN6+DR6+DV6 -> 176 | EA6: =G6+K6+O6+S6+W6+AA6+AE6+AI6+AM6+AQ6+AU6+AY6+BC6+BG6+BK6+BO6+BS6+BW6+CA6+CE6+CI6+CM6+CQ6+CU6+CY6+DC6+DG6+DK6+DO6+DS6+DW6 -> 133 | EB6: =H6+L6+P6+T6+X6+AB6+AF6+AJ6+AN6+AR6+AV6+AZ6+BD6+BH6+BL6+BP6+BT6+BX6+CB6+CF6+CJ6+CN6+CR6+CV6+CZ6+DD6+DH6+DL6+DP6+DT6+DX6 -> 0 | EC6: =I6+M6+Q6+U6+Y6+AC6+AG6+AK6+AO6+AS6+AW6+BA6+BE6+BI6+BM6+BQ6+BU6+BY6+CC6+CG6+CK6+CO6+CS6+CW6+DA6+DE6+DI6+DM6+DQ6+DU6+DY6 -> 0
A7: BELOW 100 BEDS HCFs
A8: KAMAREDDY
A9: 1 | B9: LIFEH503111TSBH10120 | C9: LIFE HOSPITAL | D9: H.NO.1-5-518/7, OPP: RAJEEV PARK, SIRICILLA ROAD, KAMAREDDY - 503111. | E9: 50 | G9: 4 | K9: 4 | O9: 4 | S9: 4 | AA9: 4 | AE9: 4 | AI9: 4 | AM9: 4 | AQ9: 4 | BC9: 4 | BG9: 4 | BK9: 5 | BO9: 4 | BR9: 4 | BV9: 4 | CD9: 4 | CH9: 4 | CL9: 4 | CP9: 4 | CT9: 4 | CX9: 5 | DJ9: 4 | DN9: 4 | DR9: 4 | DZ9: =F9+J9+N9+R9+V9+Z9+AD9+AH9+AL9+AP9+AT9+AX9+BB9+BF9+BJ9+BN9+BR9+BV9+BZ9+CD9+CH9+CL9+CP9+CT9+CX9+DB9+DF9+DJ9+DN9+DR9+DV9 -> 45 | EA9: =G9+K9+O9+S9+W9+AA9+AE9+AI9+AM9+AQ9+AU9+AY9+BC9+BG9+BK9+BO9+BS9+BW9+CA9+CE9+CI9+CM9+CQ9+CU9+CY9+DC9+DG9+DK9+DO9+DS9+DW9 -> 53 | EB9: =H9+L9+P9+T9+X9+AB9+AF9+AJ9+AN9+AR9+AV9+AZ9+BD9+BH9+BL9+BP9+BT9+BX9+CB9+CF9+CJ9+CN9+CR9+CV9+CZ9+DD9+DH9+DL9+DP9+DT9+DX9 -> 0 | EC9: =I9+M9+Q9+U9+Y9+AC9+AG9+AK9+AO9+AS9+AW9+BA9+BE9+BI9+BM9+BQ9+BU9+BY9+CC9+CG9+CK9+CO9+CS9+CW9+DA9+DE9+DI9+DM9+DQ9+DU9+DY9 -> 0
A10: 2 | B10: SHISH503111TSBH11233 | C10: SHISHURAKSHA THIRUMALA CHILDREN'S HOSPITAL | D10: H.No. 1-7-68, SIRICILLA ROAD, KAMAREDDY - 503111 | E10: 50 | F10: 4 | N10: 4 | R10: 4 | Z10: 4 | AD10: 4 | AH10: 4 | AL10: 4 | AP10: 4 | AT10: 4 | BB10: 4 | BG10: 4 | BK10: 4 | BO10: 4 | BS10: 4 | BW10: 4 | CE10: 4 | CI10: 4 | CM10: 4 | CP10: 4 | CU10: 4 | CX10: 4 | DG10: 4 | DJ10: 4 | DN10: 4 | DS10: 4 | DZ10: =F10+J10+N10+R10+V10+Z10+AD10+AH10+AL10+AP10+AT10+AX10+BB10+BF10+BJ10+BN10+BR10+BV10+BZ10+CD10+CH10+CL10+CP10+CT10+CX10+DB10+DF10+DJ10+DN10+DR10+DV10 -> 56 | EA10: =G10+K10+O10+S10+W10+AA10+AE10+AI10+AM10+AQ10+AU10+AY10+BC10+BG10+BK10+BO10+BS10+BW10+CA10+CE10+CI10+CM10+CQ10+CU10+CY10+DC10+DG10+DK10+DO10+DS10+DW10 -> 44 | EB10: =H10+L10+P10+T10+X10+AB10+AF10+AJ10+AN10+AR10+AV10+AZ10+BD10+BH10+BL10+BP10+BT10+BX10+CB10+CF10+CJ10+CN10+CR10+CV10+CZ10+DD10+DH10+DL10+DP10+DT10+DX10 -> 0 | EC10: =I10+M10+Q10+U10+Y10+AC10+AG10+AK10+AO10+AS10+AW10+BA10+BE10+BI10+BM10+BQ10+BU10+BY10+CC10+CG10+CK10+CO10+CS10+CW10+DA10+DE10+DI10+DM10+DQ10+DU10+DY10 -> 0
A11: 3 | B11: SRIME503111TSBH16237 | C11: SRI MEDICARE HOSPITAL | D11: H.No: 5-3-69/1, KOUNDINYA BUILDING, OPP: R & B GUEST HOUSE, KAMAREDDY - 503111. | E11: 50 | G11: 2 | K11: 2 | O11: 2 | R11: 2 | Z11: 2 | AE11: 2 | AH11: 2 | AM11: 2 | AP11: 2 | AT11: 2 | BB11: 2 | BJ11: 2 | BN11: 2 | BR11: 2 | BV11: 2 | CD11: 2 | CH11: 2 | CL11: 2 | CP11: 2 | CT11: 2 | CX11: 2 | DF11: 2 | DJ11: 2 | DN11: 2 | DR11: 2 | DZ11: =F11+J11+N11+R11+V11+Z11+AD11+AH11+AL11+AP11+AT11+AX11+BB11+BF11+BJ11+BN11+BR11+BV11+BZ11+CD11+CH11+CL11+CP11+CT11+CX11+DB11+DF11+DJ11+DN11+DR11+DV11 -> 40 | EA11: =G11+K11+O11+S11+W11+AA11+AE11+AI11+AM11+AQ11+AU11+AY11+BC11+BG11+BK11+BO11+BS11+BW11+CA11+CE11+CI11+CM11+CQ11+CU11+CY11+DC11+DG11+DK11+DO11+DS11+DW11 -> 10 | EB11: =H11+L11+P11+T11+X11+AB11+AF11+AJ11+AN11+AR11+AV11+AZ11+BD11+BH11+BL11+BP11+BT11+BX11+CB11+CF11+CJ11+CN11+CR11+CV11+CZ11+DD11+DH11+DL11+DP11+DT11+DX11 -> 0 | EC11: =I11+M11+Q11+U11+Y11+AC11+AG11+AK11+AO11+AS11+AW11+BA11+BE11+BI11+BM11+BQ11+BU11+BY11+CC11+CG11+CK11+CO11+CS11+CW11+DA11+DE11+DI11+DM11+DQ11+DU11+DY11 -> 0
A12: 4 | B12: DRKAN503001TSBH00942 | C12: Dr. K ANJAL REDDY MEMORIAL HOSPITAL | D12: NETHAJI ROAD, KAMAREDDY - 503111. | E12: 30 | F12: 1 | J12: 1 | N12: 1 | S12: 1 | AA12: 1 | AE12: 1 | AI12: 1 | AM12: 1 | AQ12: 1 | AU12: 1 | BC12: 1 | BG12: 1 | BK12: 1 | BO12: 1 | BS12: 1 | BW12: 1 | CE12: 1 | CI12: 1 | CL12: 1 | CT12: 1 | CX12: 1 | DF12: 1 | DZ12: =F12+J12+N12+R12+V12+Z12+AD12+AH12+AL12+AP12+AT12+AX12+BB12+BF12+BJ12+BN12+BR12+BV12+BZ12+CD12+CH12+CL12+CP12+CT12+CX12+DB12+DF12+DJ12+DN12+DR12+DV12 -> 7 | EA12: =G12+K12+O12+S12+W12+AA12+AE12+AI12+AM12+AQ12+AU12+AY12+BC12+BG12+BK12+BO12+BS12+BW12+CA12+CE12+CI12+CM12+CQ12+CU12+CY12+DC12+DG12+DK12+DO12+DS12+DW12 -> 15 | EB12: =H12+L12+P12+T12+X12+AB12+AF12+AJ12+AN12+AR12+AV12+AZ12+BD12+BH12+BL12+BP12+BT12+BX12+CB12+CF12+CJ12+CN12+CR12+CV12+CZ12+DD12+DH12+DL12+DP12+DT12+DX12 -> 0 | EC12: =I12+M12+Q12+U12+Y12+AC12+AG12+AK12+AO12+AS12+AW12+BA12+BE12+BI12+BM12+BQ12+BU12+BY12+CC12+CG12+CK12+CO12+CS12+CW12+DA12+DE12+DI12+DM12+DQ12+DU12+DY12 -> 0
